{"text_format":"1","workbook":"xlsx","n_sheets":13,"sheets":["Coordonnées_client","Produits","Bon de commande PRO","Tarifs Pro MDP","Avec champs sélectionnables","Tarifs Pros MPV","Devis","Pro Forma","Facture","Bon de Livraison","Etiquettes Colis","Produits_composes","Paramètres"],"not_rendered":{"charts":0,"images":4,"macros":1,"external_links":1,"defined_names":12,"comments":0,"pivot_tables":0},"unopened":[],"bounds":{"document_bytes":16777216,"sheet_cells":100000,"rows_first":2000,"rows_last":500,"rows_between":2000,"halvings":0,"cell_chars":16384,"cell_head_chars":4096},"cells_cut":0,"cells_raw":0,"read":"whole","date_system":"1900"}

{"sheet":"Coordonnées_client","index":0,"n_rows":4,"n_cols":17,"rows_kept":4,"cut":false,"hidden":true,"merged":[[3,3,3,8]]}
["#","Type de contact","Client","Type de Client","Marque","Adresse","CP","Ville","Téléphone","Site web","Nom (contact)","Prénom (contact)","Poste","Ligne directe","Mail ","Mail Compta","Commentaire"]
[]
[]
[null,null,"Conditions de règlement:","Comptant (1ère commande) puis 30j net (commandes suivantes)"]

{"sheet":"Produits","index":1,"n_rows":362,"n_cols":17,"rows_kept":362,"cut":false,"hidden":true,"merged":[[1,16,2,16]]}
["#","Désignation ","Contenance","Emballage","Colisage","Prix HT","Prix TTC","Taux de \nremise","Prix remisé\nHT","Tx TVA","TVA","TVA 5,5%","TVA 20%","Code EAN","Poids Brut","N° de ligne","Remise générale:"]
["TVA55","Autre(s) article(s) TVA 5,5 % (voir liste ci-dessous)",null,null,null,{"$f":"IF(J2=\"Multiple\",VLOOKUP(A2,Produits_composes!$A$1:$AA$30,24,FALSE),ROUNDDOWN(G2*100/(100+J2*100),2))","v":{"$error":"#VALUE!"}},"",null,{"$f":"IF(H2=0,F2,ROUNDUP($F2-$F2*$H2,2))","v":{"$error":"#VALUE!"}},5.5E-2,{"$f":"G2-F2","v":{"$error":"#VALUE!"}},{"$f":"IF($J2=\"Multiple\",VLOOKUP($A2,Produits_composes!$A$1:$AA$30,25,FALSE),IF($J2=5.5%,$F2*(1+$J2)-$F2,\"\"))","v":{"$error":"#VALUE!"}},{"$f":"IF($J2=\"Multiple\",VLOOKUP(A2,Produits_composes!$A$1:$AA$30,26,FALSE),IF($J2=20%,$F2*(1+$J2)-$F2,\"\"))","v":""},null,"",1,0.2]
["TVA20","Autre(s) article(s) TVA 20 % (voir liste ci-dessous)",null,null,null,{"$f":"IF(J3=\"Multiple\",VLOOKUP(A3,Produits_composes!$A$1:$AA$30,24,FALSE),ROUNDDOWN(G3*100/(100+J3*100),2))","v":{"$error":"#VALUE!"}},"",null,{"$error":"#VALUE!"},0.2,{"$error":"#VALUE!"},{"$f":"IF($J3=\"Multiple\",VLOOKUP($A3,Produits_composes!$A$1:$AA$30,25,FALSE),IF($J3=5.5%,$F3*(1+$J3)-$F3,\"\"))","v":""},{"$f":"IF($J3=\"Multiple\",VLOOKUP(A3,Produits_composes!$A$1:$AA$30,26,FALSE),IF($J3=20%,$F3*(1+$J3)-$F3,\"\"))","v":{"$error":"#VALUE!"}},null,"",2]
["1A","Pruneaux d'Agen BIO","500g","Sachet",25,{"$f":"IF(J4=\"Multiple\",VLOOKUP(A4,Produits_composes!$A$1:$AA$30,24,FALSE),ROUNDDOWN(G4*100/(100+J4*100),5))","v":5.2132699999999996},5.5,{"$f":"$Q$2","v":0.2},4.18,5.5E-2,0.28673000000000037,{"$f":"IF($J4=\"Multiple\",VLOOKUP($A4,Produits_composes!$A$1:$AA$30,25,FALSE),IF($J4=5.5%,$F4*(1+$J4)-$F4,\"\"))","v":0.28672984999999951},{"$f":"IF($J4=\"Multiple\",VLOOKUP(A4,Produits_composes!$A$1:$AA$30,26,FALSE),IF($J4=20%,$F4*(1+$J4)-$F4,\"\"))","v":""},3760219062868,1000,3]
["1B","Pruneaux d'Agen BIO","1kg","Sachet",14,{"$f":"IF(J5=\"Multiple\",VLOOKUP(A5,Produits_composes!$A$1:$AA$30,24,FALSE),ROUNDDOWN(G5*100/(100+J5*100),5))","v":9.4786699999999993},10,{"$f":"$Q$2","v":0.2},7.59,5.5E-2,0.52133000000000074,{"$f":"IF($J5=\"Multiple\",VLOOKUP($A5,Produits_composes!$A$1:$AA$30,25,FALSE),IF($J5=5.5%,$F5*(1+$J5)-$F5,\"\"))","v":0.52132684999999945},{"$f":"IF($J5=\"Multiple\",VLOOKUP(A5,Produits_composes!$A$1:$AA$30,26,FALSE),IF($J5=20%,$F5*(1+$J5)-$F5,\"\"))","v":""},3760219062851,1000,4]
["1C","Pruneaux d’Agen BIO dénoyautés ","500g","Sachet",25,{"$f":"IF(J6=\"Multiple\",VLOOKUP(A6,Produits_composes!$A$1:$AA$30,24,FALSE),ROUNDDOWN(G6*100/(100+J6*100),5))","v":7.2985699999999998},7.7,{"$f":"$Q$2","v":0.2},5.84,5.5E-2,0.4014300000000004,{"$f":"IF($J6=\"Multiple\",VLOOKUP($A6,Produits_composes!$A$1:$AA$30,25,FALSE),IF($J6=5.5%,$F6*(1+$J6)-$F6,\"\"))","v":0.40142134999999968},{"$f":"IF($J6=\"Multiple\",VLOOKUP(A6,Produits_composes!$A$1:$AA$30,26,FALSE),IF($J6=20%,$F6*(1+$J6)-$F6,\"\"))","v":""},3760219062844,500,5]
["1D","Pruneaux d’Agen BIO dénoyautés","1kg","Sachet",14,{"$f":"IF(J7=\"Multiple\",VLOOKUP(A7,Produits_composes!$A$1:$AA$30,24,FALSE),ROUNDDOWN(G7*100/(100+J7*100),5))","v":13.27014},14,{"$f":"$Q$2","v":0.2},10.62,5.5E-2,0.7298600000000004,{"$f":"IF($J7=\"Multiple\",VLOOKUP($A7,Produits_composes!$A$1:$AA$30,25,FALSE),IF($J7=5.5%,$F7*(1+$J7)-$F7,\"\"))","v":0.72985769999999839},{"$f":"IF($J7=\"Multiple\",VLOOKUP(A7,Produits_composes!$A$1:$AA$30,26,FALSE),IF($J7=20%,$F7*(1+$J7)-$F7,\"\"))","v":""},3760219062837,1000,6]
["2A","Crème de pruneaux BIO","210g","Bocal",24,{"$f":"IF(J8=\"Multiple\",VLOOKUP(A8,Produits_composes!$A$1:$AA$30,24,FALSE),ROUNDDOWN(G8*100/(100+J8*100),5))","v":3.9810400000000001},4.2,{"$f":"$Q$2","v":0.2},3.19,5.5E-2,0.21896000000000004,{"$f":"IF($J8=\"Multiple\",VLOOKUP($A8,Produits_composes!$A$1:$AA$30,25,FALSE),IF($J8=5.5%,$F8*(1+$J8)-$F8,\"\"))","v":0.21895720000000019},{"$f":"IF($J8=\"Multiple\",VLOOKUP(A8,Produits_composes!$A$1:$AA$30,26,FALSE),IF($J8=20%,$F8*(1+$J8)-$F8,\"\"))","v":""},3760219062820,380,7]
["3A","Jus de pruneaux BIO","25cl","Bouteille",12,{"$f":"IF(J9=\"Multiple\",VLOOKUP(A9,Produits_composes!$A$1:$AA$30,24,FALSE),ROUNDDOWN(G9*100/(100+J9*100),5))","v":2.3696600000000001},2.5,{"$f":"IF($Q$2>=20%,20%,$Q$2)","v":0.2},1.9,5.5E-2,0.1303399999999999,{"$f":"IF($J9=\"Multiple\",VLOOKUP($A9,Produits_composes!$A$1:$AA$30,25,FALSE),IF($J9=5.5%,$F9*(1+$J9)-$F9,\"\"))","v":0.13033129999999993},{"$f":"IF($J9=\"Multiple\",VLOOKUP(A9,Produits_composes!$A$1:$AA$30,26,FALSE),IF($J9=20%,$F9*(1+$J9)-$F9,\"\"))","v":""},3760219062813,400,8]
["3B","Jus de pruneaux BIO","1L","Bouteille",6,{"$f":"IF(J10=\"Multiple\",VLOOKUP(A10,Produits_composes!$A$1:$AA$30,24,FALSE),ROUNDDOWN(G10*100/(100+J10*100),5))","v":5.5924100000000001},5.9,0.2,4.4799999999999995,5.5E-2,0.30759000000000025,{"$f":"IF($J10=\"Multiple\",VLOOKUP($A10,Produits_composes!$A$1:$AA$30,25,FALSE),IF($J10=5.5%,$F10*(1+$J10)-$F10,\"\"))","v":0.30758254999999934},{"$f":"IF($J10=\"Multiple\",VLOOKUP(A10,Produits_composes!$A$1:$AA$30,26,FALSE),IF($J10=20%,$F10*(1+$J10)-$F10,\"\"))","v":""},3760219062899,1450,8]
["4A","Jus de fruit BIO - Pomme / Abricot","25cl","Bouteille",12,{"$f":"IF(J11=\"Multiple\",VLOOKUP(A11,Produits_composes!$A$1:$AA$30,24,FALSE),ROUNDDOWN(G11*100/(100+J11*100),5))","v":2.3696600000000001},2.5,0.05,2.2599999999999998,5.5E-2,0.1303399999999999,{"$f":"IF($J11=\"Multiple\",VLOOKUP($A11,Produits_composes!$A$1:$AA$30,25,FALSE),IF($J11=5.5%,$F11*(1+$J11)-$F11,\"\"))","v":0.13033129999999993},{"$f":"IF($J11=\"Multiple\",VLOOKUP(A11,Produits_composes!$A$1:$AA$30,26,FALSE),IF($J11=20%,$F11*(1+$J11)-$F11,\"\"))","v":""},3760219062806,400,9]
["4B","Jus de fruit BIO - Pomme / Cerise","25cl","Bouteille",12,{"$f":"IF(J12=\"Multiple\",VLOOKUP(A12,Produits_composes!$A$1:$AA$30,24,FALSE),ROUNDDOWN(G12*100/(100+J12*100),5))","v":2.3696600000000001},2.5,0.05,2.2599999999999998,5.5E-2,0.1303399999999999,{"$f":"IF($J12=\"Multiple\",VLOOKUP($A12,Produits_composes!$A$1:$AA$30,25,FALSE),IF($J12=5.5%,$F12*(1+$J12)-$F12,\"\"))","v":0.13033129999999993},{"$f":"IF($J12=\"Multiple\",VLOOKUP(A12,Produits_composes!$A$1:$AA$30,26,FALSE),IF($J12=20%,$F12*(1+$J12)-$F12,\"\"))","v":""},3760219062790,400,10]
["4C","Jus de fruit BIO - Pomme / Poire","25cl","Bouteille",12,{"$f":"IF(J13=\"Multiple\",VLOOKUP(A13,Produits_composes!$A$1:$AA$30,24,FALSE),ROUNDDOWN(G13*100/(100+J13*100),5))","v":2.3696600000000001},2.5,0.05,2.2599999999999998,5.5E-2,0.1303399999999999,{"$f":"IF($J13=\"Multiple\",VLOOKUP($A13,Produits_composes!$A$1:$AA$30,25,FALSE),IF($J13=5.5%,$F13*(1+$J13)-$F13,\"\"))","v":0.13033129999999993},{"$f":"IF($J13=\"Multiple\",VLOOKUP(A13,Produits_composes!$A$1:$AA$30,26,FALSE),IF($J13=20%,$F13*(1+$J13)-$F13,\"\"))","v":""},3760219062783,400,11]
["4D","Jus de fruit BIO - Pomme / Prunes","25cl","Bouteille",12,{"$f":"IF(J14=\"Multiple\",VLOOKUP(A14,Produits_composes!$A$1:$AA$30,24,FALSE),ROUNDDOWN(G14*100/(100+J14*100),5))","v":2.3696600000000001},2.5,0.05,2.2599999999999998,5.5E-2,0.1303399999999999,{"$f":"IF($J14=\"Multiple\",VLOOKUP($A14,Produits_composes!$A$1:$AA$30,25,FALSE),IF($J14=5.5%,$F14*(1+$J14)-$F14,\"\"))","v":0.13033129999999993},{"$f":"IF($J14=\"Multiple\",VLOOKUP(A14,Produits_composes!$A$1:$AA$30,26,FALSE),IF($J14=20%,$F14*(1+$J14)-$F14,\"\"))","v":""},3760219062776,400,12]
["5A","Farine de sarrasin BIO","1kg","Sachet",6,{"$f":"IF(J15=\"Multiple\",VLOOKUP(A15,Produits_composes!$A$1:$AA$30,24,FALSE),ROUNDDOWN(G15*100/(100+J15*100),5))","v":3.7914599999999998},4,0.05,3.61,5.5E-2,0.20854000000000017,{"$f":"IF($J15=\"Multiple\",VLOOKUP($A15,Produits_composes!$A$1:$AA$30,25,FALSE),IF($J15=5.5%,$F15*(1+$J15)-$F15,\"\"))","v":0.20853029999999961},{"$f":"IF($J15=\"Multiple\",VLOOKUP(A15,Produits_composes!$A$1:$AA$30,26,FALSE),IF($J15=20%,$F15*(1+$J15)-$F15,\"\"))","v":""},3760219062769,1000,13]
["5B","Farine de petit épeautre BIO","1kg","Sachet",6,{"$f":"IF(J16=\"Multiple\",VLOOKUP(A16,Produits_composes!$A$1:$AA$30,24,FALSE),ROUNDDOWN(G16*100/(100+J16*100),5))","v":4.7393299999999998},5,0.05,4.51,5.5E-2,0.26067000000000018,{"$f":"IF($J16=\"Multiple\",VLOOKUP($A16,Produits_composes!$A$1:$AA$30,25,FALSE),IF($J16=5.5%,$F16*(1+$J16)-$F16,\"\"))","v":0.26066315000000007},{"$f":"IF($J16=\"Multiple\",VLOOKUP(A16,Produits_composes!$A$1:$AA$30,26,FALSE),IF($J16=20%,$F16*(1+$J16)-$F16,\"\"))","v":""},3760219062752,1000,14]
["5C","Farine T80 BIO","1kg","Sachet",6,{"$f":"IF(J17=\"Multiple\",VLOOKUP(A17,Produits_composes!$A$1:$AA$30,24,FALSE),ROUNDDOWN(G17*100/(100+J17*100),5))","v":2.1800899999999999},2.2999999999999998,0.05,2.0799999999999996,5.5E-2,0.11990999999999996,{"$f":"IF($J17=\"Multiple\",VLOOKUP($A17,Produits_composes!$A$1:$AA$30,25,FALSE),IF($J17=5.5%,$F17*(1+$J17)-$F17,\"\"))","v":0.11990495000000001},{"$f":"IF($J17=\"Multiple\",VLOOKUP(A17,Produits_composes!$A$1:$AA$30,26,FALSE),IF($J17=20%,$F17*(1+$J17)-$F17,\"\"))","v":""},3760219062745,1000,15]
["5D","Huile vierge de tournesol BIO","1L","Bouteille",6,{"$f":"IF(J18=\"Multiple\",VLOOKUP(A18,Produits_composes!$A$1:$AA$30,24,FALSE),ROUNDDOWN(G18*100/(100+J18*100),5))","v":4.0758200000000002},4.3,0.05,3.88,5.5E-2,0.2241799999999996,{"$f":"IF($J18=\"Multiple\",VLOOKUP($A18,Produits_composes!$A$1:$AA$30,25,FALSE),IF($J18=5.5%,$F18*(1+$J18)-$F18,\"\"))","v":0.22417009999999937},{"$f":"IF($J18=\"Multiple\",VLOOKUP(A18,Produits_composes!$A$1:$AA$30,26,FALSE),IF($J18=20%,$F18*(1+$J18)-$F18,\"\"))","v":""},3760219062738,1450,16]
["6A","Pruneaux d’Agen (33/44) - Boîte Or","1kg","Boite métal",6,{"$f":"IF(J19=\"Multiple\",VLOOKUP(A19,Produits_composes!$A$1:$AA$30,24,FALSE),ROUNDDOWN(G19*100/(100+J19*100),5))","v":9.9526000000000003},10.5,{"$f":"$Q$2","v":0.2},7.97,5.5E-2,0.54739999999999966,{"$f":"IF($J19=\"Multiple\",VLOOKUP($A19,Produits_composes!$A$1:$AA$30,25,FALSE),IF($J19=5.5%,$F19*(1+$J19)-$F19,\"\"))","v":0.54739299999999957},{"$f":"IF($J19=\"Multiple\",VLOOKUP(A19,Produits_composes!$A$1:$AA$30,26,FALSE),IF($J19=20%,$F19*(1+$J19)-$F19,\"\"))","v":""},3760219062721,1210,17]
["6B","Pruneaux d’Agen (30/35) - Boîte Or","1kg","Boite métal",6,{"$f":"IF(J20=\"Multiple\",VLOOKUP(A20,Produits_composes!$A$1:$AA$30,24,FALSE),ROUNDDOWN(G20*100/(100+J20*100),5))","v":11.3744},12,0.2,9.1,5.5E-2,0.62560000000000038,{"$f":"IF($J20=\"Multiple\",VLOOKUP($A20,Produits_composes!$A$1:$AA$30,25,FALSE),IF($J20=5.5%,$F20*(1+$J20)-$F20,\"\"))","v":0.62559199999999926},{"$f":"IF($J20=\"Multiple\",VLOOKUP(A20,Produits_composes!$A$1:$AA$30,26,FALSE),IF($J20=20%,$F20*(1+$J20)-$F20,\"\"))","v":""},3760219062714,1210,18]
["6C","Pruneaux d’Agen dénoyautés (44/55) - Boîte Or","1kg","Boite métal",6,{"$f":"IF(J21=\"Multiple\",VLOOKUP(A21,Produits_composes!$A$1:$AA$30,24,FALSE),ROUNDDOWN(G21*100/(100+J21*100),5))","v":12.32227},13,0.2,9.86,5.5E-2,0.67773000000000039,{"$f":"IF($J21=\"Multiple\",VLOOKUP($A21,Produits_composes!$A$1:$AA$30,25,FALSE),IF($J21=5.5%,$F21*(1+$J21)-$F21,\"\"))","v":0.67772484999999882},{"$f":"IF($J21=\"Multiple\",VLOOKUP(A21,Produits_composes!$A$1:$AA$30,26,FALSE),IF($J21=20%,$F21*(1+$J21)-$F21,\"\"))","v":""},3760219062707,1210,19]
["7A","Pruneaux d’Agen Mi-Cuit","500g","Sachet",25,{"$f":"IF(J22=\"Multiple\",VLOOKUP(A22,Produits_composes!$A$1:$AA$30,24,FALSE),ROUNDDOWN(G22*100/(100+J22*100),5))","v":4.0758200000000002},4.3,{"$f":"IF($Q$2>=20%,20%,$Q$2)","v":0.2},3.2699999999999996,5.5E-2,0.2241799999999996,{"$f":"IF($J22=\"Multiple\",VLOOKUP($A22,Produits_composes!$A$1:$AA$30,25,FALSE),IF($J22=5.5%,$F22*(1+$J22)-$F22,\"\"))","v":0.22417009999999937},{"$f":"IF($J22=\"Multiple\",VLOOKUP(A22,Produits_composes!$A$1:$AA$30,26,FALSE),IF($J22=20%,$F22*(1+$J22)-$F22,\"\"))","v":""},3760219062691,500,20]
["7B","Pruneaux d’Agen Mi-Cuit","1kg","Sachet",14,{"$f":"IF(J23=\"Multiple\",VLOOKUP(A23,Produits_composes!$A$1:$AA$30,24,FALSE),ROUNDDOWN(G23*100/(100+J23*100),5))","v":6.8720299999999996},7.25,0.2,5.5,5.5E-2,0.37797000000000036,{"$f":"IF($J23=\"Multiple\",VLOOKUP($A23,Produits_composes!$A$1:$AA$30,25,FALSE),IF($J23=5.5%,$F23*(1+$J23)-$F23,\"\"))","v":0.37796164999999959},{"$f":"IF($J23=\"Multiple\",VLOOKUP(A23,Produits_composes!$A$1:$AA$30,26,FALSE),IF($J23=20%,$F23*(1+$J23)-$F23,\"\"))","v":""},3760219062684,1000,21]
["8A","Pruneaux d’Agen (cal. 33/44) ","250g","Sachet",50,{"$f":"IF(J24=\"Multiple\",VLOOKUP(A24,Produits_composes!$A$1:$AA$30,24,FALSE),ROUNDDOWN(G24*100/(100+J24*100),5))","v":3.0331700000000001},3.2,0.2,2.4299999999999997,5.5E-2,0.16683000000000003,{"$f":"IF($J24=\"Multiple\",VLOOKUP($A24,Produits_composes!$A$1:$AA$30,25,FALSE),IF($J24=5.5%,$F24*(1+$J24)-$F24,\"\"))","v":0.16682434999999973},{"$f":"IF($J24=\"Multiple\",VLOOKUP(A24,Produits_composes!$A$1:$AA$30,26,FALSE),IF($J24=20%,$F24*(1+$J24)-$F24,\"\"))","v":""},3760219062677,250,22]
["8B","Pruneaux d’Agen (cal. 33/44)","500g","Sachet",25,{"$f":"IF(J25=\"Multiple\",VLOOKUP(A25,Produits_composes!$A$1:$AA$30,24,FALSE),ROUNDDOWN(G25*100/(100+J25*100),5))","v":3.60189},3.8,0.2,2.8899999999999997,5.5E-2,0.19810999999999979,{"$f":"IF($J25=\"Multiple\",VLOOKUP($A25,Produits_composes!$A$1:$AA$30,25,FALSE),IF($J25=5.5%,$F25*(1+$J25)-$F25,\"\"))","v":0.1981039499999997},{"$f":"IF($J25=\"Multiple\",VLOOKUP(A25,Produits_composes!$A$1:$AA$30,26,FALSE),IF($J25=20%,$F25*(1+$J25)-$F25,\"\"))","v":""},3760219062660,500,23]
["8C","Pruneaux d’Agen (cal. 33/44)","1kg","Sachet",14,{"$f":"IF(J26=\"Multiple\",VLOOKUP(A26,Produits_composes!$A$1:$AA$30,24,FALSE),ROUNDDOWN(G26*100/(100+J26*100),5))","v":6.16113},6.5,0.2,4.93,5.5E-2,0.33887,{"$f":"IF($J26=\"Multiple\",VLOOKUP($A26,Produits_composes!$A$1:$AA$30,25,FALSE),IF($J26=5.5%,$F26*(1+$J26)-$F26,\"\"))","v":0.33886214999999975},{"$f":"IF($J26=\"Multiple\",VLOOKUP(A26,Produits_composes!$A$1:$AA$30,26,FALSE),IF($J26=20%,$F26*(1+$J26)-$F26,\"\"))","v":""},3760219062653,1000,24]
["8D","Pruneaux d’Agen (cal. 30/35)","500g","Sachet",25,{"$f":"IF(J27=\"Multiple\",VLOOKUP(A27,Produits_composes!$A$1:$AA$30,24,FALSE),ROUNDDOWN(G27*100/(100+J27*100),5))","v":4.6445400000000001},4.9000000000000004,0.2,3.7199999999999998,5.5E-2,0.25546000000000024,{"$f":"IF($J27=\"Multiple\",VLOOKUP($A27,Produits_composes!$A$1:$AA$30,25,FALSE),IF($J27=5.5%,$F27*(1+$J27)-$F27,\"\"))","v":0.25544969999999978},{"$f":"IF($J27=\"Multiple\",VLOOKUP(A27,Produits_composes!$A$1:$AA$30,26,FALSE),IF($J27=20%,$F27*(1+$J27)-$F27,\"\"))","v":""},3760219062646,500,25]
["8E","Pruneaux d’Agen (cal. 30/35) ","1kg","Sachet",14,{"$f":"IF(J28=\"Multiple\",VLOOKUP(A28,Produits_composes!$A$1:$AA$30,24,FALSE),ROUNDDOWN(G28*100/(100+J28*100),5))","v":7.6777199999999999},8.1,0.2,6.1499999999999995,5.5E-2,0.42227999999999977,{"$f":"IF($J28=\"Multiple\",VLOOKUP($A28,Produits_composes!$A$1:$AA$30,25,FALSE),IF($J28=5.5%,$F28*(1+$J28)-$F28,\"\"))","v":0.42227459999999883},{"$f":"IF($J28=\"Multiple\",VLOOKUP(A28,Produits_composes!$A$1:$AA$30,26,FALSE),IF($J28=20%,$F28*(1+$J28)-$F28,\"\"))","v":""},3760219062639,1000,26]
["8F","Pruneaux d’Agen (cal. 25/30)","500g","Sachet",25,{"$f":"IF(J29=\"Multiple\",VLOOKUP(A29,Produits_composes!$A$1:$AA$30,24,FALSE),ROUNDDOWN(G29*100/(100+J29*100),5))","v":4.8341200000000004},5.0999999999999996,0.2,3.8699999999999997,5.5E-2,0.26587999999999923,{"$f":"IF($J29=\"Multiple\",VLOOKUP($A29,Produits_composes!$A$1:$AA$30,25,FALSE),IF($J29=5.5%,$F29*(1+$J29)-$F29,\"\"))","v":0.26587659999999946},{"$f":"IF($J29=\"Multiple\",VLOOKUP(A29,Produits_composes!$A$1:$AA$30,26,FALSE),IF($J29=20%,$F29*(1+$J29)-$F29,\"\"))","v":""},3760219062622,500,27]
["8G","Pruneaux d’Agen (cal. 25/30)","1kg","Sachet",14,{"$f":"IF(J30=\"Multiple\",VLOOKUP(A30,Produits_composes!$A$1:$AA$30,24,FALSE),ROUNDDOWN(G30*100/(100+J30*100),2))","v":8.0500000000000007},8.5,0.2,6.44,5.5E-2,0.44999999999999929,{"$f":"IF($J30=\"Multiple\",VLOOKUP($A30,Produits_composes!$A$1:$AA$30,25,FALSE),IF($J30=5.5%,$F30*(1+$J30)-$F30,\"\"))","v":0.4427500000000002},{"$f":"IF($J30=\"Multiple\",VLOOKUP(A30,Produits_composes!$A$1:$AA$30,26,FALSE),IF($J30=20%,$F30*(1+$J30)-$F30,\"\"))","v":""},3760219062615,1000,28]
["8H","Pruneaux d’Agen (cal. 33/44)","5kg (2x2,5kg)","Sachet",4,{"$f":"IF(J31=\"Multiple\",VLOOKUP(A31,Produits_composes!$A$1:$AA$30,24,FALSE),ROUNDDOWN(G31*100/(100+J31*100),5))","v":26.919429999999998},28.4,{"$f":"IF($Q$2>=23%,23%,$Q$2)","v":0.2},{"$f":"IF(H31=0,F31,ROUNDUP($F31-$F31*$H31,2))","v":21.540000000000003},5.5E-2,{"$f":"G31-F31","v":1.4805700000000002},{"$f":"IF($J31=\"Multiple\",VLOOKUP($A31,Produits_composes!$A$1:$AA$30,25,FALSE),IF($J31=5.5%,$F31*(1+$J31)-$F31,\"\"))","v":1.4805686499999986},{"$f":"IF($J31=\"Multiple\",VLOOKUP(A31,Produits_composes!$A$1:$AA$30,26,FALSE),IF($J31=20%,$F31*(1+$J31)-$F31,\"\"))","v":""},3760219062608,5500,29]
["8I","Pruneaux d’Agen (cal. 33/44) avec conservateur e200","14kg","Sachet",1,{"$f":"IF(J32=\"Multiple\",VLOOKUP(A32,Produits_composes!$A$1:$AA$30,24,FALSE),ROUNDDOWN(G32*100/(100+J32*100),5))","v":74.881510000000006},79,{"$f":"IF($Q$2>=23%,23%,$Q$2)","v":0.2},{"$f":"IF(H32=0,F32,ROUNDUP($F32-$F32*$H32,2))","v":59.91},5.5E-2,{"$f":"G32-F32","v":4.1184899999999942},{"$f":"IF($J32=\"Multiple\",VLOOKUP($A32,Produits_composes!$A$1:$AA$30,25,FALSE),IF($J32=5.5%,$F32*(1+$J32)-$F32,\"\"))","v":4.1184830499999947},{"$f":"IF($J32=\"Multiple\",VLOOKUP(A32,Produits_composes!$A$1:$AA$30,26,FALSE),IF($J32=20%,$F32*(1+$J32)-$F32,\"\"))","v":""},3760219062592,14500,30]
["9A","Pruneaux d’Agen dénoyautés (cal. 44/55)","250g","Sachet",50,{"$f":"IF(J33=\"Multiple\",VLOOKUP(A33,Produits_composes!$A$1:$AA$30,24,FALSE),ROUNDDOWN(G33*100/(100+J33*100),2))","v":3.31},3.5,0.2,2.65,5.5E-2,0.18999999999999995,{"$f":"IF($J33=\"Multiple\",VLOOKUP($A33,Produits_composes!$A$1:$AA$30,25,FALSE),IF($J33=5.5%,$F33*(1+$J33)-$F33,\"\"))","v":0.18204999999999982},{"$f":"IF($J33=\"Multiple\",VLOOKUP(A33,Produits_composes!$A$1:$AA$30,26,FALSE),IF($J33=20%,$F33*(1+$J33)-$F33,\"\"))","v":""},3760219062585,250,31]
["9B","Pruneaux d’Agen dénoyautés (cal. 44/55)","500g","Sachet",25,{"$f":"IF(J34=\"Multiple\",VLOOKUP(A34,Produits_composes!$A$1:$AA$30,24,FALSE),ROUNDDOWN(G34*100/(100+J34*100),5))","v":4.54976},4.8,0.2,3.6399999999999997,5.5E-2,0.2502399999999998,{"$f":"IF($J34=\"Multiple\",VLOOKUP($A34,Produits_composes!$A$1:$AA$30,25,FALSE),IF($J34=5.5%,$F34*(1+$J34)-$F34,\"\"))","v":0.2502367999999997},{"$f":"IF($J34=\"Multiple\",VLOOKUP(A34,Produits_composes!$A$1:$AA$30,26,FALSE),IF($J34=20%,$F34*(1+$J34)-$F34,\"\"))","v":""},3760219062578,500,32]
["9C","Pruneaux d’Agen dénoyautés (cal. 44/55)","1kg","Sachet",14,{"$f":"IF(J35=\"Multiple\",VLOOKUP(A35,Produits_composes!$A$1:$AA$30,24,FALSE),ROUNDDOWN(G35*100/(100+J35*100),5))","v":8.4360099999999996},8.9,0.2,6.75,5.5E-2,0.46399000000000079,{"$f":"IF($J35=\"Multiple\",VLOOKUP($A35,Produits_composes!$A$1:$AA$30,25,FALSE),IF($J35=5.5%,$F35*(1+$J35)-$F35,\"\"))","v":0.46398054999999871},{"$f":"IF($J35=\"Multiple\",VLOOKUP(A35,Produits_composes!$A$1:$AA$30,26,FALSE),IF($J35=20%,$F35*(1+$J35)-$F35,\"\"))","v":""},3760219062561,1000,33]
["9D","Pruneaux d’Agen dénoyautés (cal. 30/35) ","500g","Sachet",25,{"$f":"IF(J36=\"Multiple\",VLOOKUP(A36,Produits_composes!$A$1:$AA$30,24,FALSE),ROUNDDOWN(G36*100/(100+J36*100),5))","v":5.2132699999999996},5.5,0.2,4.18,5.5E-2,0.28673000000000037,{"$f":"IF($J36=\"Multiple\",VLOOKUP($A36,Produits_composes!$A$1:$AA$30,25,FALSE),IF($J36=5.5%,$F36*(1+$J36)-$F36,\"\"))","v":0.28672984999999951},{"$f":"IF($J36=\"Multiple\",VLOOKUP(A36,Produits_composes!$A$1:$AA$30,26,FALSE),IF($J36=20%,$F36*(1+$J36)-$F36,\"\"))","v":""},3760219062554,500,34]
["9E","Pruneaux d’Agen dénoyautés (cal. 30/35)","1kg","Sachet",14,{"$f":"IF(J37=\"Multiple\",VLOOKUP(A37,Produits_composes!$A$1:$AA$30,24,FALSE),ROUNDDOWN(G37*100/(100+J37*100),5))","v":8.7203700000000008},9.1999999999999993,0.2,6.9799999999999995,5.5E-2,0.47962999999999845,{"$f":"IF($J37=\"Multiple\",VLOOKUP($A37,Produits_composes!$A$1:$AA$30,25,FALSE),IF($J37=5.5%,$F37*(1+$J37)-$F37,\"\"))","v":0.47962034999999936},{"$f":"IF($J37=\"Multiple\",VLOOKUP(A37,Produits_composes!$A$1:$AA$30,26,FALSE),IF($J37=20%,$F37*(1+$J37)-$F37,\"\"))","v":""},3760219062547,1000,35]
["10A","Jus de Pruneaux","1L","Bouteille",6,{"$f":"IF(J38=\"Multiple\",VLOOKUP(A38,Produits_composes!$A$1:$AA$30,24,FALSE),ROUNDDOWN(G38*100/(100+J38*100),5))","v":3.9810400000000001},4.2,0.2,3.19,5.5E-2,0.21896000000000004,{"$f":"IF($J38=\"Multiple\",VLOOKUP($A38,Produits_composes!$A$1:$AA$30,25,FALSE),IF($J38=5.5%,$F38*(1+$J38)-$F38,\"\"))","v":0.21895720000000019},{"$f":"IF($J38=\"Multiple\",VLOOKUP(A38,Produits_composes!$A$1:$AA$30,26,FALSE),IF($J38=20%,$F38*(1+$J38)-$F38,\"\"))","v":""},3760219062530,1450,36]
["10B","Jus de Pruneaux","25cl","Bouteille",12,{"$f":"IF(J39=\"Multiple\",VLOOKUP(A39,Produits_composes!$A$1:$AA$30,24,FALSE),ROUNDDOWN(G39*100/(100+J39*100),5))","v":2.0853000000000002},2.2000000000000002,0.2,1.67,5.5E-2,0.11470000000000002,{"$f":"IF($J39=\"Multiple\",VLOOKUP($A39,Produits_composes!$A$1:$AA$30,25,FALSE),IF($J39=5.5%,$F39*(1+$J39)-$F39,\"\"))","v":0.11469149999999972},{"$f":"IF($J39=\"Multiple\",VLOOKUP(A39,Produits_composes!$A$1:$AA$30,26,FALSE),IF($J39=20%,$F39*(1+$J39)-$F39,\"\"))","v":""},3760219062905,400,37]
["11A","Pétillant de pruneaux","0,75L","Bouteille",6,{"$f":"IF(J40=\"Multiple\",VLOOKUP(A40,Produits_composes!$A$1:$AA$30,24,FALSE),ROUNDDOWN(G40*100/(100+J40*100),5))","v":5.5924100000000001},5.9,0.2,4.4799999999999995,5.5E-2,0.30759000000000025,{"$f":"IF($J40=\"Multiple\",VLOOKUP($A40,Produits_composes!$A$1:$AA$30,25,FALSE),IF($J40=5.5%,$F40*(1+$J40)-$F40,\"\"))","v":0.30758254999999934},{"$f":"IF($J40=\"Multiple\",VLOOKUP(A40,Produits_composes!$A$1:$AA$30,26,FALSE),IF($J40=20%,$F40*(1+$J40)-$F40,\"\"))","v":""},3760219062523,1350,38]
["12A","Pruneaux d’Agen secs","500g","Sachet",25,{"$f":"IF(J41=\"Multiple\",VLOOKUP(A41,Produits_composes!$A$1:$AA$30,24,FALSE),ROUNDDOWN(G41*100/(100+J41*100),5))","v":2.3696600000000001},2.5,0.2,1.9,5.5E-2,0.1303399999999999,{"$f":"IF($J41=\"Multiple\",VLOOKUP($A41,Produits_composes!$A$1:$AA$30,25,FALSE),IF($J41=5.5%,$F41*(1+$J41)-$F41,\"\"))","v":0.13033129999999993},{"$f":"IF($J41=\"Multiple\",VLOOKUP(A41,Produits_composes!$A$1:$AA$30,26,FALSE),IF($J41=20%,$F41*(1+$J41)-$F41,\"\"))","v":""},3760219062516,500,39]
["12B","Pruneaux d’Agen secs","1kg","Sachet",14,{"$f":"IF(J42=\"Multiple\",VLOOKUP(A42,Produits_composes!$A$1:$AA$30,24,FALSE),ROUNDDOWN(G42*100/(100+J42*100),5))","v":4.6445400000000001},4.9000000000000004,0.2,3.7199999999999998,5.5E-2,0.25546000000000024,{"$f":"IF($J42=\"Multiple\",VLOOKUP($A42,Produits_composes!$A$1:$AA$30,25,FALSE),IF($J42=5.5%,$F42*(1+$J42)-$F42,\"\"))","v":0.25544969999999978},{"$f":"IF($J42=\"Multiple\",VLOOKUP(A42,Produits_composes!$A$1:$AA$30,26,FALSE),IF($J42=20%,$F42*(1+$J42)-$F42,\"\"))","v":""},3760219062509,1000,40]
["13A","Crème de pruneaux","220g","Bocal",24,{"$f":"IF(J43=\"Multiple\",VLOOKUP(A43,Produits_composes!$A$1:$AA$30,24,FALSE),ROUNDDOWN(G43*100/(100+J43*100),5))","v":3.0331700000000001},3.2,0.2,2.4299999999999997,5.5E-2,0.16683000000000003,{"$f":"IF($J43=\"Multiple\",VLOOKUP($A43,Produits_composes!$A$1:$AA$30,25,FALSE),IF($J43=5.5%,$F43*(1+$J43)-$F43,\"\"))","v":0.16682434999999973},{"$f":"IF($J43=\"Multiple\",VLOOKUP(A43,Produits_composes!$A$1:$AA$30,26,FALSE),IF($J43=20%,$F43*(1+$J43)-$F43,\"\"))","v":""},3760219062493,380,41]
["13B","Crème de pruneaux","320g","Bocal",24,{"$f":"IF(J44=\"Multiple\",VLOOKUP(A44,Produits_composes!$A$1:$AA$30,24,FALSE),ROUNDDOWN(G44*100/(100+J44*100),5))","v":3.9810400000000001},4.2,{"$f":"$Q$2+8%","v":0.28000000000000003},2.8699999999999997,5.5E-2,0.21896000000000004,{"$f":"IF($J44=\"Multiple\",VLOOKUP($A44,Produits_composes!$A$1:$AA$30,25,FALSE),IF($J44=5.5%,$F44*(1+$J44)-$F44,\"\"))","v":0.21895720000000019},{"$f":"IF($J44=\"Multiple\",VLOOKUP(A44,Produits_composes!$A$1:$AA$30,26,FALSE),IF($J44=20%,$F44*(1+$J44)-$F44,\"\"))","v":""},3760219062486,525,42]
["14A","Pulpe de pruneaux","310g","Bocal",24,{"$f":"IF(J45=\"Multiple\",VLOOKUP(A45,Produits_composes!$A$1:$AA$30,24,FALSE),ROUNDDOWN(G45*100/(100+J45*100),5))","v":3.9810400000000001},4.2,{"$f":"$Q$2+8%","v":0.28000000000000003},2.8699999999999997,5.5E-2,0.21896000000000004,{"$f":"IF($J45=\"Multiple\",VLOOKUP($A45,Produits_composes!$A$1:$AA$30,25,FALSE),IF($J45=5.5%,$F45*(1+$J45)-$F45,\"\"))","v":0.21895720000000019},{"$f":"IF($J45=\"Multiple\",VLOOKUP(A45,Produits_composes!$A$1:$AA$30,26,FALSE),IF($J45=20%,$F45*(1+$J45)-$F45,\"\"))","v":""},3760219062479,530,43]
["15A","Pruneaux au sirop","320g","Bocal",14,{"$f":"IF(J46=\"Multiple\",VLOOKUP(A46,Produits_composes!$A$1:$AA$30,24,FALSE),ROUNDDOWN(G46*100/(100+J46*100),5))","v":3.2227399999999999},3.4,{"$f":"$Q$2","v":0.2},2.5799999999999996,5.5E-2,0.17725999999999997,{"$f":"IF($J46=\"Multiple\",VLOOKUP($A46,Produits_composes!$A$1:$AA$30,25,FALSE),IF($J46=5.5%,$F46*(1+$J46)-$F46,\"\"))","v":0.17725069999999965},{"$f":"IF($J46=\"Multiple\",VLOOKUP(A46,Produits_composes!$A$1:$AA$30,26,FALSE),IF($J46=20%,$F46*(1+$J46)-$F46,\"\"))","v":""},3760219062462,565,44]
["16A","Confiture de Prune d'Ente allégée","250g","Bocal",10,{"$f":"IF(J47=\"Multiple\",VLOOKUP(A47,Produits_composes!$A$1:$AA$30,24,FALSE),ROUNDDOWN(G47*100/(100+J47*100),5))","v":3.7914599999999998},4,0.2,3.0399999999999996,5.5E-2,0.20854000000000017,{"$f":"IF($J47=\"Multiple\",VLOOKUP($A47,Produits_composes!$A$1:$AA$30,25,FALSE),IF($J47=5.5%,$F47*(1+$J47)-$F47,\"\"))","v":0.20853029999999961},{"$f":"IF($J47=\"Multiple\",VLOOKUP(A47,Produits_composes!$A$1:$AA$30,26,FALSE),IF($J47=20%,$F47*(1+$J47)-$F47,\"\"))","v":""},3760219062455,465,45]
["16B","Confiture de Prune Reine-Claude allégée","250g","Bocal",10,{"$f":"IF(J48=\"Multiple\",VLOOKUP(A48,Produits_composes!$A$1:$AA$30,24,FALSE),ROUNDDOWN(G48*100/(100+J48*100),5))","v":3.7914599999999998},4,0.2,3.0399999999999996,5.5E-2,0.20854000000000017,{"$f":"IF($J48=\"Multiple\",VLOOKUP($A48,Produits_composes!$A$1:$AA$30,25,FALSE),IF($J48=5.5%,$F48*(1+$J48)-$F48,\"\"))","v":0.20853029999999961},{"$f":"IF($J48=\"Multiple\",VLOOKUP(A48,Produits_composes!$A$1:$AA$30,26,FALSE),IF($J48=20%,$F48*(1+$J48)-$F48,\"\"))","v":""},3760219062448,465,46]
["16C","Confiture de Fraise","250g","Bocal",10,{"$f":"IF(J49=\"Multiple\",VLOOKUP(A49,Produits_composes!$A$1:$AA$30,24,FALSE),ROUNDDOWN(G49*100/(100+J49*100),5))","v":3.7914599999999998},4,0.2,3.0399999999999996,5.5E-2,0.20854000000000017,{"$f":"IF($J49=\"Multiple\",VLOOKUP($A49,Produits_composes!$A$1:$AA$30,25,FALSE),IF($J49=5.5%,$F49*(1+$J49)-$F49,\"\"))","v":0.20853029999999961},{"$f":"IF($J49=\"Multiple\",VLOOKUP(A49,Produits_composes!$A$1:$AA$30,26,FALSE),IF($J49=20%,$F49*(1+$J49)-$F49,\"\"))","v":""},3760219062431,465,47]
["17A","Confiture de Prune d'Ente allégée","330g","Bocal",14,{"$f":"IF(J50=\"Multiple\",VLOOKUP(A50,Produits_composes!$A$1:$AA$30,24,FALSE),ROUNDDOWN(G50*100/(100+J50*100),5))","v":4.2653999999999996},4.5,0.2,3.42,5.5E-2,0.23460000000000036,{"$f":"IF($J50=\"Multiple\",VLOOKUP($A50,Produits_composes!$A$1:$AA$30,25,FALSE),IF($J50=5.5%,$F50*(1+$J50)-$F50,\"\"))","v":0.23459699999999994},{"$f":"IF($J50=\"Multiple\",VLOOKUP(A50,Produits_composes!$A$1:$AA$30,26,FALSE),IF($J50=20%,$F50*(1+$J50)-$F50,\"\"))","v":""},3760219062424,560,48]
["17B","Confiture de Prune Reine-Claude allégée","330g","Bocal",14,{"$f":"IF(J51=\"Multiple\",VLOOKUP(A51,Produits_composes!$A$1:$AA$30,24,FALSE),ROUNDDOWN(G51*100/(100+J51*100),5))","v":4.2653999999999996},4.5,0.2,3.42,5.5E-2,0.23460000000000036,{"$f":"IF($J51=\"Multiple\",VLOOKUP($A51,Produits_composes!$A$1:$AA$30,25,FALSE),IF($J51=5.5%,$F51*(1+$J51)-$F51,\"\"))","v":0.23459699999999994},{"$f":"IF($J51=\"Multiple\",VLOOKUP(A51,Produits_composes!$A$1:$AA$30,26,FALSE),IF($J51=20%,$F51*(1+$J51)-$F51,\"\"))","v":""},3760219062417,560,49]
["17C","Confiture de Fraise","330g","Bocal",14,{"$f":"IF(J52=\"Multiple\",VLOOKUP(A52,Produits_composes!$A$1:$AA$30,24,FALSE),ROUNDDOWN(G52*100/(100+J52*100),5))","v":4.2653999999999996},4.5,0.2,3.42,5.5E-2,0.23460000000000036,{"$f":"IF($J52=\"Multiple\",VLOOKUP($A52,Produits_composes!$A$1:$AA$30,25,FALSE),IF($J52=5.5%,$F52*(1+$J52)-$F52,\"\"))","v":0.23459699999999994},{"$f":"IF($J52=\"Multiple\",VLOOKUP(A52,Produits_composes!$A$1:$AA$30,26,FALSE),IF($J52=20%,$F52*(1+$J52)-$F52,\"\"))","v":""},3760219062400,560,50]
["18A","Nougat aux pruneaux","100g","Sachet",10,{"$f":"IF(J53=\"Multiple\",VLOOKUP(A53,Produits_composes!$A$1:$AA$30,24,FALSE),ROUNDDOWN(G53*100/(100+J53*100),5))","v":4.5833300000000001},5.5,0.2,3.67,0.2,0.91666999999999987,{"$f":"IF($J53=\"Multiple\",VLOOKUP($A53,Produits_composes!$A$1:$AA$30,25,FALSE),IF($J53=5.5%,$F53*(1+$J53)-$F53,\"\"))","v":""},{"$f":"IF($J53=\"Multiple\",VLOOKUP(A53,Produits_composes!$A$1:$AA$30,26,FALSE),IF($J53=20%,$F53*(1+$J53)-$F53,\"\"))","v":0.9166660000000002},3760219062394,100,51]
["18B","Nougat aux pruneaux","150g","Sachet",10,{"$f":"IF(J54=\"Multiple\",VLOOKUP(A54,Produits_composes!$A$1:$AA$30,24,FALSE),ROUNDDOWN(G54*100/(100+J54*100),5))","v":6.6666600000000003},8,0.2,5.34,0.2,1.3333399999999997,{"$f":"IF($J54=\"Multiple\",VLOOKUP($A54,Produits_composes!$A$1:$AA$30,25,FALSE),IF($J54=5.5%,$F54*(1+$J54)-$F54,\"\"))","v":""},{"$f":"IF($J54=\"Multiple\",VLOOKUP(A54,Produits_composes!$A$1:$AA$30,26,FALSE),IF($J54=20%,$F54*(1+$J54)-$F54,\"\"))","v":1.3333319999999995},3760219062387,150,52]
["19A","Mendiants chocolat noir","150g","Sachet",10,{"$f":"IF(J55=\"Multiple\",VLOOKUP(A55,Produits_composes!$A$1:$AA$30,24,FALSE),ROUNDDOWN(G55*100/(100+J55*100),5))","v":5.6871999999999998},6,0.2,4.55,5.5E-2,0.31280000000000019,{"$f":"IF($J55=\"Multiple\",VLOOKUP($A55,Produits_composes!$A$1:$AA$30,25,FALSE),IF($J55=5.5%,$F55*(1+$J55)-$F55,\"\"))","v":0.31279599999999963},{"$f":"IF($J55=\"Multiple\",VLOOKUP(A55,Produits_composes!$A$1:$AA$30,26,FALSE),IF($J55=20%,$F55*(1+$J55)-$F55,\"\"))","v":""},3760219062370,150,53]
["19B","Mendiants chocolat noir","200g","Sachet",10,{"$f":"IF(J56=\"Multiple\",VLOOKUP(A56,Produits_composes!$A$1:$AA$30,24,FALSE),ROUNDDOWN(G56*100/(100+J56*100),2))","v":3.75},7.5,0.2,3,true,3.75,{"$f":"IF($J56=\"Multiple\",VLOOKUP($A56,Produits_composes!$A$1:$AA$30,25,FALSE),IF($J56=5.5%,$F56*(1+$J56)-$F56,\"\"))","v":""},{"$f":"IF($J56=\"Multiple\",VLOOKUP(A56,Produits_composes!$A$1:$AA$30,26,FALSE),IF($J56=20%,$F56*(1+$J56)-$F56,\"\"))","v":""},3760219062363,200,54]
["20A","Mendiants chocolat lait","150g","Sachet",10,{"$f":"IF(J57=\"Multiple\",VLOOKUP(A57,Produits_composes!$A$1:$AA$30,24,FALSE),ROUNDDOWN(G57*100/(100+J57*100),5))","v":5.6871999999999998},6,0.2,4.55,5.5E-2,0.31280000000000019,{"$f":"IF($J57=\"Multiple\",VLOOKUP($A57,Produits_composes!$A$1:$AA$30,25,FALSE),IF($J57=5.5%,$F57*(1+$J57)-$F57,\"\"))","v":0.31279599999999963},{"$f":"IF($J57=\"Multiple\",VLOOKUP(A57,Produits_composes!$A$1:$AA$30,26,FALSE),IF($J57=20%,$F57*(1+$J57)-$F57,\"\"))","v":""},3760219062356,150,55]
["20B","Mendiants chocolat lait","200g","Sachet",10,{"$f":"IF(J58=\"Multiple\",VLOOKUP(A58,Produits_composes!$A$1:$AA$30,24,FALSE),ROUNDDOWN(G58*100/(100+J58*100),2))","v":7.1},7.5,0.2,5.68,5.5E-2,0.40000000000000036,{"$f":"IF($J58=\"Multiple\",VLOOKUP($A58,Produits_composes!$A$1:$AA$30,25,FALSE),IF($J58=5.5%,$F58*(1+$J58)-$F58,\"\"))","v":0.3904999999999994},{"$f":"IF($J58=\"Multiple\",VLOOKUP(A58,Produits_composes!$A$1:$AA$30,26,FALSE),IF($J58=20%,$F58*(1+$J58)-$F58,\"\"))","v":""},3760219062349,200,56]
["21A","Pâtes de fruit - (saveur à préciser)","150g","Sachet",10,{"$f":"IF(J59=\"Multiple\",VLOOKUP(A59,Produits_composes!$A$1:$AA$30,24,FALSE),ROUNDDOWN(G59*100/(100+J59*100),5))","v":5.6871999999999998},6,0.2,4.55,5.5E-2,0.31280000000000019,{"$f":"IF($J59=\"Multiple\",VLOOKUP($A59,Produits_composes!$A$1:$AA$30,25,FALSE),IF($J59=5.5%,$F59*(1+$J59)-$F59,\"\"))","v":0.31279599999999963},{"$f":"IF($J59=\"Multiple\",VLOOKUP(A59,Produits_composes!$A$1:$AA$30,26,FALSE),IF($J59=20%,$F59*(1+$J59)-$F59,\"\"))","v":""},3760219062332,100,57]
["21B","Pâtes de fruit - Mixte (mélange)","150g","Sachet",10,{"$f":"IF(J60=\"Multiple\",VLOOKUP(A60,Produits_composes!$A$1:$AA$30,24,FALSE),ROUNDDOWN(G60*100/(100+J60*100),5))","v":6.16113},6.5,0.2,4.93,5.5E-2,0.33887,{"$f":"IF($J60=\"Multiple\",VLOOKUP($A60,Produits_composes!$A$1:$AA$30,25,FALSE),IF($J60=5.5%,$F60*(1+$J60)-$F60,\"\"))","v":0.33886214999999975},{"$f":"IF($J60=\"Multiple\",VLOOKUP(A60,Produits_composes!$A$1:$AA$30,26,FALSE),IF($J60=20%,$F60*(1+$J60)-$F60,\"\"))","v":""},3760219062325,100,58]
["22A","Pâtes de velours chocolat","150g","Sachet",10,{"$f":"IF(J61=\"Multiple\",VLOOKUP(A61,Produits_composes!$A$1:$AA$30,24,FALSE),ROUNDDOWN(G61*100/(100+J61*100),5))","v":6.16113},6.5,0.2,4.93,5.5E-2,0.33887,{"$f":"IF($J61=\"Multiple\",VLOOKUP($A61,Produits_composes!$A$1:$AA$30,25,FALSE),IF($J61=5.5%,$F61*(1+$J61)-$F61,\"\"))","v":0.33886214999999975},{"$f":"IF($J61=\"Multiple\",VLOOKUP(A61,Produits_composes!$A$1:$AA$30,26,FALSE),IF($J61=20%,$F61*(1+$J61)-$F61,\"\"))","v":""},3760219062318,100,59]
["23A","Madeleines à la crème de pruneau (env. 5 unités)","100g","Sachet",10,{"$f":"IF(J62=\"Multiple\",VLOOKUP(A62,Produits_composes!$A$1:$AA$30,24,FALSE),ROUNDDOWN(G62*100/(100+J62*100),5))","v":2.4644499999999998},2.6,0.2,1.98,5.5E-2,0.13555000000000028,{"$f":"IF($J62=\"Multiple\",VLOOKUP($A62,Produits_composes!$A$1:$AA$30,25,FALSE),IF($J62=5.5%,$F62*(1+$J62)-$F62,\"\"))","v":0.13554474999999977},{"$f":"IF($J62=\"Multiple\",VLOOKUP(A62,Produits_composes!$A$1:$AA$30,26,FALSE),IF($J62=20%,$F62*(1+$J62)-$F62,\"\"))","v":""},3760219062301,100,60]
["23B","Madeleines à la crème de pruneau (env. 8 unités)","150g","Sachet",10,{"$f":"IF(J63=\"Multiple\",VLOOKUP(A63,Produits_composes!$A$1:$AA$30,24,FALSE),ROUNDDOWN(G63*100/(100+J63*100),5))","v":3.6966800000000002},3.9,0.2,2.96,5.5E-2,0.20331999999999972,{"$f":"IF($J63=\"Multiple\",VLOOKUP($A63,Produits_composes!$A$1:$AA$30,25,FALSE),IF($J63=5.5%,$F63*(1+$J63)-$F63,\"\"))","v":0.20331739999999998},{"$f":"IF($J63=\"Multiple\",VLOOKUP(A63,Produits_composes!$A$1:$AA$30,26,FALSE),IF($J63=20%,$F63*(1+$J63)-$F63,\"\"))","v":""},3760219062295,150,61]
["24A","Pruneaux fourrés - Boîte Or des 100 ans","350g","Boite métal",6,{"$f":"IF(J64=\"Multiple\",VLOOKUP(A64,Produits_composes!$A$1:$AA$30,24,FALSE),ROUNDDOWN(G64*100/(100+J64*100),5))","v":12.41666},14.9,{"$f":"IF($Q$2>=25%,25%,$Q$2)","v":0.2},9.94,0.2,2.4833400000000001,{"$f":"IF($J64=\"Multiple\",VLOOKUP($A64,Produits_composes!$A$1:$AA$30,25,FALSE),IF($J64=5.5%,$F64*(1+$J64)-$F64,\"\"))","v":""},{"$f":"IF($J64=\"Multiple\",VLOOKUP(A64,Produits_composes!$A$1:$AA$30,26,FALSE),IF($J64=20%,$F64*(1+$J64)-$F64,\"\"))","v":2.483331999999999},3760219062288,560,62]
["24B","Pruneaux fourrés Armagnac - Boîte Or des 100 ans","350g","Boite métal",6,{"$f":"IF(J65=\"Multiple\",VLOOKUP(A65,Produits_composes!$A$1:$AA$30,24,FALSE),ROUNDDOWN(G65*100/(100+J65*100),5))","v":12.91666},15.5,0.2,10.34,0.2,2.5833399999999997,{"$f":"IF($J65=\"Multiple\",VLOOKUP($A65,Produits_composes!$A$1:$AA$30,25,FALSE),IF($J65=5.5%,$F65*(1+$J65)-$F65,\"\"))","v":""},{"$f":"IF($J65=\"Multiple\",VLOOKUP(A65,Produits_composes!$A$1:$AA$30,26,FALSE),IF($J65=20%,$F65*(1+$J65)-$F65,\"\"))","v":2.5833319999999986},3760219062271,560,63]
["24C","Pruneaux fourrés - Boîte Or des 100 ans","600g","Boite métal",6,{"$f":"IF(J66=\"Multiple\",VLOOKUP(A66,Produits_composes!$A$1:$AA$30,24,FALSE),ROUNDDOWN(G66*100/(100+J66*100),5))","v":17.83333},21.4,0.2,14.27,0.2,3.5666699999999985,{"$f":"IF($J66=\"Multiple\",VLOOKUP($A66,Produits_composes!$A$1:$AA$30,25,FALSE),IF($J66=5.5%,$F66*(1+$J66)-$F66,\"\"))","v":""},{"$f":"IF($J66=\"Multiple\",VLOOKUP(A66,Produits_composes!$A$1:$AA$30,26,FALSE),IF($J66=20%,$F66*(1+$J66)-$F66,\"\"))","v":3.5666659999999979},3760219062264,915,64]
["24D","Pruneaux fourrés Armagnac - Boîte Or des 100 ans","600g","Boite métal",6,{"$f":"IF(J67=\"Multiple\",VLOOKUP(A67,Produits_composes!$A$1:$AA$30,24,FALSE),ROUNDDOWN(G67*100/(100+J67*100),5))","v":18.33333},22,0.2,14.67,0.2,3.6666699999999999,{"$f":"IF($J67=\"Multiple\",VLOOKUP($A67,Produits_composes!$A$1:$AA$30,25,FALSE),IF($J67=5.5%,$F67*(1+$J67)-$F67,\"\"))","v":""},{"$f":"IF($J67=\"Multiple\",VLOOKUP(A67,Produits_composes!$A$1:$AA$30,26,FALSE),IF($J67=20%,$F67*(1+$J67)-$F67,\"\"))","v":3.6666659999999993},3760219062257,915,65]
["24E","Pruneaux fourrés - Boîte Or des 100 ans","850g","Boite métal",6,{"$f":"IF(J68=\"Multiple\",VLOOKUP(A68,Produits_composes!$A$1:$AA$30,24,FALSE),ROUNDDOWN(G68*100/(100+J68*100),5))","v":23.66666},28.4,0.2,{"$f":"IF(H68=0,F68,ROUNDUP($F68-$F68*$H68,2))","v":18.940000000000001},0.2,{"$f":"G68-F68","v":4.7333399999999983},{"$f":"IF($J68=\"Multiple\",VLOOKUP($A68,Produits_composes!$A$1:$AA$30,25,FALSE),IF($J68=5.5%,$F68*(1+$J68)-$F68,\"\"))","v":""},{"$f":"IF($J68=\"Multiple\",VLOOKUP(A68,Produits_composes!$A$1:$AA$30,26,FALSE),IF($J68=20%,$F68*(1+$J68)-$F68,\"\"))","v":4.7333320000000008},3760219062240,1040,66]
["24F","Pruneaux fourrés + Prunchoco® - Boîte Or des 100 ans","290g","Boite métal",6,{"$f":"IF(J69=\"Multiple\",VLOOKUP(A69,Produits_composes!$A$1:$AA$30,24,FALSE),ROUNDDOWN(G69*100/(100+J69*100),5))","v":12.25},14.7,0.2,9.8000000000000007,0.2,2.4499999999999993,{"$f":"IF($J69=\"Multiple\",VLOOKUP($A69,Produits_composes!$A$1:$AA$30,25,FALSE),IF($J69=5.5%,$F69*(1+$J69)-$F69,\"\"))","v":""},{"$f":"IF($J69=\"Multiple\",VLOOKUP(A69,Produits_composes!$A$1:$AA$30,26,FALSE),IF($J69=20%,$F69*(1+$J69)-$F69,\"\"))","v":2.4499999999999993},3760219062233,450,67]
["24G","Pruneaux fourrés + Prunchoco® - Boîte Or des 100 ans","500g","Boite métal",6,{"$f":"IF(J70=\"Multiple\",VLOOKUP(A70,Produits_composes!$A$1:$AA$30,24,FALSE),ROUNDDOWN(G70*100/(100+J70*100),5))","v":17.75},21.3,0.2,14.2,0.2,3.5500000000000007,{"$f":"IF($J70=\"Multiple\",VLOOKUP($A70,Produits_composes!$A$1:$AA$30,25,FALSE),IF($J70=5.5%,$F70*(1+$J70)-$F70,\"\"))","v":""},{"$f":"IF($J70=\"Multiple\",VLOOKUP(A70,Produits_composes!$A$1:$AA$30,26,FALSE),IF($J70=20%,$F70*(1+$J70)-$F70,\"\"))","v":3.5500000000000007},3760219062226,735,68]
["25A","Claie Agenaise (Pruneaux fourrés)","350g","Claie Agen.",1,{"$f":"IF(J71=\"Multiple\",VLOOKUP(A71,Produits_composes!$A$1:$AA$30,24,FALSE),ROUNDDOWN(G71*100/(100+J71*100),5))","v":12.83333},15.4,0.2,10.27,0.2,2.5666700000000002,{"$f":"IF($J71=\"Multiple\",VLOOKUP($A71,Produits_composes!$A$1:$AA$30,25,FALSE),IF($J71=5.5%,$F71*(1+$J71)-$F71,\"\"))","v":""},{"$f":"IF($J71=\"Multiple\",VLOOKUP(A71,Produits_composes!$A$1:$AA$30,26,FALSE),IF($J71=20%,$F71*(1+$J71)-$F71,\"\"))","v":2.5666659999999997},3760219062219,410,69]
["25B","Claie Agenaise (Pruneaux fourrés)","600g","Claie Agen.",1,{"$f":"IF(J72=\"Multiple\",VLOOKUP(A72,Produits_composes!$A$1:$AA$30,24,FALSE),ROUNDDOWN(G72*100/(100+J72*100),5))","v":19.58333},23.5,0.2,15.67,0.2,3.9166699999999999,{"$f":"IF($J72=\"Multiple\",VLOOKUP($A72,Produits_composes!$A$1:$AA$30,25,FALSE),IF($J72=5.5%,$F72*(1+$J72)-$F72,\"\"))","v":""},{"$f":"IF($J72=\"Multiple\",VLOOKUP(A72,Produits_composes!$A$1:$AA$30,26,FALSE),IF($J72=20%,$F72*(1+$J72)-$F72,\"\"))","v":3.9166659999999993},3760219062202,725,70]
["25C","Claie Agenaise (Pruneaux fourrés)","850g","Claie Agen.",1,{"$f":"IF(J73=\"Multiple\",VLOOKUP(A73,Produits_composes!$A$1:$AA$30,24,FALSE),ROUNDDOWN(G73*100/(100+J73*100),5))","v":26.16666},31.4,0.2,20.94,0.2,5.2333399999999983,{"$f":"IF($J73=\"Multiple\",VLOOKUP($A73,Produits_composes!$A$1:$AA$30,25,FALSE),IF($J73=5.5%,$F73*(1+$J73)-$F73,\"\"))","v":""},{"$f":"IF($J73=\"Multiple\",VLOOKUP(A73,Produits_composes!$A$1:$AA$30,26,FALSE),IF($J73=20%,$F73*(1+$J73)-$F73,\"\"))","v":5.2333319999999972},3760219062196,1010,71]
["25D","Claie Agenaise (Pruneaux fourrés)","1,1kg","Claie Agen.",1,{"$f":"IF(J74=\"Multiple\",VLOOKUP(A74,Produits_composes!$A$1:$AA$30,24,FALSE),ROUNDDOWN(G74*100/(100+J74*100),5))","v":32.083329999999997},38.5,0.2,25.67,0.2,6.4166700000000034,{"$f":"IF($J74=\"Multiple\",VLOOKUP($A74,Produits_composes!$A$1:$AA$30,25,FALSE),IF($J74=5.5%,$F74*(1+$J74)-$F74,\"\"))","v":""},{"$f":"IF($J74=\"Multiple\",VLOOKUP(A74,Produits_composes!$A$1:$AA$30,26,FALSE),IF($J74=20%,$F74*(1+$J74)-$F74,\"\"))","v":6.4166659999999993},3760219062189,1425,72]
["25E","Petit panier (Pruneaux fourrés)","220g","Panier bois",1,{"$f":"IF(J75=\"Multiple\",VLOOKUP(A75,Produits_composes!$A$1:$AA$30,24,FALSE),ROUNDDOWN(G75*100/(100+J75*100),5))","v":7.9166600000000003},9.5,0.2,6.34,0.2,1.5833399999999997,{"$f":"IF($J75=\"Multiple\",VLOOKUP($A75,Produits_composes!$A$1:$AA$30,25,FALSE),IF($J75=5.5%,$F75*(1+$J75)-$F75,\"\"))","v":""},{"$f":"IF($J75=\"Multiple\",VLOOKUP(A75,Produits_composes!$A$1:$AA$30,26,FALSE),IF($J75=20%,$F75*(1+$J75)-$F75,\"\"))","v":1.5833320000000004},3760219062172,340,73]
["25F","Petit panier (Pruneaux fourrés)","320g","Panier bois",1,{"$f":"IF(J76=\"Multiple\",VLOOKUP(A76,Produits_composes!$A$1:$AA$30,24,FALSE),ROUNDDOWN(G76*100/(100+J76*100),5))","v":10.83333},13,0.2,8.67,0.2,2.1666699999999999,{"$f":"IF($J76=\"Multiple\",VLOOKUP($A76,Produits_composes!$A$1:$AA$30,25,FALSE),IF($J76=5.5%,$F76*(1+$J76)-$F76,\"\"))","v":""},{"$f":"IF($J76=\"Multiple\",VLOOKUP(A76,Produits_composes!$A$1:$AA$30,26,FALSE),IF($J76=20%,$F76*(1+$J76)-$F76,\"\"))","v":2.1666659999999993},3760219062165,435,74]
["25G","Panier moyen (Pruneaux fourrés + Prun'Choco® noir)","470g","Panier bois",1,{"$f":"IF(J77=\"Multiple\",VLOOKUP(A77,Produits_composes!$A$1:$AA$30,24,FALSE),ROUNDDOWN(G77*100/(100+J77*100),5))","v":16.08333},19.3,0.2,12.87,0.2,3.2166700000000006,{"$f":"IF($J77=\"Multiple\",VLOOKUP($A77,Produits_composes!$A$1:$AA$30,25,FALSE),IF($J77=5.5%,$F77*(1+$J77)-$F77,\"\"))","v":""},{"$f":"IF($J77=\"Multiple\",VLOOKUP(A77,Produits_composes!$A$1:$AA$30,26,FALSE),IF($J77=20%,$F77*(1+$J77)-$F77,\"\"))","v":3.216666},3760219062158,760,75]
["25H","Plateau moyen (pruneaux fourrés + Prun’Choco® noir)","590g","Plateau bois",1,{"$f":"IF(J78=\"Multiple\",VLOOKUP(A78,Produits_composes!$A$1:$AA$30,24,FALSE),ROUNDDOWN(G78*100/(100+J78*100),5))","v":19.16666},23,0.2,15.34,0.2,3.8333399999999997,{"$f":"IF($J78=\"Multiple\",VLOOKUP($A78,Produits_composes!$A$1:$AA$30,25,FALSE),IF($J78=5.5%,$F78*(1+$J78)-$F78,\"\"))","v":""},{"$f":"IF($J78=\"Multiple\",VLOOKUP(A78,Produits_composes!$A$1:$AA$30,26,FALSE),IF($J78=20%,$F78*(1+$J78)-$F78,\"\"))","v":3.8333319999999986},3760219062141,900,76]
["25I","Grand plateau (pruneaux fourrés + Prun’Choco® noir)","800g","Plateau bois",1,{"$f":"IF(J79=\"Multiple\",VLOOKUP(A79,Produits_composes!$A$1:$AA$30,24,FALSE),ROUNDDOWN(G79*100/(100+J79*100),5))","v":26.66666},32,0.2,21.34,0.2,5.3333399999999997,{"$f":"IF($J79=\"Multiple\",VLOOKUP($A79,Produits_composes!$A$1:$AA$30,25,FALSE),IF($J79=5.5%,$F79*(1+$J79)-$F79,\"\"))","v":""},{"$f":"IF($J79=\"Multiple\",VLOOKUP(A79,Produits_composes!$A$1:$AA$30,26,FALSE),IF($J79=20%,$F79*(1+$J79)-$F79,\"\"))","v":5.3333319999999986},3760219062134,1165,77]
["26P","Prun’Choco® (saveur à préciser)","200g","Pochette",5,{"$f":"IF(J80=\"Multiple\",VLOOKUP(A80,Produits_composes!$A$1:$AA$30,24,FALSE),ROUNDDOWN(G80*100/(100+J80*100),5))","v":4.45},8.9,{"$f":"$Q$2","v":0.2},3.56,true,4.45,{"$f":"IF($J80=\"Multiple\",VLOOKUP($A80,Produits_composes!$A$1:$AA$30,25,FALSE),IF($J80=5.5%,$F80*(1+$J80)-$F80,\"\"))","v":""},{"$f":"IF($J80=\"Multiple\",VLOOKUP(A80,Produits_composes!$A$1:$AA$30,26,FALSE),IF($J80=20%,$F80*(1+$J80)-$F80,\"\"))","v":""},3760219062127,225,78]
["26B1","Prun’Choco® (saveur à préciser)","95g","Ballotin",5,{"$f":"IF(J81=\"Multiple\",VLOOKUP(A81,Produits_composes!$A$1:$AA$30,24,FALSE),ROUNDDOWN(G81*100/(100+J81*100),5))","v":4.6445400000000001},4.9000000000000004,0.2,3.7199999999999998,5.5E-2,0.25546000000000024,{"$f":"IF($J81=\"Multiple\",VLOOKUP($A81,Produits_composes!$A$1:$AA$30,25,FALSE),IF($J81=5.5%,$F81*(1+$J81)-$F81,\"\"))","v":0.25544969999999978},{"$f":"IF($J81=\"Multiple\",VLOOKUP(A81,Produits_composes!$A$1:$AA$30,26,FALSE),IF($J81=20%,$F81*(1+$J81)-$F81,\"\"))","v":""},3760219062110,115,79]
["26B2","Prun’Choco® (saveur à préciser)","200g","Ballotin",5,{"$f":"IF(J82=\"Multiple\",VLOOKUP(A82,Produits_composes!$A$1:$AA$30,24,FALSE),ROUNDDOWN(G82*100/(100+J82*100),5))","v":9.3838799999999996},9.9,0.2,7.51,5.5E-2,0.5161200000000008,{"$f":"IF($J82=\"Multiple\",VLOOKUP($A82,Produits_composes!$A$1:$AA$30,25,FALSE),IF($J82=5.5%,$F82*(1+$J82)-$F82,\"\"))","v":0.51611340000000006},{"$f":"IF($J82=\"Multiple\",VLOOKUP(A82,Produits_composes!$A$1:$AA$30,26,FALSE),IF($J82=20%,$F82*(1+$J82)-$F82,\"\"))","v":""},3760219062103,225,80]
["26B3","Prun’Choco® (saveur à préciser) ","300g","Ballotin",5,{"$f":"IF(J83=\"Multiple\",VLOOKUP(A83,Produits_composes!$A$1:$AA$30,24,FALSE),ROUNDDOWN(G83*100/(100+J83*100),5))","v":7.1},14.2,0.2,5.68,true,7.1,{"$f":"IF($J83=\"Multiple\",VLOOKUP($A83,Produits_composes!$A$1:$AA$30,25,FALSE),IF($J83=5.5%,$F83*(1+$J83)-$F83,\"\"))","v":""},{"$f":"IF($J83=\"Multiple\",VLOOKUP(A83,Produits_composes!$A$1:$AA$30,26,FALSE),IF($J83=20%,$F83*(1+$J83)-$F83,\"\"))","v":""},3760219062097,330,81]
["26E1","Prun’Choco® (saveur à préciser)","200g","Écrin élég.",5,{"$f":"IF(J84=\"Multiple\",VLOOKUP(A84,Produits_composes!$A$1:$AA$30,24,FALSE),ROUNDDOWN(G84*100/(100+J84*100),5))","v":12.796200000000001},13.5,0.2,10.24,5.5E-2,0.70379999999999932,{"$f":"IF($J84=\"Multiple\",VLOOKUP($A84,Produits_composes!$A$1:$AA$30,25,FALSE),IF($J84=5.5%,$F84*(1+$J84)-$F84,\"\"))","v":0.70379099999999895},{"$f":"IF($J84=\"Multiple\",VLOOKUP(A84,Produits_composes!$A$1:$AA$30,26,FALSE),IF($J84=20%,$F84*(1+$J84)-$F84,\"\"))","v":""},3760219062080,295,82]
["26E2","Prun’Choco® (saveur à préciser)","300g","Écrin élég.",5,{"$f":"IF(J85=\"Multiple\",VLOOKUP(A85,Produits_composes!$A$1:$AA$30,24,FALSE),ROUNDDOWN(G85*100/(100+J85*100),5))","v":19.810420000000001},20.9,0.2,15.85,5.5E-2,1.089579999999998,{"$f":"IF($J85=\"Multiple\",VLOOKUP($A85,Produits_composes!$A$1:$AA$30,25,FALSE),IF($J85=5.5%,$F85*(1+$J85)-$F85,\"\"))","v":1.0895730999999991},{"$f":"IF($J85=\"Multiple\",VLOOKUP(A85,Produits_composes!$A$1:$AA$30,26,FALSE),IF($J85=20%,$F85*(1+$J85)-$F85,\"\"))","v":""},3760219062073,430,83]
["26V","Prun’Choco® (saveur à préciser)","1kg","VRAC",1,{"$f":"IF(J86=\"Multiple\",VLOOKUP(A86,Produits_composes!$A$1:$AA$30,24,FALSE),ROUNDDOWN(G86*100/(100+J86*100),5))","v":37.819899999999997},39.9,0.2,30.26,5.5E-2,2.0801000000000016,{"$f":"IF($J86=\"Multiple\",VLOOKUP($A86,Produits_composes!$A$1:$AA$30,25,FALSE),IF($J86=5.5%,$F86*(1+$J86)-$F86,\"\"))","v":2.0800944999999942},{"$f":"IF($J86=\"Multiple\",VLOOKUP(A86,Produits_composes!$A$1:$AA$30,26,FALSE),IF($J86=20%,$F86*(1+$J86)-$F86,\"\"))","v":""},3760219062066,1000,84]
["27P","Pruneaux fourrés","250g","Pochette",5,{"$f":"IF(J87=\"Multiple\",VLOOKUP(A87,Produits_composes!$A$1:$AA$30,24,FALSE),ROUNDDOWN(G87*100/(100+J87*100),5))","v":4.45},8.9,0.2,3.56,true,4.45,{"$f":"IF($J87=\"Multiple\",VLOOKUP($A87,Produits_composes!$A$1:$AA$30,25,FALSE),IF($J87=5.5%,$F87*(1+$J87)-$F87,\"\"))","v":""},{"$f":"IF($J87=\"Multiple\",VLOOKUP(A87,Produits_composes!$A$1:$AA$30,26,FALSE),IF($J87=20%,$F87*(1+$J87)-$F87,\"\"))","v":""},3760219062059,275,85]
["27B1","Pruneaux fourrés","100g","Ballotin",5,{"$f":"IF(J88=\"Multiple\",VLOOKUP(A88,Produits_composes!$A$1:$AA$30,24,FALSE),ROUNDDOWN(G88*100/(100+J88*100),5))","v":4.0833300000000001},4.9000000000000004,0.2,3.2699999999999996,0.2,0.81667000000000023,{"$f":"IF($J88=\"Multiple\",VLOOKUP($A88,Produits_composes!$A$1:$AA$30,25,FALSE),IF($J88=5.5%,$F88*(1+$J88)-$F88,\"\"))","v":""},{"$f":"IF($J88=\"Multiple\",VLOOKUP(A88,Produits_composes!$A$1:$AA$30,26,FALSE),IF($J88=20%,$F88*(1+$J88)-$F88,\"\"))","v":0.81666599999999967},3760219062042,115,86]
["27E1","Pruneaux fourrés","400g","Écrin élég.",5,{"$f":"IF(J89=\"Multiple\",VLOOKUP(A89,Produits_composes!$A$1:$AA$30,24,FALSE),ROUNDDOWN(G89*100/(100+J89*100),5))","v":14.08333},16.899999999999999,0.2,11.27,0.2,2.8166699999999985,{"$f":"IF($J89=\"Multiple\",VLOOKUP($A89,Produits_composes!$A$1:$AA$30,25,FALSE),IF($J89=5.5%,$F89*(1+$J89)-$F89,\"\"))","v":""},{"$f":"IF($J89=\"Multiple\",VLOOKUP(A89,Produits_composes!$A$1:$AA$30,26,FALSE),IF($J89=20%,$F89*(1+$J89)-$F89,\"\"))","v":2.8166659999999979},3760219062035,495,87]
["27E2","Pruneaux fourrés","550g","Écrin élég.",5,{"$f":"IF(J90=\"Multiple\",VLOOKUP(A90,Produits_composes!$A$1:$AA$30,24,FALSE),ROUNDDOWN(G90*100/(100+J90*100),5))","v":17.5},21,0.2,14,0.2,3.5,{"$f":"IF($J90=\"Multiple\",VLOOKUP($A90,Produits_composes!$A$1:$AA$30,25,FALSE),IF($J90=5.5%,$F90*(1+$J90)-$F90,\"\"))","v":""},{"$f":"IF($J90=\"Multiple\",VLOOKUP(A90,Produits_composes!$A$1:$AA$30,26,FALSE),IF($J90=20%,$F90*(1+$J90)-$F90,\"\"))","v":3.5},3760219062028,680,88]
["28P","Pruneaux fourrés orangette","250g","Pochette",5,{"$f":"IF(J91=\"Multiple\",VLOOKUP(A91,Produits_composes!$A$1:$AA$30,24,FALSE),ROUNDDOWN(G91*100/(100+J91*100),5))","v":7.6666600000000003},9.1999999999999993,0.2,6.14,0.2,1.533339999999999,{"$f":"IF($J91=\"Multiple\",VLOOKUP($A91,Produits_composes!$A$1:$AA$30,25,FALSE),IF($J91=5.5%,$F91*(1+$J91)-$F91,\"\"))","v":""},{"$f":"IF($J91=\"Multiple\",VLOOKUP(A91,Produits_composes!$A$1:$AA$30,26,FALSE),IF($J91=20%,$F91*(1+$J91)-$F91,\"\"))","v":1.5333319999999997},3760219062011,275,89]
["28B1","Pruneaux fourrés orangette","100g","Ballotin",5,{"$f":"IF(J92=\"Multiple\",VLOOKUP(A92,Produits_composes!$A$1:$AA$30,24,FALSE),ROUNDDOWN(G92*100/(100+J92*100),5))","v":4.1666600000000003},5,0.2,3.34,0.2,0.83333999999999975,{"$f":"IF($J92=\"Multiple\",VLOOKUP($A92,Produits_composes!$A$1:$AA$30,25,FALSE),IF($J92=5.5%,$F92*(1+$J92)-$F92,\"\"))","v":""},{"$f":"IF($J92=\"Multiple\",VLOOKUP(A92,Produits_composes!$A$1:$AA$30,26,FALSE),IF($J92=20%,$F92*(1+$J92)-$F92,\"\"))","v":0.83333199999999952},3760219062004,115,90]
["28E1","Pruneaux fourrés orangette","400g","Écrin élég.",5,{"$f":"IF(J93=\"Multiple\",VLOOKUP(A93,Produits_composes!$A$1:$AA$30,24,FALSE),ROUNDDOWN(G93*100/(100+J93*100),5))","v":14.58333},17.5,0.2,11.67,0.2,2.9166699999999999,{"$f":"IF($J93=\"Multiple\",VLOOKUP($A93,Produits_composes!$A$1:$AA$30,25,FALSE),IF($J93=5.5%,$F93*(1+$J93)-$F93,\"\"))","v":""},{"$f":"IF($J93=\"Multiple\",VLOOKUP(A93,Produits_composes!$A$1:$AA$30,26,FALSE),IF($J93=20%,$F93*(1+$J93)-$F93,\"\"))","v":2.9166659999999993},3760219061991,495,91]
["28E2","Pruneaux fourrés orangette","550g","Écrin élég.",5,{"$f":"IF(J94=\"Multiple\",VLOOKUP(A94,Produits_composes!$A$1:$AA$30,24,FALSE),ROUNDDOWN(G94*100/(100+J94*100),5))","v":18.25},21.9,0.2,14.6,0.2,3.6499999999999986,{"$f":"IF($J94=\"Multiple\",VLOOKUP($A94,Produits_composes!$A$1:$AA$30,25,FALSE),IF($J94=5.5%,$F94*(1+$J94)-$F94,\"\"))","v":""},{"$f":"IF($J94=\"Multiple\",VLOOKUP(A94,Produits_composes!$A$1:$AA$30,26,FALSE),IF($J94=20%,$F94*(1+$J94)-$F94,\"\"))","v":3.6499999999999986},3760219061984,680,92]
["29E1","Pruneaux d’Agen truffés","270g","Écrin élég.",5,{"$f":"IF(J95=\"Multiple\",VLOOKUP(A95,Produits_composes!$A$1:$AA$30,24,FALSE),ROUNDDOWN(G95*100/(100+J95*100),5))","v":14.12322},14.9,0.2,11.299999999999999,5.5E-2,0.77678000000000047,{"$f":"IF($J95=\"Multiple\",VLOOKUP($A95,Produits_composes!$A$1:$AA$30,25,FALSE),IF($J95=5.5%,$F95*(1+$J95)-$F95,\"\"))","v":0.77677709999999855},{"$f":"IF($J95=\"Multiple\",VLOOKUP(A95,Produits_composes!$A$1:$AA$30,26,FALSE),IF($J95=20%,$F95*(1+$J95)-$F95,\"\"))","v":""},3760219061977,365,93]
["29E2","Pruneaux d’Agen truffés","400g","Écrin élég.",5,{"$f":"IF(J96=\"Multiple\",VLOOKUP(A96,Produits_composes!$A$1:$AA$30,24,FALSE),ROUNDDOWN(G96*100/(100+J96*100),5))","v":20.853079999999999},22,0.2,16.690000000000001,5.5E-2,1.1469200000000015,{"$f":"IF($J96=\"Multiple\",VLOOKUP($A96,Produits_composes!$A$1:$AA$30,25,FALSE),IF($J96=5.5%,$F96*(1+$J96)-$F96,\"\"))","v":1.146919399999998},{"$f":"IF($J96=\"Multiple\",VLOOKUP(A96,Produits_composes!$A$1:$AA$30,26,FALSE),IF($J96=20%,$F96*(1+$J96)-$F96,\"\"))","v":""},3760219061960,530,94]
["30A","Pruneaux aromatisés au vin blanc MonBazillac","320g","Bocal",14,{"$f":"IF(J97=\"Multiple\",VLOOKUP(A97,Produits_composes!$A$1:$AA$30,24,FALSE),ROUNDDOWN(G97*100/(100+J97*100),5))","v":6.6350699999999998},7,{"$f":"$Q$2+5%","v":0.25},4.9799999999999995,5.5E-2,0.3649300000000002,{"$f":"IF($J97=\"Multiple\",VLOOKUP($A97,Produits_composes!$A$1:$AA$30,25,FALSE),IF($J97=5.5%,$F97*(1+$J97)-$F97,\"\"))","v":0.36492884999999919},{"$f":"IF($J97=\"Multiple\",VLOOKUP(A97,Produits_composes!$A$1:$AA$30,26,FALSE),IF($J97=20%,$F97*(1+$J97)-$F97,\"\"))","v":""},3760219061953,565,95]
["30B","Pruneaux aromatisés au vin rouge de pays vanille","320g","Bocal",14,{"$f":"IF(J98=\"Multiple\",VLOOKUP(A98,Produits_composes!$A$1:$AA$30,24,FALSE),ROUNDDOWN(G98*100/(100+J98*100),5))","v":5.7819900000000004},6.1,{"$f":"$Q$2+5%","v":0.25},4.34,5.5E-2,0.31800999999999924,{"$f":"IF($J98=\"Multiple\",VLOOKUP($A98,Produits_composes!$A$1:$AA$30,25,FALSE),IF($J98=5.5%,$F98*(1+$J98)-$F98,\"\"))","v":0.31800944999999992},{"$f":"IF($J98=\"Multiple\",VLOOKUP(A98,Produits_composes!$A$1:$AA$30,26,FALSE),IF($J98=20%,$F98*(1+$J98)-$F98,\"\"))","v":""},3760219061946,565,96]
["30C","Pruneaux aromatisés au vin rouge de pays canelle","320g","Bocal",14,{"$f":"IF(J99=\"Multiple\",VLOOKUP(A99,Produits_composes!$A$1:$AA$30,24,FALSE),ROUNDDOWN(G99*100/(100+J99*100),5))","v":5.7819900000000004},6.1,{"$f":"$Q$2+5%","v":0.25},4.34,5.5E-2,0.31800999999999924,{"$f":"IF($J99=\"Multiple\",VLOOKUP($A99,Produits_composes!$A$1:$AA$30,25,FALSE),IF($J99=5.5%,$F99*(1+$J99)-$F99,\"\"))","v":0.31800944999999992},{"$f":"IF($J99=\"Multiple\",VLOOKUP(A99,Produits_composes!$A$1:$AA$30,26,FALSE),IF($J99=20%,$F99*(1+$J99)-$F99,\"\"))","v":""},3760219061939,565,97]
["31A","Pruneaux à l’Armagnac - 20°","0,5L","Bocal",6,{"$f":"IF(J100=\"Multiple\",VLOOKUP(A100,Produits_composes!$A$1:$AA$30,24,FALSE),ROUNDDOWN(G100*100/(100+J100*100),5))","v":16.08333},19.3,{"$f":"IF($Q$2>=20%,20%,$Q$2)","v":0.2},12.87,0.2,3.2166700000000006,{"$f":"IF($J100=\"Multiple\",VLOOKUP($A100,Produits_composes!$A$1:$AA$30,25,FALSE),IF($J100=5.5%,$F100*(1+$J100)-$F100,\"\"))","v":""},{"$f":"IF($J100=\"Multiple\",VLOOKUP(A100,Produits_composes!$A$1:$AA$30,26,FALSE),IF($J100=20%,$F100*(1+$J100)-$F100,\"\"))","v":3.216666},3760219061922,1155,98]
["31B","Pruneaux à l’Armagnac - 20°","0,7L","Bocal",6,{"$f":"IF(J101=\"Multiple\",VLOOKUP(A101,Produits_composes!$A$1:$AA$30,24,FALSE),ROUNDDOWN(G101*100/(100+J101*100),5))","v":20.41666},24.5,0.2,16.34,0.2,4.0833399999999997,{"$f":"IF($J101=\"Multiple\",VLOOKUP($A101,Produits_composes!$A$1:$AA$30,25,FALSE),IF($J101=5.5%,$F101*(1+$J101)-$F101,\"\"))","v":""},{"$f":"IF($J101=\"Multiple\",VLOOKUP(A101,Produits_composes!$A$1:$AA$30,26,FALSE),IF($J101=20%,$F101*(1+$J101)-$F101,\"\"))","v":4.0833319999999986},3760219061915,1295,99]
["31C","Pruneaux à l’Armagnac - 20° ","1L","Bocal",6,{"$f":"IF(J102=\"Multiple\",VLOOKUP(A102,Produits_composes!$A$1:$AA$30,24,FALSE),ROUNDDOWN(G102*100/(100+J102*100),5))","v":24.91666},29.9,0.2,19.940000000000001,0.2,4.9833399999999983,{"$f":"IF($J102=\"Multiple\",VLOOKUP($A102,Produits_composes!$A$1:$AA$30,25,FALSE),IF($J102=5.5%,$F102*(1+$J102)-$F102,\"\"))","v":""},{"$f":"IF($J102=\"Multiple\",VLOOKUP(A102,Produits_composes!$A$1:$AA$30,26,FALSE),IF($J102=20%,$F102*(1+$J102)-$F102,\"\"))","v":4.9833319999999972},3760219061908,1715,100]
["32A","Pruneaux à l’eau de vie - 20° ","0,5L","Bocal",6,{"$f":"IF(J103=\"Multiple\",VLOOKUP(A103,Produits_composes!$A$1:$AA$30,24,FALSE),ROUNDDOWN(G103*100/(100+J103*100),5))","v":16.08333},19.3,0.2,12.87,0.2,3.2166700000000006,{"$f":"IF($J103=\"Multiple\",VLOOKUP($A103,Produits_composes!$A$1:$AA$30,25,FALSE),IF($J103=5.5%,$F103*(1+$J103)-$F103,\"\"))","v":""},{"$f":"IF($J103=\"Multiple\",VLOOKUP(A103,Produits_composes!$A$1:$AA$30,26,FALSE),IF($J103=20%,$F103*(1+$J103)-$F103,\"\"))","v":3.216666},3760219061892,1155,101]
["32B","Pruneaux à l’eau de vie - 20°","0,7L","Bocal",6,{"$f":"IF(J104=\"Multiple\",VLOOKUP(A104,Produits_composes!$A$1:$AA$30,24,FALSE),ROUNDDOWN(G104*100/(100+J104*100),5))","v":20.41666},24.5,0.2,16.34,0.2,4.0833399999999997,{"$f":"IF($J104=\"Multiple\",VLOOKUP($A104,Produits_composes!$A$1:$AA$30,25,FALSE),IF($J104=5.5%,$F104*(1+$J104)-$F104,\"\"))","v":""},{"$f":"IF($J104=\"Multiple\",VLOOKUP(A104,Produits_composes!$A$1:$AA$30,26,FALSE),IF($J104=20%,$F104*(1+$J104)-$F104,\"\"))","v":4.0833319999999986},3760219061885,1295,102]
["32C","Pruneaux à l’eau de vie - 20°","1L","Bocal",6,{"$f":"IF(J105=\"Multiple\",VLOOKUP(A105,Produits_composes!$A$1:$AA$30,24,FALSE),ROUNDDOWN(G105*100/(100+J105*100),5))","v":24.91666},29.9,0.2,19.940000000000001,0.2,4.9833399999999983,{"$f":"IF($J105=\"Multiple\",VLOOKUP($A105,Produits_composes!$A$1:$AA$30,25,FALSE),IF($J105=5.5%,$F105*(1+$J105)-$F105,\"\"))","v":""},{"$f":"IF($J105=\"Multiple\",VLOOKUP(A105,Produits_composes!$A$1:$AA$30,26,FALSE),IF($J105=20%,$F105*(1+$J105)-$F105,\"\"))","v":4.9833319999999972},3760219061878,1715,103]
["33A-EDV","Pruneaux d'Agen Eau de vie - 20°","200ml","Bocal",6,{"$f":"IF(J106=\"Multiple\",VLOOKUP(A106,Produits_composes!$A$1:$AA$30,24,FALSE),ROUNDDOWN(G106*100/(100+J106*100),5))","v":7.0833300000000001},8.5,0.2,5.67,0.2,1.4166699999999999,{"$f":"IF($J106=\"Multiple\",VLOOKUP($A106,Produits_composes!$A$1:$AA$30,25,FALSE),IF($J106=5.5%,$F106*(1+$J106)-$F106,\"\"))","v":""},{"$f":"IF($J106=\"Multiple\",VLOOKUP(A106,Produits_composes!$A$1:$AA$30,26,FALSE),IF($J106=20%,$F106*(1+$J106)-$F106,\"\"))","v":1.4166659999999993},3760219062950,430,104]
["33A-ARM","Pruneaux d'Agen Armagnac - 20°","200ml","Bocal",6,{"$f":"IF(J107=\"Multiple\",VLOOKUP(A107,Produits_composes!$A$1:$AA$30,24,FALSE),ROUNDDOWN(G107*100/(100+J107*100),5))","v":7.0833300000000001},8.5,0.2,5.67,0.2,1.4166699999999999,{"$f":"IF($J107=\"Multiple\",VLOOKUP($A107,Produits_composes!$A$1:$AA$30,25,FALSE),IF($J107=5.5%,$F107*(1+$J107)-$F107,\"\"))","v":""},{"$f":"IF($J107=\"Multiple\",VLOOKUP(A107,Produits_composes!$A$1:$AA$30,26,FALSE),IF($J107=20%,$F107*(1+$J107)-$F107,\"\"))","v":1.4166659999999993},3760219062967,430,105]
["33B-RHM","Pruneaux d'Agen Rhum - 18°","200ml","Bocal",6,{"$f":"IF(J108=\"Multiple\",VLOOKUP(A108,Produits_composes!$A$1:$AA$30,24,FALSE),ROUNDDOWN(G108*100/(100+J108*100),5))","v":4.75},9.5,0.2,3.8,true,4.75,{"$f":"IF($J108=\"Multiple\",VLOOKUP($A108,Produits_composes!$A$1:$AA$30,25,FALSE),IF($J108=5.5%,$F108*(1+$J108)-$F108,\"\"))","v":""},{"$f":"IF($J108=\"Multiple\",VLOOKUP(A108,Produits_composes!$A$1:$AA$30,26,FALSE),IF($J108=20%,$F108*(1+$J108)-$F108,\"\"))","v":""},3760219062998,430,106]
["33B-WSK","Pruneaux d'Agen Whisky - 18°","200ml","Bocal",6,{"$f":"IF(J109=\"Multiple\",VLOOKUP(A109,Produits_composes!$A$1:$AA$30,24,FALSE),ROUNDDOWN(G109*100/(100+J109*100),5))","v":7.9166600000000003},9.5,0.2,6.34,0.2,1.5833399999999997,{"$f":"IF($J109=\"Multiple\",VLOOKUP($A109,Produits_composes!$A$1:$AA$30,25,FALSE),IF($J109=5.5%,$F109*(1+$J109)-$F109,\"\"))","v":""},{"$f":"IF($J109=\"Multiple\",VLOOKUP(A109,Produits_composes!$A$1:$AA$30,26,FALSE),IF($J109=20%,$F109*(1+$J109)-$F109,\"\"))","v":1.5833320000000004},3760219062981,430,107]
["33B-CTR","Pruneaux d'Agen Cointreau - 18°","200ml","Bocal",6,{"$f":"IF(J110=\"Multiple\",VLOOKUP(A110,Produits_composes!$A$1:$AA$30,24,FALSE),ROUNDDOWN(G110*100/(100+J110*100),5))","v":7.9166600000000003},9.5,0.2,6.34,0.2,1.5833399999999997,{"$f":"IF($J110=\"Multiple\",VLOOKUP($A110,Produits_composes!$A$1:$AA$30,25,FALSE),IF($J110=5.5%,$F110*(1+$J110)-$F110,\"\"))","v":""},{"$f":"IF($J110=\"Multiple\",VLOOKUP(A110,Produits_composes!$A$1:$AA$30,26,FALSE),IF($J110=20%,$F110*(1+$J110)-$F110,\"\"))","v":1.5833320000000004},3760219062974,430,108]
["33C","Coffret Pruneaux aux alcools x2 (alcools à préciser)","200ml","Bocal",6,{"$f":"IF(J111=\"Multiple\",VLOOKUP(A111,Produits_composes!$A$1:$AA$30,24,FALSE),ROUNDDOWN(G111*100/(100+J111*100),5))","v":15},18,0.2,12,0.2,3,{"$f":"IF($J111=\"Multiple\",VLOOKUP($A111,Produits_composes!$A$1:$AA$30,25,FALSE),IF($J111=5.5%,$F111*(1+$J111)-$F111,\"\"))","v":""},{"$f":"IF($J111=\"Multiple\",VLOOKUP(A111,Produits_composes!$A$1:$AA$30,26,FALSE),IF($J111=20%,$F111*(1+$J111)-$F111,\"\"))","v":3},3760219061847,430,109]
["33D","Coffret Pruneaux aux alcools x3 (alcools à préciser)","200ml","Bocal",6,{"$f":"IF(J112=\"Multiple\",VLOOKUP(A112,Produits_composes!$A$1:$AA$30,24,FALSE),ROUNDDOWN(G112*100/(100+J112*100),5))","v":22.91666},27.5,0.2,18.34,0.2,4.5833399999999997,{"$f":"IF($J112=\"Multiple\",VLOOKUP($A112,Produits_composes!$A$1:$AA$30,25,FALSE),IF($J112=5.5%,$F112*(1+$J112)-$F112,\"\"))","v":""},{"$f":"IF($J112=\"Multiple\",VLOOKUP(A112,Produits_composes!$A$1:$AA$30,26,FALSE),IF($J112=20%,$F112*(1+$J112)-$F112,\"\"))","v":4.5833319999999986},3760219061830,430,110]
["34A","Petit verre Pruneaux Eau de vie ou Armagnac (à préciser)","5cl","Petit verre",48,{"$f":"IF(J113=\"Multiple\",VLOOKUP(A113,Produits_composes!$A$1:$AA$30,24,FALSE),ROUNDDOWN(G113*100/(100+J113*100),5))","v":1.3},2.6,0.2,1.04,true,1.3,{"$f":"IF($J113=\"Multiple\",VLOOKUP($A113,Produits_composes!$A$1:$AA$30,25,FALSE),IF($J113=5.5%,$F113*(1+$J113)-$F113,\"\"))","v":""},{"$f":"IF($J113=\"Multiple\",VLOOKUP(A113,Produits_composes!$A$1:$AA$30,26,FALSE),IF($J113=20%,$F113*(1+$J113)-$F113,\"\"))","v":""},3760219061823,105,111]
["34B","Petit verre Rhum, Whisky ou Cointreau (à préciser)","5cl","Petit verre",48,{"$f":"IF(J114=\"Multiple\",VLOOKUP(A114,Produits_composes!$A$1:$AA$30,24,FALSE),ROUNDDOWN(G114*100/(100+J114*100),5))","v":2.4166599999999998},2.9,0.2,1.94,0.2,0.4833400000000001,{"$f":"IF($J114=\"Multiple\",VLOOKUP($A114,Produits_composes!$A$1:$AA$30,25,FALSE),IF($J114=5.5%,$F114*(1+$J114)-$F114,\"\"))","v":""},{"$f":"IF($J114=\"Multiple\",VLOOKUP(A114,Produits_composes!$A$1:$AA$30,26,FALSE),IF($J114=20%,$F114*(1+$J114)-$F114,\"\"))","v":0.48333199999999987},3760219061816,105,112]
["34C","Coffret petits verres x6 Eau de vie ou Armagnac (à préciser)","5cl","Petit verre",1,{"$f":"IF(J115=\"Multiple\",VLOOKUP(A115,Produits_composes!$A$1:$AA$30,24,FALSE),ROUNDDOWN(G115*100/(100+J115*100),5))","v":14.91666},17.899999999999999,0.2,11.94,0.2,2.9833399999999983,{"$f":"IF($J115=\"Multiple\",VLOOKUP($A115,Produits_composes!$A$1:$AA$30,25,FALSE),IF($J115=5.5%,$F115*(1+$J115)-$F115,\"\"))","v":""},{"$f":"IF($J115=\"Multiple\",VLOOKUP(A115,Produits_composes!$A$1:$AA$30,26,FALSE),IF($J115=20%,$F115*(1+$J115)-$F115,\"\"))","v":2.9833320000000008},3760219061809,735,113]
["34D","Coffret petits verres x6 mix (alcools à préciser)","5cl","Petit verre",1,{"$f":"IF(J116=\"Multiple\",VLOOKUP(A116,Produits_composes!$A$1:$AA$30,24,FALSE),ROUNDDOWN(G116*100/(100+J116*100),5))","v":15.91666},19.100000000000001,0.2,12.74,0.2,3.1833400000000012,{"$f":"IF($J116=\"Multiple\",VLOOKUP($A116,Produits_composes!$A$1:$AA$30,25,FALSE),IF($J116=5.5%,$F116*(1+$J116)-$F116,\"\"))","v":""},{"$f":"IF($J116=\"Multiple\",VLOOKUP(A116,Produits_composes!$A$1:$AA$30,26,FALSE),IF($J116=20%,$F116*(1+$J116)-$F116,\"\"))","v":3.1833320000000001},3760219061793,735,114]
["34E","Coffret petits verres x12 Eau de vie ou Armagnac (à préciser)","5cl","Petit verre",1,{"$f":"IF(J117=\"Multiple\",VLOOKUP(A117,Produits_composes!$A$1:$AA$30,24,FALSE),ROUNDDOWN(G117*100/(100+J117*100),5))","v":28},33.6,0.2,22.4,0.2,5.6000000000000014,{"$f":"IF($J117=\"Multiple\",VLOOKUP($A117,Produits_composes!$A$1:$AA$30,25,FALSE),IF($J117=5.5%,$F117*(1+$J117)-$F117,\"\"))","v":""},{"$f":"IF($J117=\"Multiple\",VLOOKUP(A117,Produits_composes!$A$1:$AA$30,26,FALSE),IF($J117=20%,$F117*(1+$J117)-$F117,\"\"))","v":5.6000000000000014},3760219061786,1380,115]
["34F","Coffret petits verres x12 mix (alcools à préciser)","5cl","Petit verre",1,{"$f":"IF(J118=\"Multiple\",VLOOKUP(A118,Produits_composes!$A$1:$AA$30,24,FALSE),ROUNDDOWN(G118*100/(100+J118*100),5))","v":30.08333},36.1,0.2,24.07,0.2,6.0166700000000013,{"$f":"IF($J118=\"Multiple\",VLOOKUP($A118,Produits_composes!$A$1:$AA$30,25,FALSE),IF($J118=5.5%,$F118*(1+$J118)-$F118,\"\"))","v":""},{"$f":"IF($J118=\"Multiple\",VLOOKUP(A118,Produits_composes!$A$1:$AA$30,26,FALSE),IF($J118=20%,$F118*(1+$J118)-$F118,\"\"))","v":6.0166659999999972},3760219061779,1380,116]
["35A","Apéritif de Pruneau - 16° ","0,375L","Bouteille",6,{"$f":"IF(J119=\"Multiple\",VLOOKUP(A119,Produits_composes!$A$1:$AA$30,24,FALSE),ROUNDDOWN(G119*100/(100+J119*100),5))","v":5.75},11.5,0.2,4.5999999999999996,true,5.75,{"$f":"IF($J119=\"Multiple\",VLOOKUP($A119,Produits_composes!$A$1:$AA$30,25,FALSE),IF($J119=5.5%,$F119*(1+$J119)-$F119,\"\"))","v":""},{"$f":"IF($J119=\"Multiple\",VLOOKUP(A119,Produits_composes!$A$1:$AA$30,26,FALSE),IF($J119=20%,$F119*(1+$J119)-$F119,\"\"))","v":""},3760219061762,800,117]
["35B","Apéritif de Pruneau - 16°","0,7L","Bouteille",6,{"$f":"IF(J120=\"Multiple\",VLOOKUP(A120,Produits_composes!$A$1:$AA$30,24,FALSE),ROUNDDOWN(G120*100/(100+J120*100),5))","v":15.16666},18.2,0.2,12.14,0.2,3.033339999999999,{"$f":"IF($J120=\"Multiple\",VLOOKUP($A120,Produits_composes!$A$1:$AA$30,25,FALSE),IF($J120=5.5%,$F120*(1+$J120)-$F120,\"\"))","v":""},{"$f":"IF($J120=\"Multiple\",VLOOKUP(A120,Produits_composes!$A$1:$AA$30,26,FALSE),IF($J120=20%,$F120*(1+$J120)-$F120,\"\"))","v":3.0333319999999979},3760219061755,1480,118]
["36A","Liqueur d’Eau de vie de prune d’Ente - 24°","0,375L","Bouteille",6,{"$f":"IF(J121=\"Multiple\",VLOOKUP(A121,Produits_composes!$A$1:$AA$30,24,FALSE),ROUNDDOWN(G121*100/(100+J121*100),5))","v":10.5},12.6,0.2,8.4,0.2,2.0999999999999996,{"$f":"IF($J121=\"Multiple\",VLOOKUP($A121,Produits_composes!$A$1:$AA$30,25,FALSE),IF($J121=5.5%,$F121*(1+$J121)-$F121,\"\"))","v":""},{"$f":"IF($J121=\"Multiple\",VLOOKUP(A121,Produits_composes!$A$1:$AA$30,26,FALSE),IF($J121=20%,$F121*(1+$J121)-$F121,\"\"))","v":2.0999999999999996},3760219061748,770,119]
["36B","Liqueur d’Eau de vie de prune d’Ente - 24°","0,5L","Bouteille",6,{"$f":"IF(J122=\"Multiple\",VLOOKUP(A122,Produits_composes!$A$1:$AA$30,24,FALSE),ROUNDDOWN(G122*100/(100+J122*100),5))","v":12.25},14.7,0.2,9.8000000000000007,0.2,2.4499999999999993,{"$f":"IF($J122=\"Multiple\",VLOOKUP($A122,Produits_composes!$A$1:$AA$30,25,FALSE),IF($J122=5.5%,$F122*(1+$J122)-$F122,\"\"))","v":""},{"$f":"IF($J122=\"Multiple\",VLOOKUP(A122,Produits_composes!$A$1:$AA$30,26,FALSE),IF($J122=20%,$F122*(1+$J122)-$F122,\"\"))","v":2.4499999999999993},3760219061731,1150,120]
["36C","Liqueur d’Eau de vie de prune d’Ente - 24° ","0,7L","Bouteille",6,{"$f":"IF(J123=\"Multiple\",VLOOKUP(A123,Produits_composes!$A$1:$AA$30,24,FALSE),ROUNDDOWN(G123*100/(100+J123*100),5))","v":17.33333},20.8,0.2,13.87,0.2,3.4666700000000006,{"$f":"IF($J123=\"Multiple\",VLOOKUP($A123,Produits_composes!$A$1:$AA$30,25,FALSE),IF($J123=5.5%,$F123*(1+$J123)-$F123,\"\"))","v":""},{"$f":"IF($J123=\"Multiple\",VLOOKUP(A123,Produits_composes!$A$1:$AA$30,26,FALSE),IF($J123=20%,$F123*(1+$J123)-$F123,\"\"))","v":3.466666},3760219061724,1155,121]
["36D","Liqueur d’Eau de vie de prune d’Ente - 24°","5cl","Mignonette",6,{"$f":"IF(J124=\"Multiple\",VLOOKUP(A124,Produits_composes!$A$1:$AA$30,24,FALSE),ROUNDDOWN(G124*100/(100+J124*100),5))","v":3.0833300000000001},3.7,0.2,2.4699999999999998,0.2,0.61667000000000005,{"$f":"IF($J124=\"Multiple\",VLOOKUP($A124,Produits_composes!$A$1:$AA$30,25,FALSE),IF($J124=5.5%,$F124*(1+$J124)-$F124,\"\"))","v":""},{"$f":"IF($J124=\"Multiple\",VLOOKUP(A124,Produits_composes!$A$1:$AA$30,26,FALSE),IF($J124=20%,$F124*(1+$J124)-$F124,\"\"))","v":0.61666599999999994},3760219061717,145,122]
["37A","Vieille Eau de Vie Ed. limitée des 100 ans - 44.1°","0,5L","Bouteille",6,{"$f":"IF(J125=\"Multiple\",VLOOKUP(A125,Produits_composes!$A$1:$AA$30,24,FALSE),ROUNDDOWN(G125*100/(100+J125*100),5))","v":30.83333},37,0.2,24.67,0.2,6.1666699999999999,{"$f":"IF($J125=\"Multiple\",VLOOKUP($A125,Produits_composes!$A$1:$AA$30,25,FALSE),IF($J125=5.5%,$F125*(1+$J125)-$F125,\"\"))","v":""},{"$f":"IF($J125=\"Multiple\",VLOOKUP(A125,Produits_composes!$A$1:$AA$30,26,FALSE),IF($J125=20%,$F125*(1+$J125)-$F125,\"\"))","v":6.1666659999999958},3760219061700,1090,123]
["37B","Vieille Eau de Vie Ed. limitée des 100 ans - 44.1°","5cl","Mignonette",6,{"$f":"IF(J126=\"Multiple\",VLOOKUP(A126,Produits_composes!$A$1:$AA$30,24,FALSE),ROUNDDOWN(G126*100/(100+J126*100),5))","v":3.0833300000000001},3.7,0.2,2.4699999999999998,0.2,0.61667000000000005,{"$f":"IF($J126=\"Multiple\",VLOOKUP($A126,Produits_composes!$A$1:$AA$30,25,FALSE),IF($J126=5.5%,$F126*(1+$J126)-$F126,\"\"))","v":""},{"$f":"IF($J126=\"Multiple\",VLOOKUP(A126,Produits_composes!$A$1:$AA$30,26,FALSE),IF($J126=20%,$F126*(1+$J126)-$F126,\"\"))","v":0.61666599999999994},3760219061694,145,124]
["38A","Eau de vie de prune d’Ente - 42°","0,375L","Bouteille",6,{"$f":"IF(J127=\"Multiple\",VLOOKUP(A127,Produits_composes!$A$1:$AA$30,24,FALSE),ROUNDDOWN(G127*100/(100+J127*100),5))","v":13.83333},16.600000000000001,0.2,11.07,0.2,2.7666700000000013,{"$f":"IF($J127=\"Multiple\",VLOOKUP($A127,Produits_composes!$A$1:$AA$30,25,FALSE),IF($J127=5.5%,$F127*(1+$J127)-$F127,\"\"))","v":""},{"$f":"IF($J127=\"Multiple\",VLOOKUP(A127,Produits_composes!$A$1:$AA$30,26,FALSE),IF($J127=20%,$F127*(1+$J127)-$F127,\"\"))","v":2.7666660000000007},3760219061687,770,125]
["38B","Eau de vie de prune d’Ente - 42°","0,5L","Bouteille",6,{"$f":"IF(J128=\"Multiple\",VLOOKUP(A128,Produits_composes!$A$1:$AA$30,24,FALSE),ROUNDDOWN(G128*100/(100+J128*100),5))","v":17.33333},20.8,0.2,13.87,0.2,3.4666700000000006,{"$f":"IF($J128=\"Multiple\",VLOOKUP($A128,Produits_composes!$A$1:$AA$30,25,FALSE),IF($J128=5.5%,$F128*(1+$J128)-$F128,\"\"))","v":""},{"$f":"IF($J128=\"Multiple\",VLOOKUP(A128,Produits_composes!$A$1:$AA$30,26,FALSE),IF($J128=20%,$F128*(1+$J128)-$F128,\"\"))","v":3.466666},3760219061670,1150,126]
["38C","Eau de vie de prune d’Ente - 42°","0,7L","Bouteille",6,{"$f":"IF(J129=\"Multiple\",VLOOKUP(A129,Produits_composes!$A$1:$AA$30,24,FALSE),ROUNDDOWN(G129*100/(100+J129*100),5))","v":23.16666},27.8,0.2,18.540000000000003,0.2,4.6333400000000005,{"$f":"IF($J129=\"Multiple\",VLOOKUP($A129,Produits_composes!$A$1:$AA$30,25,FALSE),IF($J129=5.5%,$F129*(1+$J129)-$F129,\"\"))","v":""},{"$f":"IF($J129=\"Multiple\",VLOOKUP(A129,Produits_composes!$A$1:$AA$30,26,FALSE),IF($J129=20%,$F129*(1+$J129)-$F129,\"\"))","v":4.6333319999999993},3760219061663,1155,127]
["38D","Eau de vie de prune d’Ente - 42°","5cl","Mignonette",6,{"$f":"IF(J130=\"Multiple\",VLOOKUP(A130,Produits_composes!$A$1:$AA$30,24,FALSE),ROUNDDOWN(G130*100/(100+J130*100),5))","v":3.0833300000000001},3.7,0.2,2.4699999999999998,0.2,0.61667000000000005,{"$f":"IF($J130=\"Multiple\",VLOOKUP($A130,Produits_composes!$A$1:$AA$30,25,FALSE),IF($J130=5.5%,$F130*(1+$J130)-$F130,\"\"))","v":""},{"$f":"IF($J130=\"Multiple\",VLOOKUP(A130,Produits_composes!$A$1:$AA$30,26,FALSE),IF($J130=20%,$F130*(1+$J130)-$F130,\"\"))","v":0.61666599999999994},3760219061656,145,128]
["39A","Eau de vie de pruneau - 42°","0,375L","Bouteille",6,{"$f":"IF(J131=\"Multiple\",VLOOKUP(A131,Produits_composes!$A$1:$AA$30,24,FALSE),ROUNDDOWN(G131*100/(100+J131*100),5))","v":13.83333},16.600000000000001,0.2,11.07,0.2,2.7666700000000013,{"$f":"IF($J131=\"Multiple\",VLOOKUP($A131,Produits_composes!$A$1:$AA$30,25,FALSE),IF($J131=5.5%,$F131*(1+$J131)-$F131,\"\"))","v":""},{"$f":"IF($J131=\"Multiple\",VLOOKUP(A131,Produits_composes!$A$1:$AA$30,26,FALSE),IF($J131=20%,$F131*(1+$J131)-$F131,\"\"))","v":2.7666660000000007},3760219061649,770,129]
["39B","Eau de vie de pruneau - 42°","0,5L","Bouteille",6,{"$f":"IF(J132=\"Multiple\",VLOOKUP(A132,Produits_composes!$A$1:$AA$30,24,FALSE),ROUNDDOWN(G132*100/(100+J132*100),5))","v":17.33333},20.8,0.2,13.87,0.2,3.4666700000000006,{"$f":"IF($J132=\"Multiple\",VLOOKUP($A132,Produits_composes!$A$1:$AA$30,25,FALSE),IF($J132=5.5%,$F132*(1+$J132)-$F132,\"\"))","v":""},{"$f":"IF($J132=\"Multiple\",VLOOKUP(A132,Produits_composes!$A$1:$AA$30,26,FALSE),IF($J132=20%,$F132*(1+$J132)-$F132,\"\"))","v":3.466666},3760219061632,1150,130]
["39C","Eau de vie de pruneau - 42°","0,7L","Bouteille",6,{"$f":"IF(J133=\"Multiple\",VLOOKUP(A133,Produits_composes!$A$1:$AA$30,24,FALSE),ROUNDDOWN(G133*100/(100+J133*100),5))","v":23.16666},27.8,0.2,18.540000000000003,0.2,4.6333400000000005,{"$f":"IF($J133=\"Multiple\",VLOOKUP($A133,Produits_composes!$A$1:$AA$30,25,FALSE),IF($J133=5.5%,$F133*(1+$J133)-$F133,\"\"))","v":""},{"$f":"IF($J133=\"Multiple\",VLOOKUP(A133,Produits_composes!$A$1:$AA$30,26,FALSE),IF($J133=20%,$F133*(1+$J133)-$F133,\"\"))","v":4.6333319999999993},3760219061625,1155,131]
["39D","Eau de vie de pruneau - 42°","5cl","Mignonette",6,{"$f":"IF(J134=\"Multiple\",VLOOKUP(A134,Produits_composes!$A$1:$AA$30,24,FALSE),ROUNDDOWN(G134*100/(100+J134*100),5))","v":3.0833300000000001},3.7,0.2,2.4699999999999998,0.2,0.61667000000000005,{"$f":"IF($J134=\"Multiple\",VLOOKUP($A134,Produits_composes!$A$1:$AA$30,25,FALSE),IF($J134=5.5%,$F134*(1+$J134)-$F134,\"\"))","v":""},{"$f":"IF($J134=\"Multiple\",VLOOKUP(A134,Produits_composes!$A$1:$AA$30,26,FALSE),IF($J134=20%,$F134*(1+$J134)-$F134,\"\"))","v":0.61666599999999994},3760219061618,145,132]
["40A","Eau de vie de prune Reine-Claude - 42°","0,375L","Bouteille",6,{"$f":"IF(J135=\"Multiple\",VLOOKUP(A135,Produits_composes!$A$1:$AA$30,24,FALSE),ROUNDDOWN(G135*100/(100+J135*100),5))","v":13.83333},16.600000000000001,0.2,{"$f":"IF(H135=0,F135,ROUNDUP($F135-$F135*$H135,2))","v":11.07},0.2,{"$f":"G135-F135","v":2.7666700000000013},{"$f":"IF($J135=\"Multiple\",VLOOKUP($A135,Produits_composes!$A$1:$AA$30,25,FALSE),IF($J135=5.5%,$F135*(1+$J135)-$F135,\"\"))","v":""},{"$f":"IF($J135=\"Multiple\",VLOOKUP(A135,Produits_composes!$A$1:$AA$30,26,FALSE),IF($J135=20%,$F135*(1+$J135)-$F135,\"\"))","v":2.7666660000000007},3760219061601,770,133]
["40B","Eau de vie de prune Reine-Claude - 42° ","0,5L","Bouteille",6,{"$f":"IF(J136=\"Multiple\",VLOOKUP(A136,Produits_composes!$A$1:$AA$30,24,FALSE),ROUNDDOWN(G136*100/(100+J136*100),5))","v":17.33333},20.8,0.2,13.87,0.2,3.4666700000000006,{"$f":"IF($J136=\"Multiple\",VLOOKUP($A136,Produits_composes!$A$1:$AA$30,25,FALSE),IF($J136=5.5%,$F136*(1+$J136)-$F136,\"\"))","v":""},{"$f":"IF($J136=\"Multiple\",VLOOKUP(A136,Produits_composes!$A$1:$AA$30,26,FALSE),IF($J136=20%,$F136*(1+$J136)-$F136,\"\"))","v":3.466666},3760219061595,1150,134]
["40C","Eau de vie de prune Reine-Claude - 42° ","0,7L","Bouteille",6,{"$f":"IF(J137=\"Multiple\",VLOOKUP(A137,Produits_composes!$A$1:$AA$30,24,FALSE),ROUNDDOWN(G137*100/(100+J137*100),5))","v":23.16666},27.8,0.2,18.540000000000003,0.2,4.6333400000000005,{"$f":"IF($J137=\"Multiple\",VLOOKUP($A137,Produits_composes!$A$1:$AA$30,25,FALSE),IF($J137=5.5%,$F137*(1+$J137)-$F137,\"\"))","v":""},{"$f":"IF($J137=\"Multiple\",VLOOKUP(A137,Produits_composes!$A$1:$AA$30,26,FALSE),IF($J137=20%,$F137*(1+$J137)-$F137,\"\"))","v":4.6333319999999993},3760219061588,1155,135]
["40D","Eau de vie de prune Reine-Claude - 42°","5cl","Mignonette",6,{"$f":"IF(J138=\"Multiple\",VLOOKUP(A138,Produits_composes!$A$1:$AA$30,24,FALSE),ROUNDDOWN(G138*100/(100+J138*100),5))","v":3.0833300000000001},3.7,0.2,2.4699999999999998,0.2,0.61667000000000005,{"$f":"IF($J138=\"Multiple\",VLOOKUP($A138,Produits_composes!$A$1:$AA$30,25,FALSE),IF($J138=5.5%,$F138*(1+$J138)-$F138,\"\"))","v":""},{"$f":"IF($J138=\"Multiple\",VLOOKUP(A138,Produits_composes!$A$1:$AA$30,26,FALSE),IF($J138=20%,$F138*(1+$J138)-$F138,\"\"))","v":0.61666599999999994},3760219061571,145,136]
["41A","Assort. Supr. Prune'Choco® - Mini cagette gourmande","400g","Boite bois",1,{"$f":"IF(J139=\"Multiple\",VLOOKUP(A139,Produits_composes!$A$1:$AA$30,24,FALSE),ROUNDDOWN(G139*100/(100+J139*100),5))","v":15.83},18.5,{"$f":"$Q$2","v":0.2},12.67,"Multiple",2.67,{"$f":"IF($J139=\"Multiple\",VLOOKUP($A139,Produits_composes!$A$1:$AA$30,25,FALSE),IF($J139=5.5%,$F139*(1+$J139)-$F139,\"\"))","v":0.20000000000000018},{"$f":"IF($J139=\"Multiple\",VLOOKUP(A139,Produits_composes!$A$1:$AA$30,26,FALSE),IF($J139=20%,$F139*(1+$J139)-$F139,\"\"))","v":2.4700000000000006},3760219061564,485,137]
["42A","Assort. Supr. Prune'Choco® - Coffret élégance","450g","Coffret cart.",1,{"$f":"IF(J140=\"Multiple\",VLOOKUP(A140,Produits_composes!$A$1:$AA$30,24,FALSE),ROUNDDOWN(G140*100/(100+J140*100),5))","v":18.89},22,0.2,15.12,"Multiple",3.1099999999999994,{"$f":"IF($J140=\"Multiple\",VLOOKUP($A140,Produits_composes!$A$1:$AA$30,25,FALSE),IF($J140=5.5%,$F140*(1+$J140)-$F140,\"\"))","v":0.25999999999999979},{"$f":"IF($J140=\"Multiple\",VLOOKUP(A140,Produits_composes!$A$1:$AA$30,26,FALSE),IF($J140=20%,$F140*(1+$J140)-$F140,\"\"))","v":2.8600000000000012},3760219061557,580,138]
["43A","Assort. Supr. Prune'Choco® - Plateau gourmand","650g","Boite bois",1,{"$f":"IF(J141=\"Multiple\",VLOOKUP(A141,Produits_composes!$A$1:$AA$30,24,FALSE),ROUNDDOWN(G141*100/(100+J141*100),5))","v":24.33},27.9,0.2,19.470000000000002,"Multiple",3.5700000000000003,{"$f":"IF($J141=\"Multiple\",VLOOKUP($A141,Produits_composes!$A$1:$AA$30,25,FALSE),IF($J141=5.5%,$F141*(1+$J141)-$F141,\"\"))","v":0.5},{"$f":"IF($J141=\"Multiple\",VLOOKUP(A141,Produits_composes!$A$1:$AA$30,26,FALSE),IF($J141=20%,$F141*(1+$J141)-$F141,\"\"))","v":3.08},3760219061540,870,139]
["44A","Assort. Supr. Prune'Choco® - Assiette raffinée","650g","Assiette",1,{"$f":"IF(J142=\"Multiple\",VLOOKUP(A142,Produits_composes!$A$1:$AA$30,24,FALSE),ROUNDDOWN(G142*100/(100+J142*100),5))","v":25.36},28.9,0.2,20.290000000000003,"Multiple",3.5399999999999991,{"$f":"IF($J142=\"Multiple\",VLOOKUP($A142,Produits_composes!$A$1:$AA$30,25,FALSE),IF($J142=5.5%,$F142*(1+$J142)-$F142,\"\"))","v":0.58000000000000007},{"$f":"IF($J142=\"Multiple\",VLOOKUP(A142,Produits_composes!$A$1:$AA$30,26,FALSE),IF($J142=20%,$F142*(1+$J142)-$F142,\"\"))","v":2.9700000000000024},3760219061533,1300,140]
["45A","Assort. Supr. Prune'Choco® - Claie Agenaise 1","800g","Claie Agen.",1,{"$f":"IF(J143=\"Multiple\",VLOOKUP(A143,Produits_composes!$A$1:$AA$30,24,FALSE),ROUNDDOWN(G143*100/(100+J143*100),5))","v":33.72},38.799999999999997,0.2,26.98,"Multiple",5.0799999999999983,{"$f":"IF($J143=\"Multiple\",VLOOKUP($A143,Produits_composes!$A$1:$AA$30,25,FALSE),IF($J143=5.5%,$F143*(1+$J143)-$F143,\"\"))","v":0.64000000000000057},{"$f":"IF($J143=\"Multiple\",VLOOKUP(A143,Produits_composes!$A$1:$AA$30,26,FALSE),IF($J143=20%,$F143*(1+$J143)-$F143,\"\"))","v":4.4500000000000028},3760219061526,960,141]
["46A","Assort. Supr. Prune'Choco® - Claie Agenaise 2","1,1kg","Claie Agen.",1,{"$f":"IF(J144=\"Multiple\",VLOOKUP(A144,Produits_composes!$A$1:$AA$30,24,FALSE),ROUNDDOWN(G144*100/(100+J144*100),5))","v":42.9},49.8,0.2,34.32,"Multiple",6.8999999999999986,{"$f":"IF($J144=\"Multiple\",VLOOKUP($A144,Produits_composes!$A$1:$AA$30,25,FALSE),IF($J144=5.5%,$F144*(1+$J144)-$F144,\"\"))","v":0.64000000000000057},{"$f":"IF($J144=\"Multiple\",VLOOKUP(A144,Produits_composes!$A$1:$AA$30,26,FALSE),IF($J144=20%,$F144*(1+$J144)-$F144,\"\"))","v":6.27},3760219061519,1425,142]
["47A","Coffret \"Découverte\" - 4 produits",null,"Pochette",1,{"$f":"IF(J145=\"Multiple\",VLOOKUP(A145,Produits_composes!$A$1:$AA$30,24,FALSE),ROUNDDOWN(G145*100/(100+J145*100),5))","v":14.9},16.5,0.2,11.92,"Multiple",1.5999999999999996,{"$f":"IF($J145=\"Multiple\",VLOOKUP($A145,Produits_composes!$A$1:$AA$30,25,FALSE),IF($J145=5.5%,$F145*(1+$J145)-$F145,\"\"))","v":0.53},{"$f":"IF($J145=\"Multiple\",VLOOKUP(A145,Produits_composes!$A$1:$AA$30,26,FALSE),IF($J145=20%,$F145*(1+$J145)-$F145,\"\"))","v":1.07},3760219061502,815,143]
["47B","Coffret \"Découverte\" SANS ALCOOL - 4 produits",null,"Pochette",1,{"$f":"IF(J146=\"Multiple\",VLOOKUP(A145,Produits_composes!$A$1:$AA$30,24,FALSE),ROUNDDOWN(G146*100/(100+J146*100),5))","v":14.9},16.5,0.2,{"$f":"IF(H146=0,F146,ROUNDUP($F146-$F146*$H146,2))","v":11.92},"Multiple",{"$f":"G146-F146","v":1.5999999999999996},{"$f":"IF($J146=\"Multiple\",VLOOKUP($A145,Produits_composes!$A$1:$AA$30,25,FALSE),IF($J146=5.5%,$F146*(1+$J146)-$F146,\"\"))","v":0.53},{"$f":"IF($J146=\"Multiple\",VLOOKUP(A145,Produits_composes!$A$1:$AA$30,26,FALSE),IF($J146=20%,$F146*(1+$J146)-$F146,\"\"))","v":1.07},3760219061502,815,143]
["48A","Coffret \"Le Mignon\" - 5 produits",null,"Coffret cart.",1,{"$f":"IF(J147=\"Multiple\",VLOOKUP(A147,Produits_composes!$A$1:$AA$30,24,FALSE),ROUNDDOWN(G147*100/(100+J147*100),5))","v":22.77},26.5,0.2,18.220000000000002,"Multiple",3.7300000000000004,{"$f":"IF($J147=\"Multiple\",VLOOKUP($A147,Produits_composes!$A$1:$AA$30,25,FALSE),IF($J147=5.5%,$F147*(1+$J147)-$F147,\"\"))","v":0.318},{"$f":"IF($J147=\"Multiple\",VLOOKUP(A147,Produits_composes!$A$1:$AA$30,26,FALSE),IF($J147=20%,$F147*(1+$J147)-$F147,\"\"))","v":3.4},3760219061496,1020,144]
["48B","Coffret \"Le Mignon\" SANS ALCOOL - 5 produits",null,"Coffret cart.",1,{"$f":"IF(J148=\"Multiple\",VLOOKUP(A147,Produits_composes!$A$1:$AA$30,24,FALSE),ROUNDDOWN(G148*100/(100+J148*100),5))","v":22.77},26.5,0.2,{"$f":"IF(H148=0,F148,ROUNDUP($F148-$F148*$H148,2))","v":18.220000000000002},"Multiple",{"$f":"G148-F148","v":3.7300000000000004},{"$f":"IF($J148=\"Multiple\",VLOOKUP($A147,Produits_composes!$A$1:$AA$30,25,FALSE),IF($J148=5.5%,$F148*(1+$J148)-$F148,\"\"))","v":0.318},{"$f":"IF($J148=\"Multiple\",VLOOKUP(A147,Produits_composes!$A$1:$AA$30,26,FALSE),IF($J148=20%,$F148*(1+$J148)-$F148,\"\"))","v":3.4},3760219061496,1020,144]
["49A","Coffret \"L'Intrépide\" - 7 produits",null,"Coffret cart.",1,{"$f":"IF(J149=\"Multiple\",VLOOKUP(A149,Produits_composes!$A$1:$AA$30,24,FALSE),ROUNDDOWN(G149*100/(100+J149*100),5))","v":44.02},49.5,0.2,35.22,"Multiple",5.4799999999999969,{"$f":"IF($J149=\"Multiple\",VLOOKUP($A149,Produits_composes!$A$1:$AA$30,25,FALSE),IF($J149=5.5%,$F149*(1+$J149)-$F149,\"\"))","v":1.2569999999999999},{"$f":"IF($J149=\"Multiple\",VLOOKUP(A149,Produits_composes!$A$1:$AA$30,26,FALSE),IF($J149=20%,$F149*(1+$J149)-$F149,\"\"))","v":4.24},3760219061489,1845,145]
["49B","Coffret \"L'Intrépide\" SANS ALCOOL - 7 produits",null,"Coffret cart.",1,{"$f":"IF(J150=\"Multiple\",VLOOKUP(A149,Produits_composes!$A$1:$AA$30,24,FALSE),ROUNDDOWN(G150*100/(100+J150*100),5))","v":44.02},49.5,0.2,{"$f":"IF(H150=0,F150,ROUNDUP($F150-$F150*$H150,2))","v":35.22},"Multiple",{"$f":"G150-F150","v":5.4799999999999969},{"$f":"IF($J150=\"Multiple\",VLOOKUP($A149,Produits_composes!$A$1:$AA$30,25,FALSE),IF($J150=5.5%,$F150*(1+$J150)-$F150,\"\"))","v":1.2569999999999999},{"$f":"IF($J150=\"Multiple\",VLOOKUP(A149,Produits_composes!$A$1:$AA$30,26,FALSE),IF($J150=20%,$F150*(1+$J150)-$F150,\"\"))","v":4.24},3760219061489,1845,145]
["50A","Coffret \"L'Intense\" - 10 produits",null,"Coffret cart.",1,{"$f":"IF(J151=\"Multiple\",VLOOKUP(A151,Produits_composes!$A$1:$AA$30,24,FALSE),ROUNDDOWN(G151*100/(100+J151*100),5))","v":54.069999999999993},61,0.2,43.26,"Multiple",6.9300000000000068,{"$f":"IF($J151=\"Multiple\",VLOOKUP($A151,Produits_composes!$A$1:$AA$30,25,FALSE),IF($J151=5.5%,$F151*(1+$J151)-$F151,\"\"))","v":1.5169999999999999},{"$f":"IF($J151=\"Multiple\",VLOOKUP(A151,Produits_composes!$A$1:$AA$30,26,FALSE),IF($J151=20%,$F151*(1+$J151)-$F151,\"\"))","v":5.3},3760219061472,3300,146]
["50B","Coffret \"L'Intense\" SANS ALCOOL - 10 produits",null,"Coffret cart.",1,{"$f":"IF(J152=\"Multiple\",VLOOKUP(A151,Produits_composes!$A$1:$AA$30,24,FALSE),ROUNDDOWN(G152*100/(100+J152*100),5))","v":54.069999999999993},61,0.2,{"$f":"IF(H152=0,F152,ROUNDUP($F152-$F152*$H152,2))","v":43.26},"Multiple",{"$f":"G152-F152","v":6.9300000000000068},{"$f":"IF($J152=\"Multiple\",VLOOKUP($A151,Produits_composes!$A$1:$AA$30,25,FALSE),IF($J152=5.5%,$F152*(1+$J152)-$F152,\"\"))","v":1.5169999999999999},{"$f":"IF($J152=\"Multiple\",VLOOKUP(A151,Produits_composes!$A$1:$AA$30,26,FALSE),IF($J152=20%,$F152*(1+$J152)-$F152,\"\"))","v":5.3},3760219061472,3300,146]
["CP-M","Coffret à composer vous-même \"M\" - Taille Medium (5 produits)⁽¹⁾",null,"Coffret cart.",1,{"$f":"'Bon de commande PRO'!AA43+'Bon de commande PRO'!AB43","v":{"$error":"#VALUE!"}},36.5,0.2,{"$error":"#VALUE!"},"Multiple",{"$error":"#VALUE!"},{"$f":"'Bon de commande PRO'!AC42","v":{"$error":"#VALUE!"}},{"$f":"'Bon de commande PRO'!AD42","v":{"$error":"#VALUE!"}},null,1100,146]
["CP-L","Coffret à composer vous-même \"L\" - Grande Taille (7 produits)⁽¹⁾",null,"Coffret cart.",1,{"$f":"'Bon de commande PRO'!AA46+'Bon de commande PRO'!AB46","v":{"$error":"#VALUE!"}},44,0.2,{"$error":"#VALUE!"},"Multiple",{"$error":"#VALUE!"},{"$f":"'Bon de commande PRO'!AC45","v":{"$error":"#VALUE!"}},{"$f":"'Bon de commande PRO'!AD45","v":{"$error":"#VALUE!"}},null,2000,146]
["CP-XL","Coffret à composer vous-même \"XL\" - Très Grande Taille (10 produits)⁽¹⁾",null,"Coffret cart.",1,{"$f":"'Bon de commande PRO'!AA49+'Bon de commande PRO'!AB49","v":{"$error":"#VALUE!"}},68,0.2,{"$error":"#VALUE!"},"Multiple",{"$error":"#VALUE!"},{"$f":"'Bon de commande PRO'!AC48","v":{"$error":"#VALUE!"}},{"$f":"'Bon de commande PRO'!AD48","v":{"$error":"#VALUE!"}},null,3100,146]
["51A","Ferme de Baruteau - Confit de porc","350g","Bocal",1,{"$f":"IF(J156=\"Multiple\",VLOOKUP(A156,Produits_composes!$A$1:$AA$30,24,FALSE),ROUNDDOWN(G156*100/(100+J156*100),5))","v":8.3412299999999995},8.8000000000000007,0.05,7.93,5.5E-2,0.45877000000000123,{"$f":"IF($J156=\"Multiple\",VLOOKUP($A156,Produits_composes!$A$1:$AA$30,25,FALSE),IF($J156=5.5%,$F156*(1+$J156)-$F156,\"\"))","v":0.45876764999999864},{"$f":"IF($J156=\"Multiple\",VLOOKUP(A156,Produits_composes!$A$1:$AA$30,26,FALSE),IF($J156=20%,$F156*(1+$J156)-$F156,\"\"))","v":""},3760219061465,710,147]
["51B","Ferme de Baruteau - Jambonneau","380g","Bocal",1,{"$f":"IF(J157=\"Multiple\",VLOOKUP(A157,Produits_composes!$A$1:$AA$30,24,FALSE),ROUNDDOWN(G157*100/(100+J157*100),5))","v":6.6350699999999998},7,0.05,6.31,5.5E-2,0.3649300000000002,{"$f":"IF($J157=\"Multiple\",VLOOKUP($A157,Produits_composes!$A$1:$AA$30,25,FALSE),IF($J157=5.5%,$F157*(1+$J157)-$F157,\"\"))","v":0.36492884999999919},{"$f":"IF($J157=\"Multiple\",VLOOKUP(A157,Produits_composes!$A$1:$AA$30,26,FALSE),IF($J157=20%,$F157*(1+$J157)-$F157,\"\"))","v":""},3760219061458,675,148]
["51C","Ferme de Baruteau - Jambonneau","900g","Bocal",1,{"$f":"IF(J158=\"Multiple\",VLOOKUP(A158,Produits_composes!$A$1:$AA$30,24,FALSE),ROUNDDOWN(G158*100/(100+J158*100),5))","v":12.796200000000001},13.5,0.05,12.16,5.5E-2,0.70379999999999932,{"$f":"IF($J158=\"Multiple\",VLOOKUP($A158,Produits_composes!$A$1:$AA$30,25,FALSE),IF($J158=5.5%,$F158*(1+$J158)-$F158,\"\"))","v":0.70379099999999895},{"$f":"IF($J158=\"Multiple\",VLOOKUP(A158,Produits_composes!$A$1:$AA$30,26,FALSE),IF($J158=20%,$F158*(1+$J158)-$F158,\"\"))","v":""},3760219061441,1560,149]
["51D","Ferme de Baruteau - Pâté nature","200g","Bocal",1,{"$f":"IF(J159=\"Multiple\",VLOOKUP(A159,Produits_composes!$A$1:$AA$30,24,FALSE),ROUNDDOWN(G159*100/(100+J159*100),5))","v":3.7914599999999998},4,0.05,3.61,5.5E-2,0.20854000000000017,{"$f":"IF($J159=\"Multiple\",VLOOKUP($A159,Produits_composes!$A$1:$AA$30,25,FALSE),IF($J159=5.5%,$F159*(1+$J159)-$F159,\"\"))","v":0.20853029999999961},{"$f":"IF($J159=\"Multiple\",VLOOKUP(A159,Produits_composes!$A$1:$AA$30,26,FALSE),IF($J159=20%,$F159*(1+$J159)-$F159,\"\"))","v":""},3760219061434,365,150]
["51E","Ferme de Baruteau - Pâté de campagne","200g","Bocal",1,{"$f":"IF(J160=\"Multiple\",VLOOKUP(A160,Produits_composes!$A$1:$AA$30,24,FALSE),ROUNDDOWN(G160*100/(100+J160*100),5))","v":3.7914599999999998},4,0.05,3.61,5.5E-2,0.20854000000000017,{"$f":"IF($J160=\"Multiple\",VLOOKUP($A160,Produits_composes!$A$1:$AA$30,25,FALSE),IF($J160=5.5%,$F160*(1+$J160)-$F160,\"\"))","v":0.20853029999999961},{"$f":"IF($J160=\"Multiple\",VLOOKUP(A160,Produits_composes!$A$1:$AA$30,26,FALSE),IF($J160=20%,$F160*(1+$J160)-$F160,\"\"))","v":""},3760219061427,365,151]
["51F","Ferme de Baruteau - Pâté de campagne","380g","Bocal",1,{"$f":"IF(J161=\"Multiple\",VLOOKUP(A161,Produits_composes!$A$1:$AA$30,24,FALSE),ROUNDDOWN(G161*100/(100+J161*100),5))","v":5.8767699999999996},6.2,0.05,5.59,5.5E-2,0.32323000000000057,{"$f":"IF($J161=\"Multiple\",VLOOKUP($A161,Produits_composes!$A$1:$AA$30,25,FALSE),IF($J161=5.5%,$F161*(1+$J161)-$F161,\"\"))","v":0.32322234999999999},{"$f":"IF($J161=\"Multiple\",VLOOKUP(A161,Produits_composes!$A$1:$AA$30,26,FALSE),IF($J161=20%,$F161*(1+$J161)-$F161,\"\"))","v":""},3760219061410,655,152]
["51G","Ferme de Baruteau - Pâté à l’Armagnac","200g","Bocal",1,{"$f":"IF(J162=\"Multiple\",VLOOKUP(A162,Produits_composes!$A$1:$AA$30,24,FALSE),ROUNDDOWN(G162*100/(100+J162*100),5))","v":3.9810400000000001},4.2,0.05,3.7899999999999996,5.5E-2,0.21896000000000004,{"$f":"IF($J162=\"Multiple\",VLOOKUP($A162,Produits_composes!$A$1:$AA$30,25,FALSE),IF($J162=5.5%,$F162*(1+$J162)-$F162,\"\"))","v":0.21895720000000019},{"$f":"IF($J162=\"Multiple\",VLOOKUP(A162,Produits_composes!$A$1:$AA$30,26,FALSE),IF($J162=20%,$F162*(1+$J162)-$F162,\"\"))","v":""},3760219061403,365,153]
["51H","Ferme de Baruteau - Pâté au piment d’Espelette","200g","Bocal",1,{"$f":"IF(J163=\"Multiple\",VLOOKUP(A163,Produits_composes!$A$1:$AA$30,24,FALSE),ROUNDDOWN(G163*100/(100+J163*100),5))","v":3.7914599999999998},4,0.05,3.61,5.5E-2,0.20854000000000017,{"$f":"IF($J163=\"Multiple\",VLOOKUP($A163,Produits_composes!$A$1:$AA$30,25,FALSE),IF($J163=5.5%,$F163*(1+$J163)-$F163,\"\"))","v":0.20853029999999961},{"$f":"IF($J163=\"Multiple\",VLOOKUP(A163,Produits_composes!$A$1:$AA$30,26,FALSE),IF($J163=20%,$F163*(1+$J163)-$F163,\"\"))","v":""},3760219061397,365,154]
["51I","Ferme de Baruteau - Rillettes de porc","200g","Bocal",1,{"$f":"IF(J164=\"Multiple\",VLOOKUP(A164,Produits_composes!$A$1:$AA$30,24,FALSE),ROUNDDOWN(G164*100/(100+J164*100),5))","v":3.6966800000000002},3.9,0.05,3.5199999999999996,5.5E-2,0.20331999999999972,{"$f":"IF($J164=\"Multiple\",VLOOKUP($A164,Produits_composes!$A$1:$AA$30,25,FALSE),IF($J164=5.5%,$F164*(1+$J164)-$F164,\"\"))","v":0.20331739999999998},{"$f":"IF($J164=\"Multiple\",VLOOKUP(A164,Produits_composes!$A$1:$AA$30,26,FALSE),IF($J164=20%,$F164*(1+$J164)-$F164,\"\"))","v":""},3760219061380,365,155]
["51J","Ferme de Baruteau - Mousse de foie de porc","200g","Bocal",1,{"$f":"IF(J165=\"Multiple\",VLOOKUP(A165,Produits_composes!$A$1:$AA$30,24,FALSE),ROUNDDOWN(G165*100/(100+J165*100),5))","v":3.60189},3.8,0.05,3.4299999999999997,5.5E-2,0.19810999999999979,{"$f":"IF($J165=\"Multiple\",VLOOKUP($A165,Produits_composes!$A$1:$AA$30,25,FALSE),IF($J165=5.5%,$F165*(1+$J165)-$F165,\"\"))","v":0.1981039499999997},{"$f":"IF($J165=\"Multiple\",VLOOKUP(A165,Produits_composes!$A$1:$AA$30,26,FALSE),IF($J165=20%,$F165*(1+$J165)-$F165,\"\"))","v":""},3760219061373,365,156]
["51K","Ferme de Baruteau - Boudin ","200g","Bocal",1,{"$f":"IF(J166=\"Multiple\",VLOOKUP(A166,Produits_composes!$A$1:$AA$30,24,FALSE),ROUNDDOWN(G166*100/(100+J166*100),5))","v":3.60189},3.8,0.05,3.4299999999999997,5.5E-2,0.19810999999999979,{"$f":"IF($J166=\"Multiple\",VLOOKUP($A166,Produits_composes!$A$1:$AA$30,25,FALSE),IF($J166=5.5%,$F166*(1+$J166)-$F166,\"\"))","v":0.1981039499999997},{"$f":"IF($J166=\"Multiple\",VLOOKUP(A166,Produits_composes!$A$1:$AA$30,26,FALSE),IF($J166=20%,$F166*(1+$J166)-$F166,\"\"))","v":""},3760219061366,365,157]
["52A","Ferme de Ramon - La Ballotine de foie gras de canard","400g","Conserve",1,{"$f":"IF(J167=\"Multiple\",VLOOKUP(A167,Produits_composes!$A$1:$AA$30,24,FALSE),ROUNDDOWN(G167*100/(100+J167*100),5))","v":12.22748},12.9,0.05,11.62,5.5E-2,0.67252000000000045,{"$f":"IF($J167=\"Multiple\",VLOOKUP($A167,Produits_composes!$A$1:$AA$30,25,FALSE),IF($J167=5.5%,$F167*(1+$J167)-$F167,\"\"))","v":0.67251139999999943},{"$f":"IF($J167=\"Multiple\",VLOOKUP(A167,Produits_composes!$A$1:$AA$30,26,FALSE),IF($J167=20%,$F167*(1+$J167)-$F167,\"\"))","v":""},3760219061359,480,158]
["52B","Ferme de Ramon - Foie gras de canard entier","180g","Bocal",1,{"$f":"IF(J168=\"Multiple\",VLOOKUP(A168,Produits_composes!$A$1:$AA$30,24,FALSE),ROUNDDOWN(G168*100/(100+J168*100),5))","v":11.25},22.5,0.05,10.69,true,11.25,{"$f":"IF($J168=\"Multiple\",VLOOKUP($A168,Produits_composes!$A$1:$AA$30,25,FALSE),IF($J168=5.5%,$F168*(1+$J168)-$F168,\"\"))","v":""},{"$f":"IF($J168=\"Multiple\",VLOOKUP(A168,Produits_composes!$A$1:$AA$30,26,FALSE),IF($J168=20%,$F168*(1+$J168)-$F168,\"\"))","v":""},3760219061342,520,159]
["52C","Ferme de Ramon - Bloc de foie gras de canard","100g","Conserve",1,{"$f":"IF(J169=\"Multiple\",VLOOKUP(A169,Produits_composes!$A$1:$AA$30,24,FALSE),ROUNDDOWN(G169*100/(100+J169*100),5))","v":6.16113},6.5,0.05,5.8599999999999994,5.5E-2,0.33887,{"$f":"IF($J169=\"Multiple\",VLOOKUP($A169,Produits_composes!$A$1:$AA$30,25,FALSE),IF($J169=5.5%,$F169*(1+$J169)-$F169,\"\"))","v":0.33886214999999975},{"$f":"IF($J169=\"Multiple\",VLOOKUP(A169,Produits_composes!$A$1:$AA$30,26,FALSE),IF($J169=20%,$F169*(1+$J169)-$F169,\"\"))","v":""},3760219061335,125,160]
["52D","Ferme de Ramon - Bloc de foie gras de canard","195g","Conserve",1,{"$f":"IF(J170=\"Multiple\",VLOOKUP(A170,Produits_composes!$A$1:$AA$30,24,FALSE),ROUNDDOWN(G170*100/(100+J170*100),5))","v":12.796200000000001},13.5,0.05,12.16,5.5E-2,0.70379999999999932,{"$f":"IF($J170=\"Multiple\",VLOOKUP($A170,Produits_composes!$A$1:$AA$30,25,FALSE),IF($J170=5.5%,$F170*(1+$J170)-$F170,\"\"))","v":0.70379099999999895},{"$f":"IF($J170=\"Multiple\",VLOOKUP(A170,Produits_composes!$A$1:$AA$30,26,FALSE),IF($J170=20%,$F170*(1+$J170)-$F170,\"\"))","v":""},3760219061328,240,161]
["52E","Ferme de Ramon - Rillettes de canard","180g","Bocal",1,{"$f":"IF(J171=\"Multiple\",VLOOKUP(A171,Produits_composes!$A$1:$AA$30,24,FALSE),ROUNDDOWN(G171*100/(100+J171*100),5))","v":2.25},4.5,0.05,2.1399999999999997,true,2.25,{"$f":"IF($J171=\"Multiple\",VLOOKUP($A171,Produits_composes!$A$1:$AA$30,25,FALSE),IF($J171=5.5%,$F171*(1+$J171)-$F171,\"\"))","v":""},{"$f":"IF($J171=\"Multiple\",VLOOKUP(A171,Produits_composes!$A$1:$AA$30,26,FALSE),IF($J171=20%,$F171*(1+$J171)-$F171,\"\"))","v":""},3760219061311,345,162]
["52F","Ferme de Ramon - Garbure de confit de canard","1,6kg","Bocal",1,{"$f":"IF(J172=\"Multiple\",VLOOKUP(A172,Produits_composes!$A$1:$AA$30,24,FALSE),ROUNDDOWN(G172*100/(100+J172*100),5))","v":17.91469},18.899999999999999,0.05,17.020000000000003,5.5E-2,0.98530999999999835,{"$f":"IF($J172=\"Multiple\",VLOOKUP($A172,Produits_composes!$A$1:$AA$30,25,FALSE),IF($J172=5.5%,$F172*(1+$J172)-$F172,\"\"))","v":0.98530794999999927},{"$f":"IF($J172=\"Multiple\",VLOOKUP(A172,Produits_composes!$A$1:$AA$30,26,FALSE),IF($J172=20%,$F172*(1+$J172)-$F172,\"\"))","v":""},3760219061304,2295,163]
["52G","Ferme de Ramon - Canard à l’orange","750g","Bocal",1,{"$f":"IF(J173=\"Multiple\",VLOOKUP(A173,Produits_composes!$A$1:$AA$30,24,FALSE),ROUNDDOWN(G173*100/(100+J173*100),5))","v":11.27962},11.9,0.05,10.72,5.5E-2,0.62038000000000082,{"$f":"IF($J173=\"Multiple\",VLOOKUP($A173,Produits_composes!$A$1:$AA$30,25,FALSE),IF($J173=5.5%,$F173*(1+$J173)-$F173,\"\"))","v":0.62037909999999918},{"$f":"IF($J173=\"Multiple\",VLOOKUP(A173,Produits_composes!$A$1:$AA$30,26,FALSE),IF($J173=20%,$F173*(1+$J173)-$F173,\"\"))","v":""},3760219061298,1180,164]
["52H","Ferme de Ramon - Cassoulet au confit de canard","750g","Bocal",1,{"$f":"IF(J174=\"Multiple\",VLOOKUP(A174,Produits_composes!$A$1:$AA$30,24,FALSE),ROUNDDOWN(G174*100/(100+J174*100),5))","v":10.33175},10.9,0.05,9.82,5.5E-2,0.56825000000000081,{"$f":"IF($J174=\"Multiple\",VLOOKUP($A174,Produits_composes!$A$1:$AA$30,25,FALSE),IF($J174=5.5%,$F174*(1+$J174)-$F174,\"\"))","v":0.56824624999999962},{"$f":"IF($J174=\"Multiple\",VLOOKUP(A174,Produits_composes!$A$1:$AA$30,26,FALSE),IF($J174=20%,$F174*(1+$J174)-$F174,\"\"))","v":""},3760219061281,1200,165]
["52I","Ferme de Ramon - Cassoulet au confit de canard","1,6kg","Bocal",1,{"$f":"IF(J175=\"Multiple\",VLOOKUP(A175,Produits_composes!$A$1:$AA$30,24,FALSE),ROUNDDOWN(G175*100/(100+J175*100),5))","v":17.91469},18.899999999999999,0.05,17.020000000000003,5.5E-2,0.98530999999999835,{"$f":"IF($J175=\"Multiple\",VLOOKUP($A175,Produits_composes!$A$1:$AA$30,25,FALSE),IF($J175=5.5%,$F175*(1+$J175)-$F175,\"\"))","v":0.98530794999999927},{"$f":"IF($J175=\"Multiple\",VLOOKUP(A175,Produits_composes!$A$1:$AA$30,26,FALSE),IF($J175=20%,$F175*(1+$J175)-$F175,\"\"))","v":""},3760219061274,2280,166]
["52J","Ferme de Ramon - Gésiers de canard confits","150g","Bocal",1,{"$f":"IF(J176=\"Multiple\",VLOOKUP(A176,Produits_composes!$A$1:$AA$30,24,FALSE),ROUNDDOWN(G176*100/(100+J176*100),5))","v":4.6445400000000001},4.9000000000000004,0.05,4.42,5.5E-2,0.25546000000000024,{"$f":"IF($J176=\"Multiple\",VLOOKUP($A176,Produits_composes!$A$1:$AA$30,25,FALSE),IF($J176=5.5%,$F176*(1+$J176)-$F176,\"\"))","v":0.25544969999999978},{"$f":"IF($J176=\"Multiple\",VLOOKUP(A176,Produits_composes!$A$1:$AA$30,26,FALSE),IF($J176=20%,$F176*(1+$J176)-$F176,\"\"))","v":""},3760219061267,375,167]
["52K","Ferme de Ramon - Gésiers de canard confits","350g","Bocal",1,{"$f":"IF(J177=\"Multiple\",VLOOKUP(A177,Produits_composes!$A$1:$AA$30,24,FALSE),ROUNDDOWN(G177*100/(100+J177*100),5))","v":7.3933600000000004},7.8,0.05,7.0299999999999994,5.5E-2,0.40663999999999945,{"$f":"IF($J177=\"Multiple\",VLOOKUP($A177,Produits_composes!$A$1:$AA$30,25,FALSE),IF($J177=5.5%,$F177*(1+$J177)-$F177,\"\"))","v":0.40663479999999996},{"$f":"IF($J177=\"Multiple\",VLOOKUP(A177,Produits_composes!$A$1:$AA$30,26,FALSE),IF($J177=20%,$F177*(1+$J177)-$F177,\"\"))","v":""},3760219061250,705,168]
["52L","Ferme de Ramon - Civet de canard aux pruneaux","750g","Bocal",1,{"$f":"IF(J178=\"Multiple\",VLOOKUP(A178,Produits_composes!$A$1:$AA$30,24,FALSE),ROUNDDOWN(G178*100/(100+J178*100),5))","v":11.27962},11.9,0.05,10.72,5.5E-2,0.62038000000000082,{"$f":"IF($J178=\"Multiple\",VLOOKUP($A178,Produits_composes!$A$1:$AA$30,25,FALSE),IF($J178=5.5%,$F178*(1+$J178)-$F178,\"\"))","v":0.62037909999999918},{"$f":"IF($J178=\"Multiple\",VLOOKUP(A178,Produits_composes!$A$1:$AA$30,26,FALSE),IF($J178=20%,$F178*(1+$J178)-$F178,\"\"))","v":""},3760219061243,1150,169]
["52M","Ferme de Ramon - Confit de canard 2 magrets","750g","Bocal",1,{"$f":"IF(J179=\"Multiple\",VLOOKUP(A179,Produits_composes!$A$1:$AA$30,24,FALSE),ROUNDDOWN(G179*100/(100+J179*100),5))","v":13.554500000000001},14.3,0.05,12.879999999999999,5.5E-2,0.74549999999999983,{"$f":"IF($J179=\"Multiple\",VLOOKUP($A179,Produits_composes!$A$1:$AA$30,25,FALSE),IF($J179=5.5%,$F179*(1+$J179)-$F179,\"\"))","v":0.74549749999999904},{"$f":"IF($J179=\"Multiple\",VLOOKUP(A179,Produits_composes!$A$1:$AA$30,26,FALSE),IF($J179=20%,$F179*(1+$J179)-$F179,\"\"))","v":""},3760219061236,1150,170]
["52N","Ferme de Ramon - Confit de canard 2 cuisses","750g","Bocal",1,{"$f":"IF(J180=\"Multiple\",VLOOKUP(A180,Produits_composes!$A$1:$AA$30,24,FALSE),ROUNDDOWN(G180*100/(100+J180*100),5))","v":11.469189999999999},12.1,0.05,10.9,5.5E-2,0.63081000000000031,{"$f":"IF($J180=\"Multiple\",VLOOKUP($A180,Produits_composes!$A$1:$AA$30,25,FALSE),IF($J180=5.5%,$F180*(1+$J180)-$F180,\"\"))","v":0.63080544999999866},{"$f":"IF($J180=\"Multiple\",VLOOKUP(A180,Produits_composes!$A$1:$AA$30,26,FALSE),IF($J180=20%,$F180*(1+$J180)-$F180,\"\"))","v":""},3760219061229,1150,171]
["53A","Vin du Tsar - Rouge \"Le Bouquet\" ","0,75L","Bouteille",6,{"$f":"IF(J181=\"Multiple\",VLOOKUP(A181,Produits_composes!$A$1:$AA$30,24,FALSE),ROUNDDOWN(G181*100/(100+J181*100),5))","v":5.6666600000000003},6.8,0.05,5.39,0.2,1.1333399999999996,{"$f":"IF($J181=\"Multiple\",VLOOKUP($A181,Produits_composes!$A$1:$AA$30,25,FALSE),IF($J181=5.5%,$F181*(1+$J181)-$F181,\"\"))","v":""},{"$f":"IF($J181=\"Multiple\",VLOOKUP(A181,Produits_composes!$A$1:$AA$30,26,FALSE),IF($J181=20%,$F181*(1+$J181)-$F181,\"\"))","v":1.1333320000000002},3760219061212,1195,172]
["53B","Vin du Tsar - Rouge ''Cuvée du Millénaire''","0,75L","Bouteille",6,{"$f":"IF(J182=\"Multiple\",VLOOKUP(A182,Produits_composes!$A$1:$AA$30,24,FALSE),ROUNDDOWN(G182*100/(100+J182*100),5))","v":7.9166600000000003},9.5,0.05,7.5299999999999994,0.2,1.5833399999999997,{"$f":"IF($J182=\"Multiple\",VLOOKUP($A182,Produits_composes!$A$1:$AA$30,25,FALSE),IF($J182=5.5%,$F182*(1+$J182)-$F182,\"\"))","v":""},{"$f":"IF($J182=\"Multiple\",VLOOKUP(A182,Produits_composes!$A$1:$AA$30,26,FALSE),IF($J182=20%,$F182*(1+$J182)-$F182,\"\"))","v":1.5833320000000004},3760219061205,1195,173]
["53C","Vin du Tsar - Blanc ''Très’Or du Tsar''","0,75L","Bouteille",6,{"$f":"IF(J183=\"Multiple\",VLOOKUP(A183,Produits_composes!$A$1:$AA$30,24,FALSE),ROUNDDOWN(G183*100/(100+J183*100),5))","v":5.25},6.3,0.05,4.99,0.2,1.0499999999999998,{"$f":"IF($J183=\"Multiple\",VLOOKUP($A183,Produits_composes!$A$1:$AA$30,25,FALSE),IF($J183=5.5%,$F183*(1+$J183)-$F183,\"\"))","v":""},{"$f":"IF($J183=\"Multiple\",VLOOKUP(A183,Produits_composes!$A$1:$AA$30,26,FALSE),IF($J183=20%,$F183*(1+$J183)-$F183,\"\"))","v":1.0499999999999998},3760219061199,1195,174]
["53D","Vin du Tsar - Rosé ''Douceur de l’Impératrice''","0,75L","Bouteille",6,{"$f":"IF(J184=\"Multiple\",VLOOKUP(A184,Produits_composes!$A$1:$AA$30,24,FALSE),ROUNDDOWN(G184*100/(100+J184*100),5))","v":5.25},6.3,0.05,4.99,0.2,1.0499999999999998,{"$f":"IF($J184=\"Multiple\",VLOOKUP($A184,Produits_composes!$A$1:$AA$30,25,FALSE),IF($J184=5.5%,$F184*(1+$J184)-$F184,\"\"))","v":""},{"$f":"IF($J184=\"Multiple\",VLOOKUP(A184,Produits_composes!$A$1:$AA$30,26,FALSE),IF($J184=20%,$F184*(1+$J184)-$F184,\"\"))","v":1.0499999999999998},3760219061182,1195,175]
["53E","Vin du Tsar - Rosé ''Rosé des Pierres''","0,75L","Bouteille",6,{"$f":"IF(J185=\"Multiple\",VLOOKUP(A185,Produits_composes!$A$1:$AA$30,24,FALSE),ROUNDDOWN(G185*100/(100+J185*100),5))","v":4.8333300000000001},5.8,0.05,4.5999999999999996,0.2,0.9666699999999997,{"$f":"IF($J185=\"Multiple\",VLOOKUP($A185,Produits_composes!$A$1:$AA$30,25,FALSE),IF($J185=5.5%,$F185*(1+$J185)-$F185,\"\"))","v":""},{"$f":"IF($J185=\"Multiple\",VLOOKUP(A185,Produits_composes!$A$1:$AA$30,26,FALSE),IF($J185=20%,$F185*(1+$J185)-$F185,\"\"))","v":0.96666600000000003},3760219061175,1195,176]
["MPV1A","Pruneaux d'Agen BIO ","500g","Sachet",25,{"$f":"IF(J186=\"Multiple\",VLOOKUP(A186,Produits_composes!$A$1:$AA$30,24,FALSE),ROUNDDOWN(G186*100/(100+J186*100),5))","v":5.2132699999999996},5.5,{"$f":"$Q$2","v":0.2},4.18,5.5E-2,0.28673000000000037,{"$f":"IF($J186=\"Multiple\",VLOOKUP($A186,Produits_composes!$A$1:$AA$30,25,FALSE),IF($J186=5.5%,$F186*(1+$J186)-$F186,\"\"))","v":0.28672984999999951},{"$f":"IF($J186=\"Multiple\",VLOOKUP(A186,Produits_composes!$A$1:$AA$30,26,FALSE),IF($J186=20%,$F186*(1+$J186)-$F186,\"\"))","v":""},3760219060314,500,177]
["MPV1B","Pruneaux d'Agen BIO","1kg","Sachet",14,{"$f":"IF(J187=\"Multiple\",VLOOKUP(A187,Produits_composes!$A$1:$AA$30,24,FALSE),ROUNDDOWN(G187*100/(100+J187*100),5))","v":9.4786699999999993},10,{"$f":"$Q$2","v":0.2},7.59,5.5E-2,0.52133000000000074,{"$f":"IF($J187=\"Multiple\",VLOOKUP($A187,Produits_composes!$A$1:$AA$30,25,FALSE),IF($J187=5.5%,$F187*(1+$J187)-$F187,\"\"))","v":0.52132684999999945},{"$f":"IF($J187=\"Multiple\",VLOOKUP(A187,Produits_composes!$A$1:$AA$30,26,FALSE),IF($J187=20%,$F187*(1+$J187)-$F187,\"\"))","v":""},3760219060307,1000,178]
["MPV1C","Pruneaux d’Agen BIO dénoyautés","500g","Sachet",25,{"$f":"IF(J188=\"Multiple\",VLOOKUP(A188,Produits_composes!$A$1:$AA$30,24,FALSE),ROUNDDOWN(G188*100/(100+J188*100),5))","v":7.2985699999999998},7.7,{"$f":"$Q$2","v":0.2},5.84,5.5E-2,0.4014300000000004,{"$f":"IF($J188=\"Multiple\",VLOOKUP($A188,Produits_composes!$A$1:$AA$30,25,FALSE),IF($J188=5.5%,$F188*(1+$J188)-$F188,\"\"))","v":0.40142134999999968},{"$f":"IF($J188=\"Multiple\",VLOOKUP(A188,Produits_composes!$A$1:$AA$30,26,FALSE),IF($J188=20%,$F188*(1+$J188)-$F188,\"\"))","v":""},3760219060321,500,179]
["MPV1D","Pruneaux d’Agen BIO dénoyautés","1kg","Sachet",14,{"$f":"IF(J189=\"Multiple\",VLOOKUP(A189,Produits_composes!$A$1:$AA$30,24,FALSE),ROUNDDOWN(G189*100/(100+J189*100),5))","v":13.27014},14,{"$f":"$Q$2","v":0.2},10.62,5.5E-2,0.7298600000000004,{"$f":"IF($J189=\"Multiple\",VLOOKUP($A189,Produits_composes!$A$1:$AA$30,25,FALSE),IF($J189=5.5%,$F189*(1+$J189)-$F189,\"\"))","v":0.72985769999999839},{"$f":"IF($J189=\"Multiple\",VLOOKUP(A189,Produits_composes!$A$1:$AA$30,26,FALSE),IF($J189=20%,$F189*(1+$J189)-$F189,\"\"))","v":""},3760219061137,1000,180]
["MPV2A","Crème de pruneaux BIO","220g","Bocal",24,{"$f":"IF(J190=\"Multiple\",VLOOKUP(A190,Produits_composes!$A$1:$AA$30,24,FALSE),ROUNDDOWN(G190*100/(100+J190*100),5))","v":3.9810400000000001},4.2,{"$f":"$Q$2","v":0.2},3.19,5.5E-2,0.21896000000000004,{"$f":"IF($J190=\"Multiple\",VLOOKUP($A190,Produits_composes!$A$1:$AA$30,25,FALSE),IF($J190=5.5%,$F190*(1+$J190)-$F190,\"\"))","v":0.21895720000000019},{"$f":"IF($J190=\"Multiple\",VLOOKUP(A190,Produits_composes!$A$1:$AA$30,26,FALSE),IF($J190=20%,$F190*(1+$J190)-$F190,\"\"))","v":""},3760219060338,400,181]
["MPV3A","Jus de pruneaux BIO","25cl","Bouteille",12,{"$f":"IF(J191=\"Multiple\",VLOOKUP(A191,Produits_composes!$A$1:$AA$30,24,FALSE),ROUNDDOWN(G191*100/(100+J191*100),5))","v":2.3696600000000001},2.5,{"$f":"IF($Q$2>=20%,20%,$Q$2)","v":0.2},1.9,5.5E-2,0.1303399999999999,{"$f":"IF($J191=\"Multiple\",VLOOKUP($A191,Produits_composes!$A$1:$AA$30,25,FALSE),IF($J191=5.5%,$F191*(1+$J191)-$F191,\"\"))","v":0.13033129999999993},{"$f":"IF($J191=\"Multiple\",VLOOKUP(A191,Produits_composes!$A$1:$AA$30,26,FALSE),IF($J191=20%,$F191*(1+$J191)-$F191,\"\"))","v":""},3760219061113,400,182]
["MPV6A","Pruneaux d’Agen (33/44) - Boîte Or","1kg","Boite métal",6,{"$f":"IF(J192=\"Multiple\",VLOOKUP(A192,Produits_composes!$A$1:$AA$30,24,FALSE),ROUNDDOWN(G192*100/(100+J192*100),5))","v":9.9526000000000003},10.5,{"$f":"$Q$2","v":0.2},7.97,5.5E-2,0.54739999999999966,{"$f":"IF($J192=\"Multiple\",VLOOKUP($A192,Produits_composes!$A$1:$AA$30,25,FALSE),IF($J192=5.5%,$F192*(1+$J192)-$F192,\"\"))","v":0.54739299999999957},{"$f":"IF($J192=\"Multiple\",VLOOKUP(A192,Produits_composes!$A$1:$AA$30,26,FALSE),IF($J192=20%,$F192*(1+$J192)-$F192,\"\"))","v":""},3760219061106,1210,183]
["MPV6A2","Pruneaux d’Agen (33/44) - Boîte Or","750g","Boite métal",6,{"$f":"IF(J193=\"Multiple\",VLOOKUP(A193,Produits_composes!$A$1:$AA$30,24,FALSE),ROUNDDOWN(G193*100/(100+J193*100),5))","v":9.4881499999999992},10.01,0.2,7.6,5.5E-2,0.52185000000000059,{"$f":"IF($J193=\"Multiple\",VLOOKUP($A193,Produits_composes!$A$1:$AA$30,25,FALSE),IF($J193=5.5%,$F193*(1+$J193)-$F193,\"\"))","v":0.52184824999999968},{"$f":"IF($J193=\"Multiple\",VLOOKUP(A193,Produits_composes!$A$1:$AA$30,26,FALSE),IF($J193=20%,$F193*(1+$J193)-$F193,\"\"))","v":""},3760219060352,875,184]
["MPV6B","Pruneaux d’Agen (30/35) - Boîte Or","1kg","Boite métal",6,{"$f":"IF(J194=\"Multiple\",VLOOKUP(A194,Produits_composes!$A$1:$AA$30,24,FALSE),ROUNDDOWN(G194*100/(100+J194*100),5))","v":11.3744},12,0.2,9.1,5.5E-2,0.62560000000000038,{"$f":"IF($J194=\"Multiple\",VLOOKUP($A194,Produits_composes!$A$1:$AA$30,25,FALSE),IF($J194=5.5%,$F194*(1+$J194)-$F194,\"\"))","v":0.62559199999999926},{"$f":"IF($J194=\"Multiple\",VLOOKUP(A194,Produits_composes!$A$1:$AA$30,26,FALSE),IF($J194=20%,$F194*(1+$J194)-$F194,\"\"))","v":""},3760219061083,1210,185]
["MPV6C","Pruneaux d’Agen dénoyautés (44/55) - Boîte Or","1kg","Boite métal",6,{"$f":"IF(J195=\"Multiple\",VLOOKUP(A195,Produits_composes!$A$1:$AA$30,24,FALSE),ROUNDDOWN(G195*100/(100+J195*100),5))","v":12.32227},13,0.2,9.86,5.5E-2,0.67773000000000039,{"$f":"IF($J195=\"Multiple\",VLOOKUP($A195,Produits_composes!$A$1:$AA$30,25,FALSE),IF($J195=5.5%,$F195*(1+$J195)-$F195,\"\"))","v":0.67772484999999882},{"$f":"IF($J195=\"Multiple\",VLOOKUP(A195,Produits_composes!$A$1:$AA$30,26,FALSE),IF($J195=20%,$F195*(1+$J195)-$F195,\"\"))","v":""},3760219061076,1210,186]
["MPV7A","Pruneaux d’Agen Mi-Cuit","500g","Sachet",25,{"$f":"IF(J196=\"Multiple\",VLOOKUP(A196,Produits_composes!$A$1:$AA$30,24,FALSE),ROUNDDOWN(G196*100/(100+J196*100),5))","v":4.0758200000000002},4.3,{"$f":"IF($Q$2>=25%,25%,$Q$2)","v":0.2},3.2699999999999996,5.5E-2,0.2241799999999996,{"$f":"IF($J196=\"Multiple\",VLOOKUP($A196,Produits_composes!$A$1:$AA$30,25,FALSE),IF($J196=5.5%,$F196*(1+$J196)-$F196,\"\"))","v":0.22417009999999937},{"$f":"IF($J196=\"Multiple\",VLOOKUP(A196,Produits_composes!$A$1:$AA$30,26,FALSE),IF($J196=20%,$F196*(1+$J196)-$F196,\"\"))","v":""},3760219060222,500,187]
["MPV7B","Pruneaux d’Agen Mi-Cuit","1kg","Sachet",14,{"$f":"IF(J197=\"Multiple\",VLOOKUP(A197,Produits_composes!$A$1:$AA$30,24,FALSE),ROUNDDOWN(G197*100/(100+J197*100),5))","v":6.8720299999999996},7.25,{"$f":"IF($Q$2>=25%,25%,$Q$2)","v":0.2},5.5,5.5E-2,0.37797000000000036,{"$f":"IF($J197=\"Multiple\",VLOOKUP($A197,Produits_composes!$A$1:$AA$30,25,FALSE),IF($J197=5.5%,$F197*(1+$J197)-$F197,\"\"))","v":0.37796164999999959},{"$f":"IF($J197=\"Multiple\",VLOOKUP(A197,Produits_composes!$A$1:$AA$30,26,FALSE),IF($J197=20%,$F197*(1+$J197)-$F197,\"\"))","v":""},3760219061052,1000,188]
["MPV8A","Pruneaux d’Agen (cal. 33/44)","250g","Sachet",50,{"$f":"IF(J198=\"Multiple\",VLOOKUP(A198,Produits_composes!$A$1:$AA$30,24,FALSE),ROUNDDOWN(G198*100/(100+J198*100),5))","v":3.0331700000000001},3.2,0.2,2.4299999999999997,5.5E-2,0.16683000000000003,{"$f":"IF($J198=\"Multiple\",VLOOKUP($A198,Produits_composes!$A$1:$AA$30,25,FALSE),IF($J198=5.5%,$F198*(1+$J198)-$F198,\"\"))","v":0.16682434999999973},{"$f":"IF($J198=\"Multiple\",VLOOKUP(A198,Produits_composes!$A$1:$AA$30,26,FALSE),IF($J198=20%,$F198*(1+$J198)-$F198,\"\"))","v":""},3760219060291,250,189]
["MPV8B","Pruneaux d’Agen (cal. 33/44)","500g","Sachet",25,{"$f":"IF(J199=\"Multiple\",VLOOKUP(A199,Produits_composes!$A$1:$AA$30,24,FALSE),ROUNDDOWN(G199*100/(100+J199*100),5))","v":3.60189},3.8,0.2,2.8899999999999997,5.5E-2,0.19810999999999979,{"$f":"IF($J199=\"Multiple\",VLOOKUP($A199,Produits_composes!$A$1:$AA$30,25,FALSE),IF($J199=5.5%,$F199*(1+$J199)-$F199,\"\"))","v":0.1981039499999997},{"$f":"IF($J199=\"Multiple\",VLOOKUP(A199,Produits_composes!$A$1:$AA$30,26,FALSE),IF($J199=20%,$F199*(1+$J199)-$F199,\"\"))","v":""},3760219060284,500,190]
["MPV8C","Pruneaux d’Agen (cal. 33/44)","1kg","Sachet",14,{"$f":"IF(J200=\"Multiple\",VLOOKUP(A200,Produits_composes!$A$1:$AA$30,24,FALSE),ROUNDDOWN(G200*100/(100+J200*100),5))","v":6.16113},6.5,0.2,4.93,5.5E-2,0.33887,{"$f":"IF($J200=\"Multiple\",VLOOKUP($A200,Produits_composes!$A$1:$AA$30,25,FALSE),IF($J200=5.5%,$F200*(1+$J200)-$F200,\"\"))","v":0.33886214999999975},{"$f":"IF($J200=\"Multiple\",VLOOKUP(A200,Produits_composes!$A$1:$AA$30,26,FALSE),IF($J200=20%,$F200*(1+$J200)-$F200,\"\"))","v":""},3760219061021,1000,191]
["MPV8D","Pruneaux d’Agen (cal. 30/35)","500g","Sachet",25,{"$f":"IF(J201=\"Multiple\",VLOOKUP(A201,Produits_composes!$A$1:$AA$30,24,FALSE),ROUNDDOWN(G201*100/(100+J201*100),5))","v":4.6445400000000001},4.9000000000000004,0.2,3.7199999999999998,5.5E-2,0.25546000000000024,{"$f":"IF($J201=\"Multiple\",VLOOKUP($A201,Produits_composes!$A$1:$AA$30,25,FALSE),IF($J201=5.5%,$F201*(1+$J201)-$F201,\"\"))","v":0.25544969999999978},{"$f":"IF($J201=\"Multiple\",VLOOKUP(A201,Produits_composes!$A$1:$AA$30,26,FALSE),IF($J201=20%,$F201*(1+$J201)-$F201,\"\"))","v":""},3760219061014,500,192]
["MPV8E","Pruneaux d’Agen (cal. 30/35)","1kg","Sachet",14,{"$f":"IF(J202=\"Multiple\",VLOOKUP(A202,Produits_composes!$A$1:$AA$30,24,FALSE),ROUNDDOWN(G202*100/(100+J202*100),5))","v":7.6777199999999999},8.1,0.2,6.1499999999999995,5.5E-2,0.42227999999999977,{"$f":"IF($J202=\"Multiple\",VLOOKUP($A202,Produits_composes!$A$1:$AA$30,25,FALSE),IF($J202=5.5%,$F202*(1+$J202)-$F202,\"\"))","v":0.42227459999999883},{"$f":"IF($J202=\"Multiple\",VLOOKUP(A202,Produits_composes!$A$1:$AA$30,26,FALSE),IF($J202=20%,$F202*(1+$J202)-$F202,\"\"))","v":""},3760219061007,1000,193]
["MPV8F","Pruneaux d’Agen (cal. 25/30)","500g","Sachet",25,{"$f":"IF(J203=\"Multiple\",VLOOKUP(A203,Produits_composes!$A$1:$AA$30,24,FALSE),ROUNDDOWN(G203*100/(100+J203*100),5))","v":4.8341200000000004},5.0999999999999996,0.2,3.8699999999999997,5.5E-2,0.26587999999999923,{"$f":"IF($J203=\"Multiple\",VLOOKUP($A203,Produits_composes!$A$1:$AA$30,25,FALSE),IF($J203=5.5%,$F203*(1+$J203)-$F203,\"\"))","v":0.26587659999999946},{"$f":"IF($J203=\"Multiple\",VLOOKUP(A203,Produits_composes!$A$1:$AA$30,26,FALSE),IF($J203=20%,$F203*(1+$J203)-$F203,\"\"))","v":""},3760219060994,500,194]
["MPV8G","Pruneaux d’Agen (cal. 25/30)","1kg","Sachet",14,{"$f":"IF(J204=\"Multiple\",VLOOKUP(A204,Produits_composes!$A$1:$AA$30,24,FALSE),ROUNDDOWN(G204*100/(100+J204*100),5))","v":8.05687},8.5,0.2,6.45,5.5E-2,0.44313000000000002,{"$f":"IF($J204=\"Multiple\",VLOOKUP($A204,Produits_composes!$A$1:$AA$30,25,FALSE),IF($J204=5.5%,$F204*(1+$J204)-$F204,\"\"))","v":0.44312784999999977},{"$f":"IF($J204=\"Multiple\",VLOOKUP(A204,Produits_composes!$A$1:$AA$30,26,FALSE),IF($J204=20%,$F204*(1+$J204)-$F204,\"\"))","v":""},3760219060987,1000,195]
["MPV9A","Pruneaux d’Agen dénoyauté (cal. 44/55)","250g","Sachet",50,{"$f":"IF(J205=\"Multiple\",VLOOKUP(A205,Produits_composes!$A$1:$AA$30,24,FALSE),ROUNDDOWN(G205*100/(100+J205*100),5))","v":3.0331700000000001},3.2,0.2,2.4299999999999997,5.5E-2,0.16683000000000003,{"$f":"IF($J205=\"Multiple\",VLOOKUP($A205,Produits_composes!$A$1:$AA$30,25,FALSE),IF($J205=5.5%,$F205*(1+$J205)-$F205,\"\"))","v":0.16682434999999973},{"$f":"IF($J205=\"Multiple\",VLOOKUP(A205,Produits_composes!$A$1:$AA$30,26,FALSE),IF($J205=20%,$F205*(1+$J205)-$F205,\"\"))","v":""},3760219060239,250,196]
["MPV9B","Pruneaux d’Agen dénoyauté (cal. 44/55)","500g","Sachet",25,{"$f":"IF(J206=\"Multiple\",VLOOKUP(A206,Produits_composes!$A$1:$AA$30,24,FALSE),ROUNDDOWN(G206*100/(100+J206*100),5))","v":4.54976},4.8,0.2,{"$f":"IF(H206=0,F206,ROUNDUP($F206-$F206*$H206,2))","v":3.6399999999999997},5.5E-2,{"$f":"G206-F206","v":0.2502399999999998},{"$f":"IF($J206=\"Multiple\",VLOOKUP($A206,Produits_composes!$A$1:$AA$30,25,FALSE),IF($J206=5.5%,$F206*(1+$J206)-$F206,\"\"))","v":0.2502367999999997},{"$f":"IF($J206=\"Multiple\",VLOOKUP(A206,Produits_composes!$A$1:$AA$30,26,FALSE),IF($J206=20%,$F206*(1+$J206)-$F206,\"\"))","v":""},3760219060246,500,197]
["MPV9C","Pruneaux d’Agen dénoy. (cal. 44/55)","1kg","Sachet",14,{"$f":"IF(J207=\"Multiple\",VLOOKUP(A207,Produits_composes!$A$1:$AA$30,24,FALSE),ROUNDDOWN(G207*100/(100+J207*100),5))","v":8.4360099999999996},8.9,0.2,6.75,5.5E-2,0.46399000000000079,{"$f":"IF($J207=\"Multiple\",VLOOKUP($A207,Produits_composes!$A$1:$AA$30,25,FALSE),IF($J207=5.5%,$F207*(1+$J207)-$F207,\"\"))","v":0.46398054999999871},{"$f":"IF($J207=\"Multiple\",VLOOKUP(A207,Produits_composes!$A$1:$AA$30,26,FALSE),IF($J207=20%,$F207*(1+$J207)-$F207,\"\"))","v":""},3760219060956,1000,198]
["MPV9D","Pruneaux d’Agen dénoy. (cal. 30/35)","500g","Sachet",25,{"$f":"IF(J208=\"Multiple\",VLOOKUP(A208,Produits_composes!$A$1:$AA$30,24,FALSE),ROUNDDOWN(G208*100/(100+J208*100),5))","v":5.2132699999999996},5.5,0.2,4.18,5.5E-2,0.28673000000000037,{"$f":"IF($J208=\"Multiple\",VLOOKUP($A208,Produits_composes!$A$1:$AA$30,25,FALSE),IF($J208=5.5%,$F208*(1+$J208)-$F208,\"\"))","v":0.28672984999999951},{"$f":"IF($J208=\"Multiple\",VLOOKUP(A208,Produits_composes!$A$1:$AA$30,26,FALSE),IF($J208=20%,$F208*(1+$J208)-$F208,\"\"))","v":""},3760219060949,500,199]
["MPV9E","Pruneaux d’Agen dénoy. (cal. 30/35)","1kg","Sachet",14,{"$f":"IF(J209=\"Multiple\",VLOOKUP(A209,Produits_composes!$A$1:$AA$30,24,FALSE),ROUNDDOWN(G209*100/(100+J209*100),5))","v":8.7203700000000008},9.1999999999999993,0.2,6.9799999999999995,5.5E-2,0.47962999999999845,{"$f":"IF($J209=\"Multiple\",VLOOKUP($A209,Produits_composes!$A$1:$AA$30,25,FALSE),IF($J209=5.5%,$F209*(1+$J209)-$F209,\"\"))","v":0.47962034999999936},{"$f":"IF($J209=\"Multiple\",VLOOKUP(A209,Produits_composes!$A$1:$AA$30,26,FALSE),IF($J209=20%,$F209*(1+$J209)-$F209,\"\"))","v":""},3760219060932,1000,200]
["MPV10A","Jus de Pruneaux","1L","Bouteille",6,{"$f":"IF(J210=\"Multiple\",VLOOKUP(A210,Produits_composes!$A$1:$AA$30,24,FALSE),ROUNDDOWN(G210*100/(100+J210*100),5))","v":3.9810400000000001},4.2,0.2,3.19,5.5E-2,0.21896000000000004,{"$f":"IF($J210=\"Multiple\",VLOOKUP($A210,Produits_composes!$A$1:$AA$30,25,FALSE),IF($J210=5.5%,$F210*(1+$J210)-$F210,\"\"))","v":0.21895720000000019},{"$f":"IF($J210=\"Multiple\",VLOOKUP(A210,Produits_composes!$A$1:$AA$30,26,FALSE),IF($J210=20%,$F210*(1+$J210)-$F210,\"\"))","v":""},3760219060215,1450,201]
["MPV10B","Jus de Pruneaux","25cl","Bouteille",12,{"$f":"IF(J211=\"Multiple\",VLOOKUP(A211,Produits_composes!$A$1:$AA$30,24,FALSE),ROUNDDOWN(G211*100/(100+J211*100),5))","v":2.0853000000000002},2.2000000000000002,0.2,1.67,5.5E-2,0.11470000000000002,{"$f":"IF($J211=\"Multiple\",VLOOKUP($A211,Produits_composes!$A$1:$AA$30,25,FALSE),IF($J211=5.5%,$F211*(1+$J211)-$F211,\"\"))","v":0.11469149999999972},{"$f":"IF($J211=\"Multiple\",VLOOKUP(A211,Produits_composes!$A$1:$AA$30,26,FALSE),IF($J211=20%,$F211*(1+$J211)-$F211,\"\"))","v":""},3760219060253,400,202]
["MPV11A","Pétillant de pruneaux","0,75L","Bouteille",6,{"$f":"IF(J212=\"Multiple\",VLOOKUP(A212,Produits_composes!$A$1:$AA$30,24,FALSE),ROUNDDOWN(G212*100/(100+J212*100),5))","v":5.5924100000000001},5.9,0.2,4.4799999999999995,5.5E-2,0.30759000000000025,{"$f":"IF($J212=\"Multiple\",VLOOKUP($A212,Produits_composes!$A$1:$AA$30,25,FALSE),IF($J212=5.5%,$F212*(1+$J212)-$F212,\"\"))","v":0.30758254999999934},{"$f":"IF($J212=\"Multiple\",VLOOKUP(A212,Produits_composes!$A$1:$AA$30,26,FALSE),IF($J212=20%,$F212*(1+$J212)-$F212,\"\"))","v":""},3760219060918,1350,203]
["MPV12A","Pruneaux d’Agen secs","500g","Sachet",25,{"$f":"IF(J213=\"Multiple\",VLOOKUP(A213,Produits_composes!$A$1:$AA$30,24,FALSE),ROUNDDOWN(G213*100/(100+J213*100),5))","v":2.3696600000000001},2.5,0.2,1.9,5.5E-2,0.1303399999999999,{"$f":"IF($J213=\"Multiple\",VLOOKUP($A213,Produits_composes!$A$1:$AA$30,25,FALSE),IF($J213=5.5%,$F213*(1+$J213)-$F213,\"\"))","v":0.13033129999999993},{"$f":"IF($J213=\"Multiple\",VLOOKUP(A213,Produits_composes!$A$1:$AA$30,26,FALSE),IF($J213=20%,$F213*(1+$J213)-$F213,\"\"))","v":""},3760219060147,500,204]
["MPV12B","Pruneaux d’Agen secs","1kg","Sachet",14,{"$f":"IF(J214=\"Multiple\",VLOOKUP(A214,Produits_composes!$A$1:$AA$30,24,FALSE),ROUNDDOWN(G214*100/(100+J214*100),5))","v":4.6445400000000001},4.9000000000000004,0.2,3.7199999999999998,5.5E-2,0.25546000000000024,{"$f":"IF($J214=\"Multiple\",VLOOKUP($A214,Produits_composes!$A$1:$AA$30,25,FALSE),IF($J214=5.5%,$F214*(1+$J214)-$F214,\"\"))","v":0.25544969999999978},{"$f":"IF($J214=\"Multiple\",VLOOKUP(A214,Produits_composes!$A$1:$AA$30,26,FALSE),IF($J214=20%,$F214*(1+$J214)-$F214,\"\"))","v":""},3760219060895,1000,205]
["MPV13A","Crème de pruneaux","220g","Bocal",24,{"$f":"IF(J215=\"Multiple\",VLOOKUP(A215,Produits_composes!$A$1:$AA$30,24,FALSE),ROUNDDOWN(G215*100/(100+J215*100),5))","v":3.0331700000000001},3.2,0.2,2.4299999999999997,5.5E-2,0.16683000000000003,{"$f":"IF($J215=\"Multiple\",VLOOKUP($A215,Produits_composes!$A$1:$AA$30,25,FALSE),IF($J215=5.5%,$F215*(1+$J215)-$F215,\"\"))","v":0.16682434999999973},{"$f":"IF($J215=\"Multiple\",VLOOKUP(A215,Produits_composes!$A$1:$AA$30,26,FALSE),IF($J215=20%,$F215*(1+$J215)-$F215,\"\"))","v":""},3760219060888,380,206]
["MPV13B","Crème de pruneaux ","320g","Bocal",24,{"$f":"IF(J216=\"Multiple\",VLOOKUP(A216,Produits_composes!$A$1:$AA$30,24,FALSE),ROUNDDOWN(G216*100/(100+J216*100),5))","v":3.9810400000000001},4.2,0.2,3.19,5.5E-2,0.21896000000000004,{"$f":"IF($J216=\"Multiple\",VLOOKUP($A216,Produits_composes!$A$1:$AA$30,25,FALSE),IF($J216=5.5%,$F216*(1+$J216)-$F216,\"\"))","v":0.21895720000000019},{"$f":"IF($J216=\"Multiple\",VLOOKUP(A216,Produits_composes!$A$1:$AA$30,26,FALSE),IF($J216=20%,$F216*(1+$J216)-$F216,\"\"))","v":""},3760219060192,525,207]
["MPV14A","Pulpe de pruneaux","310g","Bocal",24,{"$f":"IF(J217=\"Multiple\",VLOOKUP(A217,Produits_composes!$A$1:$AA$30,24,FALSE),ROUNDDOWN(G217*100/(100+J217*100),5))","v":3.9810400000000001},4.2,0.2,3.19,5.5E-2,0.21896000000000004,{"$f":"IF($J217=\"Multiple\",VLOOKUP($A217,Produits_composes!$A$1:$AA$30,25,FALSE),IF($J217=5.5%,$F217*(1+$J217)-$F217,\"\"))","v":0.21895720000000019},{"$f":"IF($J217=\"Multiple\",VLOOKUP(A217,Produits_composes!$A$1:$AA$30,26,FALSE),IF($J217=20%,$F217*(1+$J217)-$F217,\"\"))","v":""},3760219060864,530,208]
["MPV15A","Pruneaux au sirop","320g","Bocal",14,{"$f":"IF(J218=\"Multiple\",VLOOKUP(A218,Produits_composes!$A$1:$AA$30,24,FALSE),ROUNDDOWN(G218*100/(100+J218*100),5))","v":3.2227399999999999},3.4,0.2,2.5799999999999996,5.5E-2,0.17725999999999997,{"$f":"IF($J218=\"Multiple\",VLOOKUP($A218,Produits_composes!$A$1:$AA$30,25,FALSE),IF($J218=5.5%,$F218*(1+$J218)-$F218,\"\"))","v":0.17725069999999965},{"$f":"IF($J218=\"Multiple\",VLOOKUP(A218,Produits_composes!$A$1:$AA$30,26,FALSE),IF($J218=20%,$F218*(1+$J218)-$F218,\"\"))","v":""},3760219060154,565,209]
["MPV16A","Confiture de Prune d'Ente allégée ","250g","Bocal",10,{"$f":"IF(J219=\"Multiple\",VLOOKUP(A219,Produits_composes!$A$1:$AA$30,24,FALSE),ROUNDDOWN(G219*100/(100+J219*100),5))","v":3.7914599999999998},4,0.2,3.0399999999999996,5.5E-2,0.20854000000000017,{"$f":"IF($J219=\"Multiple\",VLOOKUP($A219,Produits_composes!$A$1:$AA$30,25,FALSE),IF($J219=5.5%,$F219*(1+$J219)-$F219,\"\"))","v":0.20853029999999961},{"$f":"IF($J219=\"Multiple\",VLOOKUP(A219,Produits_composes!$A$1:$AA$30,26,FALSE),IF($J219=20%,$F219*(1+$J219)-$F219,\"\"))","v":""},3760219060840,465,210]
["MPV16B","Confiture de Prune Reine-Claude allégée","250g","Bocal",10,{"$f":"IF(J220=\"Multiple\",VLOOKUP(A220,Produits_composes!$A$1:$AA$30,24,FALSE),ROUNDDOWN(G220*100/(100+J220*100),5))","v":3.7914599999999998},4,0.2,3.0399999999999996,5.5E-2,0.20854000000000017,{"$f":"IF($J220=\"Multiple\",VLOOKUP($A220,Produits_composes!$A$1:$AA$30,25,FALSE),IF($J220=5.5%,$F220*(1+$J220)-$F220,\"\"))","v":0.20853029999999961},{"$f":"IF($J220=\"Multiple\",VLOOKUP(A220,Produits_composes!$A$1:$AA$30,26,FALSE),IF($J220=20%,$F220*(1+$J220)-$F220,\"\"))","v":""},3760219060833,465,211]
["MPV16C","Confiture de Fraises","250g","Bocal",10,{"$f":"IF(J221=\"Multiple\",VLOOKUP(A221,Produits_composes!$A$1:$AA$30,24,FALSE),ROUNDDOWN(G221*100/(100+J221*100),5))","v":3.7914599999999998},4,0.2,3.0399999999999996,5.5E-2,0.20854000000000017,{"$f":"IF($J221=\"Multiple\",VLOOKUP($A221,Produits_composes!$A$1:$AA$30,25,FALSE),IF($J221=5.5%,$F221*(1+$J221)-$F221,\"\"))","v":0.20853029999999961},{"$f":"IF($J221=\"Multiple\",VLOOKUP(A221,Produits_composes!$A$1:$AA$30,26,FALSE),IF($J221=20%,$F221*(1+$J221)-$F221,\"\"))","v":""},3760219060826,465,212]
["MPV17A","Confiture de Prune d'Ente allégée","330g","Bocal",14,{"$f":"IF(J222=\"Multiple\",VLOOKUP(A222,Produits_composes!$A$1:$AA$30,24,FALSE),ROUNDDOWN(G222*100/(100+J222*100),5))","v":4.2653999999999996},4.5,0.2,3.42,5.5E-2,0.23460000000000036,{"$f":"IF($J222=\"Multiple\",VLOOKUP($A222,Produits_composes!$A$1:$AA$30,25,FALSE),IF($J222=5.5%,$F222*(1+$J222)-$F222,\"\"))","v":0.23459699999999994},{"$f":"IF($J222=\"Multiple\",VLOOKUP(A222,Produits_composes!$A$1:$AA$30,26,FALSE),IF($J222=20%,$F222*(1+$J222)-$F222,\"\"))","v":""},3760219060819,560,213]
["MPV17B","Confiture de Prune Reine-Claude allégée","330g","Bocal",14,{"$f":"IF(J223=\"Multiple\",VLOOKUP(A223,Produits_composes!$A$1:$AA$30,24,FALSE),ROUNDDOWN(G223*100/(100+J223*100),5))","v":4.2653999999999996},4.5,0.2,3.42,5.5E-2,0.23460000000000036,{"$f":"IF($J223=\"Multiple\",VLOOKUP($A223,Produits_composes!$A$1:$AA$30,25,FALSE),IF($J223=5.5%,$F223*(1+$J223)-$F223,\"\"))","v":0.23459699999999994},{"$f":"IF($J223=\"Multiple\",VLOOKUP(A223,Produits_composes!$A$1:$AA$30,26,FALSE),IF($J223=20%,$F223*(1+$J223)-$F223,\"\"))","v":""},3760219060802,560,214]
["MPV17C","Confiture de Fraise","330g","Bocal",14,{"$f":"IF(J224=\"Multiple\",VLOOKUP(A224,Produits_composes!$A$1:$AA$30,24,FALSE),ROUNDDOWN(G224*100/(100+J224*100),5))","v":4.2653999999999996},4.5,0.2,3.42,5.5E-2,0.23460000000000036,{"$f":"IF($J224=\"Multiple\",VLOOKUP($A224,Produits_composes!$A$1:$AA$30,25,FALSE),IF($J224=5.5%,$F224*(1+$J224)-$F224,\"\"))","v":0.23459699999999994},{"$f":"IF($J224=\"Multiple\",VLOOKUP(A224,Produits_composes!$A$1:$AA$30,26,FALSE),IF($J224=20%,$F224*(1+$J224)-$F224,\"\"))","v":""},3760219060796,560,215]
["MPV17D","Confiture de Kiwi allégée","330g","Bocal",14,{"$f":"IF(J225=\"Multiple\",VLOOKUP(A225,Produits_composes!$A$1:$AA$30,24,FALSE),ROUNDDOWN(G225*100/(100+J225*100),5))","v":4.2653999999999996},4.5,0.2,3.42,5.5E-2,{"$f":"G225-F225","v":0.23460000000000036},{"$f":"IF($J225=\"Multiple\",VLOOKUP($A225,Produits_composes!$A$1:$AA$30,25,FALSE),IF($J225=5.5%,$F225*(1+$J225)-$F225,\"\"))","v":0.23459699999999994},{"$f":"IF($J225=\"Multiple\",VLOOKUP(A225,Produits_composes!$A$1:$AA$30,26,FALSE),IF($J225=20%,$F225*(1+$J225)-$F225,\"\"))","v":""},3760219063018,560,215]
["MPV18A","Nougat aux pruneaux","100g","Sachet",10,{"$f":"IF(J226=\"Multiple\",VLOOKUP(A226,Produits_composes!$A$1:$AA$30,24,FALSE),ROUNDDOWN(G226*100/(100+J226*100),5))","v":4.5833300000000001},5.5,0.2,3.67,0.2,0.91666999999999987,{"$f":"IF($J226=\"Multiple\",VLOOKUP($A226,Produits_composes!$A$1:$AA$30,25,FALSE),IF($J226=5.5%,$F226*(1+$J226)-$F226,\"\"))","v":""},{"$f":"IF($J226=\"Multiple\",VLOOKUP(A226,Produits_composes!$A$1:$AA$30,26,FALSE),IF($J226=20%,$F226*(1+$J226)-$F226,\"\"))","v":0.9166660000000002},3760219060789,100,216]
["MPV18B","Nougat aux pruneaux","150g","Sachet",10,{"$f":"IF(J227=\"Multiple\",VLOOKUP(A227,Produits_composes!$A$1:$AA$30,24,FALSE),ROUNDDOWN(G227*100/(100+J227*100),5))","v":6.6666600000000003},8,0.2,5.34,0.2,{"$f":"G227-F227","v":1.3333399999999997},{"$f":"IF($J227=\"Multiple\",VLOOKUP($A227,Produits_composes!$A$1:$AA$30,25,FALSE),IF($J227=5.5%,$F227*(1+$J227)-$F227,\"\"))","v":""},{"$f":"IF($J227=\"Multiple\",VLOOKUP(A227,Produits_composes!$A$1:$AA$30,26,FALSE),IF($J227=20%,$F227*(1+$J227)-$F227,\"\"))","v":1.3333319999999995},3760219060772,150,217]
["MPV19A","Mendiants chocolat noir","150g","Sachet",10,{"$f":"IF(J228=\"Multiple\",VLOOKUP(A228,Produits_composes!$A$1:$AA$30,24,FALSE),ROUNDDOWN(G228*100/(100+J228*100),5))","v":5.6871999999999998},6,0.2,4.55,5.5E-2,0.31280000000000019,{"$f":"IF($J228=\"Multiple\",VLOOKUP($A228,Produits_composes!$A$1:$AA$30,25,FALSE),IF($J228=5.5%,$F228*(1+$J228)-$F228,\"\"))","v":0.31279599999999963},{"$f":"IF($J228=\"Multiple\",VLOOKUP(A228,Produits_composes!$A$1:$AA$30,26,FALSE),IF($J228=20%,$F228*(1+$J228)-$F228,\"\"))","v":""},3760219060765,150,218]
["MPV19B","Mendiants chocolat noir","200g","Sachet",10,{"$f":"IF(J229=\"Multiple\",VLOOKUP(A229,Produits_composes!$A$1:$AA$30,24,FALSE),ROUNDDOWN(G229*100/(100+J229*100),5))","v":8.05687},8.5,0.2,6.45,5.5E-2,0.44313000000000002,{"$f":"IF($J229=\"Multiple\",VLOOKUP($A229,Produits_composes!$A$1:$AA$30,25,FALSE),IF($J229=5.5%,$F229*(1+$J229)-$F229,\"\"))","v":0.44312784999999977},{"$f":"IF($J229=\"Multiple\",VLOOKUP(A229,Produits_composes!$A$1:$AA$30,26,FALSE),IF($J229=20%,$F229*(1+$J229)-$F229,\"\"))","v":""},3760219060758,200,219]
["MPV20A","Mendiants chocolat lait","150g","Sachet",10,{"$f":"IF(J230=\"Multiple\",VLOOKUP(A230,Produits_composes!$A$1:$AA$30,24,FALSE),ROUNDDOWN(G230*100/(100+J230*100),5))","v":5.6871999999999998},6,0.2,4.55,5.5E-2,0.31280000000000019,{"$f":"IF($J230=\"Multiple\",VLOOKUP($A230,Produits_composes!$A$1:$AA$30,25,FALSE),IF($J230=5.5%,$F230*(1+$J230)-$F230,\"\"))","v":0.31279599999999963},{"$f":"IF($J230=\"Multiple\",VLOOKUP(A230,Produits_composes!$A$1:$AA$30,26,FALSE),IF($J230=20%,$F230*(1+$J230)-$F230,\"\"))","v":""},3760219060741,150,220]
["MPV20B","Mendiants chocolat lait","200g","Sachet",10,{"$f":"IF(J231=\"Multiple\",VLOOKUP(A231,Produits_composes!$A$1:$AA$30,24,FALSE),ROUNDDOWN(G231*100/(100+J231*100),5))","v":8.05687},8.5,0.2,6.45,5.5E-2,0.44313000000000002,{"$f":"IF($J231=\"Multiple\",VLOOKUP($A231,Produits_composes!$A$1:$AA$30,25,FALSE),IF($J231=5.5%,$F231*(1+$J231)-$F231,\"\"))","v":0.44312784999999977},{"$f":"IF($J231=\"Multiple\",VLOOKUP(A231,Produits_composes!$A$1:$AA$30,26,FALSE),IF($J231=20%,$F231*(1+$J231)-$F231,\"\"))","v":""},3760219060734,200,221]
["MPV21A","Pâtes de fruit - (saveur à préciser)","100g","Sachet",10,{"$f":"IF(J232=\"Multiple\",VLOOKUP(A232,Produits_composes!$A$1:$AA$30,24,FALSE),ROUNDDOWN(G232*100/(100+J232*100),5))","v":5.6871999999999998},6,0.2,4.55,5.5E-2,0.31280000000000019,{"$f":"IF($J232=\"Multiple\",VLOOKUP($A232,Produits_composes!$A$1:$AA$30,25,FALSE),IF($J232=5.5%,$F232*(1+$J232)-$F232,\"\"))","v":0.31279599999999963},{"$f":"IF($J232=\"Multiple\",VLOOKUP(A232,Produits_composes!$A$1:$AA$30,26,FALSE),IF($J232=20%,$F232*(1+$J232)-$F232,\"\"))","v":""},3760219060727,100,222]
["MPV21B","Pâtes de fruit - Mixte (mélange)","100g","Sachet",10,{"$f":"IF(J233=\"Multiple\",VLOOKUP(A233,Produits_composes!$A$1:$AA$30,24,FALSE),ROUNDDOWN(G233*100/(100+J233*100),5))","v":6.16113},6.5,0.2,4.93,5.5E-2,0.33887,{"$f":"IF($J233=\"Multiple\",VLOOKUP($A233,Produits_composes!$A$1:$AA$30,25,FALSE),IF($J233=5.5%,$F233*(1+$J233)-$F233,\"\"))","v":0.33886214999999975},{"$f":"IF($J233=\"Multiple\",VLOOKUP(A233,Produits_composes!$A$1:$AA$30,26,FALSE),IF($J233=20%,$F233*(1+$J233)-$F233,\"\"))","v":""},3760219060710,100,223]
["MPV22A","Pâtes de velours chocolat","150g","Sachet",10,{"$f":"IF(J234=\"Multiple\",VLOOKUP(A234,Produits_composes!$A$1:$AA$30,24,FALSE),ROUNDDOWN(G234*100/(100+J234*100),5))","v":5.6871999999999998},6,0.2,4.55,5.5E-2,0.31280000000000019,{"$f":"IF($J234=\"Multiple\",VLOOKUP($A234,Produits_composes!$A$1:$AA$30,25,FALSE),IF($J234=5.5%,$F234*(1+$J234)-$F234,\"\"))","v":0.31279599999999963},{"$f":"IF($J234=\"Multiple\",VLOOKUP(A234,Produits_composes!$A$1:$AA$30,26,FALSE),IF($J234=20%,$F234*(1+$J234)-$F234,\"\"))","v":""},3760219060703,100,224]
["MPV23A","Madeleines à la crème de pruneau (env. 5 unités)","100g","Sachet",10,{"$f":"IF(J235=\"Multiple\",VLOOKUP(A235,Produits_composes!$A$1:$AA$30,24,FALSE),ROUNDDOWN(G235*100/(100+J235*100),5))","v":2.4644499999999998},2.6,0.2,1.98,5.5E-2,0.13555000000000028,{"$f":"IF($J235=\"Multiple\",VLOOKUP($A235,Produits_composes!$A$1:$AA$30,25,FALSE),IF($J235=5.5%,$F235*(1+$J235)-$F235,\"\"))","v":0.13554474999999977},{"$f":"IF($J235=\"Multiple\",VLOOKUP(A235,Produits_composes!$A$1:$AA$30,26,FALSE),IF($J235=20%,$F235*(1+$J235)-$F235,\"\"))","v":""},3760219060697,100,225]
["MPV23B","Madeleines à la crème de pruneau (env. 8 unités)","150g","Sachet",10,{"$f":"IF(J236=\"Multiple\",VLOOKUP(A236,Produits_composes!$A$1:$AA$30,24,FALSE),ROUNDDOWN(G236*100/(100+J236*100),5))","v":3.6966800000000002},3.9,0.2,2.96,5.5E-2,0.20331999999999972,{"$f":"IF($J236=\"Multiple\",VLOOKUP($A236,Produits_composes!$A$1:$AA$30,25,FALSE),IF($J236=5.5%,$F236*(1+$J236)-$F236,\"\"))","v":0.20331739999999998},{"$f":"IF($J236=\"Multiple\",VLOOKUP(A236,Produits_composes!$A$1:$AA$30,26,FALSE),IF($J236=20%,$F236*(1+$J236)-$F236,\"\"))","v":""},3760219060680,150,226]
["MPV24A","Pruneaux fourrés - Boîte Or","350g","Boite métal",6,{"$f":"IF(J237=\"Multiple\",VLOOKUP(A237,Produits_composes!$A$1:$AA$30,24,FALSE),ROUNDDOWN(G237*100/(100+J237*100),5))","v":12.41666},14.9,{"$f":"IF($Q$2>=25%,25%,$Q$2)","v":0.2},9.94,0.2,2.4833400000000001,{"$f":"IF($J237=\"Multiple\",VLOOKUP($A237,Produits_composes!$A$1:$AA$30,25,FALSE),IF($J237=5.5%,$F237*(1+$J237)-$F237,\"\"))","v":""},{"$f":"IF($J237=\"Multiple\",VLOOKUP(A237,Produits_composes!$A$1:$AA$30,26,FALSE),IF($J237=20%,$F237*(1+$J237)-$F237,\"\"))","v":2.483331999999999},3760219060369,560,227]
["MPV24B","Pruneaux fourrés Armagnac - Boîte Or","350g","Boite métal",6,{"$f":"IF(J238=\"Multiple\",VLOOKUP(A238,Produits_composes!$A$1:$AA$30,24,FALSE),ROUNDDOWN(G238*100/(100+J238*100),5))","v":12.91666},15.5,{"$f":"IF($Q$2>=25%,25%,$Q$2)","v":0.2},10.34,0.2,2.5833399999999997,{"$f":"IF($J238=\"Multiple\",VLOOKUP($A238,Produits_composes!$A$1:$AA$30,25,FALSE),IF($J238=5.5%,$F238*(1+$J238)-$F238,\"\"))","v":""},{"$f":"IF($J238=\"Multiple\",VLOOKUP(A238,Produits_composes!$A$1:$AA$30,26,FALSE),IF($J238=20%,$F238*(1+$J238)-$F238,\"\"))","v":2.5833319999999986},3760219060666,560,228]
["MPV24C","Pruneaux fourrés - Boîte Or","600g","Boite métal",6,{"$f":"IF(J239=\"Multiple\",VLOOKUP(A239,Produits_composes!$A$1:$AA$30,24,FALSE),ROUNDDOWN(G239*100/(100+J239*100),5))","v":17.83333},21.4,0.2,14.27,0.2,3.5666699999999985,{"$f":"IF($J239=\"Multiple\",VLOOKUP($A239,Produits_composes!$A$1:$AA$30,25,FALSE),IF($J239=5.5%,$F239*(1+$J239)-$F239,\"\"))","v":""},{"$f":"IF($J239=\"Multiple\",VLOOKUP(A239,Produits_composes!$A$1:$AA$30,26,FALSE),IF($J239=20%,$F239*(1+$J239)-$F239,\"\"))","v":3.5666659999999979},3760219060659,915,229]
["MPV24D","Pruneaux fourrés Armagnac - Boîte Or","600g","Boite métal",6,{"$f":"IF(J240=\"Multiple\",VLOOKUP(A240,Produits_composes!$A$1:$AA$30,24,FALSE),ROUNDDOWN(G240*100/(100+J240*100),5))","v":18.33333},22,0.2,14.67,0.2,3.6666699999999999,{"$f":"IF($J240=\"Multiple\",VLOOKUP($A240,Produits_composes!$A$1:$AA$30,25,FALSE),IF($J240=5.5%,$F240*(1+$J240)-$F240,\"\"))","v":""},{"$f":"IF($J240=\"Multiple\",VLOOKUP(A240,Produits_composes!$A$1:$AA$30,26,FALSE),IF($J240=20%,$F240*(1+$J240)-$F240,\"\"))","v":3.6666659999999993},3760219060642,915,230]
["MPV24E","Pruneaux fourrés - Boîte Or","850g","Boite métal",6,{"$f":"IF(J241=\"Multiple\",VLOOKUP(A241,Produits_composes!$A$1:$AA$30,24,FALSE),ROUNDDOWN(G241*100/(100+J241*100),5))","v":23.66666},28.4,0.2,18.940000000000001,0.2,4.7333399999999983,{"$f":"IF($J241=\"Multiple\",VLOOKUP($A241,Produits_composes!$A$1:$AA$30,25,FALSE),IF($J241=5.5%,$F241*(1+$J241)-$F241,\"\"))","v":""},{"$f":"IF($J241=\"Multiple\",VLOOKUP(A241,Produits_composes!$A$1:$AA$30,26,FALSE),IF($J241=20%,$F241*(1+$J241)-$F241,\"\"))","v":4.7333320000000008},3760219060635,1040,231]
["MPV24F","Pruneaux fourrés + Prunchoco® - Boîte Or","290g","Boite métal",6,{"$f":"IF(J242=\"Multiple\",VLOOKUP(A242,Produits_composes!$A$1:$AA$30,24,FALSE),ROUNDDOWN(G242*100/(100+J242*100),5))","v":12.25},14.7,0.2,9.8000000000000007,0.2,2.4499999999999993,{"$f":"IF($J242=\"Multiple\",VLOOKUP($A242,Produits_composes!$A$1:$AA$30,25,FALSE),IF($J242=5.5%,$F242*(1+$J242)-$F242,\"\"))","v":""},{"$f":"IF($J242=\"Multiple\",VLOOKUP(A242,Produits_composes!$A$1:$AA$30,26,FALSE),IF($J242=20%,$F242*(1+$J242)-$F242,\"\"))","v":2.4499999999999993},3760219060628,450,232]
["MPV24G","Pruneaux fourrés + Prunchoco® - Boîte Or","500g","Boite métal",6,{"$f":"IF(J243=\"Multiple\",VLOOKUP(A243,Produits_composes!$A$1:$AA$30,24,FALSE),ROUNDDOWN(G243*100/(100+J243*100),5))","v":17.75},21.3,0.2,14.2,0.2,3.5500000000000007,{"$f":"IF($J243=\"Multiple\",VLOOKUP($A243,Produits_composes!$A$1:$AA$30,25,FALSE),IF($J243=5.5%,$F243*(1+$J243)-$F243,\"\"))","v":""},{"$f":"IF($J243=\"Multiple\",VLOOKUP(A243,Produits_composes!$A$1:$AA$30,26,FALSE),IF($J243=20%,$F243*(1+$J243)-$F243,\"\"))","v":3.5500000000000007},3760219060611,735,233]
["MPV26P","Prun’Choco® (saveur à préciser)","200g","Pochette",5,{"$f":"IF(J244=\"Multiple\",VLOOKUP(A244,Produits_composes!$A$1:$AA$30,24,FALSE),ROUNDDOWN(G244*100/(100+J244*100),5))","v":8.4360099999999996},8.9,0.2,6.75,5.5E-2,0.46399000000000079,{"$f":"IF($J244=\"Multiple\",VLOOKUP($A244,Produits_composes!$A$1:$AA$30,25,FALSE),IF($J244=5.5%,$F244*(1+$J244)-$F244,\"\"))","v":0.46398054999999871},{"$f":"IF($J244=\"Multiple\",VLOOKUP(A244,Produits_composes!$A$1:$AA$30,26,FALSE),IF($J244=20%,$F244*(1+$J244)-$F244,\"\"))","v":""},3760219060604,225,234]
["MPV26B1","Prun’Choco® (saveur à préciser)","95g","Ballotin",5,{"$f":"IF(J245=\"Multiple\",VLOOKUP(A245,Produits_composes!$A$1:$AA$30,24,FALSE),ROUNDDOWN(G245*100/(100+J245*100),5))","v":4.6445400000000001},4.9000000000000004,0.2,3.7199999999999998,5.5E-2,0.25546000000000024,{"$f":"IF($J245=\"Multiple\",VLOOKUP($A245,Produits_composes!$A$1:$AA$30,25,FALSE),IF($J245=5.5%,$F245*(1+$J245)-$F245,\"\"))","v":0.25544969999999978},{"$f":"IF($J245=\"Multiple\",VLOOKUP(A245,Produits_composes!$A$1:$AA$30,26,FALSE),IF($J245=20%,$F245*(1+$J245)-$F245,\"\"))","v":""},3760219060598,115,235]
["MPV26B2","Prun’Choco® (saveur à préciser)","200g","Ballotin",5,{"$f":"IF(J246=\"Multiple\",VLOOKUP(A246,Produits_composes!$A$1:$AA$30,24,FALSE),ROUNDDOWN(G246*100/(100+J246*100),5))","v":9.3838799999999996},9.9,0.2,7.51,5.5E-2,0.5161200000000008,{"$f":"IF($J246=\"Multiple\",VLOOKUP($A246,Produits_composes!$A$1:$AA$30,25,FALSE),IF($J246=5.5%,$F246*(1+$J246)-$F246,\"\"))","v":0.51611340000000006},{"$f":"IF($J246=\"Multiple\",VLOOKUP(A246,Produits_composes!$A$1:$AA$30,26,FALSE),IF($J246=20%,$F246*(1+$J246)-$F246,\"\"))","v":""},3760219060581,225,236]
["MPV26B3","Prun’Choco® (saveur à préciser) ","300g","Ballotin",5,{"$f":"IF(J247=\"Multiple\",VLOOKUP(A247,Produits_composes!$A$1:$AA$30,24,FALSE),ROUNDDOWN(G247*100/(100+J247*100),5))","v":13.459709999999999},14.2,0.2,10.77,5.5E-2,0.74028999999999989,{"$f":"IF($J247=\"Multiple\",VLOOKUP($A247,Produits_composes!$A$1:$AA$30,25,FALSE),IF($J247=5.5%,$F247*(1+$J247)-$F247,\"\"))","v":0.74028404999999964},{"$f":"IF($J247=\"Multiple\",VLOOKUP(A247,Produits_composes!$A$1:$AA$30,26,FALSE),IF($J247=20%,$F247*(1+$J247)-$F247,\"\"))","v":""},3760219060574,330,237]
["MPV26E1","Prun’Choco® (saveur à préciser) ","200g","Écrin élég.",5,{"$f":"IF(J248=\"Multiple\",VLOOKUP(A248,Produits_composes!$A$1:$AA$30,24,FALSE),ROUNDDOWN(G248*100/(100+J248*100),5))","v":12.796200000000001},13.5,0.2,10.24,5.5E-2,0.70379999999999932,{"$f":"IF($J248=\"Multiple\",VLOOKUP($A248,Produits_composes!$A$1:$AA$30,25,FALSE),IF($J248=5.5%,$F248*(1+$J248)-$F248,\"\"))","v":0.70379099999999895},{"$f":"IF($J248=\"Multiple\",VLOOKUP(A248,Produits_composes!$A$1:$AA$30,26,FALSE),IF($J248=20%,$F248*(1+$J248)-$F248,\"\"))","v":""},3760219060567,295,238]
["MPV26E2","Prun’Choco® (saveur à préciser) ","300g","Écrin élég.",5,{"$f":"IF(J249=\"Multiple\",VLOOKUP(A249,Produits_composes!$A$1:$AA$30,24,FALSE),ROUNDDOWN(G249*100/(100+J249*100),5))","v":19.810420000000001},20.9,0.2,15.85,5.5E-2,1.089579999999998,{"$f":"IF($J249=\"Multiple\",VLOOKUP($A249,Produits_composes!$A$1:$AA$30,25,FALSE),IF($J249=5.5%,$F249*(1+$J249)-$F249,\"\"))","v":1.0895730999999991},{"$f":"IF($J249=\"Multiple\",VLOOKUP(A249,Produits_composes!$A$1:$AA$30,26,FALSE),IF($J249=20%,$F249*(1+$J249)-$F249,\"\"))","v":""},3760219060550,430,239]
["MPV26V","Prun’Choco® (saveur à préciser) ","1kg","VRAC",1,{"$f":"IF(J250=\"Multiple\",VLOOKUP(A250,Produits_composes!$A$1:$AA$30,24,FALSE),ROUNDDOWN(G250*100/(100+J250*100),5))","v":37.819899999999997},39.9,0.2,30.26,5.5E-2,2.0801000000000016,{"$f":"IF($J250=\"Multiple\",VLOOKUP($A250,Produits_composes!$A$1:$AA$30,25,FALSE),IF($J250=5.5%,$F250*(1+$J250)-$F250,\"\"))","v":2.0800944999999942},{"$f":"IF($J250=\"Multiple\",VLOOKUP(A250,Produits_composes!$A$1:$AA$30,26,FALSE),IF($J250=20%,$F250*(1+$J250)-$F250,\"\"))","v":""},3760219060543,1000,240]
["MPV27P","Pruneaux fourrés","250g","Pochette",5,{"$f":"IF(J251=\"Multiple\",VLOOKUP(A251,Produits_composes!$A$1:$AA$30,24,FALSE),ROUNDDOWN(G251*100/(100+J251*100),5))","v":7.4166600000000003},8.9,0.2,5.9399999999999995,0.2,1.4833400000000001,{"$f":"IF($J251=\"Multiple\",VLOOKUP($A251,Produits_composes!$A$1:$AA$30,25,FALSE),IF($J251=5.5%,$F251*(1+$J251)-$F251,\"\"))","v":""},{"$f":"IF($J251=\"Multiple\",VLOOKUP(A251,Produits_composes!$A$1:$AA$30,26,FALSE),IF($J251=20%,$F251*(1+$J251)-$F251,\"\"))","v":1.483331999999999},3760219060536,275,241]
["MPV27B1","Pruneaux fourrés","100g","Ballotin",5,{"$f":"IF(J252=\"Multiple\",VLOOKUP(A252,Produits_composes!$A$1:$AA$30,24,FALSE),ROUNDDOWN(G252*100/(100+J252*100),5))","v":4.0833300000000001},4.9000000000000004,0.2,3.2699999999999996,0.2,0.81667000000000023,{"$f":"IF($J252=\"Multiple\",VLOOKUP($A252,Produits_composes!$A$1:$AA$30,25,FALSE),IF($J252=5.5%,$F252*(1+$J252)-$F252,\"\"))","v":""},{"$f":"IF($J252=\"Multiple\",VLOOKUP(A252,Produits_composes!$A$1:$AA$30,26,FALSE),IF($J252=20%,$F252*(1+$J252)-$F252,\"\"))","v":0.81666599999999967},3760219060529,115,242]
["MPV27E1","Pruneaux fourrés","400g","Écrin élég.",5,{"$f":"IF(J253=\"Multiple\",VLOOKUP(A253,Produits_composes!$A$1:$AA$30,24,FALSE),ROUNDDOWN(G253*100/(100+J253*100),5))","v":14.08333},16.899999999999999,0.2,11.27,0.2,2.8166699999999985,{"$f":"IF($J253=\"Multiple\",VLOOKUP($A253,Produits_composes!$A$1:$AA$30,25,FALSE),IF($J253=5.5%,$F253*(1+$J253)-$F253,\"\"))","v":""},{"$f":"IF($J253=\"Multiple\",VLOOKUP(A253,Produits_composes!$A$1:$AA$30,26,FALSE),IF($J253=20%,$F253*(1+$J253)-$F253,\"\"))","v":2.8166659999999979},3760219060512,495,243]
["MPV27E2","Pruneaux fourrés","550g","Écrin élég.",5,{"$f":"IF(J254=\"Multiple\",VLOOKUP(A254,Produits_composes!$A$1:$AA$30,24,FALSE),ROUNDDOWN(G254*100/(100+J254*100),5))","v":17.5},21,0.2,14,0.2,3.5,{"$f":"IF($J254=\"Multiple\",VLOOKUP($A254,Produits_composes!$A$1:$AA$30,25,FALSE),IF($J254=5.5%,$F254*(1+$J254)-$F254,\"\"))","v":""},{"$f":"IF($J254=\"Multiple\",VLOOKUP(A254,Produits_composes!$A$1:$AA$30,26,FALSE),IF($J254=20%,$F254*(1+$J254)-$F254,\"\"))","v":3.5},3760219060505,680,244]
["MPV28P","Pruneaux fourrés orangette","250g","Pochette",5,{"$f":"IF(J255=\"Multiple\",VLOOKUP(A255,Produits_composes!$A$1:$AA$30,24,FALSE),ROUNDDOWN(G255*100/(100+J255*100),5))","v":7.6666600000000003},9.1999999999999993,0.2,6.14,0.2,1.533339999999999,{"$f":"IF($J255=\"Multiple\",VLOOKUP($A255,Produits_composes!$A$1:$AA$30,25,FALSE),IF($J255=5.5%,$F255*(1+$J255)-$F255,\"\"))","v":""},{"$f":"IF($J255=\"Multiple\",VLOOKUP(A255,Produits_composes!$A$1:$AA$30,26,FALSE),IF($J255=20%,$F255*(1+$J255)-$F255,\"\"))","v":1.5333319999999997},3760219060499,275,245]
["MPV28B1","Pruneaux fourrés orangette","100g","Ballotin",5,{"$f":"IF(J256=\"Multiple\",VLOOKUP(A256,Produits_composes!$A$1:$AA$30,24,FALSE),ROUNDDOWN(G256*100/(100+J256*100),5))","v":4.1666600000000003},5,0.2,3.34,0.2,0.83333999999999975,{"$f":"IF($J256=\"Multiple\",VLOOKUP($A256,Produits_composes!$A$1:$AA$30,25,FALSE),IF($J256=5.5%,$F256*(1+$J256)-$F256,\"\"))","v":""},{"$f":"IF($J256=\"Multiple\",VLOOKUP(A256,Produits_composes!$A$1:$AA$30,26,FALSE),IF($J256=20%,$F256*(1+$J256)-$F256,\"\"))","v":0.83333199999999952},3760219060482,115,246]
["MPV28E1","Pruneaux fourrés orangette","400g","Écrin élég.",5,{"$f":"IF(J257=\"Multiple\",VLOOKUP(A257,Produits_composes!$A$1:$AA$30,24,FALSE),ROUNDDOWN(G257*100/(100+J257*100),5))","v":14.58333},17.5,0.2,11.67,0.2,2.9166699999999999,{"$f":"IF($J257=\"Multiple\",VLOOKUP($A257,Produits_composes!$A$1:$AA$30,25,FALSE),IF($J257=5.5%,$F257*(1+$J257)-$F257,\"\"))","v":""},{"$f":"IF($J257=\"Multiple\",VLOOKUP(A257,Produits_composes!$A$1:$AA$30,26,FALSE),IF($J257=20%,$F257*(1+$J257)-$F257,\"\"))","v":2.9166659999999993},3760219060475,495,247]
["MPV28E2","Pruneaux fourrés orangette","550g","Écrin élég.",5,{"$f":"IF(J258=\"Multiple\",VLOOKUP(A258,Produits_composes!$A$1:$AA$30,24,FALSE),ROUNDDOWN(G258*100/(100+J258*100),5))","v":18.25},21.9,{"$f":"$Q$2","v":0.2},14.6,0.2,3.6499999999999986,{"$f":"IF($J258=\"Multiple\",VLOOKUP($A258,Produits_composes!$A$1:$AA$30,25,FALSE),IF($J258=5.5%,$F258*(1+$J258)-$F258,\"\"))","v":""},{"$f":"IF($J258=\"Multiple\",VLOOKUP(A258,Produits_composes!$A$1:$AA$30,26,FALSE),IF($J258=20%,$F258*(1+$J258)-$F258,\"\"))","v":3.6499999999999986},3760219060468,680,248]
["MPV29E1","Pruneaux d’Agen truffés","270g","Écrin élég.",5,{"$f":"IF(J259=\"Multiple\",VLOOKUP(A259,Produits_composes!$A$1:$AA$30,24,FALSE),ROUNDDOWN(G259*100/(100+J259*100),5))","v":14.12322},14.9,0.2,11.299999999999999,5.5E-2,0.77678000000000047,{"$f":"IF($J259=\"Multiple\",VLOOKUP($A259,Produits_composes!$A$1:$AA$30,25,FALSE),IF($J259=5.5%,$F259*(1+$J259)-$F259,\"\"))","v":0.77677709999999855},{"$f":"IF($J259=\"Multiple\",VLOOKUP(A259,Produits_composes!$A$1:$AA$30,26,FALSE),IF($J259=20%,$F259*(1+$J259)-$F259,\"\"))","v":""},3760219060451,365,249]
["MPV29E2","Pruneaux d’Agen truffés","400g","Écrin élég.",5,{"$f":"IF(J260=\"Multiple\",VLOOKUP(A260,Produits_composes!$A$1:$AA$30,24,FALSE),ROUNDDOWN(G260*100/(100+J260*100),5))","v":20.853079999999999},22,0.2,16.690000000000001,5.5E-2,1.1469200000000015,{"$f":"IF($J260=\"Multiple\",VLOOKUP($A260,Produits_composes!$A$1:$AA$30,25,FALSE),IF($J260=5.5%,$F260*(1+$J260)-$F260,\"\"))","v":1.146919399999998},{"$f":"IF($J260=\"Multiple\",VLOOKUP(A260,Produits_composes!$A$1:$AA$30,26,FALSE),IF($J260=20%,$F260*(1+$J260)-$F260,\"\"))","v":""},3760219060444,530,250]
["MPV30A","Pruneaux aromatisés au vin blanc MonBazillac","320g","Bocal",14,{"$f":"IF(J261=\"Multiple\",VLOOKUP(A261,Produits_composes!$A$1:$AA$30,24,FALSE),ROUNDDOWN(G261*100/(100+J261*100),5))","v":6.6350699999999998},7,0.2,5.31,5.5E-2,0.3649300000000002,{"$f":"IF($J261=\"Multiple\",VLOOKUP($A261,Produits_composes!$A$1:$AA$30,25,FALSE),IF($J261=5.5%,$F261*(1+$J261)-$F261,\"\"))","v":0.36492884999999919},{"$f":"IF($J261=\"Multiple\",VLOOKUP(A261,Produits_composes!$A$1:$AA$30,26,FALSE),IF($J261=20%,$F261*(1+$J261)-$F261,\"\"))","v":""},3760219060437,565,251]
["MPV30B","Pruneaux aromatisés au vin rouge de pays vanille","320g","Bocal",14,{"$f":"IF(J262=\"Multiple\",VLOOKUP(A262,Produits_composes!$A$1:$AA$30,24,FALSE),ROUNDDOWN(G262*100/(100+J262*100),5))","v":5.7819900000000004},6.1,0.2,4.63,5.5E-2,0.31800999999999924,{"$f":"IF($J262=\"Multiple\",VLOOKUP($A262,Produits_composes!$A$1:$AA$30,25,FALSE),IF($J262=5.5%,$F262*(1+$J262)-$F262,\"\"))","v":0.31800944999999992},{"$f":"IF($J262=\"Multiple\",VLOOKUP(A262,Produits_composes!$A$1:$AA$30,26,FALSE),IF($J262=20%,$F262*(1+$J262)-$F262,\"\"))","v":""},3760219060420,565,252]
["MPV30C","Pruneaux aromatisés au vin rouge de pays canelle","320g","Bocal",14,{"$f":"IF(J263=\"Multiple\",VLOOKUP(A263,Produits_composes!$A$1:$AA$30,24,FALSE),ROUNDDOWN(G263*100/(100+J263*100),5))","v":5.7819900000000004},6.1,0.2,4.63,5.5E-2,0.31800999999999924,{"$f":"IF($J263=\"Multiple\",VLOOKUP($A263,Produits_composes!$A$1:$AA$30,25,FALSE),IF($J263=5.5%,$F263*(1+$J263)-$F263,\"\"))","v":0.31800944999999992},{"$f":"IF($J263=\"Multiple\",VLOOKUP(A263,Produits_composes!$A$1:$AA$30,26,FALSE),IF($J263=20%,$F263*(1+$J263)-$F263,\"\"))","v":""},3760219060413,565,253]
["TSVRAC","Tomates séchées VRAC","6kg","Carton",1,{"$f":"IF(J264=\"Multiple\",VLOOKUP(A264,Produits_composes!$A$1:$AA$30,24,FALSE),ROUNDDOWN(G264*100/(100+J264*100),5))","v":255.92417},270,0.2,{"$f":"IF(H264=0,F264,ROUNDUP($F264-$F264*$H264,2))","v":204.73999999999998},5.5E-2,14.075829999999996,{"$f":"IF($J264=\"Multiple\",VLOOKUP($A264,Produits_composes!$A$1:$AA$30,25,FALSE),IF($J264=5.5%,$F264*(1+$J264)-$F264,\"\"))","v":14.075829349999992},{"$f":"IF($J264=\"Multiple\",VLOOKUP(A264,Produits_composes!$A$1:$AA$30,26,FALSE),IF($J264=20%,$F264*(1+$J264)-$F264,\"\"))","v":""},null,null,254]
["TSPOCH","Tomates séchées pochettes 100g","100g","Pichette Fizz",9,{"$f":"IF(J265=\"Multiple\",VLOOKUP(A265,Produits_composes!$A$1:$AA$30,24,FALSE),ROUNDDOWN(G265*100/(100+J265*100),5))","v":4.6445400000000001},4.9000000000000004,0.2,{"$f":"IF(H265=0,F265,ROUNDUP($F265-$F265*$H265,2))","v":3.7199999999999998},5.5E-2,{"$f":"G265-F265","v":0.25546000000000024},{"$f":"IF($J265=\"Multiple\",VLOOKUP($A265,Produits_composes!$A$1:$AA$30,25,FALSE),IF($J265=5.5%,$F265*(1+$J265)-$F265,\"\"))","v":0.25544969999999978},{"$f":"IF($J265=\"Multiple\",VLOOKUP(A265,Produits_composes!$A$1:$AA$30,26,FALSE),IF($J265=20%,$F265*(1+$J265)-$F265,\"\"))","v":""},null,null,255]
["S10PX","Pruneaux d'Agen IGP Cal. 33/44 ","10kg","Seau",1,{"$f":"IF(J266=\"Multiple\",VLOOKUP(A266,Produits_composes!$A$1:$AA$30,24,FALSE),ROUNDDOWN(G266*100/(100+J266*100),5))","v":53.080559999999998},56,0.2,{"$f":"IF(H266=0,F266,ROUNDUP($F266-$F266*$H266,2))","v":42.47},5.5E-2,{"$f":"G266-F266","v":2.9194400000000016},{"$f":"IF($J266=\"Multiple\",VLOOKUP($A266,Produits_composes!$A$1:$AA$30,25,FALSE),IF($J266=5.5%,$F266*(1+$J266)-$F266,\"\"))","v":2.9194307999999936},{"$f":"IF($J266=\"Multiple\",VLOOKUP(A266,Produits_composes!$A$1:$AA$30,26,FALSE),IF($J266=20%,$F266*(1+$J266)-$F266,\"\"))","v":""},null,null,254]
["S10PXDN","Pruneaux d'Agen IGP dénoyautés Cal. 44/55 avec e200","10kg","Seau",1,{"$f":"IF(J267=\"Multiple\",VLOOKUP(A267,Produits_composes!$A$1:$AA$30,24,FALSE),ROUNDDOWN(G267*100/(100+J267*100),5))","v":77.725110000000001},82,0.2,{"$f":"IF(H267=0,F267,ROUNDUP($F267-$F267*$H267,2))","v":62.19},5.5E-2,{"$f":"G267-F267","v":4.2748899999999992},{"$f":"IF($J267=\"Multiple\",VLOOKUP($A267,Produits_composes!$A$1:$AA$30,25,FALSE),IF($J267=5.5%,$F267*(1+$J267)-$F267,\"\"))","v":4.2748810499999905},{"$f":"IF($J267=\"Multiple\",VLOOKUP(A267,Produits_composes!$A$1:$AA$30,26,FALSE),IF($J267=20%,$F267*(1+$J267)-$F267,\"\"))","v":""},null,null,254]
[null,null,null,null,null,null,null,null,null,null,null,{"$f":"IF($J268=\"Multiple\",VLOOKUP($A268,Produits_composes!$A$1:$AA$30,25,FALSE),IF($J268=5.5%,$F268*(1+$J268)-$F268,\"\"))","v":""},{"$f":"IF($J268=\"Multiple\",VLOOKUP(A268,Produits_composes!$A$1:$AA$30,26,FALSE),IF($J268=20%,$F268*(1+$J268)-$F268,\"\"))","v":""},null,null,258]
[null,null,null,null,null,null,null,null,null,null,null,{"$f":"IF($J269=\"Multiple\",VLOOKUP($A269,Produits_composes!$A$1:$AA$30,25,FALSE),IF($J269=5.5%,$F269*(1+$J269)-$F269,\"\"))","v":""},{"$f":"IF($J269=\"Multiple\",VLOOKUP(A269,Produits_composes!$A$1:$AA$30,26,FALSE),IF($J269=20%,$F269*(1+$J269)-$F269,\"\"))","v":""},null,null,259]
[null,null,null,null,null,null,null,null,null,null,null,{"$f":"IF($J270=\"Multiple\",VLOOKUP($A270,Produits_composes!$A$1:$AA$30,25,FALSE),IF($J270=5.5%,$F270*(1+$J270)-$F270,\"\"))","v":""},{"$f":"IF($J270=\"Multiple\",VLOOKUP(A270,Produits_composes!$A$1:$AA$30,26,FALSE),IF($J270=20%,$F270*(1+$J270)-$F270,\"\"))","v":""},null,null,260]
[null,null,null,null,null,null,null,null,null,null,null,{"$f":"IF($J271=\"Multiple\",VLOOKUP($A271,Produits_composes!$A$1:$AA$30,25,FALSE),IF($J271=5.5%,$F271*(1+$J271)-$F271,\"\"))","v":""},{"$f":"IF($J271=\"Multiple\",VLOOKUP(A271,Produits_composes!$A$1:$AA$30,26,FALSE),IF($J271=20%,$F271*(1+$J271)-$F271,\"\"))","v":""},null,null,261]
[null,null,null,null,null,null,null,null,null,null,null,{"$f":"IF($J272=\"Multiple\",VLOOKUP($A272,Produits_composes!$A$1:$AA$30,25,FALSE),IF($J272=5.5%,$F272*(1+$J272)-$F272,\"\"))","v":""},{"$f":"IF($J272=\"Multiple\",VLOOKUP(A272,Produits_composes!$A$1:$AA$30,26,FALSE),IF($J272=20%,$F272*(1+$J272)-$F272,\"\"))","v":""},null,null,262]
[null,null,null,null,null,null,null,null,null,null,null,{"$f":"IF($J273=\"Multiple\",VLOOKUP($A273,Produits_composes!$A$1:$AA$30,25,FALSE),IF($J273=5.5%,$F273*(1+$J273)-$F273,\"\"))","v":""},{"$f":"IF($J273=\"Multiple\",VLOOKUP(A273,Produits_composes!$A$1:$AA$30,26,FALSE),IF($J273=20%,$F273*(1+$J273)-$F273,\"\"))","v":""},null,null,263]
[null,null,null,null,null,null,null,null,null,null,null,{"$f":"IF($J274=\"Multiple\",VLOOKUP($A274,Produits_composes!$A$1:$AA$30,25,FALSE),IF($J274=5.5%,$F274*(1+$J274)-$F274,\"\"))","v":""},{"$f":"IF($J274=\"Multiple\",VLOOKUP(A274,Produits_composes!$A$1:$AA$30,26,FALSE),IF($J274=20%,$F274*(1+$J274)-$F274,\"\"))","v":""},null,null,264]
[null,null,null,null,null,null,null,null,null,null,null,{"$f":"IF($J275=\"Multiple\",VLOOKUP($A275,Produits_composes!$A$1:$AA$30,25,FALSE),IF($J275=5.5%,$F275*(1+$J275)-$F275,\"\"))","v":""},{"$f":"IF($J275=\"Multiple\",VLOOKUP(A275,Produits_composes!$A$1:$AA$30,26,FALSE),IF($J275=20%,$F275*(1+$J275)-$F275,\"\"))","v":""},null,null,265]
[null,null,null,null,null,null,null,null,null,null,null,{"$f":"IF($J276=\"Multiple\",VLOOKUP($A276,Produits_composes!$A$1:$AA$30,25,FALSE),IF($J276=5.5%,$F276*(1+$J276)-$F276,\"\"))","v":""},{"$f":"IF($J276=\"Multiple\",VLOOKUP(A276,Produits_composes!$A$1:$AA$30,26,FALSE),IF($J276=20%,$F276*(1+$J276)-$F276,\"\"))","v":""},null,null,266]
[null,null,null,null,null,null,null,null,null,null,null,{"$f":"IF($J277=\"Multiple\",VLOOKUP($A277,Produits_composes!$A$1:$AA$30,25,FALSE),IF($J277=5.5%,$F277*(1+$J277)-$F277,\"\"))","v":""},{"$f":"IF($J277=\"Multiple\",VLOOKUP(A277,Produits_composes!$A$1:$AA$30,26,FALSE),IF($J277=20%,$F277*(1+$J277)-$F277,\"\"))","v":""},null,null,267]
[null,null,null,null,null,null,null,null,null,null,null,{"$f":"IF($J278=\"Multiple\",VLOOKUP($A278,Produits_composes!$A$1:$AA$30,25,FALSE),IF($J278=5.5%,$F278*(1+$J278)-$F278,\"\"))","v":""},{"$f":"IF($J278=\"Multiple\",VLOOKUP(A278,Produits_composes!$A$1:$AA$30,26,FALSE),IF($J278=20%,$F278*(1+$J278)-$F278,\"\"))","v":""},null,null,268]
[null,null,null,null,null,null,null,null,null,null,null,{"$f":"IF($J279=\"Multiple\",VLOOKUP($A279,Produits_composes!$A$1:$AA$30,25,FALSE),IF($J279=5.5%,$F279*(1+$J279)-$F279,\"\"))","v":""},{"$f":"IF($J279=\"Multiple\",VLOOKUP(A279,Produits_composes!$A$1:$AA$30,26,FALSE),IF($J279=20%,$F279*(1+$J279)-$F279,\"\"))","v":""},null,null,269]
[null,null,null,null,null,null,null,null,null,null,null,{"$f":"IF($J280=\"Multiple\",VLOOKUP($A280,Produits_composes!$A$1:$AA$30,25,FALSE),IF($J280=5.5%,$F280*(1+$J280)-$F280,\"\"))","v":""},{"$f":"IF($J280=\"Multiple\",VLOOKUP(A280,Produits_composes!$A$1:$AA$30,26,FALSE),IF($J280=20%,$F280*(1+$J280)-$F280,\"\"))","v":""},null,null,270]
[null,null,null,null,null,null,null,null,null,null,null,{"$f":"IF($J281=\"Multiple\",VLOOKUP($A281,Produits_composes!$A$1:$AA$30,25,FALSE),IF($J281=5.5%,$F281*(1+$J281)-$F281,\"\"))","v":""},{"$f":"IF($J281=\"Multiple\",VLOOKUP(A281,Produits_composes!$A$1:$AA$30,26,FALSE),IF($J281=20%,$F281*(1+$J281)-$F281,\"\"))","v":""},null,null,271]
[null,null,null,null,null,null,null,null,null,null,null,{"$f":"IF($J282=\"Multiple\",VLOOKUP($A282,Produits_composes!$A$1:$AA$30,25,FALSE),IF($J282=5.5%,$F282*(1+$J282)-$F282,\"\"))","v":""},{"$f":"IF($J282=\"Multiple\",VLOOKUP(A282,Produits_composes!$A$1:$AA$30,26,FALSE),IF($J282=20%,$F282*(1+$J282)-$F282,\"\"))","v":""},null,null,272]
[null,null,null,null,null,null,null,null,null,null,null,{"$f":"IF($J283=\"Multiple\",VLOOKUP($A283,Produits_composes!$A$1:$AA$30,25,FALSE),IF($J283=5.5%,$F283*(1+$J283)-$F283,\"\"))","v":""},{"$f":"IF($J283=\"Multiple\",VLOOKUP(A283,Produits_composes!$A$1:$AA$30,26,FALSE),IF($J283=20%,$F283*(1+$J283)-$F283,\"\"))","v":""},null,null,273]
[null,null,null,null,null,null,null,null,null,null,null,{"$f":"IF($J284=\"Multiple\",VLOOKUP($A284,Produits_composes!$A$1:$AA$30,25,FALSE),IF($J284=5.5%,$F284*(1+$J284)-$F284,\"\"))","v":""},{"$f":"IF($J284=\"Multiple\",VLOOKUP(A284,Produits_composes!$A$1:$AA$30,26,FALSE),IF($J284=20%,$F284*(1+$J284)-$F284,\"\"))","v":""},null,null,274]
[null,null,null,null,null,null,null,null,null,null,null,{"$f":"IF($J285=\"Multiple\",VLOOKUP($A285,Produits_composes!$A$1:$AA$30,25,FALSE),IF($J285=5.5%,$F285*(1+$J285)-$F285,\"\"))","v":""},{"$f":"IF($J285=\"Multiple\",VLOOKUP(A285,Produits_composes!$A$1:$AA$30,26,FALSE),IF($J285=20%,$F285*(1+$J285)-$F285,\"\"))","v":""},null,null,275]
[null,null,null,null,null,null,null,null,null,null,null,{"$f":"IF($J286=\"Multiple\",VLOOKUP($A286,Produits_composes!$A$1:$AA$30,25,FALSE),IF($J286=5.5%,$F286*(1+$J286)-$F286,\"\"))","v":""},{"$f":"IF($J286=\"Multiple\",VLOOKUP(A286,Produits_composes!$A$1:$AA$30,26,FALSE),IF($J286=20%,$F286*(1+$J286)-$F286,\"\"))","v":""},null,null,276]
[null,null,null,null,null,null,null,null,null,null,null,{"$f":"IF($J287=\"Multiple\",VLOOKUP($A287,Produits_composes!$A$1:$AA$30,25,FALSE),IF($J287=5.5%,$F287*(1+$J287)-$F287,\"\"))","v":""},{"$f":"IF($J287=\"Multiple\",VLOOKUP(A287,Produits_composes!$A$1:$AA$30,26,FALSE),IF($J287=20%,$F287*(1+$J287)-$F287,\"\"))","v":""},null,null,277]
[null,null,null,null,null,null,null,null,null,null,null,{"$f":"IF($J288=\"Multiple\",VLOOKUP($A288,Produits_composes!$A$1:$AA$30,25,FALSE),IF($J288=5.5%,$F288*(1+$J288)-$F288,\"\"))","v":""},{"$f":"IF($J288=\"Multiple\",VLOOKUP(A288,Produits_composes!$A$1:$AA$30,26,FALSE),IF($J288=20%,$F288*(1+$J288)-$F288,\"\"))","v":""},null,null,278]
[null,null,null,null,null,null,null,null,null,null,null,{"$f":"IF($J289=\"Multiple\",VLOOKUP($A289,Produits_composes!$A$1:$AA$30,25,FALSE),IF($J289=5.5%,$F289*(1+$J289)-$F289,\"\"))","v":""},{"$f":"IF($J289=\"Multiple\",VLOOKUP(A289,Produits_composes!$A$1:$AA$30,26,FALSE),IF($J289=20%,$F289*(1+$J289)-$F289,\"\"))","v":""},null,null,279]
[null,null,null,null,null,null,null,null,null,null,null,{"$f":"IF($J290=\"Multiple\",VLOOKUP($A290,Produits_composes!$A$1:$AA$30,25,FALSE),IF($J290=5.5%,$F290*(1+$J290)-$F290,\"\"))","v":""},{"$f":"IF($J290=\"Multiple\",VLOOKUP(A290,Produits_composes!$A$1:$AA$30,26,FALSE),IF($J290=20%,$F290*(1+$J290)-$F290,\"\"))","v":""},null,null,280]
[null,null,null,null,null,null,null,null,null,null,null,{"$f":"IF($J291=\"Multiple\",VLOOKUP($A291,Produits_composes!$A$1:$AA$30,25,FALSE),IF($J291=5.5%,$F291*(1+$J291)-$F291,\"\"))","v":""},{"$f":"IF($J291=\"Multiple\",VLOOKUP(A291,Produits_composes!$A$1:$AA$30,26,FALSE),IF($J291=20%,$F291*(1+$J291)-$F291,\"\"))","v":""},null,null,281]
[null,null,null,null,null,null,null,null,null,null,null,{"$f":"IF($J292=\"Multiple\",VLOOKUP($A292,Produits_composes!$A$1:$AA$30,25,FALSE),IF($J292=5.5%,$F292*(1+$J292)-$F292,\"\"))","v":""},{"$f":"IF($J292=\"Multiple\",VLOOKUP(A292,Produits_composes!$A$1:$AA$30,26,FALSE),IF($J292=20%,$F292*(1+$J292)-$F292,\"\"))","v":""},null,null,282]
[null,null,null,null,null,null,null,null,null,null,null,{"$f":"IF($J293=\"Multiple\",VLOOKUP($A293,Produits_composes!$A$1:$AA$30,25,FALSE),IF($J293=5.5%,$F293*(1+$J293)-$F293,\"\"))","v":""},{"$f":"IF($J293=\"Multiple\",VLOOKUP(A293,Produits_composes!$A$1:$AA$30,26,FALSE),IF($J293=20%,$F293*(1+$J293)-$F293,\"\"))","v":""},null,null,283]
[null,null,null,null,null,null,null,null,null,null,null,{"$f":"IF($J294=\"Multiple\",VLOOKUP($A294,Produits_composes!$A$1:$AA$30,25,FALSE),IF($J294=5.5%,$F294*(1+$J294)-$F294,\"\"))","v":""},{"$f":"IF($J294=\"Multiple\",VLOOKUP(A294,Produits_composes!$A$1:$AA$30,26,FALSE),IF($J294=20%,$F294*(1+$J294)-$F294,\"\"))","v":""},null,null,284]
[null,null,null,null,null,null,null,null,null,null,null,{"$f":"IF($J295=\"Multiple\",VLOOKUP($A295,Produits_composes!$A$1:$AA$30,25,FALSE),IF($J295=5.5%,$F295*(1+$J295)-$F295,\"\"))","v":""},{"$f":"IF($J295=\"Multiple\",VLOOKUP(A295,Produits_composes!$A$1:$AA$30,26,FALSE),IF($J295=20%,$F295*(1+$J295)-$F295,\"\"))","v":""},null,null,285]
[null,null,null,null,null,null,null,null,null,null,null,{"$f":"IF($J296=\"Multiple\",VLOOKUP($A296,Produits_composes!$A$1:$AA$30,25,FALSE),IF($J296=5.5%,$F296*(1+$J296)-$F296,\"\"))","v":""},{"$f":"IF($J296=\"Multiple\",VLOOKUP(A296,Produits_composes!$A$1:$AA$30,26,FALSE),IF($J296=20%,$F296*(1+$J296)-$F296,\"\"))","v":""},null,null,286]
[null,null,null,null,null,null,null,null,null,null,null,{"$f":"IF($J297=\"Multiple\",VLOOKUP($A297,Produits_composes!$A$1:$AA$30,25,FALSE),IF($J297=5.5%,$F297*(1+$J297)-$F297,\"\"))","v":""},{"$f":"IF($J297=\"Multiple\",VLOOKUP(A297,Produits_composes!$A$1:$AA$30,26,FALSE),IF($J297=20%,$F297*(1+$J297)-$F297,\"\"))","v":""},null,null,287]
[null,null,null,null,null,null,null,null,null,null,null,{"$f":"IF($J298=\"Multiple\",VLOOKUP($A298,Produits_composes!$A$1:$AA$30,25,FALSE),IF($J298=5.5%,$F298*(1+$J298)-$F298,\"\"))","v":""},{"$f":"IF($J298=\"Multiple\",VLOOKUP(A298,Produits_composes!$A$1:$AA$30,26,FALSE),IF($J298=20%,$F298*(1+$J298)-$F298,\"\"))","v":""},null,null,288]
[null,null,null,null,null,null,null,null,null,null,null,{"$f":"IF($J299=\"Multiple\",VLOOKUP($A299,Produits_composes!$A$1:$AA$30,25,FALSE),IF($J299=5.5%,$F299*(1+$J299)-$F299,\"\"))","v":""},{"$f":"IF($J299=\"Multiple\",VLOOKUP(A299,Produits_composes!$A$1:$AA$30,26,FALSE),IF($J299=20%,$F299*(1+$J299)-$F299,\"\"))","v":""},null,null,289]
[null,null,null,null,null,null,null,null,null,null,null,{"$f":"IF($J300=\"Multiple\",VLOOKUP($A300,Produits_composes!$A$1:$AA$30,25,FALSE),IF($J300=5.5%,$F300*(1+$J300)-$F300,\"\"))","v":""},{"$f":"IF($J300=\"Multiple\",VLOOKUP(A300,Produits_composes!$A$1:$AA$30,26,FALSE),IF($J300=20%,$F300*(1+$J300)-$F300,\"\"))","v":""},null,null,290]
[null,null,null,null,null,null,null,null,null,null,null,{"$f":"IF($J301=\"Multiple\",VLOOKUP($A301,Produits_composes!$A$1:$AA$30,25,FALSE),IF($J301=5.5%,$F301*(1+$J301)-$F301,\"\"))","v":""},{"$f":"IF($J301=\"Multiple\",VLOOKUP(A301,Produits_composes!$A$1:$AA$30,26,FALSE),IF($J301=20%,$F301*(1+$J301)-$F301,\"\"))","v":""},null,null,291]
[null,null,null,null,null,null,null,null,null,null,null,{"$f":"IF($J302=\"Multiple\",VLOOKUP($A302,Produits_composes!$A$1:$AA$30,25,FALSE),IF($J302=5.5%,$F302*(1+$J302)-$F302,\"\"))","v":""},{"$f":"IF($J302=\"Multiple\",VLOOKUP(A302,Produits_composes!$A$1:$AA$30,26,FALSE),IF($J302=20%,$F302*(1+$J302)-$F302,\"\"))","v":""},null,null,292]
[null,null,null,null,null,null,null,null,null,null,null,{"$f":"IF($J303=\"Multiple\",VLOOKUP($A303,Produits_composes!$A$1:$AA$30,25,FALSE),IF($J303=5.5%,$F303*(1+$J303)-$F303,\"\"))","v":""},{"$f":"IF($J303=\"Multiple\",VLOOKUP(A303,Produits_composes!$A$1:$AA$30,26,FALSE),IF($J303=20%,$F303*(1+$J303)-$F303,\"\"))","v":""},null,null,293]
[null,null,null,null,null,null,null,null,null,null,null,{"$f":"IF($J304=\"Multiple\",VLOOKUP($A304,Produits_composes!$A$1:$AA$30,25,FALSE),IF($J304=5.5%,$F304*(1+$J304)-$F304,\"\"))","v":""},{"$f":"IF($J304=\"Multiple\",VLOOKUP(A304,Produits_composes!$A$1:$AA$30,26,FALSE),IF($J304=20%,$F304*(1+$J304)-$F304,\"\"))","v":""},null,null,294]
[null,null,null,null,null,null,null,null,null,null,null,{"$f":"IF($J305=\"Multiple\",VLOOKUP($A305,Produits_composes!$A$1:$AA$30,25,FALSE),IF($J305=5.5%,$F305*(1+$J305)-$F305,\"\"))","v":""},{"$f":"IF($J305=\"Multiple\",VLOOKUP(A305,Produits_composes!$A$1:$AA$30,26,FALSE),IF($J305=20%,$F305*(1+$J305)-$F305,\"\"))","v":""},null,null,295]
[null,null,null,null,null,null,null,null,null,null,null,{"$f":"IF($J306=\"Multiple\",VLOOKUP($A306,Produits_composes!$A$1:$AA$30,25,FALSE),IF($J306=5.5%,$F306*(1+$J306)-$F306,\"\"))","v":""},{"$f":"IF($J306=\"Multiple\",VLOOKUP(A306,Produits_composes!$A$1:$AA$30,26,FALSE),IF($J306=20%,$F306*(1+$J306)-$F306,\"\"))","v":""},null,null,296]
[null,null,null,null,null,null,null,null,null,null,null,{"$f":"IF($J307=\"Multiple\",VLOOKUP($A307,Produits_composes!$A$1:$AA$30,25,FALSE),IF($J307=5.5%,$F307*(1+$J307)-$F307,\"\"))","v":""},{"$f":"IF($J307=\"Multiple\",VLOOKUP(A307,Produits_composes!$A$1:$AA$30,26,FALSE),IF($J307=20%,$F307*(1+$J307)-$F307,\"\"))","v":""},null,null,297]
[null,null,null,null,null,null,null,null,null,null,null,{"$f":"IF($J308=\"Multiple\",VLOOKUP($A308,Produits_composes!$A$1:$AA$30,25,FALSE),IF($J308=5.5%,$F308*(1+$J308)-$F308,\"\"))","v":""},{"$f":"IF($J308=\"Multiple\",VLOOKUP(A308,Produits_composes!$A$1:$AA$30,26,FALSE),IF($J308=20%,$F308*(1+$J308)-$F308,\"\"))","v":""},null,null,298]
[null,null,null,null,null,null,null,null,null,null,null,{"$f":"IF($J309=\"Multiple\",VLOOKUP($A309,Produits_composes!$A$1:$AA$30,25,FALSE),IF($J309=5.5%,$F309*(1+$J309)-$F309,\"\"))","v":""},{"$f":"IF($J309=\"Multiple\",VLOOKUP(A309,Produits_composes!$A$1:$AA$30,26,FALSE),IF($J309=20%,$F309*(1+$J309)-$F309,\"\"))","v":""},null,null,299]
[null,null,null,null,null,null,null,null,null,null,null,{"$f":"IF($J310=\"Multiple\",VLOOKUP($A310,Produits_composes!$A$1:$AA$30,25,FALSE),IF($J310=5.5%,$F310*(1+$J310)-$F310,\"\"))","v":""},{"$f":"IF($J310=\"Multiple\",VLOOKUP(A310,Produits_composes!$A$1:$AA$30,26,FALSE),IF($J310=20%,$F310*(1+$J310)-$F310,\"\"))","v":""},null,null,300]
[null,null,null,null,null,null,null,null,null,null,null,{"$f":"IF($J311=\"Multiple\",VLOOKUP($A311,Produits_composes!$A$1:$AA$30,25,FALSE),IF($J311=5.5%,$F311*(1+$J311)-$F311,\"\"))","v":""},{"$f":"IF($J311=\"Multiple\",VLOOKUP(A311,Produits_composes!$A$1:$AA$30,26,FALSE),IF($J311=20%,$F311*(1+$J311)-$F311,\"\"))","v":""},null,null,301]
[null,null,null,null,null,null,null,null,null,null,null,{"$f":"IF($J312=\"Multiple\",VLOOKUP($A312,Produits_composes!$A$1:$AA$30,25,FALSE),IF($J312=5.5%,$F312*(1+$J312)-$F312,\"\"))","v":""},{"$f":"IF($J312=\"Multiple\",VLOOKUP(A312,Produits_composes!$A$1:$AA$30,26,FALSE),IF($J312=20%,$F312*(1+$J312)-$F312,\"\"))","v":""},null,null,302]
[null,null,null,null,null,null,null,null,null,null,null,null,null,null,null,303]
[null,null,null,null,null,null,null,null,null,null,null,null,null,null,null,304]
[null,null,null,null,null,null,null,null,null,null,null,null,null,null,null,305]
[null,null,null,null,null,null,null,null,null,null,null,null,null,null,null,306]
[null,null,null,null,null,null,null,null,null,null,null,null,null,null,null,307]
[null,null,null,null,null,null,null,null,null,null,null,null,null,null,null,308]
[null,null,null,null,null,null,null,null,null,null,null,null,null,null,null,309]
[null,null,null,null,null,null,null,null,null,null,null,null,null,null,null,310]
[null,null,null,null,null,null,null,null,null,null,null,null,null,null,null,311]
[null,null,null,null,null,null,null,null,null,null,null,null,null,null,null,312]
[null,null,null,null,null,null,null,null,null,null,null,null,null,null,null,313]
[null,null,null,null,null,null,null,null,null,null,null,null,null,null,null,314]
[null,null,null,null,null,null,null,null,null,null,null,null,null,null,null,315]
[null,null,null,null,null,null,null,null,null,null,null,null,null,null,null,316]
[null,null,null,null,null,null,null,null,null,null,null,null,null,null,null,317]
[null,null,null,null,null,null,null,null,null,null,null,null,null,null,null,318]
[null,null,null,null,null,null,null,null,null,null,null,null,null,null,null,319]
[null,null,null,null,null,null,null,null,null,null,null,null,null,null,null,320]
[null,null,null,null,null,null,null,null,null,null,null,null,null,null,null,321]
[null,null,null,null,null,null,null,null,null,null,null,null,null,null,null,322]
[null,null,null,null,null,null,null,null,null,null,null,null,null,null,null,323]
[null,null,null,null,null,null,null,null,null,null,null,null,null,null,null,324]
[null,null,null,null,null,null,null,null,null,null,null,null,null,null,null,325]
[null,null,null,null,null,null,null,null,null,null,null,null,null,null,null,326]
[null,null,null,null,null,null,null,null,null,null,null,null,null,null,null,327]
[null,null,null,null,null,null,null,null,null,null,null,null,null,null,null,328]
[null,null,null,null,null,null,null,null,null,null,null,null,null,null,null,329]
[null,null,null,null,null,null,null,null,null,null,null,null,null,null,null,330]
[null,null,null,null,null,null,null,null,null,null,null,null,null,null,null,331]
[null,null,null,null,null,null,null,null,null,null,null,null,null,null,null,332]
[null,null,null,null,null,null,null,null,null,null,null,null,null,null,null,333]
[null,null,null,null,null,null,null,null,null,null,null,null,null,null,null,334]
[null,null,null,null,null,null,null,null,null,null,null,null,null,null,null,335]
[null,null,null,null,null,null,null,null,null,null,null,null,null,null,null,336]
[null,null,null,null,null,null,null,null,null,null,null,null,null,null,null,337]
[null,null,null,null,null,null,null,null,null,null,null,null,null,null,null,338]
[null,null,null,null,null,null,null,null,null,null,null,null,null,null,null,339]
[null,null,null,null,null,null,null,null,null,null,null,null,null,null,null,340]
[null,null,null,null,null,null,null,null,null,null,null,null,null,null,null,341]
[null,null,null,null,null,null,null,null,null,null,null,null,null,null,null,342]
[null,null,null,null,null,null,null,null,null,null,null,null,null,null,null,343]
[null,null,null,null,null,null,null,null,null,null,null,null,null,null,null,344]
[null,null,null,null,null,null,null,null,null,null,null,null,null,null,null,345]
[null,null,null,null,null,null,null,null,null,null,null,null,null,null,null,346]
[null,null,null,null,null,null,null,null,null,null,null,null,null,null,null,347]
[null,null,null,null,null,null,null,null,null,null,null,null,null,null,null,348]
[null,null,null,null,null,null,null,null,null,null,null,null,null,null,null,349]
[null,null,null,null,null,null,null,null,null,null,null,null,null,null,null,350]
[null,null,null,null,null,null,null,null,null,null,null,null,null,null,null,351]
[null,null,null,null,null,null,null,null,null,null,null,null,null,null,null,352]

{"sheet":"Bon de commande PRO","index":2,"n_rows":68,"n_cols":30,"rows_kept":68,"cut":false,"hidden":false,"merged":[[12,16,13,16],[14,16,15,16],[16,15,17,15],[18,16,19,16],[20,16,21,16],[22,16,23,16],[24,16,25,16],[26,16,27,16],[28,16,29,16],[16,16,17,16],[20,13,21,13],[22,13,23,13],[24,13,25,13],[26,13,27,13],[28,13,29,13],[30,13,31,13],[32,13,33,13],[34,13,35,13],[36,13,37,13],[28,17,29,17],[28,18,29,18],[28,19,29,19],[28,20,29,20],[28,21,29,21],[28,22,29,22],[28,23,29,23],[36,16,37,16],[36,23,37,23],[36,22,37,22],[36,21,37,21],[36,20,37,20],[36,19,37,19],[36,18,37,18],[36,17,37,17],[30,16,31,16],[32,16,33,16],[34,16,35,16],[24,17,25,17],[24,18,25,18],[24,19,25,19],[24,20,25,20],[24,21,25,21],[24,22,25,22],[24,23,25,23],[26,17,27,17],[26,18,27,18],[26,19,27,19],[26,20,27,20],[26,21,27,21],[26,22,27,22],[26,23,27,23],[20,22,21,22],[20,23,21,23],[22,17,23,17],[22,18,23,18],[22,19,23,19],[22,20,23,20],[22,21,23,21],[22,22,23,22],[22,23,23,23],[22,7,23,7],[22,8,23,8],[30,1,31,5],[14,1,15,5],[16,1,17,5],[18,1,19,5],[20,1,21,5],[22,1,23,5],[24,1,25,5],[26,1,27,5],[28,1,29,5],[38,0,47,0],[30,17,31,17],[30,18,31,18],[32,9,33,9],[30,6,31,6],[30,7,31,7],[30,8,31,8],[44,14,47,14],[44,13,47,13],[42,14,43,14],[42,13,43,13],[36,15,37,15],[34,0,35,0],[34,9,35,9],[34,10,35,10],[34,11,35,11],[34,12,35,12],[34,17,35,17],[34,18,35,18],[34,19,35,19],[34,20,35,20],[34,21,35,21],[34,22,35,22],[34,23,35,23],[32,14,33,14],[32,11,33,11],[30,19,31,19],[30,20,31,20],[30,21,31,21],[30,22,31,22],[30,23,31,23],[32,19,33,19],[32,17,33,17],[32,18,33,18],[32,20,33,20],[32,21,33,21],[32,22,33,22],[32,23,33,23],[12,15,13,15],[14,15,15,15],[28,15,29,15],[18,14,19,14],[20,14,21,14],[22,14,23,14],[28,14,29,14],[34,14,35,14],[34,15,35,15],[12,14,13,14],[14,14,15,14],[14,11,15,11],[14,12,15,12],[16,11,17,11],[16,12,17,12],[18,11,19,11],[18,12,19,12],[16,14,17,14],[12,13,13,13],[14,13,15,13],[16,13,17,13],[18,13,19,13],[12,22,13,22],[12,23,13,23],[12,17,13,17],[12,18,13,18],[12,19,13,19],[12,20,13,20],[12,21,13,21],[14,17,15,17],[14,18,15,18],[14,19,15,19],[14,20,15,20],[14,21,15,21],[14,22,15,22],[14,23,15,23],[16,17,17,17],[16,18,17,18],[16,19,17,19],[16,20,17,20],[16,21,17,21],[16,22,17,22],[16,23,17,23],[24,15,25,15],[26,15,27,15],[18,15,19,15],[20,15,21,15],[22,15,23,15],[18,17,19,17],[18,18,19,18],[18,19,19,19],[18,20,19,20],[18,21,19,21],[18,22,19,22],[18,23,19,23],[20,17,21,17],[20,18,21,18],[20,19,21,19],[20,20,21,20],[20,21,21,21],[32,0,33,0],[57,8,57,11],[56,3,56,6],[59,3,59,6],[36,0,37,0],[36,9,37,9],[36,10,37,10],[36,11,37,11],[60,5,60,6],[57,3,58,6],[56,0,56,2],[57,0,60,2],[48,0,48,12],[37,4,37,8],[36,1,37,3],[32,12,33,12],[36,12,37,12],[38,1,38,4],[38,5,38,8],[38,9,38,12],[32,10,33,10],[39,1,46,4],[39,5,46,8],[39,9,46,12],[168,1,168,4],[169,1,169,4],[149,1,149,4],[150,1,150,4],[151,1,151,4],[152,1,152,4],[143,1,143,4],[144,1,144,4],[145,1,145,4],[146,1,146,4],[147,1,147,4],[156,1,156,4],[157,1,157,4],[148,1,148,4],[138,1,138,4],[139,1,139,4],[140,1,140,4],[141,1,141,4],[142,1,142,4],[133,1,133,4],[170,1,170,4],[3,6,3,8],[6,6,6,8],[7,6,7,8],[8,6,8,8],[163,1,163,4],[164,1,164,4],[165,1,165,4],[166,1,166,4],[167,1,167,4],[158,1,158,4],[159,1,159,4],[160,1,160,4],[161,1,161,4],[162,1,162,4],[153,1,153,4],[154,1,154,4],[155,1,155,4],[134,1,134,4],[135,1,135,4],[136,1,136,4],[137,1,137,4],[128,1,128,4],[129,1,129,4],[130,1,130,4],[131,1,131,4],[132,1,132,4],[123,1,123,4],[124,1,124,4],[125,1,125,4],[126,1,126,4],[127,1,127,4],[118,1,118,4],[119,1,119,4],[120,1,120,4],[121,1,121,4],[122,1,122,4],[113,1,113,4],[114,1,114,4],[115,1,115,4],[116,1,116,4],[117,1,117,4],[108,1,108,4],[109,1,109,4],[110,1,110,4],[111,1,111,4],[112,1,112,4],[103,1,103,4],[104,1,104,4],[105,1,105,4],[106,1,106,4],[107,1,107,4],[98,1,98,4],[99,1,99,4],[100,1,100,4],[101,1,101,4],[102,1,102,4],[93,1,93,4],[94,1,94,4],[95,1,95,4],[96,1,96,4],[97,1,97,4],[88,1,88,4],[89,1,89,4],[90,1,90,4],[91,1,91,4],[92,1,92,4],[83,1,83,4],[84,1,84,4],[85,1,85,4],[86,1,86,4],[87,1,87,4],[78,1,78,4],[79,1,79,4],[80,1,80,4],[81,1,81,4],[82,1,82,4],[20,12,21,12],[22,11,23,11],[73,1,73,4],[74,1,74,4],[75,1,75,4],[76,1,76,4],[77,1,77,4],[69,1,69,4],[70,1,70,4],[71,1,71,4],[72,1,72,4],[60,3,60,4],[59,8,59,11],[30,12,31,12],[47,9,47,12],[47,1,47,4],[47,5,47,8],[28,6,29,6],[28,7,29,7],[28,8,29,8],[20,6,21,6],[20,7,21,7],[20,8,21,8],[22,6,23,6],[28,0,29,0],[22,0,23,0],[24,0,25,0],[64,1,64,4],[65,1,65,4],[67,0,68,12],[8,0,10,4],[63,10,63,11],[58,8,58,11],[55,8,55,11],[56,8,56,11],[60,8,60,11],[62,10,62,11],[10,5,10,6],[10,7,10,12],[62,0,63,6],[54,8,54,11],[50,0,50,6],[28,11,29,11],[28,12,29,12],[20,0,21,0],[53,8,53,11],[26,0,27,0],[20,11,21,11],[0,0,7,4],[12,0,13,0],[14,0,15,0],[16,0,17,0],[18,0,19,0],[3,10,3,12],[4,5,5,5],[4,6,5,12],[6,10,6,12],[7,10,7,12],[8,10,8,12],[12,6,13,6],[12,7,13,7],[12,8,13,8],[12,9,13,9],[12,10,13,10],[12,11,13,11],[12,12,13,12],[18,6,19,6],[18,7,19,7],[18,8,19,8],[26,11,27,11],[26,12,27,12],[24,6,25,6],[24,7,25,7],[24,8,25,8],[26,6,27,6],[26,7,27,7],[26,8,27,8],[51,14,55,16],[52,8,52,11],[51,8,51,11],[44,15,47,15],[24,14,25,14],[26,14,27,14],[30,15,31,15],[32,15,33,15],[42,15,43,15],[36,14,37,14],[40,15,41,15],[38,13,39,13],[38,14,39,14],[38,15,39,15],[40,14,41,14],[40,13,41,13],[30,11,31,11],[30,14,31,14],[30,9,31,9],[30,10,31,10],[0,9,1,10],[0,11,1,12],[0,5,1,8],[14,9,15,9],[14,10,15,10],[16,9,17,9],[16,10,17,10],[14,6,15,6],[14,7,15,7],[14,8,15,8],[16,6,17,6],[16,7,17,7],[16,8,17,8],[12,1,13,5],[18,9,19,9],[9,5,9,6],[9,7,9,12],[22,12,23,12],[24,11,25,11],[24,12,25,12],[36,25,37,25],[32,26,33,26],[49,8,50,11],[49,12,50,12],[51,0,54,6],[1,14,10,26],[33,4,33,8],[32,1,33,3],[35,4,35,8],[34,1,35,3],[32,25,33,25],[34,25,35,25],[18,10,19,10],[26,9,27,9],[26,10,27,10],[20,9,21,9],[20,10,21,10],[22,9,23,9],[22,10,23,10],[24,9,25,9],[24,10,25,10],[28,9,29,9],[28,10,29,10],[30,0,31,0]]}
[null,null,null,null,null,"Bon de Commande PRO",null,null,null,"DATE: ",null,{"$f":"TODAY()","v":"2019-09-25"}]
[null,null,null,null,null,null,null,null,null,null,null,null,null,null,"Aide pour utiliser le formulaire: \n1. Si un bandeau jaune apparaît, cliquer sur le bouton \"activer le contenu\" \n2. Renseigner chaque champ de coordonnées en orange\n3. Sélectionner les quantités de chaque article souhaitées en orange\n4. Si vous avez choisi un coffret à composé vous même, cocher les articles de votre choix dans chaque catégorie, correspondant au coffret choisi\n5. Pour finir, cliquer sur le bouton en bas de page \"Cliquez ici pour envoyer la commande\"\nNote: un seul formulaire par coffret personnalisé, si vous souhaitez plusieurs types coffrets personnalisés (min. 25 unités de chaque), remplissez à nouveau le formulaire et recliquez sur \"envoyer le bon de commande\". Nous additionnerons les 2 montants pour vous proposer les frais de livraison qui correspondent.\nUn message vous indique alors que la commande vient de nous être envoyée, vous pouvez donc fermer le document"]
[]
[null,null,null,null,null,"CE/Entreprise",null,null,null,"Tél.:"]
[null,null,null,null,null,"Adresse:"]
[]
[null,null,null,null,null,"CP:",null,null,null,"Ville:"]
[null,null,null,null,null,"Nom:",null,null,null,"Prénom:"]
["lieu-dit «Braunès» 47320 Lafitte-sur-Lot\n05 53 84 04 17 • mdpruneau.vpc@orange.fr\nwww.maisondupruneau.com",null,null,null,null,"Ligne directe:",null,null,null,"Mail:"]
[null,null,null,null,null,"Conditions de règlement:",null,{"$f":"Coordonnées_client!$D$4","v":"Comptant (1ère commande) puis 30j net (commandes suivantes)"}]
[]
[]
["Ref.","Coffrets Composés:",null,null,null,null,"Prix HT","Prix TTC","TVA","Remise","Prix remisé\nHT","Quantité","TOTAL Ligne\nremisée HT","Prix unitaire remisé TTC","Total Ligne remisée TTC","Poids Brut","Total Poids\nLigne","Total ligne\nHT","Total ligne\nTTC","Total ligne\nremisé TTC","Remise HT","Remise TTC","TVA 5,5%","TVA 20%"]
[]
["47A",{"$f":"IF(ISNA(VLOOKUP($A15,Produits!$A$1:$O$357,2,FALSE)),\"\",VLOOKUP($A15,Produits!$A$1:$O$357,2,FALSE))","v":"Coffret \"Découverte\" - 4 produits"},null,null,null,null,{"$f":"IF(ISNA(VLOOKUP($A15,Produits!$A$1:$O$357,6,FALSE)),\"\",VLOOKUP($A15,Produits!$A$1:$O$357,6,FALSE))","v":14.9},{"$f":"IF(ISNA(VLOOKUP($A15,Produits!$A$1:$O$357,7,FALSE)),\"\",VLOOKUP($A15,Produits!$A$1:$O$357,7,FALSE))","v":16.5},{"$f":"IF(ISNA(VLOOKUP($A15,Produits!$A$1:$O$357,10,FALSE)),\"\",VLOOKUP($A15,Produits!$A$1:$O$357,10,FALSE))","v":"Multiple"},{"$f":"IFERROR(VLOOKUP(A15,Produits!$A$1:$P$357,8,FALSE),\"\")","v":0.2},{"$f":"IF(J15=0,G15,IFERROR(ROUNDDOWN(G15-G15*J15,2),\"\"))","v":11.92},null,{"$f":"IFERROR($K15*$L15,\"\")","v":0},{"$f":"H15-H15*J15","v":13.2},{"$f":"T15","v":0},{"$f":"IF(ISNA(VLOOKUP($A15,Produits!$A$1:$O$357,15,FALSE)),\"\",VLOOKUP($A15,Produits!$A$1:$O$357,15,FALSE))","v":815},{"$f":"IFERROR($L15*$P15/1000,\"\")","v":0},{"$f":"IFERROR(G15*L15,\"\")","v":0},{"$f":"IFERROR(ROUNDUP(H15*L15,2),\"\")","v":0},{"$f":"IFERROR(IF($I15=\"Multiple\",$M15+$W15+$X15,ROUNDUP($M15*(1+$I15),2)),\"\")","v":0},{"$f":"IFERROR($G15*$L15-ROUNDUP($K15,2)*$L15,\"\")","v":0},{"$f":"IFERROR(ROUND($H15*$L15-$T15,2),\"\")","v":0},{"$f":"IFERROR(IF($I15=\"Multiple\",ROUNDUP((VLOOKUP($A15,Produits_composes!$A$1:$AA$30,25,FALSE)-VLOOKUP($A15,Produits_composes!$A$1:$AA$30,25,FALSE)*J15)*$L15,2),IF($I15=5.5%,ROUNDUP(($K15*(1+$I15)-$K15)*$L15,2),\"\"*$L15)),\"\")","v":0},{"$f":"IFERROR(IF($I15=\"Multiple\",ROUNDUP((VLOOKUP($A15,Produits_composes!$A$1:$AA$30,26,FALSE)-VLOOKUP($A15,Produits_composes!$A$1:$AA$30,26,FALSE)*J15)*$L15,2),IF($I15=20%,ROUNDUP(($K15*(1+$I15)-$K15)*$L15,2),\"\"*$L15)),\"\")","v":0}]
[]
["47B",{"$f":"IF(ISNA(VLOOKUP($A17,Produits!$A$1:$O$357,2,FALSE)),\"\",VLOOKUP($A17,Produits!$A$1:$O$357,2,FALSE))","v":"Coffret \"Découverte\" SANS ALCOOL - 4 produits"},null,null,null,null,{"$f":"IF(ISNA(VLOOKUP($A17,Produits!$A$1:$O$357,6,FALSE)),\"\",VLOOKUP($A17,Produits!$A$1:$O$357,6,FALSE))","v":14.9},{"$f":"IF(ISNA(VLOOKUP($A17,Produits!$A$1:$O$357,7,FALSE)),\"\",VLOOKUP($A17,Produits!$A$1:$O$357,7,FALSE))","v":16.5},{"$f":"IF(ISNA(VLOOKUP($A17,Produits!$A$1:$O$357,10,FALSE)),\"\",VLOOKUP($A17,Produits!$A$1:$O$357,10,FALSE))","v":"Multiple"},{"$f":"IFERROR(VLOOKUP(A17,Produits!$A$1:$P$357,8,FALSE),\"\")","v":0.2},{"$f":"IF(J17=0,G17,IFERROR(ROUNDDOWN(G17-G17*J17,2),\"\"))","v":11.92},null,{"$f":"IFERROR($K17*$L17,\"\")","v":0},{"$f":"H17-H17*J17","v":13.2},{"$f":"T17","v":0},{"$f":"IF(ISNA(VLOOKUP($A17,Produits!$A$1:$O$357,15,FALSE)),\"\",VLOOKUP($A17,Produits!$A$1:$O$357,15,FALSE))","v":815},{"$f":"IFERROR($L17*$P17/1000,\"\")","v":0},{"$f":"IFERROR(G17*L17,\"\")","v":0},{"$f":"IFERROR(ROUNDUP(H17*L17,2),\"\")","v":0},{"$f":"IFERROR(IF($I17=\"Multiple\",$M17+$W17+$X17,ROUNDUP($M17*(1+$I17),2)),\"\")","v":0},{"$f":"IFERROR($G17*$L17-ROUNDUP($K17,2)*$L17,\"\")","v":0},{"$f":"IFERROR(ROUND($H17*$L17-$T17,2),\"\")","v":0},{"$f":"IFERROR(IF($I17=\"Multiple\",ROUNDUP((VLOOKUP($A15,Produits_composes!$A$1:$AA$30,25,FALSE)-VLOOKUP($A15,Produits_composes!$A$1:$AA$30,25,FALSE)*J17)*$L17,2),IF($I17=5.5%,ROUNDUP(($K17*(1+$I17)-$K17)*$L17,2),\"\"*$L17)),\"\")","v":0},{"$f":"IFERROR(IF($I17=\"Multiple\",ROUNDUP((VLOOKUP($A15,Produits_composes!$A$1:$AA$30,26,FALSE)-VLOOKUP($A15,Produits_composes!$A$1:$AA$30,26,FALSE)*J17)*$L17,2),IF($I17=20%,ROUNDUP(($K17*(1+$I17)-$K17)*$L17,2),\"\"*$L17)),\"\")","v":0}]
[]
["48A",{"$f":"IF(ISNA(VLOOKUP($A19,Produits!$A$1:$O$357,2,FALSE)),\"\",VLOOKUP($A19,Produits!$A$1:$O$357,2,FALSE))","v":"Coffret \"Le Mignon\" - 5 produits"},null,null,null,null,{"$f":"IF(ISNA(VLOOKUP($A19,Produits!$A$1:$O$357,6,FALSE)),\"\",VLOOKUP($A19,Produits!$A$1:$O$357,6,FALSE))","v":22.77},{"$f":"IF(ISNA(VLOOKUP($A19,Produits!$A$1:$O$357,7,FALSE)),\"\",VLOOKUP($A19,Produits!$A$1:$O$357,7,FALSE))","v":26.5},{"$f":"IF(ISNA(VLOOKUP($A19,Produits!$A$1:$O$357,10,FALSE)),\"\",VLOOKUP($A19,Produits!$A$1:$O$357,10,FALSE))","v":"Multiple"},{"$f":"IFERROR(VLOOKUP(A19,Produits!$A$1:$P$357,8,FALSE),\"\")","v":0.2},{"$f":"IF(J19=0,G19,IFERROR(ROUNDDOWN(G19-G19*J19,2),\"\"))","v":18.21},null,{"$f":"IFERROR($K19*$L19,\"\")","v":0},{"$f":"H19-H19*J19","v":21.2},{"$f":"T19","v":0},{"$f":"IF(ISNA(VLOOKUP($A19,Produits!$A$1:$O$357,15,FALSE)),\"\",VLOOKUP($A19,Produits!$A$1:$O$357,15,FALSE))","v":1020},{"$f":"IFERROR($L19*$P19/1000,\"\")","v":0},{"$f":"IFERROR(G19*L19,\"\")","v":0},{"$f":"IFERROR(ROUNDUP(H19*L19,2),\"\")","v":0},{"$f":"IFERROR(IF($I19=\"Multiple\",$M19+$W19+$X19,ROUNDUP($M19*(1+$I19),2)),\"\")","v":0},{"$f":"IFERROR($G19*$L19-ROUNDUP($K19,2)*$L19,\"\")","v":0},{"$f":"IFERROR(ROUND($H19*$L19-$T19,2),\"\")","v":0},{"$f":"IFERROR(IF($I19=\"Multiple\",ROUNDUP((VLOOKUP($A19,Produits_composes!$A$1:$AA$30,25,FALSE)-VLOOKUP($A19,Produits_composes!$A$1:$AA$30,25,FALSE)*J19)*$L19,2),IF($I19=5.5%,ROUNDUP(($K19*(1+$I19)-$K19)*$L19,2),\"\"*$L19)),\"\")","v":0},{"$f":"IFERROR(IF($I19=\"Multiple\",ROUNDUP((VLOOKUP($A19,Produits_composes!$A$1:$AA$30,26,FALSE)-VLOOKUP($A19,Produits_composes!$A$1:$AA$30,26,FALSE)*J19)*$L19,2),IF($I19=20%,ROUNDUP(($K19*(1+$I19)-$K19)*$L19,2),\"\"*$L19)),\"\")","v":0}]
[]
["48B",{"$f":"IF(ISNA(VLOOKUP($A21,Produits!$A$1:$O$357,2,FALSE)),\"\",VLOOKUP($A21,Produits!$A$1:$O$357,2,FALSE))","v":"Coffret \"Le Mignon\" SANS ALCOOL - 5 produits"},null,null,null,null,{"$f":"IF(ISNA(VLOOKUP($A21,Produits!$A$1:$O$357,6,FALSE)),\"\",VLOOKUP($A21,Produits!$A$1:$O$357,6,FALSE))","v":22.77},{"$f":"IF(ISNA(VLOOKUP($A21,Produits!$A$1:$O$357,7,FALSE)),\"\",VLOOKUP($A21,Produits!$A$1:$O$357,7,FALSE))","v":26.5},{"$f":"IF(ISNA(VLOOKUP($A21,Produits!$A$1:$O$357,10,FALSE)),\"\",VLOOKUP($A21,Produits!$A$1:$O$357,10,FALSE))","v":"Multiple"},{"$f":"IFERROR(VLOOKUP(A21,Produits!$A$1:$P$357,8,FALSE),\"\")","v":0.2},{"$f":"IF(J21=0,G21,IFERROR(ROUNDDOWN(G21-G21*J21,2),\"\"))","v":18.21},null,{"$f":"IFERROR($K21*$L21,\"\")","v":0},{"$f":"H21-H21*J21","v":21.2},{"$f":"T21","v":0},{"$f":"IF(ISNA(VLOOKUP($A21,Produits!$A$1:$O$357,15,FALSE)),\"\",VLOOKUP($A21,Produits!$A$1:$O$357,15,FALSE))","v":1020},{"$f":"IFERROR($L21*$P21/1000,\"\")","v":0},{"$f":"IFERROR(G21*L21,\"\")","v":0},{"$f":"IFERROR(ROUNDUP(H21*L21,2),\"\")","v":0},{"$f":"IFERROR(IF($I21=\"Multiple\",$M21+$W21+$X21,ROUNDUP($M21*(1+$I21),2)),\"\")","v":0},{"$f":"IFERROR($G21*$L21-ROUNDUP($K21,2)*$L21,\"\")","v":0},{"$f":"IFERROR(ROUND($H21*$L21-$T21,2),\"\")","v":0},{"$f":"IFERROR(IF($I21=\"Multiple\",ROUNDUP((VLOOKUP($A19,Produits_composes!$A$1:$AA$30,25,FALSE)-VLOOKUP($A19,Produits_composes!$A$1:$AA$30,25,FALSE)*J21)*$L21,2),IF($I21=5.5%,ROUNDUP(($K21*(1+$I21)-$K21)*$L21,2),\"\"*$L21)),\"\")","v":0},{"$f":"IFERROR(IF($I21=\"Multiple\",ROUNDUP((VLOOKUP($A19,Produits_composes!$A$1:$AA$30,26,FALSE)-VLOOKUP($A19,Produits_composes!$A$1:$AA$30,26,FALSE)*J21)*$L21,2),IF($I21=20%,ROUNDUP(($K21*(1+$I21)-$K21)*$L21,2),\"\"*$L21)),\"\")","v":0}]
[]
["49A",{"$f":"IF(ISNA(VLOOKUP($A23,Produits!$A$1:$O$357,2,FALSE)),\"\",VLOOKUP($A23,Produits!$A$1:$O$357,2,FALSE))","v":"Coffret \"L'Intrépide\" - 7 produits"},null,null,null,null,{"$f":"IF(ISNA(VLOOKUP($A23,Produits!$A$1:$O$357,6,FALSE)),\"\",VLOOKUP($A23,Produits!$A$1:$O$357,6,FALSE))","v":44.02},{"$f":"IF(ISNA(VLOOKUP($A23,Produits!$A$1:$O$357,7,FALSE)),\"\",VLOOKUP($A23,Produits!$A$1:$O$357,7,FALSE))","v":49.5},{"$f":"IF(ISNA(VLOOKUP($A23,Produits!$A$1:$O$357,10,FALSE)),\"\",VLOOKUP($A23,Produits!$A$1:$O$357,10,FALSE))","v":"Multiple"},{"$f":"IFERROR(VLOOKUP(A23,Produits!$A$1:$P$357,8,FALSE),\"\")","v":0.2},{"$f":"IF(J23=0,G23,IFERROR(ROUNDDOWN(G23-G23*J23,2),\"\"))","v":35.21},null,{"$f":"IFERROR($K23*$L23,\"\")","v":0},{"$f":"H23-H23*J23","v":39.6},{"$f":"T23","v":0},{"$f":"IF(ISNA(VLOOKUP($A23,Produits!$A$1:$O$357,15,FALSE)),\"\",VLOOKUP($A23,Produits!$A$1:$O$357,15,FALSE))","v":1845},{"$f":"IFERROR($L23*$P23/1000,\"\")","v":0},{"$f":"IFERROR(G23*L23,\"\")","v":0},{"$f":"IFERROR(ROUNDUP(H23*L23,2),\"\")","v":0},{"$f":"IFERROR(IF($I23=\"Multiple\",$M23+$W23+$X23,ROUNDUP($M23*(1+$I23),2)),\"\")","v":0},{"$f":"IFERROR($G23*$L23-ROUNDUP($K23,2)*$L23,\"\")","v":0},{"$f":"IFERROR(ROUND($H23*$L23-$T23,2),\"\")","v":0},{"$f":"IFERROR(IF($I23=\"Multiple\",ROUNDUP((VLOOKUP($A23,Produits_composes!$A$1:$AA$30,25,FALSE)-VLOOKUP($A23,Produits_composes!$A$1:$AA$30,25,FALSE)*J23)*$L23,2),IF($I23=5.5%,ROUNDUP(($K23*(1+$I23)-$K23)*$L23,2),\"\"*$L23)),\"\")","v":0},{"$f":"IFERROR(IF($I23=\"Multiple\",ROUNDUP((VLOOKUP($A23,Produits_composes!$A$1:$AA$30,26,FALSE)-VLOOKUP($A23,Produits_composes!$A$1:$AA$30,26,FALSE)*J23)*$L23,2),IF($I23=20%,ROUNDUP(($K23*(1+$I23)-$K23)*$L23,2),\"\"*$L23)),\"\")","v":0}]
[]
["49B",{"$f":"IF(ISNA(VLOOKUP($A25,Produits!$A$1:$O$357,2,FALSE)),\"\",VLOOKUP($A25,Produits!$A$1:$O$357,2,FALSE))","v":"Coffret \"L'Intrépide\" SANS ALCOOL - 7 produits"},null,null,null,null,{"$f":"IF(ISNA(VLOOKUP($A25,Produits!$A$1:$O$357,6,FALSE)),\"\",VLOOKUP($A25,Produits!$A$1:$O$357,6,FALSE))","v":44.02},{"$f":"IF(ISNA(VLOOKUP($A25,Produits!$A$1:$O$357,7,FALSE)),\"\",VLOOKUP($A25,Produits!$A$1:$O$357,7,FALSE))","v":49.5},{"$f":"IF(ISNA(VLOOKUP($A25,Produits!$A$1:$O$357,10,FALSE)),\"\",VLOOKUP($A25,Produits!$A$1:$O$357,10,FALSE))","v":"Multiple"},{"$f":"IFERROR(VLOOKUP(A25,Produits!$A$1:$P$357,8,FALSE),\"\")","v":0.2},{"$f":"IF(J25=0,G25,IFERROR(ROUNDDOWN(G25-G25*J25,2),\"\"))","v":35.21},null,{"$f":"IFERROR($K25*$L25,\"\")","v":0},{"$f":"H25-H25*J25","v":39.6},{"$f":"T25","v":0},{"$f":"IF(ISNA(VLOOKUP($A25,Produits!$A$1:$O$357,15,FALSE)),\"\",VLOOKUP($A25,Produits!$A$1:$O$357,15,FALSE))","v":1845},{"$f":"IFERROR($L25*$P25/1000,\"\")","v":0},{"$f":"IFERROR(G25*L25,\"\")","v":0},{"$f":"IFERROR(ROUNDUP(H25*L25,2),\"\")","v":0},{"$f":"IFERROR(IF($I25=\"Multiple\",$M25+$W25+$X25,ROUNDUP($M25*(1+$I25),2)),\"\")","v":0},{"$f":"IFERROR($G25*$L25-ROUNDUP($K25,2)*$L25,\"\")","v":0},{"$f":"IFERROR(ROUND($H25*$L25-$T25,2),\"\")","v":0},{"$f":"IFERROR(IF($I25=\"Multiple\",ROUNDUP((VLOOKUP($A23,Produits_composes!$A$1:$AA$30,25,FALSE)-VLOOKUP($A23,Produits_composes!$A$1:$AA$30,25,FALSE)*J25)*$L25,2),IF($I25=5.5%,ROUNDUP(($K25*(1+$I25)-$K25)*$L25,2),\"\"*$L25)),\"\")","v":0},{"$f":"IFERROR(IF($I25=\"Multiple\",ROUNDUP((VLOOKUP($A23,Produits_composes!$A$1:$AA$30,26,FALSE)-VLOOKUP($A23,Produits_composes!$A$1:$AA$30,26,FALSE)*J25)*$L25,2),IF($I25=20%,ROUNDUP(($K25*(1+$I25)-$K25)*$L25,2),\"\"*$L25)),\"\")","v":0}]
[]
["50A",{"$f":"IF(ISNA(VLOOKUP($A27,Produits!$A$1:$O$357,2,FALSE)),\"\",VLOOKUP($A27,Produits!$A$1:$O$357,2,FALSE))","v":"Coffret \"L'Intense\" - 10 produits"},null,null,null,null,{"$f":"IF(ISNA(VLOOKUP($A27,Produits!$A$1:$O$357,6,FALSE)),\"\",VLOOKUP($A27,Produits!$A$1:$O$357,6,FALSE))","v":54.069999999999993},{"$f":"IF(ISNA(VLOOKUP($A27,Produits!$A$1:$O$357,7,FALSE)),\"\",VLOOKUP($A27,Produits!$A$1:$O$357,7,FALSE))","v":61},{"$f":"IF(ISNA(VLOOKUP($A27,Produits!$A$1:$O$357,10,FALSE)),\"\",VLOOKUP($A27,Produits!$A$1:$O$357,10,FALSE))","v":"Multiple"},{"$f":"IFERROR(VLOOKUP(A27,Produits!$A$1:$P$357,8,FALSE),\"\")","v":0.2},{"$f":"IF(J27=0,G27,IFERROR(ROUNDDOWN(G27-G27*J27,2),\"\"))","v":43.25},null,{"$f":"IFERROR($K27*$L27,\"\")","v":0},{"$f":"H27-H27*J27","v":48.8},{"$f":"T27","v":0},{"$f":"IF(ISNA(VLOOKUP($A27,Produits!$A$1:$O$357,15,FALSE)),\"\",VLOOKUP($A27,Produits!$A$1:$O$357,15,FALSE))","v":3300},{"$f":"IFERROR($L27*$P27/1000,\"\")","v":0},{"$f":"IFERROR(G27*L27,\"\")","v":0},{"$f":"IFERROR(ROUNDUP(H27*L27,2),\"\")","v":0},{"$f":"IFERROR(IF($I27=\"Multiple\",$M27+$W27+$X27,ROUNDUP($M27*(1+$I27),2)),\"\")","v":0},{"$f":"IFERROR($G27*$L27-ROUNDUP($K27,2)*$L27,\"\")","v":0},{"$f":"IFERROR(ROUND($H27*$L27-$T27,2),\"\")","v":0},{"$f":"IFERROR(IF($I27=\"Multiple\",ROUNDUP((VLOOKUP($A27,Produits_composes!$A$1:$AA$30,25,FALSE)-VLOOKUP($A27,Produits_composes!$A$1:$AA$30,25,FALSE)*J27)*$L27,2),IF($I27=5.5%,ROUNDUP(($K27*(1+$I27)-$K27)*$L27,2),\"\"*$L27)),\"\")","v":0},{"$f":"IFERROR(IF($I27=\"Multiple\",ROUNDUP((VLOOKUP($A27,Produits_composes!$A$1:$AA$30,26,FALSE)-VLOOKUP($A27,Produits_composes!$A$1:$AA$30,26,FALSE)*J27)*$L27,2),IF($I27=20%,ROUNDUP(($K27*(1+$I27)-$K27)*$L27,2),\"\"*$L27)),\"\")","v":0}]
[]
["50B",{"$f":"IF(ISNA(VLOOKUP($A29,Produits!$A$1:$O$357,2,FALSE)),\"\",VLOOKUP($A29,Produits!$A$1:$O$357,2,FALSE))","v":"Coffret \"L'Intense\" SANS ALCOOL - 10 produits"},null,null,null,null,{"$f":"IF(ISNA(VLOOKUP($A29,Produits!$A$1:$O$357,6,FALSE)),\"\",VLOOKUP($A29,Produits!$A$1:$O$357,6,FALSE))","v":54.069999999999993},{"$f":"IF(ISNA(VLOOKUP($A29,Produits!$A$1:$O$357,7,FALSE)),\"\",VLOOKUP($A29,Produits!$A$1:$O$357,7,FALSE))","v":61},{"$f":"IF(ISNA(VLOOKUP($A29,Produits!$A$1:$O$357,10,FALSE)),\"\",VLOOKUP($A29,Produits!$A$1:$O$357,10,FALSE))","v":"Multiple"},{"$f":"IFERROR(VLOOKUP(A29,Produits!$A$1:$P$357,8,FALSE),\"\")","v":0.2},{"$f":"IF(J29=0,G29,IFERROR(ROUNDDOWN(G29-G29*J29,2),\"\"))","v":43.25},null,{"$f":"IFERROR($K29*$L29,\"\")","v":0},{"$f":"H29-H29*J29","v":48.8},{"$f":"T29","v":0},{"$f":"IF(ISNA(VLOOKUP($A29,Produits!$A$1:$O$357,15,FALSE)),\"\",VLOOKUP($A29,Produits!$A$1:$O$357,15,FALSE))","v":3300},{"$f":"IFERROR($L29*$P29/1000,\"\")","v":0},{"$f":"IFERROR(G29*L29,\"\")","v":0},{"$f":"IFERROR(ROUNDUP(H29*L29,2),\"\")","v":0},{"$f":"IFERROR(IF($I29=\"Multiple\",$M29+$W29+$X29,ROUNDUP($M29*(1+$I29),2)),\"\")","v":0},{"$f":"IFERROR($G29*$L29-ROUNDUP($K29,2)*$L29,\"\")","v":0},{"$f":"IFERROR(ROUND($H29*$L29-$T29,2),\"\")","v":0},{"$f":"IFERROR(IF($I29=\"Multiple\",ROUNDUP((VLOOKUP($A27,Produits_composes!$A$1:$AA$30,25,FALSE)-VLOOKUP($A27,Produits_composes!$A$1:$AA$30,25,FALSE)*J29)*$L29,2),IF($I29=5.5%,ROUNDUP(($K29*(1+$I29)-$K29)*$L29,2),\"\"*$L29)),\"\")","v":0},{"$f":"IFERROR(IF($I29=\"Multiple\",ROUNDUP((VLOOKUP($A27,Produits_composes!$A$1:$AA$30,26,FALSE)-VLOOKUP($A27,Produits_composes!$A$1:$AA$30,26,FALSE)*J29)*$L29,2),IF($I29=20%,ROUNDUP(($K29*(1+$I29)-$K29)*$L29,2),\"\"*$L29)),\"\")","v":0}]
[]
["Ref.","Coffrets à composer vous-même",null,null,null,null,"Prix HT","Prix TTC","TVA","Remise","Prix remisé\nHT","Quantité","TOTAL Ligne\nremisée HT","Prix unitaire remisé TTC","Total Ligne remisée TTC","Poids Brut","Total Poids\nLigne","Total ligne\nHT","Total ligne\nTTC","Total ligne\nremisé TTC","Remise HT","Remise TTC","TVA 5,5%","TVA 20%"]
[]
["CP-M",{"$f":"IF(ISNA(VLOOKUP($A33,Produits!$A$1:$O$357,2,FALSE)),\"\",VLOOKUP($A33,Produits!$A$1:$O$357,2,FALSE))","v":"Coffret à composer vous-même \"M\" - Taille Medium (5 produits)⁽¹⁾"},null,null,null,{"$f":"IF(ISNA(VLOOKUP($A33,Produits!$A$1:$O$357,3,FALSE)),\"\",VLOOKUP($A33,Produits!$A$1:$O$357,3,FALSE))","v":0},{"$f":"IFERROR(IF(ISNA(VLOOKUP($A33,Produits!$A$1:$O$357,6,FALSE)),\"\",VLOOKUP($A33,Produits!$A$1:$O$357,6,FALSE)),\"Attente\")","v":"Attente"},{"$f":"IF(ISNA(VLOOKUP($A33,Produits!$A$1:$O$357,7,FALSE)),\"\",VLOOKUP($A33,Produits!$A$1:$O$357,7,FALSE))","v":36.5},{"$f":"IF(ISNA(VLOOKUP($A33,Produits!$A$1:$O$357,10,FALSE)),\"\",VLOOKUP($A33,Produits!$A$1:$O$357,10,FALSE))","v":"Multiple"},{"$f":"IFERROR(VLOOKUP(A33,Produits!$A$1:$P$357,8,FALSE),\"\")","v":0.2},{"$f":"IF(J33=0,G33,IFERROR(ROUNDDOWN(G33-G33*J33,2),\"Cochez vos produits\"))","v":"Cochez vos produits"},null,{"$f":"IFERROR($K33*$L33,\"\")","v":""},{"$f":"H33-H33*J33","v":29.2},{"$f":"T33","v":0},{"$f":"IF(ISNA(VLOOKUP($A33,Produits!$A$1:$O$357,15,FALSE)),\"\",VLOOKUP($A33,Produits!$A$1:$O$357,15,FALSE))","v":1100},{"$f":"IFERROR($L33*$P33/1000,\"\")","v":0},{"$f":"IFERROR(G33*L33,\"\")","v":""},{"$f":"IFERROR(ROUNDUP(H33*L33,2),\"\")","v":0},{"$f":"(H33-H33*J33)*L33","v":0},{"$f":"IFERROR($G33*$L33-ROUNDUP($K33,2)*$L33,\"\")","v":""},{"$f":"IFERROR(ROUND($H33*$L33-$T33,2),\"\")","v":0},{"$f":"IFERROR(AC42*L33,\"\")","v":""},{"$f":"IFERROR(AD42*L33,\"\")","v":""},null,{"$f":"IF(L33>=1,1,0)","v":0},{"$f":"SUM(Z33:Z38)","v":0}]
[null,null,null,null,"Cochez dessous: 3x produits* + 1x produit** + 1x produit***"]
["CP-L",{"$f":"IF(ISNA(VLOOKUP($A35,Produits!$A$1:$O$357,2,FALSE)),\"\",VLOOKUP($A35,Produits!$A$1:$O$357,2,FALSE))","v":"Coffret à composer vous-même \"L\" - Grande Taille (7 produits)⁽¹⁾"},null,null,null,{"$f":"IF(ISNA(VLOOKUP($A35,Produits!$A$1:$O$357,3,FALSE)),\"\",VLOOKUP($A35,Produits!$A$1:$O$357,3,FALSE))","v":0},{"$f":"IFERROR(IF(ISNA(VLOOKUP($A35,Produits!$A$1:$O$357,6,FALSE)),\"\",VLOOKUP($A35,Produits!$A$1:$O$357,6,FALSE)),\"Attente\")","v":"Attente"},{"$f":"IF(ISNA(VLOOKUP($A35,Produits!$A$1:$O$357,7,FALSE)),\"\",VLOOKUP($A35,Produits!$A$1:$O$357,7,FALSE))","v":44},{"$f":"IF(ISNA(VLOOKUP($A35,Produits!$A$1:$O$357,10,FALSE)),\"\",VLOOKUP($A35,Produits!$A$1:$O$357,10,FALSE))","v":"Multiple"},{"$f":"IFERROR(VLOOKUP(A35,Produits!$A$1:$P$357,8,FALSE),\"\")","v":0.2},{"$f":"IF(J35=0,G35,IFERROR(ROUNDDOWN(G35-G35*J35,2),\"Cochez vos produits\"))","v":"Cochez vos produits"},null,{"$f":"IFERROR($K35*$L35,\"\")","v":""},{"$f":"H35-H35*J35","v":35.200000000000003},{"$f":"T35","v":0},{"$f":"IF(ISNA(VLOOKUP($A35,Produits!$A$1:$O$357,15,FALSE)),\"\",VLOOKUP($A35,Produits!$A$1:$O$357,15,FALSE))","v":2000},{"$f":"IFERROR($L35*$P35/1000,\"\")","v":0},{"$f":"IFERROR(G35*L35,\"\")","v":""},{"$f":"IFERROR(ROUNDUP(H35*L35,2),\"\")","v":0},{"$f":"(H35-H35*J35)*L35","v":0},{"$f":"IFERROR($G35*$L35-ROUNDUP($K35,2)*$L35,\"\")","v":""},{"$f":"IFERROR(ROUND($H35*$L35-$T35,2),\"\")","v":0},{"$f":"IFERROR(AC45*L35,\"\")","v":""},{"$f":"IFERROR(AD45*L35,\"\")","v":""},null,{"$f":"IF(L35>=1,1,0)","v":0}]
[null,null,null,null,"Cochez dessous: 4x produits* + 2x produits** + 1x produit***"]
["CP-XL",{"$f":"IF(ISNA(VLOOKUP($A37,Produits!$A$1:$O$357,2,FALSE)),\"\",VLOOKUP($A37,Produits!$A$1:$O$357,2,FALSE))","v":"Coffret à composer vous-même \"XL\" - Très Grande Taille (10 produits)⁽¹⁾"},null,null,null,{"$f":"IF(ISNA(VLOOKUP($A37,Produits!$A$1:$O$357,3,FALSE)),\"\",VLOOKUP($A37,Produits!$A$1:$O$357,3,FALSE))","v":0},{"$f":"IFERROR(IF(ISNA(VLOOKUP($A37,Produits!$A$1:$O$357,6,FALSE)),\"\",VLOOKUP($A37,Produits!$A$1:$O$357,6,FALSE)),\"Attente\")","v":"Attente"},{"$f":"IF(ISNA(VLOOKUP($A37,Produits!$A$1:$O$357,7,FALSE)),\"\",VLOOKUP($A37,Produits!$A$1:$O$357,7,FALSE))","v":68},{"$f":"IF(ISNA(VLOOKUP($A37,Produits!$A$1:$O$357,10,FALSE)),\"\",VLOOKUP($A37,Produits!$A$1:$O$357,10,FALSE))","v":"Multiple"},{"$f":"IFERROR(VLOOKUP(A37,Produits!$A$1:$P$357,8,FALSE),\"\")","v":0.2},{"$f":"IF(J37=0,G37,IFERROR(ROUNDDOWN(G37-G37*J37,2),\"Cochez vos produits\"))","v":"Cochez vos produits"},null,{"$f":"IFERROR($K37*$L37,\"\")","v":""},{"$f":"H37-H37*J37","v":54.4},{"$f":"T37","v":0},{"$f":"IF(ISNA(VLOOKUP($A37,Produits!$A$1:$O$357,15,FALSE)),\"\",VLOOKUP($A37,Produits!$A$1:$O$357,15,FALSE))","v":3100},{"$f":"IFERROR($L37*$P37/1000,\"\")","v":0},{"$f":"IFERROR(G37*L37,\"\")","v":""},{"$f":"IFERROR(ROUNDUP(H37*L37,2),\"\")","v":0},{"$f":"(H37-H37*J37)*L37","v":0},{"$f":"IFERROR($G37*$L37-ROUNDUP($K37,2)*$L37,\"\")","v":""},{"$f":"IFERROR(ROUND($H37*$L37-$T37,2),\"\")","v":0},{"$f":"IFERROR(AC48*L37,\"\")","v":""},{"$f":"IFERROR(AD48*L37,\"\")","v":""},null,{"$f":"IF(L37>=1,1,0)","v":0}]
[null,null,null,null,"Cochez dessous: 5x produits* + 3x produits** + 2x produits***"]
["Cochez vos Produits:","Sélectionnez vos Produits*",null,null,null,"Sélectionnez vos Produits**",null,null,null,"Sélectionnez vos Produits***",null,null,null,{"$f":"IF(ISNA(VLOOKUP($A39,Produits!$A$1:$O$357,5,FALSE)),\"\",VLOOKUP($A39,Produits!$A$1:$O$357,5,FALSE))","v":""},{"$f":"IF(ISNA(VLOOKUP($A39,Produits!$A$1:$O$357,15,FALSE)),\"\",VLOOKUP($A39,Produits!$A$1:$O$357,15,FALSE))","v":""},{"$f":"IFERROR($L39*$O39/1000,\"\")","v":""},null,null,"Nbre art. TVA 5,5%","Nbre art. TVA 20%",null,"Nbre art. TVA 5,5%","Nbre art. TVA 20%",{"$f":"IFERROR(IF($I39=\"Multiple\",VLOOKUP($A39,Produits_composes!$A$1:$AA$30,26,FALSE)*$L39,IF($I39=20%,ROUNDUP(($K39*(1+$I39)-$K39)*$L39,2),\"\"*$L39)),\"\")","v":""},"Nbre art. TVA 5,5%","Nbre art. TVA 20%","% TVA 5,5%","% TVA 20%"]
[null,null,null,null,null,null,null,null,null,null,null,null,null,null,null,null,null,false,{"$f":"IF($R40=TRUE,1,0)","v":0},null,false,{"$f":"IF($U40=TRUE,1,0)","v":0},null,false,{"$f":"IF($X40=TRUE,1,0)","v":0},null,{"$f":"IFERROR(SUM(S49,V49,Y49)/SUM(S49:Z49),\"\")","v":""},{"$f":"IFERROR(SUM(T49,W49,Z49)/SUM(S49:Z49),\"\")","v":""}]
[null,null,null,null,null,null,null,null,null,null,null,null,null,{"$f":"IF(ISNA(VLOOKUP($A41,Produits!$A$1:$O$357,5,FALSE)),\"\",VLOOKUP($A41,Produits!$A$1:$O$357,5,FALSE))","v":""},{"$f":"IF(ISNA(VLOOKUP($A41,Produits!$A$1:$O$357,15,FALSE)),\"\",VLOOKUP($A41,Produits!$A$1:$O$357,15,FALSE))","v":""},{"$f":"IFERROR($L41*$O41/1000,\"\")","v":""},null,false,{"$f":"IF($R41=TRUE,1,0)","v":0},null,false,{"$f":"IF($U41=TRUE,1,0)","v":0},null,false,null,{"$f":"IF($X41=TRUE,1,0)","v":0},"TTC 5,5% - M","TTC 20% - M","TVA 5,5%","TVA 20%"]
[null,null,null,null,null,null,null,null,null,null,null,null,null,null,null,null,null,false,{"$f":"IF($R42=TRUE,1,0)","v":0},null,false,null,{"$f":"IF($U42=TRUE,1,0)","v":0},false,null,{"$f":"IF($X42=TRUE,1,0)","v":0},{"$f":"IFERROR(N33*AA40,\"\")","v":""},{"$f":"IFERROR(N33*AB40,\"\")","v":""},{"$f":"AA42-AA43","v":{"$error":"#VALUE!"}},{"$f":"AB42-AB43","v":{"$error":"#VALUE!"}}]
[null,null,null,null,null,null,null,null,null,null,null,null,null,{"$f":"IF(ISNA(VLOOKUP($A43,Produits!$A$1:$O$357,5,FALSE)),\"\",VLOOKUP($A43,Produits!$A$1:$O$357,5,FALSE))","v":""},{"$f":"IF(ISNA(VLOOKUP($A43,Produits!$A$1:$O$357,15,FALSE)),\"\",VLOOKUP($A43,Produits!$A$1:$O$357,15,FALSE))","v":""},{"$f":"IFERROR($L43*$O43/1000,\"\")","v":""},null,false,null,{"$f":"IF($R43=TRUE,1,0)","v":0},false,{"$f":"IF($U43=TRUE,1,0)","v":0},null,false,{"$f":"IF($X43=TRUE,1,0)","v":0},null,{"$f":"IFERROR(ROUNDDOWN(AA42/1.055,2),\"\")","v":""},{"$f":"ROUNDDOWN(AB42/1.2,2)","v":{"$error":"#VALUE!"}},"TVA Totale=",{"$f":"AC42+AD42","v":{"$error":"#VALUE!"}}]
[null,null,null,null,null,null,null,null,null,null,null,null,null,null,null,null,null,false,{"$f":"IF($R44=TRUE,1,0)","v":0},null,false,{"$f":"IF($U44=TRUE,1,0)","v":0},null,false,{"$f":"IF($X44=TRUE,1,0)","v":0},null,"TTC 5,5% - L","TTC 20% - L","TVA 5,5%","TVA 20%"]
[null,null,null,null,null,null,null,null,null,null,null,null,null,{"$f":"IF(ISNA(VLOOKUP($A45,Produits!$A$1:$O$357,5,FALSE)),\"\",VLOOKUP($A45,Produits!$A$1:$O$357,5,FALSE))","v":""},{"$f":"IF(ISNA(VLOOKUP($A45,Produits!$A$1:$O$357,15,FALSE)),\"\",VLOOKUP($A45,Produits!$A$1:$O$357,15,FALSE))","v":""},{"$f":"IFERROR($L45*$O45/1000,\"\")","v":""},null,false,{"$f":"IF($R45=TRUE,1,0)","v":0},null,false,{"$f":"IF($U45=TRUE,1,0)","v":0},null,null,null,null,{"$f":"IFERROR(N35*$AA$40,\"\")","v":""},{"$f":"IFERROR(N35*$AB$40,\"\")","v":""},{"$f":"AA45-AA46","v":{"$error":"#VALUE!"}},{"$f":"AB45-AB46","v":{"$error":"#VALUE!"}}]
[null,null,null,null,null,null,null,null,null,null,null,null,null,null,null,null,null,false,{"$f":"IF($R46=TRUE,1,0)","v":0},null,false,null,{"$f":"IF($U46=TRUE,1,0)","v":0},null,null,null,{"$f":"IFERROR(ROUNDDOWN(AA45/1.055,2),\"\")","v":""},{"$f":"ROUNDDOWN(AB45/1.2,2)","v":{"$error":"#VALUE!"}},"TVA Totale=",{"$f":"AC45+AD45","v":{"$error":"#VALUE!"}}]
[null,null,null,null,null,null,null,null,null,null,null,null,null,null,null,null,null,false,null,{"$f":"IF($R47=TRUE,1,0)","v":0},false,null,{"$f":"IF($U47=TRUE,1,0)","v":0},null,null,null,"TTC 5,5% - XL","TTC 20% - XL","TVA 5,5%","TVA 20%"]
[null,{"$f":"\"= \"& SUM(S40:T48)&\" \"&\"produits * sélectionnés\"","v":"= 0 produits * sélectionnés"},null,null,null,{"$f":"\"= \"& SUM(V40:W48)&\" \"&\"produits ** sélectionnés\"","v":"= 0 produits ** sélectionnés"},null,null,null,{"$f":"\"= \"& SUM(Y40:Z44)&\" \"&\"produits *** sélectionnés\"","v":"= 0 produits *** sélectionnés"},null,null,null,null,null,null,null,false,null,{"$f":"IF($R48=TRUE,1,0)","v":0},false,null,{"$f":"IF($U48=TRUE,1,0)","v":0},null,null,null,{"$f":"IFERROR(N37*$AA$40,\"\")","v":""},{"$f":"IFERROR(N37*$AB$40,\"\")","v":""},{"$f":"AA48-AA49","v":{"$error":"#VALUE!"}},{"$f":"AB48-AB49","v":{"$error":"#VALUE!"}}]
["⁽¹⁾ -1 produit de cat. * si Foie gras de canard entier sélectionné dans la catégorie de produits ***",null,null,null,null,null,null,null,null,null,null,null,null,null,null,null,null,null,{"$f":"SUM(S40:S48)","v":0},{"$f":"SUM(T40:T48)","v":0},null,{"$f":"SUM(V40:V48)","v":0},{"$f":"SUM(W40:W48)","v":0},null,{"$f":"SUM(Y40:Y48)","v":0},{"$f":"SUM(Z40:Z48)","v":0},{"$f":"IFERROR(ROUNDDOWN(AA48/1.055,2),\"\")","v":""},{"$f":"ROUNDDOWN(AB48/1.2,2)","v":{"$error":"#VALUE!"}},"TVA Totale=",{"$f":"AC48+AD48","v":{"$error":"#VALUE!"}}]
[null,null,null,null,null,null,null,null,"Etiquettes personnalisés au logo de votre CE ou entreprise sur nos produits pour 1€ ttc de plus ?",null,null,null,"Non"]
["Notez ici les remarques à prendre en compte pour la commande:"]
["Délai impératif ? Envoi décalé ? Plusieurs destinataires ? Digicode ?...",null,null,null,null,null,null,null,"Sous-total HT:",null,null,null,{"$f":"SUM(R15:R38)","v":0},null,"Vérifier que tous les champs de coordonnées en haut de page \nsoient correctement remplis avant de cliquer sur \"Envoyer\"."]
[null,null,null,null,null,null,null,null,"Sous-total TTC:",null,null,null,{"$f":"SUM(S15:S38)","v":0}]
[null,null,null,null,null,null,null,null,"Votre remise € (HT)",null,null,null,{"$f":"SUM(U15:U38)","v":0}]
[null,null,null,null,null,null,null,null,"Votre remise € (TTC)",null,null,null,{"$f":"SUM(V15:V38)","v":0}]
[null,null,null,null,null,null,null,null,"Sous-total remisé € (HT)",null,null,null,{"$f":"SUM(M15:M38)","v":0}]
["Modes de paiements acceptés:",null,null,"POIDS TOTAL DE LA COMMANDE",null,null,null,null,"Sous-total remisé € (TTC)",null,null,null,{"$f":"SUM(T15:T38)","v":0}]
["Chèque, CB, Paypal, Virement, Espèces",null,null,{"$f":"MROUND(IF(SUM(Q14:Q49)<=10,SUM(Q14:Q49)*1.1,IF(SUM(Q14:Q49)>=10.01,SUM(Q14:Q49)*1.065)),0.05)","v":0},null,null,null,null,"(1) Frais de cond. et de livraisons € (HT):",null,null,null,{"$f":"VLOOKUP(M56,Paramètres!G3:K50,3,TRUE)","v":0}]
[null,null,null,null,null,null,null,null,"€ (TTC)",null,null,null,{"$f":"VLOOKUP(M56,Paramètres!G3:K50,4,TRUE)","v":0}]
[null,null,null,"FRAIS DE CONDITIONNEMENT ET DE LIVRAISON:",null,null,null,null,"Total € (HT)",null,null,null,{"$f":"SUM(M56,M58,IF(M50=\"Oui\",0.83,0))","v":0}]
[null,null,null,{"$f":"VLOOKUP(M56,Paramètres!G3:K50,3,TRUE)","v":0},null,{"$f":"IFERROR(VLOOKUP(D58,Paramètres!G3:K50,5,TRUE),\"\")","v":0},null,null,"Total à régler € (TTC)",null,null,null,{"$f":"SUM(M57,M59,IF(M50=\"Oui\",1,0))","v":0}]
[]
[null,null,null,null,null,null,null,null,null,null,"dont TVA à 5,5%:",null,{"$f":"SUM(W15:W38)","v":0}]
[null,null,null,null,null,null,null,null,null,null,"dont TVA à 20%:",null,{"$f":"IFERROR(SUM(X15:X38,IF(M50=\"Oui\",0.17,0))+(M59-M58),SUM(X15:X38,IF(M50=\"Oui\",0.17,0)))","v":0}]
[]
[]
[]
["SARL au capital de 7 622,45 € - RCS Marmande 402 145 437 - SIRET 402 145 437 00016 - TVA Intracom. FR 84 40 214 54 37\nPas d'escompte pour paiement anticipé - Indemnité forfaitaire de 40€ pour frais de recouvrement en cas de retard de paiement"]

{"sheet":"Tarifs Pro MDP","index":3,"n_rows":161,"n_cols":12,"rows_kept":161,"cut":false,"hidden":true,"merged":[[6,3,6,5],[6,7,6,9],[0,2,1,9],[3,3,3,5],[3,7,3,9],[4,2,5,2],[4,3,5,9],[7,0,9,1],[7,3,7,5],[7,7,7,9],[8,3,8,5],[8,7,8,9],[9,2,9,3],[9,4,9,9]]}
[null,null,"Tarifs Pro - Maison du Pruneau"]
[]
[]
[null,null,"Entreprise:",{"$f":"Coordonnées_client!$C$2","v":0},null,null,"Tél.:",{"$f":"Coordonnées_client!$I$2","v":0}]
[null,null,"Adresse:",{"$f":"Coordonnées_client!$F$2","v":0}]
[]
[null,null,"CP:",{"$f":"Coordonnées_client!$G$2","v":0},null,null,"Ville:",{"$f":"Coordonnées_client!$H$2","v":0}]
["«Braunès» 47320 Lafitte-sur-Lot\n05 53 84 04 17 • mdpruneau.vpc@orange.fr\nwww.maisondupruneau.com",null,"Nom:",{"$f":"Coordonnées_client!$K$2","v":0},null,null,"Prénom:",{"$f":"Coordonnées_client!$L$2","v":0}]
[null,null,"Ligne directe:",{"$f":"Coordonnées_client!$N$2","v":0},null,null,"Mail:",{"$f":"Coordonnées_client!$O$2","v":0}]
[null,null,"Conditions de règlement:",null,{"$f":"Coordonnées_client!$D$4","v":"Comptant (1ère commande) puis 30j net (commandes suivantes)"}]
[]
["Réf.","Désignation","Contenance","Colisage","Emballage","Prix HT","Prix TTC \nconseillé","TVA","Taux de\nremise","Prix remisé\nHT","Code EAN","#"]
["1A",{"$f":"VLOOKUP($A13,Produits!$A$1:$P$357,2,FALSE)","v":"Pruneaux d'Agen BIO"},{"$f":"VLOOKUP($A13,Produits!$A$1:$P$357,3,FALSE)","v":"500g"},{"$f":"VLOOKUP($A13,Produits!$A$1:$P$357,5,FALSE)","v":25},{"$f":"VLOOKUP($A13,Produits!$A$1:$P$357,4,FALSE)","v":"Sachet"},{"$f":"VLOOKUP($A13,Produits!$A$1:$P$357,6,FALSE)","v":5.2132699999999996},{"$f":"VLOOKUP($A13,Produits!$A$1:$P$357,7,FALSE)","v":5.5},{"$f":"VLOOKUP($A13,Produits!$A$1:$P$357,10,FALSE)","v":5.5E-2},{"$f":"VLOOKUP($A13,Produits!$A$1:$P$357,8,FALSE)","v":0.2},{"$f":"VLOOKUP($A13,Produits!$A$1:$P$357,9,FALSE)","v":4.18},{"$f":"IF(ISNA(VLOOKUP($A13,Produits!$A$1:$O$357,14,FALSE)),\"\",VLOOKUP($A13,Produits!$A$1:$O$357,14,FALSE))","v":3760219062868},1]
["1B",{"$f":"VLOOKUP($A14,Produits!$A$1:$P$357,2,FALSE)","v":"Pruneaux d'Agen BIO"},{"$f":"VLOOKUP($A14,Produits!$A$1:$P$357,3,FALSE)","v":"1kg"},{"$f":"VLOOKUP($A14,Produits!$A$1:$P$357,5,FALSE)","v":14},{"$f":"VLOOKUP($A14,Produits!$A$1:$P$357,4,FALSE)","v":"Sachet"},{"$f":"VLOOKUP($A14,Produits!$A$1:$P$357,6,FALSE)","v":9.4786699999999993},{"$f":"VLOOKUP($A14,Produits!$A$1:$P$357,7,FALSE)","v":10},{"$f":"VLOOKUP($A14,Produits!$A$1:$P$357,10,FALSE)","v":5.5E-2},{"$f":"VLOOKUP($A14,Produits!$A$1:$P$357,8,FALSE)","v":0.2},{"$f":"VLOOKUP($A14,Produits!$A$1:$P$357,9,FALSE)","v":7.59},{"$f":"IF(ISNA(VLOOKUP($A14,Produits!$A$1:$O$357,14,FALSE)),\"\",VLOOKUP($A14,Produits!$A$1:$O$357,14,FALSE))","v":3760219062851},2]
["1C",{"$f":"VLOOKUP($A15,Produits!$A$1:$P$357,2,FALSE)","v":"Pruneaux d’Agen BIO dénoyautés "},{"$f":"VLOOKUP($A15,Produits!$A$1:$P$357,3,FALSE)","v":"500g"},{"$f":"VLOOKUP($A15,Produits!$A$1:$P$357,5,FALSE)","v":25},{"$f":"VLOOKUP($A15,Produits!$A$1:$P$357,4,FALSE)","v":"Sachet"},{"$f":"VLOOKUP($A15,Produits!$A$1:$P$357,6,FALSE)","v":7.2985699999999998},{"$f":"VLOOKUP($A15,Produits!$A$1:$P$357,7,FALSE)","v":7.7},{"$f":"VLOOKUP($A15,Produits!$A$1:$P$357,10,FALSE)","v":5.5E-2},{"$f":"VLOOKUP($A15,Produits!$A$1:$P$357,8,FALSE)","v":0.2},{"$f":"VLOOKUP($A15,Produits!$A$1:$P$357,9,FALSE)","v":5.84},{"$f":"IF(ISNA(VLOOKUP($A15,Produits!$A$1:$O$357,14,FALSE)),\"\",VLOOKUP($A15,Produits!$A$1:$O$357,14,FALSE))","v":3760219062844},3]
["1D",{"$f":"VLOOKUP($A16,Produits!$A$1:$P$357,2,FALSE)","v":"Pruneaux d’Agen BIO dénoyautés"},{"$f":"VLOOKUP($A16,Produits!$A$1:$P$357,3,FALSE)","v":"1kg"},{"$f":"VLOOKUP($A16,Produits!$A$1:$P$357,5,FALSE)","v":14},{"$f":"VLOOKUP($A16,Produits!$A$1:$P$357,4,FALSE)","v":"Sachet"},{"$f":"VLOOKUP($A16,Produits!$A$1:$P$357,6,FALSE)","v":13.27014},{"$f":"VLOOKUP($A16,Produits!$A$1:$P$357,7,FALSE)","v":14},{"$f":"VLOOKUP($A16,Produits!$A$1:$P$357,10,FALSE)","v":5.5E-2},{"$f":"VLOOKUP($A16,Produits!$A$1:$P$357,8,FALSE)","v":0.2},{"$f":"VLOOKUP($A16,Produits!$A$1:$P$357,9,FALSE)","v":10.62},{"$f":"IF(ISNA(VLOOKUP($A16,Produits!$A$1:$O$357,14,FALSE)),\"\",VLOOKUP($A16,Produits!$A$1:$O$357,14,FALSE))","v":3760219062837},4]
["2A",{"$f":"VLOOKUP($A17,Produits!$A$1:$P$357,2,FALSE)","v":"Crème de pruneaux BIO"},{"$f":"VLOOKUP($A17,Produits!$A$1:$P$357,3,FALSE)","v":"210g"},{"$f":"VLOOKUP($A17,Produits!$A$1:$P$357,5,FALSE)","v":24},{"$f":"VLOOKUP($A17,Produits!$A$1:$P$357,4,FALSE)","v":"Bocal"},{"$f":"VLOOKUP($A17,Produits!$A$1:$P$357,6,FALSE)","v":3.9810400000000001},{"$f":"VLOOKUP($A17,Produits!$A$1:$P$357,7,FALSE)","v":4.2},{"$f":"VLOOKUP($A17,Produits!$A$1:$P$357,10,FALSE)","v":5.5E-2},{"$f":"VLOOKUP($A17,Produits!$A$1:$P$357,8,FALSE)","v":0.2},{"$f":"VLOOKUP($A17,Produits!$A$1:$P$357,9,FALSE)","v":3.19},{"$f":"IF(ISNA(VLOOKUP($A17,Produits!$A$1:$O$357,14,FALSE)),\"\",VLOOKUP($A17,Produits!$A$1:$O$357,14,FALSE))","v":3760219062820},5]
["3A",{"$f":"VLOOKUP($A18,Produits!$A$1:$P$357,2,FALSE)","v":"Jus de pruneaux BIO"},{"$f":"VLOOKUP($A18,Produits!$A$1:$P$357,3,FALSE)","v":"25cl"},{"$f":"VLOOKUP($A18,Produits!$A$1:$P$357,5,FALSE)","v":12},{"$f":"VLOOKUP($A18,Produits!$A$1:$P$357,4,FALSE)","v":"Bouteille"},{"$f":"VLOOKUP($A18,Produits!$A$1:$P$357,6,FALSE)","v":2.3696600000000001},{"$f":"VLOOKUP($A18,Produits!$A$1:$P$357,7,FALSE)","v":2.5},{"$f":"VLOOKUP($A18,Produits!$A$1:$P$357,10,FALSE)","v":5.5E-2},{"$f":"VLOOKUP($A18,Produits!$A$1:$P$357,8,FALSE)","v":0.2},{"$f":"VLOOKUP($A18,Produits!$A$1:$P$357,9,FALSE)","v":1.9},{"$f":"IF(ISNA(VLOOKUP($A18,Produits!$A$1:$O$357,14,FALSE)),\"\",VLOOKUP($A18,Produits!$A$1:$O$357,14,FALSE))","v":3760219062813},6]
["3B",{"$f":"VLOOKUP($A19,Produits!$A$1:$P$357,2,FALSE)","v":"Jus de pruneaux BIO"},{"$f":"VLOOKUP($A19,Produits!$A$1:$P$357,3,FALSE)","v":"1L"},{"$f":"VLOOKUP($A19,Produits!$A$1:$P$357,5,FALSE)","v":6},{"$f":"VLOOKUP($A19,Produits!$A$1:$P$357,4,FALSE)","v":"Bouteille"},{"$f":"VLOOKUP($A19,Produits!$A$1:$P$357,6,FALSE)","v":5.5924100000000001},{"$f":"VLOOKUP($A19,Produits!$A$1:$P$357,7,FALSE)","v":5.9},{"$f":"VLOOKUP($A19,Produits!$A$1:$P$357,10,FALSE)","v":5.5E-2},{"$f":"VLOOKUP($A19,Produits!$A$1:$P$357,8,FALSE)","v":0.2},{"$f":"VLOOKUP($A19,Produits!$A$1:$P$357,9,FALSE)","v":4.4799999999999995},{"$f":"IF(ISNA(VLOOKUP($A19,Produits!$A$1:$O$357,14,FALSE)),\"\",VLOOKUP($A19,Produits!$A$1:$O$357,14,FALSE))","v":3760219062899},7]
["4A",{"$f":"VLOOKUP($A20,Produits!$A$1:$P$357,2,FALSE)","v":"Jus de fruit BIO - Pomme / Abricot"},{"$f":"VLOOKUP($A20,Produits!$A$1:$P$357,3,FALSE)","v":"25cl"},{"$f":"VLOOKUP($A20,Produits!$A$1:$P$357,5,FALSE)","v":12},{"$f":"VLOOKUP($A20,Produits!$A$1:$P$357,4,FALSE)","v":"Bouteille"},{"$f":"VLOOKUP($A20,Produits!$A$1:$P$357,6,FALSE)","v":2.3696600000000001},{"$f":"VLOOKUP($A20,Produits!$A$1:$P$357,7,FALSE)","v":2.5},{"$f":"VLOOKUP($A20,Produits!$A$1:$P$357,10,FALSE)","v":5.5E-2},{"$f":"VLOOKUP($A20,Produits!$A$1:$P$357,8,FALSE)","v":0.05},{"$f":"VLOOKUP($A20,Produits!$A$1:$P$357,9,FALSE)","v":2.2599999999999998},{"$f":"IF(ISNA(VLOOKUP($A20,Produits!$A$1:$O$357,14,FALSE)),\"\",VLOOKUP($A20,Produits!$A$1:$O$357,14,FALSE))","v":3760219062806},8]
["4B",{"$f":"VLOOKUP($A21,Produits!$A$1:$P$357,2,FALSE)","v":"Jus de fruit BIO - Pomme / Cerise"},{"$f":"VLOOKUP($A21,Produits!$A$1:$P$357,3,FALSE)","v":"25cl"},{"$f":"VLOOKUP($A21,Produits!$A$1:$P$357,5,FALSE)","v":12},{"$f":"VLOOKUP($A21,Produits!$A$1:$P$357,4,FALSE)","v":"Bouteille"},{"$f":"VLOOKUP($A21,Produits!$A$1:$P$357,6,FALSE)","v":2.3696600000000001},{"$f":"VLOOKUP($A21,Produits!$A$1:$P$357,7,FALSE)","v":2.5},{"$f":"VLOOKUP($A21,Produits!$A$1:$P$357,10,FALSE)","v":5.5E-2},{"$f":"VLOOKUP($A21,Produits!$A$1:$P$357,8,FALSE)","v":0.05},{"$f":"VLOOKUP($A21,Produits!$A$1:$P$357,9,FALSE)","v":2.2599999999999998},{"$f":"IF(ISNA(VLOOKUP($A21,Produits!$A$1:$O$357,14,FALSE)),\"\",VLOOKUP($A21,Produits!$A$1:$O$357,14,FALSE))","v":3760219062790},9]
["4C",{"$f":"VLOOKUP($A22,Produits!$A$1:$P$357,2,FALSE)","v":"Jus de fruit BIO - Pomme / Poire"},{"$f":"VLOOKUP($A22,Produits!$A$1:$P$357,3,FALSE)","v":"25cl"},{"$f":"VLOOKUP($A22,Produits!$A$1:$P$357,5,FALSE)","v":12},{"$f":"VLOOKUP($A22,Produits!$A$1:$P$357,4,FALSE)","v":"Bouteille"},{"$f":"VLOOKUP($A22,Produits!$A$1:$P$357,6,FALSE)","v":2.3696600000000001},{"$f":"VLOOKUP($A22,Produits!$A$1:$P$357,7,FALSE)","v":2.5},{"$f":"VLOOKUP($A22,Produits!$A$1:$P$357,10,FALSE)","v":5.5E-2},{"$f":"VLOOKUP($A22,Produits!$A$1:$P$357,8,FALSE)","v":0.05},{"$f":"VLOOKUP($A22,Produits!$A$1:$P$357,9,FALSE)","v":2.2599999999999998},{"$f":"IF(ISNA(VLOOKUP($A22,Produits!$A$1:$O$357,14,FALSE)),\"\",VLOOKUP($A22,Produits!$A$1:$O$357,14,FALSE))","v":3760219062783},10]
["4D",{"$f":"VLOOKUP($A23,Produits!$A$1:$P$357,2,FALSE)","v":"Jus de fruit BIO - Pomme / Prunes"},{"$f":"VLOOKUP($A23,Produits!$A$1:$P$357,3,FALSE)","v":"25cl"},{"$f":"VLOOKUP($A23,Produits!$A$1:$P$357,5,FALSE)","v":12},{"$f":"VLOOKUP($A23,Produits!$A$1:$P$357,4,FALSE)","v":"Bouteille"},{"$f":"VLOOKUP($A23,Produits!$A$1:$P$357,6,FALSE)","v":2.3696600000000001},{"$f":"VLOOKUP($A23,Produits!$A$1:$P$357,7,FALSE)","v":2.5},{"$f":"VLOOKUP($A23,Produits!$A$1:$P$357,10,FALSE)","v":5.5E-2},{"$f":"VLOOKUP($A23,Produits!$A$1:$P$357,8,FALSE)","v":0.05},{"$f":"VLOOKUP($A23,Produits!$A$1:$P$357,9,FALSE)","v":2.2599999999999998},{"$f":"IF(ISNA(VLOOKUP($A23,Produits!$A$1:$O$357,14,FALSE)),\"\",VLOOKUP($A23,Produits!$A$1:$O$357,14,FALSE))","v":3760219062776},11]
["5A",{"$f":"VLOOKUP($A24,Produits!$A$1:$P$357,2,FALSE)","v":"Farine de sarrasin BIO"},{"$f":"VLOOKUP($A24,Produits!$A$1:$P$357,3,FALSE)","v":"1kg"},{"$f":"VLOOKUP($A24,Produits!$A$1:$P$357,5,FALSE)","v":6},{"$f":"VLOOKUP($A24,Produits!$A$1:$P$357,4,FALSE)","v":"Sachet"},{"$f":"VLOOKUP($A24,Produits!$A$1:$P$357,6,FALSE)","v":3.7914599999999998},{"$f":"VLOOKUP($A24,Produits!$A$1:$P$357,7,FALSE)","v":4},{"$f":"VLOOKUP($A24,Produits!$A$1:$P$357,10,FALSE)","v":5.5E-2},{"$f":"VLOOKUP($A24,Produits!$A$1:$P$357,8,FALSE)","v":0.05},{"$f":"VLOOKUP($A24,Produits!$A$1:$P$357,9,FALSE)","v":3.61},{"$f":"IF(ISNA(VLOOKUP($A24,Produits!$A$1:$O$357,14,FALSE)),\"\",VLOOKUP($A24,Produits!$A$1:$O$357,14,FALSE))","v":3760219062769},12]
["5B",{"$f":"VLOOKUP($A25,Produits!$A$1:$P$357,2,FALSE)","v":"Farine de petit épeautre BIO"},{"$f":"VLOOKUP($A25,Produits!$A$1:$P$357,3,FALSE)","v":"1kg"},{"$f":"VLOOKUP($A25,Produits!$A$1:$P$357,5,FALSE)","v":6},{"$f":"VLOOKUP($A25,Produits!$A$1:$P$357,4,FALSE)","v":"Sachet"},{"$f":"VLOOKUP($A25,Produits!$A$1:$P$357,6,FALSE)","v":4.7393299999999998},{"$f":"VLOOKUP($A25,Produits!$A$1:$P$357,7,FALSE)","v":5},{"$f":"VLOOKUP($A25,Produits!$A$1:$P$357,10,FALSE)","v":5.5E-2},{"$f":"VLOOKUP($A25,Produits!$A$1:$P$357,8,FALSE)","v":0.05},{"$f":"VLOOKUP($A25,Produits!$A$1:$P$357,9,FALSE)","v":4.51},{"$f":"IF(ISNA(VLOOKUP($A25,Produits!$A$1:$O$357,14,FALSE)),\"\",VLOOKUP($A25,Produits!$A$1:$O$357,14,FALSE))","v":3760219062752},13]
["5C",{"$f":"VLOOKUP($A26,Produits!$A$1:$P$357,2,FALSE)","v":"Farine T80 BIO"},{"$f":"VLOOKUP($A26,Produits!$A$1:$P$357,3,FALSE)","v":"1kg"},{"$f":"VLOOKUP($A26,Produits!$A$1:$P$357,5,FALSE)","v":6},{"$f":"VLOOKUP($A26,Produits!$A$1:$P$357,4,FALSE)","v":"Sachet"},{"$f":"VLOOKUP($A26,Produits!$A$1:$P$357,6,FALSE)","v":2.1800899999999999},{"$f":"VLOOKUP($A26,Produits!$A$1:$P$357,7,FALSE)","v":2.2999999999999998},{"$f":"VLOOKUP($A26,Produits!$A$1:$P$357,10,FALSE)","v":5.5E-2},{"$f":"VLOOKUP($A26,Produits!$A$1:$P$357,8,FALSE)","v":0.05},{"$f":"VLOOKUP($A26,Produits!$A$1:$P$357,9,FALSE)","v":2.0799999999999996},{"$f":"IF(ISNA(VLOOKUP($A26,Produits!$A$1:$O$357,14,FALSE)),\"\",VLOOKUP($A26,Produits!$A$1:$O$357,14,FALSE))","v":3760219062745},14]
["5D",{"$f":"VLOOKUP($A27,Produits!$A$1:$P$357,2,FALSE)","v":"Huile vierge de tournesol BIO"},{"$f":"VLOOKUP($A27,Produits!$A$1:$P$357,3,FALSE)","v":"1L"},{"$f":"VLOOKUP($A27,Produits!$A$1:$P$357,5,FALSE)","v":6},{"$f":"VLOOKUP($A27,Produits!$A$1:$P$357,4,FALSE)","v":"Bouteille"},{"$f":"VLOOKUP($A27,Produits!$A$1:$P$357,6,FALSE)","v":4.0758200000000002},{"$f":"VLOOKUP($A27,Produits!$A$1:$P$357,7,FALSE)","v":4.3},{"$f":"VLOOKUP($A27,Produits!$A$1:$P$357,10,FALSE)","v":5.5E-2},{"$f":"VLOOKUP($A27,Produits!$A$1:$P$357,8,FALSE)","v":0.05},{"$f":"VLOOKUP($A27,Produits!$A$1:$P$357,9,FALSE)","v":3.88},{"$f":"IF(ISNA(VLOOKUP($A27,Produits!$A$1:$O$357,14,FALSE)),\"\",VLOOKUP($A27,Produits!$A$1:$O$357,14,FALSE))","v":3760219062738},15]
["6A",{"$f":"VLOOKUP($A28,Produits!$A$1:$P$357,2,FALSE)","v":"Pruneaux d’Agen (33/44) - Boîte Or"},{"$f":"VLOOKUP($A28,Produits!$A$1:$P$357,3,FALSE)","v":"1kg"},{"$f":"VLOOKUP($A28,Produits!$A$1:$P$357,5,FALSE)","v":6},{"$f":"VLOOKUP($A28,Produits!$A$1:$P$357,4,FALSE)","v":"Boite métal"},{"$f":"VLOOKUP($A28,Produits!$A$1:$P$357,6,FALSE)","v":9.9526000000000003},{"$f":"VLOOKUP($A28,Produits!$A$1:$P$357,7,FALSE)","v":10.5},{"$f":"VLOOKUP($A28,Produits!$A$1:$P$357,10,FALSE)","v":5.5E-2},{"$f":"VLOOKUP($A28,Produits!$A$1:$P$357,8,FALSE)","v":0.2},{"$f":"VLOOKUP($A28,Produits!$A$1:$P$357,9,FALSE)","v":7.97},{"$f":"IF(ISNA(VLOOKUP($A28,Produits!$A$1:$O$357,14,FALSE)),\"\",VLOOKUP($A28,Produits!$A$1:$O$357,14,FALSE))","v":3760219062721},16]
["6B",{"$f":"VLOOKUP($A29,Produits!$A$1:$P$357,2,FALSE)","v":"Pruneaux d’Agen (30/35) - Boîte Or"},{"$f":"VLOOKUP($A29,Produits!$A$1:$P$357,3,FALSE)","v":"1kg"},{"$f":"VLOOKUP($A29,Produits!$A$1:$P$357,5,FALSE)","v":6},{"$f":"VLOOKUP($A29,Produits!$A$1:$P$357,4,FALSE)","v":"Boite métal"},{"$f":"VLOOKUP($A29,Produits!$A$1:$P$357,6,FALSE)","v":11.3744},{"$f":"VLOOKUP($A29,Produits!$A$1:$P$357,7,FALSE)","v":12},{"$f":"VLOOKUP($A29,Produits!$A$1:$P$357,10,FALSE)","v":5.5E-2},{"$f":"VLOOKUP($A29,Produits!$A$1:$P$357,8,FALSE)","v":0.2},{"$f":"VLOOKUP($A29,Produits!$A$1:$P$357,9,FALSE)","v":9.1},{"$f":"IF(ISNA(VLOOKUP($A29,Produits!$A$1:$O$357,14,FALSE)),\"\",VLOOKUP($A29,Produits!$A$1:$O$357,14,FALSE))","v":3760219062714},17]
["6C",{"$f":"VLOOKUP($A30,Produits!$A$1:$P$357,2,FALSE)","v":"Pruneaux d’Agen dénoyautés (44/55) - Boîte Or"},{"$f":"VLOOKUP($A30,Produits!$A$1:$P$357,3,FALSE)","v":"1kg"},{"$f":"VLOOKUP($A30,Produits!$A$1:$P$357,5,FALSE)","v":6},{"$f":"VLOOKUP($A30,Produits!$A$1:$P$357,4,FALSE)","v":"Boite métal"},{"$f":"VLOOKUP($A30,Produits!$A$1:$P$357,6,FALSE)","v":12.32227},{"$f":"VLOOKUP($A30,Produits!$A$1:$P$357,7,FALSE)","v":13},{"$f":"VLOOKUP($A30,Produits!$A$1:$P$357,10,FALSE)","v":5.5E-2},{"$f":"VLOOKUP($A30,Produits!$A$1:$P$357,8,FALSE)","v":0.2},{"$f":"VLOOKUP($A30,Produits!$A$1:$P$357,9,FALSE)","v":9.86},{"$f":"IF(ISNA(VLOOKUP($A30,Produits!$A$1:$O$357,14,FALSE)),\"\",VLOOKUP($A30,Produits!$A$1:$O$357,14,FALSE))","v":3760219062707},18]
["7A",{"$f":"VLOOKUP($A31,Produits!$A$1:$P$357,2,FALSE)","v":"Pruneaux d’Agen Mi-Cuit"},{"$f":"VLOOKUP($A31,Produits!$A$1:$P$357,3,FALSE)","v":"500g"},{"$f":"VLOOKUP($A31,Produits!$A$1:$P$357,5,FALSE)","v":25},{"$f":"VLOOKUP($A31,Produits!$A$1:$P$357,4,FALSE)","v":"Sachet"},{"$f":"VLOOKUP($A31,Produits!$A$1:$P$357,6,FALSE)","v":4.0758200000000002},{"$f":"VLOOKUP($A31,Produits!$A$1:$P$357,7,FALSE)","v":4.3},{"$f":"VLOOKUP($A31,Produits!$A$1:$P$357,10,FALSE)","v":5.5E-2},{"$f":"VLOOKUP($A31,Produits!$A$1:$P$357,8,FALSE)","v":0.2},{"$f":"VLOOKUP($A31,Produits!$A$1:$P$357,9,FALSE)","v":3.2699999999999996},{"$f":"IF(ISNA(VLOOKUP($A31,Produits!$A$1:$O$357,14,FALSE)),\"\",VLOOKUP($A31,Produits!$A$1:$O$357,14,FALSE))","v":3760219062691},19]
["7B",{"$f":"VLOOKUP($A32,Produits!$A$1:$P$357,2,FALSE)","v":"Pruneaux d’Agen Mi-Cuit"},{"$f":"VLOOKUP($A32,Produits!$A$1:$P$357,3,FALSE)","v":"1kg"},{"$f":"VLOOKUP($A32,Produits!$A$1:$P$357,5,FALSE)","v":14},{"$f":"VLOOKUP($A32,Produits!$A$1:$P$357,4,FALSE)","v":"Sachet"},{"$f":"VLOOKUP($A32,Produits!$A$1:$P$357,6,FALSE)","v":6.8720299999999996},{"$f":"VLOOKUP($A32,Produits!$A$1:$P$357,7,FALSE)","v":7.25},{"$f":"VLOOKUP($A32,Produits!$A$1:$P$357,10,FALSE)","v":5.5E-2},{"$f":"VLOOKUP($A32,Produits!$A$1:$P$357,8,FALSE)","v":0.2},{"$f":"VLOOKUP($A32,Produits!$A$1:$P$357,9,FALSE)","v":5.5},{"$f":"IF(ISNA(VLOOKUP($A32,Produits!$A$1:$O$357,14,FALSE)),\"\",VLOOKUP($A32,Produits!$A$1:$O$357,14,FALSE))","v":3760219062684},20]
["8A",{"$f":"VLOOKUP($A33,Produits!$A$1:$P$357,2,FALSE)","v":"Pruneaux d’Agen (cal. 33/44) "},{"$f":"VLOOKUP($A33,Produits!$A$1:$P$357,3,FALSE)","v":"250g"},{"$f":"VLOOKUP($A33,Produits!$A$1:$P$357,5,FALSE)","v":50},{"$f":"VLOOKUP($A33,Produits!$A$1:$P$357,4,FALSE)","v":"Sachet"},{"$f":"VLOOKUP($A33,Produits!$A$1:$P$357,6,FALSE)","v":3.0331700000000001},{"$f":"VLOOKUP($A33,Produits!$A$1:$P$357,7,FALSE)","v":3.2},{"$f":"VLOOKUP($A33,Produits!$A$1:$P$357,10,FALSE)","v":5.5E-2},{"$f":"VLOOKUP($A33,Produits!$A$1:$P$357,8,FALSE)","v":0.2},{"$f":"VLOOKUP($A33,Produits!$A$1:$P$357,9,FALSE)","v":2.4299999999999997},{"$f":"IF(ISNA(VLOOKUP($A33,Produits!$A$1:$O$357,14,FALSE)),\"\",VLOOKUP($A33,Produits!$A$1:$O$357,14,FALSE))","v":3760219062677},21]
["8B",{"$f":"VLOOKUP($A34,Produits!$A$1:$P$357,2,FALSE)","v":"Pruneaux d’Agen (cal. 33/44)"},{"$f":"VLOOKUP($A34,Produits!$A$1:$P$357,3,FALSE)","v":"500g"},{"$f":"VLOOKUP($A34,Produits!$A$1:$P$357,5,FALSE)","v":25},{"$f":"VLOOKUP($A34,Produits!$A$1:$P$357,4,FALSE)","v":"Sachet"},{"$f":"VLOOKUP($A34,Produits!$A$1:$P$357,6,FALSE)","v":3.60189},{"$f":"VLOOKUP($A34,Produits!$A$1:$P$357,7,FALSE)","v":3.8},{"$f":"VLOOKUP($A34,Produits!$A$1:$P$357,10,FALSE)","v":5.5E-2},{"$f":"VLOOKUP($A34,Produits!$A$1:$P$357,8,FALSE)","v":0.2},{"$f":"VLOOKUP($A34,Produits!$A$1:$P$357,9,FALSE)","v":2.8899999999999997},{"$f":"IF(ISNA(VLOOKUP($A34,Produits!$A$1:$O$357,14,FALSE)),\"\",VLOOKUP($A34,Produits!$A$1:$O$357,14,FALSE))","v":3760219062660},22]
["8C",{"$f":"VLOOKUP($A35,Produits!$A$1:$P$357,2,FALSE)","v":"Pruneaux d’Agen (cal. 33/44)"},{"$f":"VLOOKUP($A35,Produits!$A$1:$P$357,3,FALSE)","v":"1kg"},{"$f":"VLOOKUP($A35,Produits!$A$1:$P$357,5,FALSE)","v":14},{"$f":"VLOOKUP($A35,Produits!$A$1:$P$357,4,FALSE)","v":"Sachet"},{"$f":"VLOOKUP($A35,Produits!$A$1:$P$357,6,FALSE)","v":6.16113},{"$f":"VLOOKUP($A35,Produits!$A$1:$P$357,7,FALSE)","v":6.5},{"$f":"VLOOKUP($A35,Produits!$A$1:$P$357,10,FALSE)","v":5.5E-2},{"$f":"VLOOKUP($A35,Produits!$A$1:$P$357,8,FALSE)","v":0.2},{"$f":"VLOOKUP($A35,Produits!$A$1:$P$357,9,FALSE)","v":4.93},{"$f":"IF(ISNA(VLOOKUP($A35,Produits!$A$1:$O$357,14,FALSE)),\"\",VLOOKUP($A35,Produits!$A$1:$O$357,14,FALSE))","v":3760219062653},23]
["8D",{"$f":"VLOOKUP($A36,Produits!$A$1:$P$357,2,FALSE)","v":"Pruneaux d’Agen (cal. 30/35)"},{"$f":"VLOOKUP($A36,Produits!$A$1:$P$357,3,FALSE)","v":"500g"},{"$f":"VLOOKUP($A36,Produits!$A$1:$P$357,5,FALSE)","v":25},{"$f":"VLOOKUP($A36,Produits!$A$1:$P$357,4,FALSE)","v":"Sachet"},{"$f":"VLOOKUP($A36,Produits!$A$1:$P$357,6,FALSE)","v":4.6445400000000001},{"$f":"VLOOKUP($A36,Produits!$A$1:$P$357,7,FALSE)","v":4.9000000000000004},{"$f":"VLOOKUP($A36,Produits!$A$1:$P$357,10,FALSE)","v":5.5E-2},{"$f":"VLOOKUP($A36,Produits!$A$1:$P$357,8,FALSE)","v":0.2},{"$f":"VLOOKUP($A36,Produits!$A$1:$P$357,9,FALSE)","v":3.7199999999999998},{"$f":"IF(ISNA(VLOOKUP($A36,Produits!$A$1:$O$357,14,FALSE)),\"\",VLOOKUP($A36,Produits!$A$1:$O$357,14,FALSE))","v":3760219062646},24]
["8E",{"$f":"VLOOKUP($A37,Produits!$A$1:$P$357,2,FALSE)","v":"Pruneaux d’Agen (cal. 30/35) "},{"$f":"VLOOKUP($A37,Produits!$A$1:$P$357,3,FALSE)","v":"1kg"},{"$f":"VLOOKUP($A37,Produits!$A$1:$P$357,5,FALSE)","v":14},{"$f":"VLOOKUP($A37,Produits!$A$1:$P$357,4,FALSE)","v":"Sachet"},{"$f":"VLOOKUP($A37,Produits!$A$1:$P$357,6,FALSE)","v":7.6777199999999999},{"$f":"VLOOKUP($A37,Produits!$A$1:$P$357,7,FALSE)","v":8.1},{"$f":"VLOOKUP($A37,Produits!$A$1:$P$357,10,FALSE)","v":5.5E-2},{"$f":"VLOOKUP($A37,Produits!$A$1:$P$357,8,FALSE)","v":0.2},{"$f":"VLOOKUP($A37,Produits!$A$1:$P$357,9,FALSE)","v":6.1499999999999995},{"$f":"IF(ISNA(VLOOKUP($A37,Produits!$A$1:$O$357,14,FALSE)),\"\",VLOOKUP($A37,Produits!$A$1:$O$357,14,FALSE))","v":3760219062639},25]
["8F",{"$f":"VLOOKUP($A38,Produits!$A$1:$P$357,2,FALSE)","v":"Pruneaux d’Agen (cal. 25/30)"},{"$f":"VLOOKUP($A38,Produits!$A$1:$P$357,3,FALSE)","v":"500g"},{"$f":"VLOOKUP($A38,Produits!$A$1:$P$357,5,FALSE)","v":25},{"$f":"VLOOKUP($A38,Produits!$A$1:$P$357,4,FALSE)","v":"Sachet"},{"$f":"VLOOKUP($A38,Produits!$A$1:$P$357,6,FALSE)","v":4.8341200000000004},{"$f":"VLOOKUP($A38,Produits!$A$1:$P$357,7,FALSE)","v":5.0999999999999996},{"$f":"VLOOKUP($A38,Produits!$A$1:$P$357,10,FALSE)","v":5.5E-2},{"$f":"VLOOKUP($A38,Produits!$A$1:$P$357,8,FALSE)","v":0.2},{"$f":"VLOOKUP($A38,Produits!$A$1:$P$357,9,FALSE)","v":3.8699999999999997},{"$f":"IF(ISNA(VLOOKUP($A38,Produits!$A$1:$O$357,14,FALSE)),\"\",VLOOKUP($A38,Produits!$A$1:$O$357,14,FALSE))","v":3760219062622},26]
["8G",{"$f":"VLOOKUP($A39,Produits!$A$1:$P$357,2,FALSE)","v":"Pruneaux d’Agen (cal. 25/30)"},{"$f":"VLOOKUP($A39,Produits!$A$1:$P$357,3,FALSE)","v":"1kg"},{"$f":"VLOOKUP($A39,Produits!$A$1:$P$357,5,FALSE)","v":14},{"$f":"VLOOKUP($A39,Produits!$A$1:$P$357,4,FALSE)","v":"Sachet"},{"$f":"VLOOKUP($A39,Produits!$A$1:$P$357,6,FALSE)","v":8.0500000000000007},{"$f":"VLOOKUP($A39,Produits!$A$1:$P$357,7,FALSE)","v":8.5},{"$f":"VLOOKUP($A39,Produits!$A$1:$P$357,10,FALSE)","v":5.5E-2},{"$f":"VLOOKUP($A39,Produits!$A$1:$P$357,8,FALSE)","v":0.2},{"$f":"VLOOKUP($A39,Produits!$A$1:$P$357,9,FALSE)","v":6.44},{"$f":"IF(ISNA(VLOOKUP($A39,Produits!$A$1:$O$357,14,FALSE)),\"\",VLOOKUP($A39,Produits!$A$1:$O$357,14,FALSE))","v":3760219062615},27]
["8H",{"$f":"VLOOKUP($A40,Produits!$A$1:$P$357,2,FALSE)","v":"Pruneaux d’Agen (cal. 33/44)"},{"$f":"VLOOKUP($A40,Produits!$A$1:$P$357,3,FALSE)","v":"5kg (2x2,5kg)"},{"$f":"VLOOKUP($A40,Produits!$A$1:$P$357,5,FALSE)","v":4},{"$f":"VLOOKUP($A40,Produits!$A$1:$P$357,4,FALSE)","v":"Sachet"},{"$f":"VLOOKUP($A40,Produits!$A$1:$P$357,6,FALSE)","v":26.919429999999998},{"$f":"VLOOKUP($A40,Produits!$A$1:$P$357,7,FALSE)","v":28.4},{"$f":"VLOOKUP($A40,Produits!$A$1:$P$357,10,FALSE)","v":5.5E-2},{"$f":"VLOOKUP($A40,Produits!$A$1:$P$357,8,FALSE)","v":0.2},{"$f":"VLOOKUP($A40,Produits!$A$1:$P$357,9,FALSE)","v":21.540000000000003},{"$f":"IF(ISNA(VLOOKUP($A40,Produits!$A$1:$O$357,14,FALSE)),\"\",VLOOKUP($A40,Produits!$A$1:$O$357,14,FALSE))","v":3760219062608},28]
["8I",{"$f":"VLOOKUP($A41,Produits!$A$1:$P$357,2,FALSE)","v":"Pruneaux d’Agen (cal. 33/44) avec conservateur e200"},{"$f":"VLOOKUP($A41,Produits!$A$1:$P$357,3,FALSE)","v":"14kg"},{"$f":"VLOOKUP($A41,Produits!$A$1:$P$357,5,FALSE)","v":1},{"$f":"VLOOKUP($A41,Produits!$A$1:$P$357,4,FALSE)","v":"Sachet"},{"$f":"VLOOKUP($A41,Produits!$A$1:$P$357,6,FALSE)","v":74.881510000000006},{"$f":"VLOOKUP($A41,Produits!$A$1:$P$357,7,FALSE)","v":79},{"$f":"VLOOKUP($A41,Produits!$A$1:$P$357,10,FALSE)","v":5.5E-2},{"$f":"VLOOKUP($A41,Produits!$A$1:$P$357,8,FALSE)","v":0.2},{"$f":"VLOOKUP($A41,Produits!$A$1:$P$357,9,FALSE)","v":59.91},{"$f":"IF(ISNA(VLOOKUP($A41,Produits!$A$1:$O$357,14,FALSE)),\"\",VLOOKUP($A41,Produits!$A$1:$O$357,14,FALSE))","v":3760219062592},29]
["9A",{"$f":"VLOOKUP($A42,Produits!$A$1:$P$357,2,FALSE)","v":"Pruneaux d’Agen dénoyautés (cal. 44/55)"},{"$f":"VLOOKUP($A42,Produits!$A$1:$P$357,3,FALSE)","v":"250g"},{"$f":"VLOOKUP($A42,Produits!$A$1:$P$357,5,FALSE)","v":50},{"$f":"VLOOKUP($A42,Produits!$A$1:$P$357,4,FALSE)","v":"Sachet"},{"$f":"VLOOKUP($A42,Produits!$A$1:$P$357,6,FALSE)","v":3.31},{"$f":"VLOOKUP($A42,Produits!$A$1:$P$357,7,FALSE)","v":3.5},{"$f":"VLOOKUP($A42,Produits!$A$1:$P$357,10,FALSE)","v":5.5E-2},{"$f":"VLOOKUP($A42,Produits!$A$1:$P$357,8,FALSE)","v":0.2},{"$f":"VLOOKUP($A42,Produits!$A$1:$P$357,9,FALSE)","v":2.65},{"$f":"IF(ISNA(VLOOKUP($A42,Produits!$A$1:$O$357,14,FALSE)),\"\",VLOOKUP($A42,Produits!$A$1:$O$357,14,FALSE))","v":3760219062585},30]
["9B",{"$f":"VLOOKUP($A43,Produits!$A$1:$P$357,2,FALSE)","v":"Pruneaux d’Agen dénoyautés (cal. 44/55)"},{"$f":"VLOOKUP($A43,Produits!$A$1:$P$357,3,FALSE)","v":"500g"},{"$f":"VLOOKUP($A43,Produits!$A$1:$P$357,5,FALSE)","v":25},{"$f":"VLOOKUP($A43,Produits!$A$1:$P$357,4,FALSE)","v":"Sachet"},{"$f":"VLOOKUP($A43,Produits!$A$1:$P$357,6,FALSE)","v":4.54976},{"$f":"VLOOKUP($A43,Produits!$A$1:$P$357,7,FALSE)","v":4.8},{"$f":"VLOOKUP($A43,Produits!$A$1:$P$357,10,FALSE)","v":5.5E-2},{"$f":"VLOOKUP($A43,Produits!$A$1:$P$357,8,FALSE)","v":0.2},{"$f":"VLOOKUP($A43,Produits!$A$1:$P$357,9,FALSE)","v":3.6399999999999997},{"$f":"IF(ISNA(VLOOKUP($A43,Produits!$A$1:$O$357,14,FALSE)),\"\",VLOOKUP($A43,Produits!$A$1:$O$357,14,FALSE))","v":3760219062578},31]
["9C",{"$f":"VLOOKUP($A44,Produits!$A$1:$P$357,2,FALSE)","v":"Pruneaux d’Agen dénoyautés (cal. 44/55)"},{"$f":"VLOOKUP($A44,Produits!$A$1:$P$357,3,FALSE)","v":"1kg"},{"$f":"VLOOKUP($A44,Produits!$A$1:$P$357,5,FALSE)","v":14},{"$f":"VLOOKUP($A44,Produits!$A$1:$P$357,4,FALSE)","v":"Sachet"},{"$f":"VLOOKUP($A44,Produits!$A$1:$P$357,6,FALSE)","v":8.4360099999999996},{"$f":"VLOOKUP($A44,Produits!$A$1:$P$357,7,FALSE)","v":8.9},{"$f":"VLOOKUP($A44,Produits!$A$1:$P$357,10,FALSE)","v":5.5E-2},{"$f":"VLOOKUP($A44,Produits!$A$1:$P$357,8,FALSE)","v":0.2},{"$f":"VLOOKUP($A44,Produits!$A$1:$P$357,9,FALSE)","v":6.75},{"$f":"IF(ISNA(VLOOKUP($A44,Produits!$A$1:$O$357,14,FALSE)),\"\",VLOOKUP($A44,Produits!$A$1:$O$357,14,FALSE))","v":3760219062561},32]
["9D",{"$f":"VLOOKUP($A45,Produits!$A$1:$P$357,2,FALSE)","v":"Pruneaux d’Agen dénoyautés (cal. 30/35) "},{"$f":"VLOOKUP($A45,Produits!$A$1:$P$357,3,FALSE)","v":"500g"},{"$f":"VLOOKUP($A45,Produits!$A$1:$P$357,5,FALSE)","v":25},{"$f":"VLOOKUP($A45,Produits!$A$1:$P$357,4,FALSE)","v":"Sachet"},{"$f":"VLOOKUP($A45,Produits!$A$1:$P$357,6,FALSE)","v":5.2132699999999996},{"$f":"VLOOKUP($A45,Produits!$A$1:$P$357,7,FALSE)","v":5.5},{"$f":"VLOOKUP($A45,Produits!$A$1:$P$357,10,FALSE)","v":5.5E-2},{"$f":"VLOOKUP($A45,Produits!$A$1:$P$357,8,FALSE)","v":0.2},{"$f":"VLOOKUP($A45,Produits!$A$1:$P$357,9,FALSE)","v":4.18},{"$f":"IF(ISNA(VLOOKUP($A45,Produits!$A$1:$O$357,14,FALSE)),\"\",VLOOKUP($A45,Produits!$A$1:$O$357,14,FALSE))","v":3760219062554},33]
["9E",{"$f":"VLOOKUP($A46,Produits!$A$1:$P$357,2,FALSE)","v":"Pruneaux d’Agen dénoyautés (cal. 30/35)"},{"$f":"VLOOKUP($A46,Produits!$A$1:$P$357,3,FALSE)","v":"1kg"},{"$f":"VLOOKUP($A46,Produits!$A$1:$P$357,5,FALSE)","v":14},{"$f":"VLOOKUP($A46,Produits!$A$1:$P$357,4,FALSE)","v":"Sachet"},{"$f":"VLOOKUP($A46,Produits!$A$1:$P$357,6,FALSE)","v":8.7203700000000008},{"$f":"VLOOKUP($A46,Produits!$A$1:$P$357,7,FALSE)","v":9.1999999999999993},{"$f":"VLOOKUP($A46,Produits!$A$1:$P$357,10,FALSE)","v":5.5E-2},{"$f":"VLOOKUP($A46,Produits!$A$1:$P$357,8,FALSE)","v":0.2},{"$f":"VLOOKUP($A46,Produits!$A$1:$P$357,9,FALSE)","v":6.9799999999999995},{"$f":"IF(ISNA(VLOOKUP($A46,Produits!$A$1:$O$357,14,FALSE)),\"\",VLOOKUP($A46,Produits!$A$1:$O$357,14,FALSE))","v":3760219062547},34]
["10A",{"$f":"VLOOKUP($A47,Produits!$A$1:$P$357,2,FALSE)","v":"Jus de Pruneaux"},{"$f":"VLOOKUP($A47,Produits!$A$1:$P$357,3,FALSE)","v":"1L"},{"$f":"VLOOKUP($A47,Produits!$A$1:$P$357,5,FALSE)","v":6},{"$f":"VLOOKUP($A47,Produits!$A$1:$P$357,4,FALSE)","v":"Bouteille"},{"$f":"VLOOKUP($A47,Produits!$A$1:$P$357,6,FALSE)","v":3.9810400000000001},{"$f":"VLOOKUP($A47,Produits!$A$1:$P$357,7,FALSE)","v":4.2},{"$f":"VLOOKUP($A47,Produits!$A$1:$P$357,10,FALSE)","v":5.5E-2},{"$f":"VLOOKUP($A47,Produits!$A$1:$P$357,8,FALSE)","v":0.2},{"$f":"VLOOKUP($A47,Produits!$A$1:$P$357,9,FALSE)","v":3.19},{"$f":"IF(ISNA(VLOOKUP($A47,Produits!$A$1:$O$357,14,FALSE)),\"\",VLOOKUP($A47,Produits!$A$1:$O$357,14,FALSE))","v":3760219062530},35]
["10B",{"$f":"VLOOKUP($A48,Produits!$A$1:$P$357,2,FALSE)","v":"Jus de Pruneaux"},{"$f":"VLOOKUP($A48,Produits!$A$1:$P$357,3,FALSE)","v":"25cl"},{"$f":"VLOOKUP($A48,Produits!$A$1:$P$357,5,FALSE)","v":12},{"$f":"VLOOKUP($A48,Produits!$A$1:$P$357,4,FALSE)","v":"Bouteille"},{"$f":"VLOOKUP($A48,Produits!$A$1:$P$357,6,FALSE)","v":2.0853000000000002},{"$f":"VLOOKUP($A48,Produits!$A$1:$P$357,7,FALSE)","v":2.2000000000000002},{"$f":"VLOOKUP($A48,Produits!$A$1:$P$357,10,FALSE)","v":5.5E-2},{"$f":"VLOOKUP($A48,Produits!$A$1:$P$357,8,FALSE)","v":0.2},{"$f":"VLOOKUP($A48,Produits!$A$1:$P$357,9,FALSE)","v":1.67},{"$f":"IF(ISNA(VLOOKUP($A48,Produits!$A$1:$O$357,14,FALSE)),\"\",VLOOKUP($A48,Produits!$A$1:$O$357,14,FALSE))","v":3760219062905},36]
["11A",{"$f":"VLOOKUP($A49,Produits!$A$1:$P$357,2,FALSE)","v":"Pétillant de pruneaux"},{"$f":"VLOOKUP($A49,Produits!$A$1:$P$357,3,FALSE)","v":"0,75L"},{"$f":"VLOOKUP($A49,Produits!$A$1:$P$357,5,FALSE)","v":6},{"$f":"VLOOKUP($A49,Produits!$A$1:$P$357,4,FALSE)","v":"Bouteille"},{"$f":"VLOOKUP($A49,Produits!$A$1:$P$357,6,FALSE)","v":5.5924100000000001},{"$f":"VLOOKUP($A49,Produits!$A$1:$P$357,7,FALSE)","v":5.9},{"$f":"VLOOKUP($A49,Produits!$A$1:$P$357,10,FALSE)","v":5.5E-2},{"$f":"VLOOKUP($A49,Produits!$A$1:$P$357,8,FALSE)","v":0.2},{"$f":"VLOOKUP($A49,Produits!$A$1:$P$357,9,FALSE)","v":4.4799999999999995},{"$f":"IF(ISNA(VLOOKUP($A49,Produits!$A$1:$O$357,14,FALSE)),\"\",VLOOKUP($A49,Produits!$A$1:$O$357,14,FALSE))","v":3760219062523},37]
["12A",{"$f":"VLOOKUP($A50,Produits!$A$1:$P$357,2,FALSE)","v":"Pruneaux d’Agen secs"},{"$f":"VLOOKUP($A50,Produits!$A$1:$P$357,3,FALSE)","v":"500g"},{"$f":"VLOOKUP($A50,Produits!$A$1:$P$357,5,FALSE)","v":25},{"$f":"VLOOKUP($A50,Produits!$A$1:$P$357,4,FALSE)","v":"Sachet"},{"$f":"VLOOKUP($A50,Produits!$A$1:$P$357,6,FALSE)","v":2.3696600000000001},{"$f":"VLOOKUP($A50,Produits!$A$1:$P$357,7,FALSE)","v":2.5},{"$f":"VLOOKUP($A50,Produits!$A$1:$P$357,10,FALSE)","v":5.5E-2},{"$f":"VLOOKUP($A50,Produits!$A$1:$P$357,8,FALSE)","v":0.2},{"$f":"VLOOKUP($A50,Produits!$A$1:$P$357,9,FALSE)","v":1.9},{"$f":"IF(ISNA(VLOOKUP($A50,Produits!$A$1:$O$357,14,FALSE)),\"\",VLOOKUP($A50,Produits!$A$1:$O$357,14,FALSE))","v":3760219062516},38]
["12B",{"$f":"VLOOKUP($A51,Produits!$A$1:$P$357,2,FALSE)","v":"Pruneaux d’Agen secs"},{"$f":"VLOOKUP($A51,Produits!$A$1:$P$357,3,FALSE)","v":"1kg"},{"$f":"VLOOKUP($A51,Produits!$A$1:$P$357,5,FALSE)","v":14},{"$f":"VLOOKUP($A51,Produits!$A$1:$P$357,4,FALSE)","v":"Sachet"},{"$f":"VLOOKUP($A51,Produits!$A$1:$P$357,6,FALSE)","v":4.6445400000000001},{"$f":"VLOOKUP($A51,Produits!$A$1:$P$357,7,FALSE)","v":4.9000000000000004},{"$f":"VLOOKUP($A51,Produits!$A$1:$P$357,10,FALSE)","v":5.5E-2},{"$f":"VLOOKUP($A51,Produits!$A$1:$P$357,8,FALSE)","v":0.2},{"$f":"VLOOKUP($A51,Produits!$A$1:$P$357,9,FALSE)","v":3.7199999999999998},{"$f":"IF(ISNA(VLOOKUP($A51,Produits!$A$1:$O$357,14,FALSE)),\"\",VLOOKUP($A51,Produits!$A$1:$O$357,14,FALSE))","v":3760219062509},39]
["13A",{"$f":"VLOOKUP($A52,Produits!$A$1:$P$357,2,FALSE)","v":"Crème de pruneaux"},{"$f":"VLOOKUP($A52,Produits!$A$1:$P$357,3,FALSE)","v":"220g"},{"$f":"VLOOKUP($A52,Produits!$A$1:$P$357,5,FALSE)","v":24},{"$f":"VLOOKUP($A52,Produits!$A$1:$P$357,4,FALSE)","v":"Bocal"},{"$f":"VLOOKUP($A52,Produits!$A$1:$P$357,6,FALSE)","v":3.0331700000000001},{"$f":"VLOOKUP($A52,Produits!$A$1:$P$357,7,FALSE)","v":3.2},{"$f":"VLOOKUP($A52,Produits!$A$1:$P$357,10,FALSE)","v":5.5E-2},{"$f":"VLOOKUP($A52,Produits!$A$1:$P$357,8,FALSE)","v":0.2},{"$f":"VLOOKUP($A52,Produits!$A$1:$P$357,9,FALSE)","v":2.4299999999999997},{"$f":"IF(ISNA(VLOOKUP($A52,Produits!$A$1:$O$357,14,FALSE)),\"\",VLOOKUP($A52,Produits!$A$1:$O$357,14,FALSE))","v":3760219062493},40]
["13B",{"$f":"VLOOKUP($A53,Produits!$A$1:$P$357,2,FALSE)","v":"Crème de pruneaux"},{"$f":"VLOOKUP($A53,Produits!$A$1:$P$357,3,FALSE)","v":"320g"},{"$f":"VLOOKUP($A53,Produits!$A$1:$P$357,5,FALSE)","v":24},{"$f":"VLOOKUP($A53,Produits!$A$1:$P$357,4,FALSE)","v":"Bocal"},{"$f":"VLOOKUP($A53,Produits!$A$1:$P$357,6,FALSE)","v":3.9810400000000001},{"$f":"VLOOKUP($A53,Produits!$A$1:$P$357,7,FALSE)","v":4.2},{"$f":"VLOOKUP($A53,Produits!$A$1:$P$357,10,FALSE)","v":5.5E-2},{"$f":"VLOOKUP($A53,Produits!$A$1:$P$357,8,FALSE)","v":0.28000000000000003},{"$f":"VLOOKUP($A53,Produits!$A$1:$P$357,9,FALSE)","v":2.8699999999999997},{"$f":"IF(ISNA(VLOOKUP($A53,Produits!$A$1:$O$357,14,FALSE)),\"\",VLOOKUP($A53,Produits!$A$1:$O$357,14,FALSE))","v":3760219062486},41]
["14A",{"$f":"VLOOKUP($A54,Produits!$A$1:$P$357,2,FALSE)","v":"Pulpe de pruneaux"},{"$f":"VLOOKUP($A54,Produits!$A$1:$P$357,3,FALSE)","v":"310g"},{"$f":"VLOOKUP($A54,Produits!$A$1:$P$357,5,FALSE)","v":24},{"$f":"VLOOKUP($A54,Produits!$A$1:$P$357,4,FALSE)","v":"Bocal"},{"$f":"VLOOKUP($A54,Produits!$A$1:$P$357,6,FALSE)","v":3.9810400000000001},{"$f":"VLOOKUP($A54,Produits!$A$1:$P$357,7,FALSE)","v":4.2},{"$f":"VLOOKUP($A54,Produits!$A$1:$P$357,10,FALSE)","v":5.5E-2},{"$f":"VLOOKUP($A54,Produits!$A$1:$P$357,8,FALSE)","v":0.28000000000000003},{"$f":"VLOOKUP($A54,Produits!$A$1:$P$357,9,FALSE)","v":2.8699999999999997},{"$f":"IF(ISNA(VLOOKUP($A54,Produits!$A$1:$O$357,14,FALSE)),\"\",VLOOKUP($A54,Produits!$A$1:$O$357,14,FALSE))","v":3760219062479},42]
["15A",{"$f":"VLOOKUP($A55,Produits!$A$1:$P$357,2,FALSE)","v":"Pruneaux au sirop"},{"$f":"VLOOKUP($A55,Produits!$A$1:$P$357,3,FALSE)","v":"320g"},{"$f":"VLOOKUP($A55,Produits!$A$1:$P$357,5,FALSE)","v":14},{"$f":"VLOOKUP($A55,Produits!$A$1:$P$357,4,FALSE)","v":"Bocal"},{"$f":"VLOOKUP($A55,Produits!$A$1:$P$357,6,FALSE)","v":3.2227399999999999},{"$f":"VLOOKUP($A55,Produits!$A$1:$P$357,7,FALSE)","v":3.4},{"$f":"VLOOKUP($A55,Produits!$A$1:$P$357,10,FALSE)","v":5.5E-2},{"$f":"VLOOKUP($A55,Produits!$A$1:$P$357,8,FALSE)","v":0.2},{"$f":"VLOOKUP($A55,Produits!$A$1:$P$357,9,FALSE)","v":2.5799999999999996},{"$f":"IF(ISNA(VLOOKUP($A55,Produits!$A$1:$O$357,14,FALSE)),\"\",VLOOKUP($A55,Produits!$A$1:$O$357,14,FALSE))","v":3760219062462},43]
["16A",{"$f":"VLOOKUP($A56,Produits!$A$1:$P$357,2,FALSE)","v":"Confiture de Prune d'Ente allégée"},{"$f":"VLOOKUP($A56,Produits!$A$1:$P$357,3,FALSE)","v":"250g"},{"$f":"VLOOKUP($A56,Produits!$A$1:$P$357,5,FALSE)","v":10},{"$f":"VLOOKUP($A56,Produits!$A$1:$P$357,4,FALSE)","v":"Bocal"},{"$f":"VLOOKUP($A56,Produits!$A$1:$P$357,6,FALSE)","v":3.7914599999999998},{"$f":"VLOOKUP($A56,Produits!$A$1:$P$357,7,FALSE)","v":4},{"$f":"VLOOKUP($A56,Produits!$A$1:$P$357,10,FALSE)","v":5.5E-2},{"$f":"VLOOKUP($A56,Produits!$A$1:$P$357,8,FALSE)","v":0.2},{"$f":"VLOOKUP($A56,Produits!$A$1:$P$357,9,FALSE)","v":3.0399999999999996},{"$f":"IF(ISNA(VLOOKUP($A56,Produits!$A$1:$O$357,14,FALSE)),\"\",VLOOKUP($A56,Produits!$A$1:$O$357,14,FALSE))","v":3760219062455},44]
["16B",{"$f":"VLOOKUP($A57,Produits!$A$1:$P$357,2,FALSE)","v":"Confiture de Prune Reine-Claude allégée"},{"$f":"VLOOKUP($A57,Produits!$A$1:$P$357,3,FALSE)","v":"250g"},{"$f":"VLOOKUP($A57,Produits!$A$1:$P$357,5,FALSE)","v":10},{"$f":"VLOOKUP($A57,Produits!$A$1:$P$357,4,FALSE)","v":"Bocal"},{"$f":"VLOOKUP($A57,Produits!$A$1:$P$357,6,FALSE)","v":3.7914599999999998},{"$f":"VLOOKUP($A57,Produits!$A$1:$P$357,7,FALSE)","v":4},{"$f":"VLOOKUP($A57,Produits!$A$1:$P$357,10,FALSE)","v":5.5E-2},{"$f":"VLOOKUP($A57,Produits!$A$1:$P$357,8,FALSE)","v":0.2},{"$f":"VLOOKUP($A57,Produits!$A$1:$P$357,9,FALSE)","v":3.0399999999999996},{"$f":"IF(ISNA(VLOOKUP($A57,Produits!$A$1:$O$357,14,FALSE)),\"\",VLOOKUP($A57,Produits!$A$1:$O$357,14,FALSE))","v":3760219062448},45]
["16C",{"$f":"VLOOKUP($A58,Produits!$A$1:$P$357,2,FALSE)","v":"Confiture de Fraise"},{"$f":"VLOOKUP($A58,Produits!$A$1:$P$357,3,FALSE)","v":"250g"},{"$f":"VLOOKUP($A58,Produits!$A$1:$P$357,5,FALSE)","v":10},{"$f":"VLOOKUP($A58,Produits!$A$1:$P$357,4,FALSE)","v":"Bocal"},{"$f":"VLOOKUP($A58,Produits!$A$1:$P$357,6,FALSE)","v":3.7914599999999998},{"$f":"VLOOKUP($A58,Produits!$A$1:$P$357,7,FALSE)","v":4},{"$f":"VLOOKUP($A58,Produits!$A$1:$P$357,10,FALSE)","v":5.5E-2},{"$f":"VLOOKUP($A58,Produits!$A$1:$P$357,8,FALSE)","v":0.2},{"$f":"VLOOKUP($A58,Produits!$A$1:$P$357,9,FALSE)","v":3.0399999999999996},{"$f":"IF(ISNA(VLOOKUP($A58,Produits!$A$1:$O$357,14,FALSE)),\"\",VLOOKUP($A58,Produits!$A$1:$O$357,14,FALSE))","v":3760219062431},46]
["17A",{"$f":"VLOOKUP($A59,Produits!$A$1:$P$357,2,FALSE)","v":"Confiture de Prune d'Ente allégée"},{"$f":"VLOOKUP($A59,Produits!$A$1:$P$357,3,FALSE)","v":"330g"},{"$f":"VLOOKUP($A59,Produits!$A$1:$P$357,5,FALSE)","v":14},{"$f":"VLOOKUP($A59,Produits!$A$1:$P$357,4,FALSE)","v":"Bocal"},{"$f":"VLOOKUP($A59,Produits!$A$1:$P$357,6,FALSE)","v":4.2653999999999996},{"$f":"VLOOKUP($A59,Produits!$A$1:$P$357,7,FALSE)","v":4.5},{"$f":"VLOOKUP($A59,Produits!$A$1:$P$357,10,FALSE)","v":5.5E-2},{"$f":"VLOOKUP($A59,Produits!$A$1:$P$357,8,FALSE)","v":0.2},{"$f":"VLOOKUP($A59,Produits!$A$1:$P$357,9,FALSE)","v":3.42},{"$f":"IF(ISNA(VLOOKUP($A59,Produits!$A$1:$O$357,14,FALSE)),\"\",VLOOKUP($A59,Produits!$A$1:$O$357,14,FALSE))","v":3760219062424},47]
["17B",{"$f":"VLOOKUP($A60,Produits!$A$1:$P$357,2,FALSE)","v":"Confiture de Prune Reine-Claude allégée"},{"$f":"VLOOKUP($A60,Produits!$A$1:$P$357,3,FALSE)","v":"330g"},{"$f":"VLOOKUP($A60,Produits!$A$1:$P$357,5,FALSE)","v":14},{"$f":"VLOOKUP($A60,Produits!$A$1:$P$357,4,FALSE)","v":"Bocal"},{"$f":"VLOOKUP($A60,Produits!$A$1:$P$357,6,FALSE)","v":4.2653999999999996},{"$f":"VLOOKUP($A60,Produits!$A$1:$P$357,7,FALSE)","v":4.5},{"$f":"VLOOKUP($A60,Produits!$A$1:$P$357,10,FALSE)","v":5.5E-2},{"$f":"VLOOKUP($A60,Produits!$A$1:$P$357,8,FALSE)","v":0.2},{"$f":"VLOOKUP($A60,Produits!$A$1:$P$357,9,FALSE)","v":3.42},{"$f":"IF(ISNA(VLOOKUP($A60,Produits!$A$1:$O$357,14,FALSE)),\"\",VLOOKUP($A60,Produits!$A$1:$O$357,14,FALSE))","v":3760219062417},48]
["17C",{"$f":"VLOOKUP($A61,Produits!$A$1:$P$357,2,FALSE)","v":"Confiture de Fraise"},{"$f":"VLOOKUP($A61,Produits!$A$1:$P$357,3,FALSE)","v":"330g"},{"$f":"VLOOKUP($A61,Produits!$A$1:$P$357,5,FALSE)","v":14},{"$f":"VLOOKUP($A61,Produits!$A$1:$P$357,4,FALSE)","v":"Bocal"},{"$f":"VLOOKUP($A61,Produits!$A$1:$P$357,6,FALSE)","v":4.2653999999999996},{"$f":"VLOOKUP($A61,Produits!$A$1:$P$357,7,FALSE)","v":4.5},{"$f":"VLOOKUP($A61,Produits!$A$1:$P$357,10,FALSE)","v":5.5E-2},{"$f":"VLOOKUP($A61,Produits!$A$1:$P$357,8,FALSE)","v":0.2},{"$f":"VLOOKUP($A61,Produits!$A$1:$P$357,9,FALSE)","v":3.42},{"$f":"IF(ISNA(VLOOKUP($A61,Produits!$A$1:$O$357,14,FALSE)),\"\",VLOOKUP($A61,Produits!$A$1:$O$357,14,FALSE))","v":3760219062400},49]
["18A",{"$f":"VLOOKUP($A62,Produits!$A$1:$P$357,2,FALSE)","v":"Nougat aux pruneaux"},{"$f":"VLOOKUP($A62,Produits!$A$1:$P$357,3,FALSE)","v":"100g"},{"$f":"VLOOKUP($A62,Produits!$A$1:$P$357,5,FALSE)","v":10},{"$f":"VLOOKUP($A62,Produits!$A$1:$P$357,4,FALSE)","v":"Sachet"},{"$f":"VLOOKUP($A62,Produits!$A$1:$P$357,6,FALSE)","v":4.5833300000000001},{"$f":"VLOOKUP($A62,Produits!$A$1:$P$357,7,FALSE)","v":5.5},{"$f":"VLOOKUP($A62,Produits!$A$1:$P$357,10,FALSE)","v":0.2},{"$f":"VLOOKUP($A62,Produits!$A$1:$P$357,8,FALSE)","v":0.2},{"$f":"VLOOKUP($A62,Produits!$A$1:$P$357,9,FALSE)","v":3.67},{"$f":"IF(ISNA(VLOOKUP($A62,Produits!$A$1:$O$357,14,FALSE)),\"\",VLOOKUP($A62,Produits!$A$1:$O$357,14,FALSE))","v":3760219062394},50]
["18B",{"$f":"VLOOKUP($A63,Produits!$A$1:$P$357,2,FALSE)","v":"Nougat aux pruneaux"},{"$f":"VLOOKUP($A63,Produits!$A$1:$P$357,3,FALSE)","v":"150g"},{"$f":"VLOOKUP($A63,Produits!$A$1:$P$357,5,FALSE)","v":10},{"$f":"VLOOKUP($A63,Produits!$A$1:$P$357,4,FALSE)","v":"Sachet"},{"$f":"VLOOKUP($A63,Produits!$A$1:$P$357,6,FALSE)","v":6.6666600000000003},{"$f":"VLOOKUP($A63,Produits!$A$1:$P$357,7,FALSE)","v":8},{"$f":"VLOOKUP($A63,Produits!$A$1:$P$357,10,FALSE)","v":0.2},{"$f":"VLOOKUP($A63,Produits!$A$1:$P$357,8,FALSE)","v":0.2},{"$f":"VLOOKUP($A63,Produits!$A$1:$P$357,9,FALSE)","v":5.34},{"$f":"IF(ISNA(VLOOKUP($A63,Produits!$A$1:$O$357,14,FALSE)),\"\",VLOOKUP($A63,Produits!$A$1:$O$357,14,FALSE))","v":3760219062387},51]
["19A",{"$f":"VLOOKUP($A64,Produits!$A$1:$P$357,2,FALSE)","v":"Mendiants chocolat noir"},{"$f":"VLOOKUP($A64,Produits!$A$1:$P$357,3,FALSE)","v":"150g"},{"$f":"VLOOKUP($A64,Produits!$A$1:$P$357,5,FALSE)","v":10},{"$f":"VLOOKUP($A64,Produits!$A$1:$P$357,4,FALSE)","v":"Sachet"},{"$f":"VLOOKUP($A64,Produits!$A$1:$P$357,6,FALSE)","v":5.6871999999999998},{"$f":"VLOOKUP($A64,Produits!$A$1:$P$357,7,FALSE)","v":6},{"$f":"VLOOKUP($A64,Produits!$A$1:$P$357,10,FALSE)","v":5.5E-2},{"$f":"VLOOKUP($A64,Produits!$A$1:$P$357,8,FALSE)","v":0.2},{"$f":"VLOOKUP($A64,Produits!$A$1:$P$357,9,FALSE)","v":4.55},{"$f":"IF(ISNA(VLOOKUP($A64,Produits!$A$1:$O$357,14,FALSE)),\"\",VLOOKUP($A64,Produits!$A$1:$O$357,14,FALSE))","v":3760219062370},52]
["19B",{"$f":"VLOOKUP($A65,Produits!$A$1:$P$357,2,FALSE)","v":"Mendiants chocolat noir"},{"$f":"VLOOKUP($A65,Produits!$A$1:$P$357,3,FALSE)","v":"200g"},{"$f":"VLOOKUP($A65,Produits!$A$1:$P$357,5,FALSE)","v":10},{"$f":"VLOOKUP($A65,Produits!$A$1:$P$357,4,FALSE)","v":"Sachet"},{"$f":"VLOOKUP($A65,Produits!$A$1:$P$357,6,FALSE)","v":3.75},{"$f":"VLOOKUP($A65,Produits!$A$1:$P$357,7,FALSE)","v":7.5},{"$f":"VLOOKUP($A65,Produits!$A$1:$P$357,10,FALSE)","v":true},{"$f":"VLOOKUP($A65,Produits!$A$1:$P$357,8,FALSE)","v":0.2},{"$f":"VLOOKUP($A65,Produits!$A$1:$P$357,9,FALSE)","v":3},{"$f":"IF(ISNA(VLOOKUP($A65,Produits!$A$1:$O$357,14,FALSE)),\"\",VLOOKUP($A65,Produits!$A$1:$O$357,14,FALSE))","v":3760219062363},53]
["20A",{"$f":"VLOOKUP($A66,Produits!$A$1:$P$357,2,FALSE)","v":"Mendiants chocolat lait"},{"$f":"VLOOKUP($A66,Produits!$A$1:$P$357,3,FALSE)","v":"150g"},{"$f":"VLOOKUP($A66,Produits!$A$1:$P$357,5,FALSE)","v":10},{"$f":"VLOOKUP($A66,Produits!$A$1:$P$357,4,FALSE)","v":"Sachet"},{"$f":"VLOOKUP($A66,Produits!$A$1:$P$357,6,FALSE)","v":5.6871999999999998},{"$f":"VLOOKUP($A66,Produits!$A$1:$P$357,7,FALSE)","v":6},{"$f":"VLOOKUP($A66,Produits!$A$1:$P$357,10,FALSE)","v":5.5E-2},{"$f":"VLOOKUP($A66,Produits!$A$1:$P$357,8,FALSE)","v":0.2},{"$f":"VLOOKUP($A66,Produits!$A$1:$P$357,9,FALSE)","v":4.55},{"$f":"IF(ISNA(VLOOKUP($A66,Produits!$A$1:$O$357,14,FALSE)),\"\",VLOOKUP($A66,Produits!$A$1:$O$357,14,FALSE))","v":3760219062356},54]
["20B",{"$f":"VLOOKUP($A67,Produits!$A$1:$P$357,2,FALSE)","v":"Mendiants chocolat lait"},{"$f":"VLOOKUP($A67,Produits!$A$1:$P$357,3,FALSE)","v":"200g"},{"$f":"VLOOKUP($A67,Produits!$A$1:$P$357,5,FALSE)","v":10},{"$f":"VLOOKUP($A67,Produits!$A$1:$P$357,4,FALSE)","v":"Sachet"},{"$f":"VLOOKUP($A67,Produits!$A$1:$P$357,6,FALSE)","v":7.1},{"$f":"VLOOKUP($A67,Produits!$A$1:$P$357,7,FALSE)","v":7.5},{"$f":"VLOOKUP($A67,Produits!$A$1:$P$357,10,FALSE)","v":5.5E-2},{"$f":"VLOOKUP($A67,Produits!$A$1:$P$357,8,FALSE)","v":0.2},{"$f":"VLOOKUP($A67,Produits!$A$1:$P$357,9,FALSE)","v":5.68},{"$f":"IF(ISNA(VLOOKUP($A67,Produits!$A$1:$O$357,14,FALSE)),\"\",VLOOKUP($A67,Produits!$A$1:$O$357,14,FALSE))","v":3760219062349},55]
["21A",{"$f":"VLOOKUP($A68,Produits!$A$1:$P$357,2,FALSE)","v":"Pâtes de fruit - (saveur à préciser)"},{"$f":"VLOOKUP($A68,Produits!$A$1:$P$357,3,FALSE)","v":"150g"},{"$f":"VLOOKUP($A68,Produits!$A$1:$P$357,5,FALSE)","v":10},{"$f":"VLOOKUP($A68,Produits!$A$1:$P$357,4,FALSE)","v":"Sachet"},{"$f":"VLOOKUP($A68,Produits!$A$1:$P$357,6,FALSE)","v":5.6871999999999998},{"$f":"VLOOKUP($A68,Produits!$A$1:$P$357,7,FALSE)","v":6},{"$f":"VLOOKUP($A68,Produits!$A$1:$P$357,10,FALSE)","v":5.5E-2},{"$f":"VLOOKUP($A68,Produits!$A$1:$P$357,8,FALSE)","v":0.2},{"$f":"VLOOKUP($A68,Produits!$A$1:$P$357,9,FALSE)","v":4.55},{"$f":"IF(ISNA(VLOOKUP($A68,Produits!$A$1:$O$357,14,FALSE)),\"\",VLOOKUP($A68,Produits!$A$1:$O$357,14,FALSE))","v":3760219062332},56]
["21B",{"$f":"VLOOKUP($A69,Produits!$A$1:$P$357,2,FALSE)","v":"Pâtes de fruit - Mixte (mélange)"},{"$f":"VLOOKUP($A69,Produits!$A$1:$P$357,3,FALSE)","v":"150g"},{"$f":"VLOOKUP($A69,Produits!$A$1:$P$357,5,FALSE)","v":10},{"$f":"VLOOKUP($A69,Produits!$A$1:$P$357,4,FALSE)","v":"Sachet"},{"$f":"VLOOKUP($A69,Produits!$A$1:$P$357,6,FALSE)","v":6.16113},{"$f":"VLOOKUP($A69,Produits!$A$1:$P$357,7,FALSE)","v":6.5},{"$f":"VLOOKUP($A69,Produits!$A$1:$P$357,10,FALSE)","v":5.5E-2},{"$f":"VLOOKUP($A69,Produits!$A$1:$P$357,8,FALSE)","v":0.2},{"$f":"VLOOKUP($A69,Produits!$A$1:$P$357,9,FALSE)","v":4.93},{"$f":"IF(ISNA(VLOOKUP($A69,Produits!$A$1:$O$357,14,FALSE)),\"\",VLOOKUP($A69,Produits!$A$1:$O$357,14,FALSE))","v":3760219062325},57]
["22A",{"$f":"VLOOKUP($A70,Produits!$A$1:$P$357,2,FALSE)","v":"Pâtes de velours chocolat"},{"$f":"VLOOKUP($A70,Produits!$A$1:$P$357,3,FALSE)","v":"150g"},{"$f":"VLOOKUP($A70,Produits!$A$1:$P$357,5,FALSE)","v":10},{"$f":"VLOOKUP($A70,Produits!$A$1:$P$357,4,FALSE)","v":"Sachet"},{"$f":"VLOOKUP($A70,Produits!$A$1:$P$357,6,FALSE)","v":6.16113},{"$f":"VLOOKUP($A70,Produits!$A$1:$P$357,7,FALSE)","v":6.5},{"$f":"VLOOKUP($A70,Produits!$A$1:$P$357,10,FALSE)","v":5.5E-2},{"$f":"VLOOKUP($A70,Produits!$A$1:$P$357,8,FALSE)","v":0.2},{"$f":"VLOOKUP($A70,Produits!$A$1:$P$357,9,FALSE)","v":4.93},{"$f":"IF(ISNA(VLOOKUP($A70,Produits!$A$1:$O$357,14,FALSE)),\"\",VLOOKUP($A70,Produits!$A$1:$O$357,14,FALSE))","v":3760219062318},58]
["23A",{"$f":"VLOOKUP($A71,Produits!$A$1:$P$357,2,FALSE)","v":"Madeleines à la crème de pruneau (env. 5 unités)"},{"$f":"VLOOKUP($A71,Produits!$A$1:$P$357,3,FALSE)","v":"100g"},{"$f":"VLOOKUP($A71,Produits!$A$1:$P$357,5,FALSE)","v":10},{"$f":"VLOOKUP($A71,Produits!$A$1:$P$357,4,FALSE)","v":"Sachet"},{"$f":"VLOOKUP($A71,Produits!$A$1:$P$357,6,FALSE)","v":2.4644499999999998},{"$f":"VLOOKUP($A71,Produits!$A$1:$P$357,7,FALSE)","v":2.6},{"$f":"VLOOKUP($A71,Produits!$A$1:$P$357,10,FALSE)","v":5.5E-2},{"$f":"VLOOKUP($A71,Produits!$A$1:$P$357,8,FALSE)","v":0.2},{"$f":"VLOOKUP($A71,Produits!$A$1:$P$357,9,FALSE)","v":1.98},{"$f":"IF(ISNA(VLOOKUP($A71,Produits!$A$1:$O$357,14,FALSE)),\"\",VLOOKUP($A71,Produits!$A$1:$O$357,14,FALSE))","v":3760219062301},59]
["23B",{"$f":"VLOOKUP($A72,Produits!$A$1:$P$357,2,FALSE)","v":"Madeleines à la crème de pruneau (env. 8 unités)"},{"$f":"VLOOKUP($A72,Produits!$A$1:$P$357,3,FALSE)","v":"150g"},{"$f":"VLOOKUP($A72,Produits!$A$1:$P$357,5,FALSE)","v":10},{"$f":"VLOOKUP($A72,Produits!$A$1:$P$357,4,FALSE)","v":"Sachet"},{"$f":"VLOOKUP($A72,Produits!$A$1:$P$357,6,FALSE)","v":3.6966800000000002},{"$f":"VLOOKUP($A72,Produits!$A$1:$P$357,7,FALSE)","v":3.9},{"$f":"VLOOKUP($A72,Produits!$A$1:$P$357,10,FALSE)","v":5.5E-2},{"$f":"VLOOKUP($A72,Produits!$A$1:$P$357,8,FALSE)","v":0.2},{"$f":"VLOOKUP($A72,Produits!$A$1:$P$357,9,FALSE)","v":2.96},{"$f":"IF(ISNA(VLOOKUP($A72,Produits!$A$1:$O$357,14,FALSE)),\"\",VLOOKUP($A72,Produits!$A$1:$O$357,14,FALSE))","v":3760219062295},60]
["24A",{"$f":"VLOOKUP($A73,Produits!$A$1:$P$357,2,FALSE)","v":"Pruneaux fourrés - Boîte Or des 100 ans"},{"$f":"VLOOKUP($A73,Produits!$A$1:$P$357,3,FALSE)","v":"350g"},{"$f":"VLOOKUP($A73,Produits!$A$1:$P$357,5,FALSE)","v":6},{"$f":"VLOOKUP($A73,Produits!$A$1:$P$357,4,FALSE)","v":"Boite métal"},{"$f":"VLOOKUP($A73,Produits!$A$1:$P$357,6,FALSE)","v":12.41666},{"$f":"VLOOKUP($A73,Produits!$A$1:$P$357,7,FALSE)","v":14.9},{"$f":"VLOOKUP($A73,Produits!$A$1:$P$357,10,FALSE)","v":0.2},{"$f":"VLOOKUP($A73,Produits!$A$1:$P$357,8,FALSE)","v":0.2},{"$f":"VLOOKUP($A73,Produits!$A$1:$P$357,9,FALSE)","v":9.94},{"$f":"IF(ISNA(VLOOKUP($A73,Produits!$A$1:$O$357,14,FALSE)),\"\",VLOOKUP($A73,Produits!$A$1:$O$357,14,FALSE))","v":3760219062288},61]
["24B",{"$f":"VLOOKUP($A74,Produits!$A$1:$P$357,2,FALSE)","v":"Pruneaux fourrés Armagnac - Boîte Or des 100 ans"},{"$f":"VLOOKUP($A74,Produits!$A$1:$P$357,3,FALSE)","v":"350g"},{"$f":"VLOOKUP($A74,Produits!$A$1:$P$357,5,FALSE)","v":6},{"$f":"VLOOKUP($A74,Produits!$A$1:$P$357,4,FALSE)","v":"Boite métal"},{"$f":"VLOOKUP($A74,Produits!$A$1:$P$357,6,FALSE)","v":12.91666},{"$f":"VLOOKUP($A74,Produits!$A$1:$P$357,7,FALSE)","v":15.5},{"$f":"VLOOKUP($A74,Produits!$A$1:$P$357,10,FALSE)","v":0.2},{"$f":"VLOOKUP($A74,Produits!$A$1:$P$357,8,FALSE)","v":0.2},{"$f":"VLOOKUP($A74,Produits!$A$1:$P$357,9,FALSE)","v":10.34},{"$f":"IF(ISNA(VLOOKUP($A74,Produits!$A$1:$O$357,14,FALSE)),\"\",VLOOKUP($A74,Produits!$A$1:$O$357,14,FALSE))","v":3760219062271},62]
["24C",{"$f":"VLOOKUP($A75,Produits!$A$1:$P$357,2,FALSE)","v":"Pruneaux fourrés - Boîte Or des 100 ans"},{"$f":"VLOOKUP($A75,Produits!$A$1:$P$357,3,FALSE)","v":"600g"},{"$f":"VLOOKUP($A75,Produits!$A$1:$P$357,5,FALSE)","v":6},{"$f":"VLOOKUP($A75,Produits!$A$1:$P$357,4,FALSE)","v":"Boite métal"},{"$f":"VLOOKUP($A75,Produits!$A$1:$P$357,6,FALSE)","v":17.83333},{"$f":"VLOOKUP($A75,Produits!$A$1:$P$357,7,FALSE)","v":21.4},{"$f":"VLOOKUP($A75,Produits!$A$1:$P$357,10,FALSE)","v":0.2},{"$f":"VLOOKUP($A75,Produits!$A$1:$P$357,8,FALSE)","v":0.2},{"$f":"VLOOKUP($A75,Produits!$A$1:$P$357,9,FALSE)","v":14.27},{"$f":"IF(ISNA(VLOOKUP($A75,Produits!$A$1:$O$357,14,FALSE)),\"\",VLOOKUP($A75,Produits!$A$1:$O$357,14,FALSE))","v":3760219062264},63]
["24D",{"$f":"VLOOKUP($A76,Produits!$A$1:$P$357,2,FALSE)","v":"Pruneaux fourrés Armagnac - Boîte Or des 100 ans"},{"$f":"VLOOKUP($A76,Produits!$A$1:$P$357,3,FALSE)","v":"600g"},{"$f":"VLOOKUP($A76,Produits!$A$1:$P$357,5,FALSE)","v":6},{"$f":"VLOOKUP($A76,Produits!$A$1:$P$357,4,FALSE)","v":"Boite métal"},{"$f":"VLOOKUP($A76,Produits!$A$1:$P$357,6,FALSE)","v":18.33333},{"$f":"VLOOKUP($A76,Produits!$A$1:$P$357,7,FALSE)","v":22},{"$f":"VLOOKUP($A76,Produits!$A$1:$P$357,10,FALSE)","v":0.2},{"$f":"VLOOKUP($A76,Produits!$A$1:$P$357,8,FALSE)","v":0.2},{"$f":"VLOOKUP($A76,Produits!$A$1:$P$357,9,FALSE)","v":14.67},{"$f":"IF(ISNA(VLOOKUP($A76,Produits!$A$1:$O$357,14,FALSE)),\"\",VLOOKUP($A76,Produits!$A$1:$O$357,14,FALSE))","v":3760219062257},64]
["24E",{"$f":"VLOOKUP($A77,Produits!$A$1:$P$357,2,FALSE)","v":"Pruneaux fourrés - Boîte Or des 100 ans"},{"$f":"VLOOKUP($A77,Produits!$A$1:$P$357,3,FALSE)","v":"850g"},{"$f":"VLOOKUP($A77,Produits!$A$1:$P$357,5,FALSE)","v":6},{"$f":"VLOOKUP($A77,Produits!$A$1:$P$357,4,FALSE)","v":"Boite métal"},{"$f":"VLOOKUP($A77,Produits!$A$1:$P$357,6,FALSE)","v":23.66666},{"$f":"VLOOKUP($A77,Produits!$A$1:$P$357,7,FALSE)","v":28.4},{"$f":"VLOOKUP($A77,Produits!$A$1:$P$357,10,FALSE)","v":0.2},{"$f":"VLOOKUP($A77,Produits!$A$1:$P$357,8,FALSE)","v":0.2},{"$f":"VLOOKUP($A77,Produits!$A$1:$P$357,9,FALSE)","v":18.940000000000001},{"$f":"IF(ISNA(VLOOKUP($A77,Produits!$A$1:$O$357,14,FALSE)),\"\",VLOOKUP($A77,Produits!$A$1:$O$357,14,FALSE))","v":3760219062240},65]
["24F",{"$f":"VLOOKUP($A78,Produits!$A$1:$P$357,2,FALSE)","v":"Pruneaux fourrés + Prunchoco® - Boîte Or des 100 ans"},{"$f":"VLOOKUP($A78,Produits!$A$1:$P$357,3,FALSE)","v":"290g"},{"$f":"VLOOKUP($A78,Produits!$A$1:$P$357,5,FALSE)","v":6},{"$f":"VLOOKUP($A78,Produits!$A$1:$P$357,4,FALSE)","v":"Boite métal"},{"$f":"VLOOKUP($A78,Produits!$A$1:$P$357,6,FALSE)","v":12.25},{"$f":"VLOOKUP($A78,Produits!$A$1:$P$357,7,FALSE)","v":14.7},{"$f":"VLOOKUP($A78,Produits!$A$1:$P$357,10,FALSE)","v":0.2},{"$f":"VLOOKUP($A78,Produits!$A$1:$P$357,8,FALSE)","v":0.2},{"$f":"VLOOKUP($A78,Produits!$A$1:$P$357,9,FALSE)","v":9.8000000000000007},{"$f":"IF(ISNA(VLOOKUP($A78,Produits!$A$1:$O$357,14,FALSE)),\"\",VLOOKUP($A78,Produits!$A$1:$O$357,14,FALSE))","v":3760219062233},66]
["24G",{"$f":"VLOOKUP($A79,Produits!$A$1:$P$357,2,FALSE)","v":"Pruneaux fourrés + Prunchoco® - Boîte Or des 100 ans"},{"$f":"VLOOKUP($A79,Produits!$A$1:$P$357,3,FALSE)","v":"500g"},{"$f":"VLOOKUP($A79,Produits!$A$1:$P$357,5,FALSE)","v":6},{"$f":"VLOOKUP($A79,Produits!$A$1:$P$357,4,FALSE)","v":"Boite métal"},{"$f":"VLOOKUP($A79,Produits!$A$1:$P$357,6,FALSE)","v":17.75},{"$f":"VLOOKUP($A79,Produits!$A$1:$P$357,7,FALSE)","v":21.3},{"$f":"VLOOKUP($A79,Produits!$A$1:$P$357,10,FALSE)","v":0.2},{"$f":"VLOOKUP($A79,Produits!$A$1:$P$357,8,FALSE)","v":0.2},{"$f":"VLOOKUP($A79,Produits!$A$1:$P$357,9,FALSE)","v":14.2},{"$f":"IF(ISNA(VLOOKUP($A79,Produits!$A$1:$O$357,14,FALSE)),\"\",VLOOKUP($A79,Produits!$A$1:$O$357,14,FALSE))","v":3760219062226},67]
["25A",{"$f":"VLOOKUP($A80,Produits!$A$1:$P$357,2,FALSE)","v":"Claie Agenaise (Pruneaux fourrés)"},{"$f":"VLOOKUP($A80,Produits!$A$1:$P$357,3,FALSE)","v":"350g"},{"$f":"VLOOKUP($A80,Produits!$A$1:$P$357,5,FALSE)","v":1},{"$f":"VLOOKUP($A80,Produits!$A$1:$P$357,4,FALSE)","v":"Claie Agen."},{"$f":"VLOOKUP($A80,Produits!$A$1:$P$357,6,FALSE)","v":12.83333},{"$f":"VLOOKUP($A80,Produits!$A$1:$P$357,7,FALSE)","v":15.4},{"$f":"VLOOKUP($A80,Produits!$A$1:$P$357,10,FALSE)","v":0.2},{"$f":"VLOOKUP($A80,Produits!$A$1:$P$357,8,FALSE)","v":0.2},{"$f":"VLOOKUP($A80,Produits!$A$1:$P$357,9,FALSE)","v":10.27},{"$f":"IF(ISNA(VLOOKUP($A80,Produits!$A$1:$O$357,14,FALSE)),\"\",VLOOKUP($A80,Produits!$A$1:$O$357,14,FALSE))","v":3760219062219},68]
["25B",{"$f":"VLOOKUP($A81,Produits!$A$1:$P$357,2,FALSE)","v":"Claie Agenaise (Pruneaux fourrés)"},{"$f":"VLOOKUP($A81,Produits!$A$1:$P$357,3,FALSE)","v":"600g"},{"$f":"VLOOKUP($A81,Produits!$A$1:$P$357,5,FALSE)","v":1},{"$f":"VLOOKUP($A81,Produits!$A$1:$P$357,4,FALSE)","v":"Claie Agen."},{"$f":"VLOOKUP($A81,Produits!$A$1:$P$357,6,FALSE)","v":19.58333},{"$f":"VLOOKUP($A81,Produits!$A$1:$P$357,7,FALSE)","v":23.5},{"$f":"VLOOKUP($A81,Produits!$A$1:$P$357,10,FALSE)","v":0.2},{"$f":"VLOOKUP($A81,Produits!$A$1:$P$357,8,FALSE)","v":0.2},{"$f":"VLOOKUP($A81,Produits!$A$1:$P$357,9,FALSE)","v":15.67},{"$f":"IF(ISNA(VLOOKUP($A81,Produits!$A$1:$O$357,14,FALSE)),\"\",VLOOKUP($A81,Produits!$A$1:$O$357,14,FALSE))","v":3760219062202},69]
["25C",{"$f":"VLOOKUP($A82,Produits!$A$1:$P$357,2,FALSE)","v":"Claie Agenaise (Pruneaux fourrés)"},{"$f":"VLOOKUP($A82,Produits!$A$1:$P$357,3,FALSE)","v":"850g"},{"$f":"VLOOKUP($A82,Produits!$A$1:$P$357,5,FALSE)","v":1},{"$f":"VLOOKUP($A82,Produits!$A$1:$P$357,4,FALSE)","v":"Claie Agen."},{"$f":"VLOOKUP($A82,Produits!$A$1:$P$357,6,FALSE)","v":26.16666},{"$f":"VLOOKUP($A82,Produits!$A$1:$P$357,7,FALSE)","v":31.4},{"$f":"VLOOKUP($A82,Produits!$A$1:$P$357,10,FALSE)","v":0.2},{"$f":"VLOOKUP($A82,Produits!$A$1:$P$357,8,FALSE)","v":0.2},{"$f":"VLOOKUP($A82,Produits!$A$1:$P$357,9,FALSE)","v":20.94},{"$f":"IF(ISNA(VLOOKUP($A82,Produits!$A$1:$O$357,14,FALSE)),\"\",VLOOKUP($A82,Produits!$A$1:$O$357,14,FALSE))","v":3760219062196},70]
["25D",{"$f":"VLOOKUP($A83,Produits!$A$1:$P$357,2,FALSE)","v":"Claie Agenaise (Pruneaux fourrés)"},{"$f":"VLOOKUP($A83,Produits!$A$1:$P$357,3,FALSE)","v":"1,1kg"},{"$f":"VLOOKUP($A83,Produits!$A$1:$P$357,5,FALSE)","v":1},{"$f":"VLOOKUP($A83,Produits!$A$1:$P$357,4,FALSE)","v":"Claie Agen."},{"$f":"VLOOKUP($A83,Produits!$A$1:$P$357,6,FALSE)","v":32.083329999999997},{"$f":"VLOOKUP($A83,Produits!$A$1:$P$357,7,FALSE)","v":38.5},{"$f":"VLOOKUP($A83,Produits!$A$1:$P$357,10,FALSE)","v":0.2},{"$f":"VLOOKUP($A83,Produits!$A$1:$P$357,8,FALSE)","v":0.2},{"$f":"VLOOKUP($A83,Produits!$A$1:$P$357,9,FALSE)","v":25.67},{"$f":"IF(ISNA(VLOOKUP($A83,Produits!$A$1:$O$357,14,FALSE)),\"\",VLOOKUP($A83,Produits!$A$1:$O$357,14,FALSE))","v":3760219062189},71]
["25E",{"$f":"VLOOKUP($A84,Produits!$A$1:$P$357,2,FALSE)","v":"Petit panier (Pruneaux fourrés)"},{"$f":"VLOOKUP($A84,Produits!$A$1:$P$357,3,FALSE)","v":"220g"},{"$f":"VLOOKUP($A84,Produits!$A$1:$P$357,5,FALSE)","v":1},{"$f":"VLOOKUP($A84,Produits!$A$1:$P$357,4,FALSE)","v":"Panier bois"},{"$f":"VLOOKUP($A84,Produits!$A$1:$P$357,6,FALSE)","v":7.9166600000000003},{"$f":"VLOOKUP($A84,Produits!$A$1:$P$357,7,FALSE)","v":9.5},{"$f":"VLOOKUP($A84,Produits!$A$1:$P$357,10,FALSE)","v":0.2},{"$f":"VLOOKUP($A84,Produits!$A$1:$P$357,8,FALSE)","v":0.2},{"$f":"VLOOKUP($A84,Produits!$A$1:$P$357,9,FALSE)","v":6.34},{"$f":"IF(ISNA(VLOOKUP($A84,Produits!$A$1:$O$357,14,FALSE)),\"\",VLOOKUP($A84,Produits!$A$1:$O$357,14,FALSE))","v":3760219062172},72]
["25F",{"$f":"VLOOKUP($A85,Produits!$A$1:$P$357,2,FALSE)","v":"Petit panier (Pruneaux fourrés)"},{"$f":"VLOOKUP($A85,Produits!$A$1:$P$357,3,FALSE)","v":"320g"},{"$f":"VLOOKUP($A85,Produits!$A$1:$P$357,5,FALSE)","v":1},{"$f":"VLOOKUP($A85,Produits!$A$1:$P$357,4,FALSE)","v":"Panier bois"},{"$f":"VLOOKUP($A85,Produits!$A$1:$P$357,6,FALSE)","v":10.83333},{"$f":"VLOOKUP($A85,Produits!$A$1:$P$357,7,FALSE)","v":13},{"$f":"VLOOKUP($A85,Produits!$A$1:$P$357,10,FALSE)","v":0.2},{"$f":"VLOOKUP($A85,Produits!$A$1:$P$357,8,FALSE)","v":0.2},{"$f":"VLOOKUP($A85,Produits!$A$1:$P$357,9,FALSE)","v":8.67},{"$f":"IF(ISNA(VLOOKUP($A85,Produits!$A$1:$O$357,14,FALSE)),\"\",VLOOKUP($A85,Produits!$A$1:$O$357,14,FALSE))","v":3760219062165},73]
["25G",{"$f":"VLOOKUP($A86,Produits!$A$1:$P$357,2,FALSE)","v":"Panier moyen (Pruneaux fourrés + Prun'Choco® noir)"},{"$f":"VLOOKUP($A86,Produits!$A$1:$P$357,3,FALSE)","v":"470g"},{"$f":"VLOOKUP($A86,Produits!$A$1:$P$357,5,FALSE)","v":1},{"$f":"VLOOKUP($A86,Produits!$A$1:$P$357,4,FALSE)","v":"Panier bois"},{"$f":"VLOOKUP($A86,Produits!$A$1:$P$357,6,FALSE)","v":16.08333},{"$f":"VLOOKUP($A86,Produits!$A$1:$P$357,7,FALSE)","v":19.3},{"$f":"VLOOKUP($A86,Produits!$A$1:$P$357,10,FALSE)","v":0.2},{"$f":"VLOOKUP($A86,Produits!$A$1:$P$357,8,FALSE)","v":0.2},{"$f":"VLOOKUP($A86,Produits!$A$1:$P$357,9,FALSE)","v":12.87},{"$f":"IF(ISNA(VLOOKUP($A86,Produits!$A$1:$O$357,14,FALSE)),\"\",VLOOKUP($A86,Produits!$A$1:$O$357,14,FALSE))","v":3760219062158},74]
["25H",{"$f":"VLOOKUP($A87,Produits!$A$1:$P$357,2,FALSE)","v":"Plateau moyen (pruneaux fourrés + Prun’Choco® noir)"},{"$f":"VLOOKUP($A87,Produits!$A$1:$P$357,3,FALSE)","v":"590g"},{"$f":"VLOOKUP($A87,Produits!$A$1:$P$357,5,FALSE)","v":1},{"$f":"VLOOKUP($A87,Produits!$A$1:$P$357,4,FALSE)","v":"Plateau bois"},{"$f":"VLOOKUP($A87,Produits!$A$1:$P$357,6,FALSE)","v":19.16666},{"$f":"VLOOKUP($A87,Produits!$A$1:$P$357,7,FALSE)","v":23},{"$f":"VLOOKUP($A87,Produits!$A$1:$P$357,10,FALSE)","v":0.2},{"$f":"VLOOKUP($A87,Produits!$A$1:$P$357,8,FALSE)","v":0.2},{"$f":"VLOOKUP($A87,Produits!$A$1:$P$357,9,FALSE)","v":15.34},{"$f":"IF(ISNA(VLOOKUP($A87,Produits!$A$1:$O$357,14,FALSE)),\"\",VLOOKUP($A87,Produits!$A$1:$O$357,14,FALSE))","v":3760219062141},75]
["25I",{"$f":"VLOOKUP($A88,Produits!$A$1:$P$357,2,FALSE)","v":"Grand plateau (pruneaux fourrés + Prun’Choco® noir)"},{"$f":"VLOOKUP($A88,Produits!$A$1:$P$357,3,FALSE)","v":"800g"},{"$f":"VLOOKUP($A88,Produits!$A$1:$P$357,5,FALSE)","v":1},{"$f":"VLOOKUP($A88,Produits!$A$1:$P$357,4,FALSE)","v":"Plateau bois"},{"$f":"VLOOKUP($A88,Produits!$A$1:$P$357,6,FALSE)","v":26.66666},{"$f":"VLOOKUP($A88,Produits!$A$1:$P$357,7,FALSE)","v":32},{"$f":"VLOOKUP($A88,Produits!$A$1:$P$357,10,FALSE)","v":0.2},{"$f":"VLOOKUP($A88,Produits!$A$1:$P$357,8,FALSE)","v":0.2},{"$f":"VLOOKUP($A88,Produits!$A$1:$P$357,9,FALSE)","v":21.34},{"$f":"IF(ISNA(VLOOKUP($A88,Produits!$A$1:$O$357,14,FALSE)),\"\",VLOOKUP($A88,Produits!$A$1:$O$357,14,FALSE))","v":3760219062134},76]
["26P",{"$f":"VLOOKUP($A89,Produits!$A$1:$P$357,2,FALSE)","v":"Prun’Choco® (saveur à préciser)"},{"$f":"VLOOKUP($A89,Produits!$A$1:$P$357,3,FALSE)","v":"200g"},{"$f":"VLOOKUP($A89,Produits!$A$1:$P$357,5,FALSE)","v":5},{"$f":"VLOOKUP($A89,Produits!$A$1:$P$357,4,FALSE)","v":"Pochette"},{"$f":"VLOOKUP($A89,Produits!$A$1:$P$357,6,FALSE)","v":4.45},{"$f":"VLOOKUP($A89,Produits!$A$1:$P$357,7,FALSE)","v":8.9},{"$f":"VLOOKUP($A89,Produits!$A$1:$P$357,10,FALSE)","v":true},{"$f":"VLOOKUP($A89,Produits!$A$1:$P$357,8,FALSE)","v":0.2},{"$f":"VLOOKUP($A89,Produits!$A$1:$P$357,9,FALSE)","v":3.56},{"$f":"IF(ISNA(VLOOKUP($A89,Produits!$A$1:$O$357,14,FALSE)),\"\",VLOOKUP($A89,Produits!$A$1:$O$357,14,FALSE))","v":3760219062127},77]
["26B1",{"$f":"VLOOKUP($A90,Produits!$A$1:$P$357,2,FALSE)","v":"Prun’Choco® (saveur à préciser)"},{"$f":"VLOOKUP($A90,Produits!$A$1:$P$357,3,FALSE)","v":"95g"},{"$f":"VLOOKUP($A90,Produits!$A$1:$P$357,5,FALSE)","v":5},{"$f":"VLOOKUP($A90,Produits!$A$1:$P$357,4,FALSE)","v":"Ballotin"},{"$f":"VLOOKUP($A90,Produits!$A$1:$P$357,6,FALSE)","v":4.6445400000000001},{"$f":"VLOOKUP($A90,Produits!$A$1:$P$357,7,FALSE)","v":4.9000000000000004},{"$f":"VLOOKUP($A90,Produits!$A$1:$P$357,10,FALSE)","v":5.5E-2},{"$f":"VLOOKUP($A90,Produits!$A$1:$P$357,8,FALSE)","v":0.2},{"$f":"VLOOKUP($A90,Produits!$A$1:$P$357,9,FALSE)","v":3.7199999999999998},{"$f":"IF(ISNA(VLOOKUP($A90,Produits!$A$1:$O$357,14,FALSE)),\"\",VLOOKUP($A90,Produits!$A$1:$O$357,14,FALSE))","v":3760219062110},78]
["26B2",{"$f":"VLOOKUP($A91,Produits!$A$1:$P$357,2,FALSE)","v":"Prun’Choco® (saveur à préciser)"},{"$f":"VLOOKUP($A91,Produits!$A$1:$P$357,3,FALSE)","v":"200g"},{"$f":"VLOOKUP($A91,Produits!$A$1:$P$357,5,FALSE)","v":5},{"$f":"VLOOKUP($A91,Produits!$A$1:$P$357,4,FALSE)","v":"Ballotin"},{"$f":"VLOOKUP($A91,Produits!$A$1:$P$357,6,FALSE)","v":9.3838799999999996},{"$f":"VLOOKUP($A91,Produits!$A$1:$P$357,7,FALSE)","v":9.9},{"$f":"VLOOKUP($A91,Produits!$A$1:$P$357,10,FALSE)","v":5.5E-2},{"$f":"VLOOKUP($A91,Produits!$A$1:$P$357,8,FALSE)","v":0.2},{"$f":"VLOOKUP($A91,Produits!$A$1:$P$357,9,FALSE)","v":7.51},{"$f":"IF(ISNA(VLOOKUP($A91,Produits!$A$1:$O$357,14,FALSE)),\"\",VLOOKUP($A91,Produits!$A$1:$O$357,14,FALSE))","v":3760219062103},79]
["26B3",{"$f":"VLOOKUP($A92,Produits!$A$1:$P$357,2,FALSE)","v":"Prun’Choco® (saveur à préciser) "},{"$f":"VLOOKUP($A92,Produits!$A$1:$P$357,3,FALSE)","v":"300g"},{"$f":"VLOOKUP($A92,Produits!$A$1:$P$357,5,FALSE)","v":5},{"$f":"VLOOKUP($A92,Produits!$A$1:$P$357,4,FALSE)","v":"Ballotin"},{"$f":"VLOOKUP($A92,Produits!$A$1:$P$357,6,FALSE)","v":7.1},{"$f":"VLOOKUP($A92,Produits!$A$1:$P$357,7,FALSE)","v":14.2},{"$f":"VLOOKUP($A92,Produits!$A$1:$P$357,10,FALSE)","v":true},{"$f":"VLOOKUP($A92,Produits!$A$1:$P$357,8,FALSE)","v":0.2},{"$f":"VLOOKUP($A92,Produits!$A$1:$P$357,9,FALSE)","v":5.68},{"$f":"IF(ISNA(VLOOKUP($A92,Produits!$A$1:$O$357,14,FALSE)),\"\",VLOOKUP($A92,Produits!$A$1:$O$357,14,FALSE))","v":3760219062097},80]
["26E1",{"$f":"VLOOKUP($A93,Produits!$A$1:$P$357,2,FALSE)","v":"Prun’Choco® (saveur à préciser)"},{"$f":"VLOOKUP($A93,Produits!$A$1:$P$357,3,FALSE)","v":"200g"},{"$f":"VLOOKUP($A93,Produits!$A$1:$P$357,5,FALSE)","v":5},{"$f":"VLOOKUP($A93,Produits!$A$1:$P$357,4,FALSE)","v":"Écrin élég."},{"$f":"VLOOKUP($A93,Produits!$A$1:$P$357,6,FALSE)","v":12.796200000000001},{"$f":"VLOOKUP($A93,Produits!$A$1:$P$357,7,FALSE)","v":13.5},{"$f":"VLOOKUP($A93,Produits!$A$1:$P$357,10,FALSE)","v":5.5E-2},{"$f":"VLOOKUP($A93,Produits!$A$1:$P$357,8,FALSE)","v":0.2},{"$f":"VLOOKUP($A93,Produits!$A$1:$P$357,9,FALSE)","v":10.24},{"$f":"IF(ISNA(VLOOKUP($A93,Produits!$A$1:$O$357,14,FALSE)),\"\",VLOOKUP($A93,Produits!$A$1:$O$357,14,FALSE))","v":3760219062080},81]
["26E2",{"$f":"VLOOKUP($A94,Produits!$A$1:$P$357,2,FALSE)","v":"Prun’Choco® (saveur à préciser)"},{"$f":"VLOOKUP($A94,Produits!$A$1:$P$357,3,FALSE)","v":"300g"},{"$f":"VLOOKUP($A94,Produits!$A$1:$P$357,5,FALSE)","v":5},{"$f":"VLOOKUP($A94,Produits!$A$1:$P$357,4,FALSE)","v":"Écrin élég."},{"$f":"VLOOKUP($A94,Produits!$A$1:$P$357,6,FALSE)","v":19.810420000000001},{"$f":"VLOOKUP($A94,Produits!$A$1:$P$357,7,FALSE)","v":20.9},{"$f":"VLOOKUP($A94,Produits!$A$1:$P$357,10,FALSE)","v":5.5E-2},{"$f":"VLOOKUP($A94,Produits!$A$1:$P$357,8,FALSE)","v":0.2},{"$f":"VLOOKUP($A94,Produits!$A$1:$P$357,9,FALSE)","v":15.85},{"$f":"IF(ISNA(VLOOKUP($A94,Produits!$A$1:$O$357,14,FALSE)),\"\",VLOOKUP($A94,Produits!$A$1:$O$357,14,FALSE))","v":3760219062073},82]
["26V",{"$f":"VLOOKUP($A95,Produits!$A$1:$P$357,2,FALSE)","v":"Prun’Choco® (saveur à préciser)"},{"$f":"VLOOKUP($A95,Produits!$A$1:$P$357,3,FALSE)","v":"1kg"},{"$f":"VLOOKUP($A95,Produits!$A$1:$P$357,5,FALSE)","v":1},{"$f":"VLOOKUP($A95,Produits!$A$1:$P$357,4,FALSE)","v":"VRAC"},{"$f":"VLOOKUP($A95,Produits!$A$1:$P$357,6,FALSE)","v":37.819899999999997},{"$f":"VLOOKUP($A95,Produits!$A$1:$P$357,7,FALSE)","v":39.9},{"$f":"VLOOKUP($A95,Produits!$A$1:$P$357,10,FALSE)","v":5.5E-2},{"$f":"VLOOKUP($A95,Produits!$A$1:$P$357,8,FALSE)","v":0.2},{"$f":"VLOOKUP($A95,Produits!$A$1:$P$357,9,FALSE)","v":30.26},{"$f":"IF(ISNA(VLOOKUP($A95,Produits!$A$1:$O$357,14,FALSE)),\"\",VLOOKUP($A95,Produits!$A$1:$O$357,14,FALSE))","v":3760219062066},83]
["27P",{"$f":"VLOOKUP($A96,Produits!$A$1:$P$357,2,FALSE)","v":"Pruneaux fourrés"},{"$f":"VLOOKUP($A96,Produits!$A$1:$P$357,3,FALSE)","v":"250g"},{"$f":"VLOOKUP($A96,Produits!$A$1:$P$357,5,FALSE)","v":5},{"$f":"VLOOKUP($A96,Produits!$A$1:$P$357,4,FALSE)","v":"Pochette"},{"$f":"VLOOKUP($A96,Produits!$A$1:$P$357,6,FALSE)","v":4.45},{"$f":"VLOOKUP($A96,Produits!$A$1:$P$357,7,FALSE)","v":8.9},{"$f":"VLOOKUP($A96,Produits!$A$1:$P$357,10,FALSE)","v":true},{"$f":"VLOOKUP($A96,Produits!$A$1:$P$357,8,FALSE)","v":0.2},{"$f":"VLOOKUP($A96,Produits!$A$1:$P$357,9,FALSE)","v":3.56},{"$f":"IF(ISNA(VLOOKUP($A96,Produits!$A$1:$O$357,14,FALSE)),\"\",VLOOKUP($A96,Produits!$A$1:$O$357,14,FALSE))","v":3760219062059},84]
["27B1",{"$f":"VLOOKUP($A97,Produits!$A$1:$P$357,2,FALSE)","v":"Pruneaux fourrés"},{"$f":"VLOOKUP($A97,Produits!$A$1:$P$357,3,FALSE)","v":"100g"},{"$f":"VLOOKUP($A97,Produits!$A$1:$P$357,5,FALSE)","v":5},{"$f":"VLOOKUP($A97,Produits!$A$1:$P$357,4,FALSE)","v":"Ballotin"},{"$f":"VLOOKUP($A97,Produits!$A$1:$P$357,6,FALSE)","v":4.0833300000000001},{"$f":"VLOOKUP($A97,Produits!$A$1:$P$357,7,FALSE)","v":4.9000000000000004},{"$f":"VLOOKUP($A97,Produits!$A$1:$P$357,10,FALSE)","v":0.2},{"$f":"VLOOKUP($A97,Produits!$A$1:$P$357,8,FALSE)","v":0.2},{"$f":"VLOOKUP($A97,Produits!$A$1:$P$357,9,FALSE)","v":3.2699999999999996},{"$f":"IF(ISNA(VLOOKUP($A97,Produits!$A$1:$O$357,14,FALSE)),\"\",VLOOKUP($A97,Produits!$A$1:$O$357,14,FALSE))","v":3760219062042},85]
["27E1",{"$f":"VLOOKUP($A98,Produits!$A$1:$P$357,2,FALSE)","v":"Pruneaux fourrés"},{"$f":"VLOOKUP($A98,Produits!$A$1:$P$357,3,FALSE)","v":"400g"},{"$f":"VLOOKUP($A98,Produits!$A$1:$P$357,5,FALSE)","v":5},{"$f":"VLOOKUP($A98,Produits!$A$1:$P$357,4,FALSE)","v":"Écrin élég."},{"$f":"VLOOKUP($A98,Produits!$A$1:$P$357,6,FALSE)","v":14.08333},{"$f":"VLOOKUP($A98,Produits!$A$1:$P$357,7,FALSE)","v":16.899999999999999},{"$f":"VLOOKUP($A98,Produits!$A$1:$P$357,10,FALSE)","v":0.2},{"$f":"VLOOKUP($A98,Produits!$A$1:$P$357,8,FALSE)","v":0.2},{"$f":"VLOOKUP($A98,Produits!$A$1:$P$357,9,FALSE)","v":11.27},{"$f":"IF(ISNA(VLOOKUP($A98,Produits!$A$1:$O$357,14,FALSE)),\"\",VLOOKUP($A98,Produits!$A$1:$O$357,14,FALSE))","v":3760219062035},86]
["27E2",{"$f":"VLOOKUP($A99,Produits!$A$1:$P$357,2,FALSE)","v":"Pruneaux fourrés"},{"$f":"VLOOKUP($A99,Produits!$A$1:$P$357,3,FALSE)","v":"550g"},{"$f":"VLOOKUP($A99,Produits!$A$1:$P$357,5,FALSE)","v":5},{"$f":"VLOOKUP($A99,Produits!$A$1:$P$357,4,FALSE)","v":"Écrin élég."},{"$f":"VLOOKUP($A99,Produits!$A$1:$P$357,6,FALSE)","v":17.5},{"$f":"VLOOKUP($A99,Produits!$A$1:$P$357,7,FALSE)","v":21},{"$f":"VLOOKUP($A99,Produits!$A$1:$P$357,10,FALSE)","v":0.2},{"$f":"VLOOKUP($A99,Produits!$A$1:$P$357,8,FALSE)","v":0.2},{"$f":"VLOOKUP($A99,Produits!$A$1:$P$357,9,FALSE)","v":14},{"$f":"IF(ISNA(VLOOKUP($A99,Produits!$A$1:$O$357,14,FALSE)),\"\",VLOOKUP($A99,Produits!$A$1:$O$357,14,FALSE))","v":3760219062028},87]
["28P",{"$f":"VLOOKUP($A100,Produits!$A$1:$P$357,2,FALSE)","v":"Pruneaux fourrés orangette"},{"$f":"VLOOKUP($A100,Produits!$A$1:$P$357,3,FALSE)","v":"250g"},{"$f":"VLOOKUP($A100,Produits!$A$1:$P$357,5,FALSE)","v":5},{"$f":"VLOOKUP($A100,Produits!$A$1:$P$357,4,FALSE)","v":"Pochette"},{"$f":"VLOOKUP($A100,Produits!$A$1:$P$357,6,FALSE)","v":7.6666600000000003},{"$f":"VLOOKUP($A100,Produits!$A$1:$P$357,7,FALSE)","v":9.1999999999999993},{"$f":"VLOOKUP($A100,Produits!$A$1:$P$357,10,FALSE)","v":0.2},{"$f":"VLOOKUP($A100,Produits!$A$1:$P$357,8,FALSE)","v":0.2},{"$f":"VLOOKUP($A100,Produits!$A$1:$P$357,9,FALSE)","v":6.14},{"$f":"IF(ISNA(VLOOKUP($A100,Produits!$A$1:$O$357,14,FALSE)),\"\",VLOOKUP($A100,Produits!$A$1:$O$357,14,FALSE))","v":3760219062011},88]
["28B1",{"$f":"VLOOKUP($A101,Produits!$A$1:$P$357,2,FALSE)","v":"Pruneaux fourrés orangette"},{"$f":"VLOOKUP($A101,Produits!$A$1:$P$357,3,FALSE)","v":"100g"},{"$f":"VLOOKUP($A101,Produits!$A$1:$P$357,5,FALSE)","v":5},{"$f":"VLOOKUP($A101,Produits!$A$1:$P$357,4,FALSE)","v":"Ballotin"},{"$f":"VLOOKUP($A101,Produits!$A$1:$P$357,6,FALSE)","v":4.1666600000000003},{"$f":"VLOOKUP($A101,Produits!$A$1:$P$357,7,FALSE)","v":5},{"$f":"VLOOKUP($A101,Produits!$A$1:$P$357,10,FALSE)","v":0.2},{"$f":"VLOOKUP($A101,Produits!$A$1:$P$357,8,FALSE)","v":0.2},{"$f":"VLOOKUP($A101,Produits!$A$1:$P$357,9,FALSE)","v":3.34},{"$f":"IF(ISNA(VLOOKUP($A101,Produits!$A$1:$O$357,14,FALSE)),\"\",VLOOKUP($A101,Produits!$A$1:$O$357,14,FALSE))","v":3760219062004},89]
["28E1",{"$f":"VLOOKUP($A102,Produits!$A$1:$P$357,2,FALSE)","v":"Pruneaux fourrés orangette"},{"$f":"VLOOKUP($A102,Produits!$A$1:$P$357,3,FALSE)","v":"400g"},{"$f":"VLOOKUP($A102,Produits!$A$1:$P$357,5,FALSE)","v":5},{"$f":"VLOOKUP($A102,Produits!$A$1:$P$357,4,FALSE)","v":"Écrin élég."},{"$f":"VLOOKUP($A102,Produits!$A$1:$P$357,6,FALSE)","v":14.58333},{"$f":"VLOOKUP($A102,Produits!$A$1:$P$357,7,FALSE)","v":17.5},{"$f":"VLOOKUP($A102,Produits!$A$1:$P$357,10,FALSE)","v":0.2},{"$f":"VLOOKUP($A102,Produits!$A$1:$P$357,8,FALSE)","v":0.2},{"$f":"VLOOKUP($A102,Produits!$A$1:$P$357,9,FALSE)","v":11.67},{"$f":"IF(ISNA(VLOOKUP($A102,Produits!$A$1:$O$357,14,FALSE)),\"\",VLOOKUP($A102,Produits!$A$1:$O$357,14,FALSE))","v":3760219061991},90]
["28E2",{"$f":"VLOOKUP($A103,Produits!$A$1:$P$357,2,FALSE)","v":"Pruneaux fourrés orangette"},{"$f":"VLOOKUP($A103,Produits!$A$1:$P$357,3,FALSE)","v":"550g"},{"$f":"VLOOKUP($A103,Produits!$A$1:$P$357,5,FALSE)","v":5},{"$f":"VLOOKUP($A103,Produits!$A$1:$P$357,4,FALSE)","v":"Écrin élég."},{"$f":"VLOOKUP($A103,Produits!$A$1:$P$357,6,FALSE)","v":18.25},{"$f":"VLOOKUP($A103,Produits!$A$1:$P$357,7,FALSE)","v":21.9},{"$f":"VLOOKUP($A103,Produits!$A$1:$P$357,10,FALSE)","v":0.2},{"$f":"VLOOKUP($A103,Produits!$A$1:$P$357,8,FALSE)","v":0.2},{"$f":"VLOOKUP($A103,Produits!$A$1:$P$357,9,FALSE)","v":14.6},{"$f":"IF(ISNA(VLOOKUP($A103,Produits!$A$1:$O$357,14,FALSE)),\"\",VLOOKUP($A103,Produits!$A$1:$O$357,14,FALSE))","v":3760219061984},91]
["29E1",{"$f":"VLOOKUP($A104,Produits!$A$1:$P$357,2,FALSE)","v":"Pruneaux d’Agen truffés"},{"$f":"VLOOKUP($A104,Produits!$A$1:$P$357,3,FALSE)","v":"270g"},{"$f":"VLOOKUP($A104,Produits!$A$1:$P$357,5,FALSE)","v":5},{"$f":"VLOOKUP($A104,Produits!$A$1:$P$357,4,FALSE)","v":"Écrin élég."},{"$f":"VLOOKUP($A104,Produits!$A$1:$P$357,6,FALSE)","v":14.12322},{"$f":"VLOOKUP($A104,Produits!$A$1:$P$357,7,FALSE)","v":14.9},{"$f":"VLOOKUP($A104,Produits!$A$1:$P$357,10,FALSE)","v":5.5E-2},{"$f":"VLOOKUP($A104,Produits!$A$1:$P$357,8,FALSE)","v":0.2},{"$f":"VLOOKUP($A104,Produits!$A$1:$P$357,9,FALSE)","v":11.299999999999999},{"$f":"IF(ISNA(VLOOKUP($A104,Produits!$A$1:$O$357,14,FALSE)),\"\",VLOOKUP($A104,Produits!$A$1:$O$357,14,FALSE))","v":3760219061977},92]
["29E2",{"$f":"VLOOKUP($A105,Produits!$A$1:$P$357,2,FALSE)","v":"Pruneaux d’Agen truffés"},{"$f":"VLOOKUP($A105,Produits!$A$1:$P$357,3,FALSE)","v":"400g"},{"$f":"VLOOKUP($A105,Produits!$A$1:$P$357,5,FALSE)","v":5},{"$f":"VLOOKUP($A105,Produits!$A$1:$P$357,4,FALSE)","v":"Écrin élég."},{"$f":"VLOOKUP($A105,Produits!$A$1:$P$357,6,FALSE)","v":20.853079999999999},{"$f":"VLOOKUP($A105,Produits!$A$1:$P$357,7,FALSE)","v":22},{"$f":"VLOOKUP($A105,Produits!$A$1:$P$357,10,FALSE)","v":5.5E-2},{"$f":"VLOOKUP($A105,Produits!$A$1:$P$357,8,FALSE)","v":0.2},{"$f":"VLOOKUP($A105,Produits!$A$1:$P$357,9,FALSE)","v":16.690000000000001},{"$f":"IF(ISNA(VLOOKUP($A105,Produits!$A$1:$O$357,14,FALSE)),\"\",VLOOKUP($A105,Produits!$A$1:$O$357,14,FALSE))","v":3760219061960},93]
["30A",{"$f":"VLOOKUP($A106,Produits!$A$1:$P$357,2,FALSE)","v":"Pruneaux aromatisés au vin blanc MonBazillac"},{"$f":"VLOOKUP($A106,Produits!$A$1:$P$357,3,FALSE)","v":"320g"},{"$f":"VLOOKUP($A106,Produits!$A$1:$P$357,5,FALSE)","v":14},{"$f":"VLOOKUP($A106,Produits!$A$1:$P$357,4,FALSE)","v":"Bocal"},{"$f":"VLOOKUP($A106,Produits!$A$1:$P$357,6,FALSE)","v":6.6350699999999998},{"$f":"VLOOKUP($A106,Produits!$A$1:$P$357,7,FALSE)","v":7},{"$f":"VLOOKUP($A106,Produits!$A$1:$P$357,10,FALSE)","v":5.5E-2},{"$f":"VLOOKUP($A106,Produits!$A$1:$P$357,8,FALSE)","v":0.25},{"$f":"VLOOKUP($A106,Produits!$A$1:$P$357,9,FALSE)","v":4.9799999999999995},{"$f":"IF(ISNA(VLOOKUP($A106,Produits!$A$1:$O$357,14,FALSE)),\"\",VLOOKUP($A106,Produits!$A$1:$O$357,14,FALSE))","v":3760219061953},94]
["30B",{"$f":"VLOOKUP($A107,Produits!$A$1:$P$357,2,FALSE)","v":"Pruneaux aromatisés au vin rouge de pays vanille"},{"$f":"VLOOKUP($A107,Produits!$A$1:$P$357,3,FALSE)","v":"320g"},{"$f":"VLOOKUP($A107,Produits!$A$1:$P$357,5,FALSE)","v":14},{"$f":"VLOOKUP($A107,Produits!$A$1:$P$357,4,FALSE)","v":"Bocal"},{"$f":"VLOOKUP($A107,Produits!$A$1:$P$357,6,FALSE)","v":5.7819900000000004},{"$f":"VLOOKUP($A107,Produits!$A$1:$P$357,7,FALSE)","v":6.1},{"$f":"VLOOKUP($A107,Produits!$A$1:$P$357,10,FALSE)","v":5.5E-2},{"$f":"VLOOKUP($A107,Produits!$A$1:$P$357,8,FALSE)","v":0.25},{"$f":"VLOOKUP($A107,Produits!$A$1:$P$357,9,FALSE)","v":4.34},{"$f":"IF(ISNA(VLOOKUP($A107,Produits!$A$1:$O$357,14,FALSE)),\"\",VLOOKUP($A107,Produits!$A$1:$O$357,14,FALSE))","v":3760219061946},95]
["30C",{"$f":"VLOOKUP($A108,Produits!$A$1:$P$357,2,FALSE)","v":"Pruneaux aromatisés au vin rouge de pays canelle"},{"$f":"VLOOKUP($A108,Produits!$A$1:$P$357,3,FALSE)","v":"320g"},{"$f":"VLOOKUP($A108,Produits!$A$1:$P$357,5,FALSE)","v":14},{"$f":"VLOOKUP($A108,Produits!$A$1:$P$357,4,FALSE)","v":"Bocal"},{"$f":"VLOOKUP($A108,Produits!$A$1:$P$357,6,FALSE)","v":5.7819900000000004},{"$f":"VLOOKUP($A108,Produits!$A$1:$P$357,7,FALSE)","v":6.1},{"$f":"VLOOKUP($A108,Produits!$A$1:$P$357,10,FALSE)","v":5.5E-2},{"$f":"VLOOKUP($A108,Produits!$A$1:$P$357,8,FALSE)","v":0.25},{"$f":"VLOOKUP($A108,Produits!$A$1:$P$357,9,FALSE)","v":4.34},{"$f":"IF(ISNA(VLOOKUP($A108,Produits!$A$1:$O$357,14,FALSE)),\"\",VLOOKUP($A108,Produits!$A$1:$O$357,14,FALSE))","v":3760219061939},96]
["31A",{"$f":"VLOOKUP($A109,Produits!$A$1:$P$357,2,FALSE)","v":"Pruneaux à l’Armagnac - 20°"},{"$f":"VLOOKUP($A109,Produits!$A$1:$P$357,3,FALSE)","v":"0,5L"},{"$f":"VLOOKUP($A109,Produits!$A$1:$P$357,5,FALSE)","v":6},{"$f":"VLOOKUP($A109,Produits!$A$1:$P$357,4,FALSE)","v":"Bocal"},{"$f":"VLOOKUP($A109,Produits!$A$1:$P$357,6,FALSE)","v":16.08333},{"$f":"VLOOKUP($A109,Produits!$A$1:$P$357,7,FALSE)","v":19.3},{"$f":"VLOOKUP($A109,Produits!$A$1:$P$357,10,FALSE)","v":0.2},{"$f":"VLOOKUP($A109,Produits!$A$1:$P$357,8,FALSE)","v":0.2},{"$f":"VLOOKUP($A109,Produits!$A$1:$P$357,9,FALSE)","v":12.87},{"$f":"IF(ISNA(VLOOKUP($A109,Produits!$A$1:$O$357,14,FALSE)),\"\",VLOOKUP($A109,Produits!$A$1:$O$357,14,FALSE))","v":3760219061922},97]
["31B",{"$f":"VLOOKUP($A110,Produits!$A$1:$P$357,2,FALSE)","v":"Pruneaux à l’Armagnac - 20°"},{"$f":"VLOOKUP($A110,Produits!$A$1:$P$357,3,FALSE)","v":"0,7L"},{"$f":"VLOOKUP($A110,Produits!$A$1:$P$357,5,FALSE)","v":6},{"$f":"VLOOKUP($A110,Produits!$A$1:$P$357,4,FALSE)","v":"Bocal"},{"$f":"VLOOKUP($A110,Produits!$A$1:$P$357,6,FALSE)","v":20.41666},{"$f":"VLOOKUP($A110,Produits!$A$1:$P$357,7,FALSE)","v":24.5},{"$f":"VLOOKUP($A110,Produits!$A$1:$P$357,10,FALSE)","v":0.2},{"$f":"VLOOKUP($A110,Produits!$A$1:$P$357,8,FALSE)","v":0.2},{"$f":"VLOOKUP($A110,Produits!$A$1:$P$357,9,FALSE)","v":16.34},{"$f":"IF(ISNA(VLOOKUP($A110,Produits!$A$1:$O$357,14,FALSE)),\"\",VLOOKUP($A110,Produits!$A$1:$O$357,14,FALSE))","v":3760219061915},98]
["31C",{"$f":"VLOOKUP($A111,Produits!$A$1:$P$357,2,FALSE)","v":"Pruneaux à l’Armagnac - 20° "},{"$f":"VLOOKUP($A111,Produits!$A$1:$P$357,3,FALSE)","v":"1L"},{"$f":"VLOOKUP($A111,Produits!$A$1:$P$357,5,FALSE)","v":6},{"$f":"VLOOKUP($A111,Produits!$A$1:$P$357,4,FALSE)","v":"Bocal"},{"$f":"VLOOKUP($A111,Produits!$A$1:$P$357,6,FALSE)","v":24.91666},{"$f":"VLOOKUP($A111,Produits!$A$1:$P$357,7,FALSE)","v":29.9},{"$f":"VLOOKUP($A111,Produits!$A$1:$P$357,10,FALSE)","v":0.2},{"$f":"VLOOKUP($A111,Produits!$A$1:$P$357,8,FALSE)","v":0.2},{"$f":"VLOOKUP($A111,Produits!$A$1:$P$357,9,FALSE)","v":19.940000000000001},{"$f":"IF(ISNA(VLOOKUP($A111,Produits!$A$1:$O$357,14,FALSE)),\"\",VLOOKUP($A111,Produits!$A$1:$O$357,14,FALSE))","v":3760219061908},99]
["32A",{"$f":"VLOOKUP($A112,Produits!$A$1:$P$357,2,FALSE)","v":"Pruneaux à l’eau de vie - 20° "},{"$f":"VLOOKUP($A112,Produits!$A$1:$P$357,3,FALSE)","v":"0,5L"},{"$f":"VLOOKUP($A112,Produits!$A$1:$P$357,5,FALSE)","v":6},{"$f":"VLOOKUP($A112,Produits!$A$1:$P$357,4,FALSE)","v":"Bocal"},{"$f":"VLOOKUP($A112,Produits!$A$1:$P$357,6,FALSE)","v":16.08333},{"$f":"VLOOKUP($A112,Produits!$A$1:$P$357,7,FALSE)","v":19.3},{"$f":"VLOOKUP($A112,Produits!$A$1:$P$357,10,FALSE)","v":0.2},{"$f":"VLOOKUP($A112,Produits!$A$1:$P$357,8,FALSE)","v":0.2},{"$f":"VLOOKUP($A112,Produits!$A$1:$P$357,9,FALSE)","v":12.87},{"$f":"IF(ISNA(VLOOKUP($A112,Produits!$A$1:$O$357,14,FALSE)),\"\",VLOOKUP($A112,Produits!$A$1:$O$357,14,FALSE))","v":3760219061892},100]
["32B",{"$f":"VLOOKUP($A113,Produits!$A$1:$P$357,2,FALSE)","v":"Pruneaux à l’eau de vie - 20°"},{"$f":"VLOOKUP($A113,Produits!$A$1:$P$357,3,FALSE)","v":"0,7L"},{"$f":"VLOOKUP($A113,Produits!$A$1:$P$357,5,FALSE)","v":6},{"$f":"VLOOKUP($A113,Produits!$A$1:$P$357,4,FALSE)","v":"Bocal"},{"$f":"VLOOKUP($A113,Produits!$A$1:$P$357,6,FALSE)","v":20.41666},{"$f":"VLOOKUP($A113,Produits!$A$1:$P$357,7,FALSE)","v":24.5},{"$f":"VLOOKUP($A113,Produits!$A$1:$P$357,10,FALSE)","v":0.2},{"$f":"VLOOKUP($A113,Produits!$A$1:$P$357,8,FALSE)","v":0.2},{"$f":"VLOOKUP($A113,Produits!$A$1:$P$357,9,FALSE)","v":16.34},{"$f":"IF(ISNA(VLOOKUP($A113,Produits!$A$1:$O$357,14,FALSE)),\"\",VLOOKUP($A113,Produits!$A$1:$O$357,14,FALSE))","v":3760219061885},101]
["32C",{"$f":"VLOOKUP($A114,Produits!$A$1:$P$357,2,FALSE)","v":"Pruneaux à l’eau de vie - 20°"},{"$f":"VLOOKUP($A114,Produits!$A$1:$P$357,3,FALSE)","v":"1L"},{"$f":"VLOOKUP($A114,Produits!$A$1:$P$357,5,FALSE)","v":6},{"$f":"VLOOKUP($A114,Produits!$A$1:$P$357,4,FALSE)","v":"Bocal"},{"$f":"VLOOKUP($A114,Produits!$A$1:$P$357,6,FALSE)","v":24.91666},{"$f":"VLOOKUP($A114,Produits!$A$1:$P$357,7,FALSE)","v":29.9},{"$f":"VLOOKUP($A114,Produits!$A$1:$P$357,10,FALSE)","v":0.2},{"$f":"VLOOKUP($A114,Produits!$A$1:$P$357,8,FALSE)","v":0.2},{"$f":"VLOOKUP($A114,Produits!$A$1:$P$357,9,FALSE)","v":19.940000000000001},{"$f":"IF(ISNA(VLOOKUP($A114,Produits!$A$1:$O$357,14,FALSE)),\"\",VLOOKUP($A114,Produits!$A$1:$O$357,14,FALSE))","v":3760219061878},102]
["33A-EDV",{"$f":"VLOOKUP($A115,Produits!$A$1:$P$357,2,FALSE)","v":"Pruneaux d'Agen Eau de vie - 20°"},{"$f":"VLOOKUP($A115,Produits!$A$1:$P$357,3,FALSE)","v":"200ml"},{"$f":"VLOOKUP($A115,Produits!$A$1:$P$357,5,FALSE)","v":6},{"$f":"VLOOKUP($A115,Produits!$A$1:$P$357,4,FALSE)","v":"Bocal"},{"$f":"VLOOKUP($A115,Produits!$A$1:$P$357,6,FALSE)","v":7.0833300000000001},{"$f":"VLOOKUP($A115,Produits!$A$1:$P$357,7,FALSE)","v":8.5},{"$f":"VLOOKUP($A115,Produits!$A$1:$P$357,10,FALSE)","v":0.2},{"$f":"VLOOKUP($A115,Produits!$A$1:$P$357,8,FALSE)","v":0.2},{"$f":"VLOOKUP($A115,Produits!$A$1:$P$357,9,FALSE)","v":5.67},{"$f":"IF(ISNA(VLOOKUP($A115,Produits!$A$1:$O$357,14,FALSE)),\"\",VLOOKUP($A115,Produits!$A$1:$O$357,14,FALSE))","v":3760219062950},103]
["33A-ARM",{"$f":"VLOOKUP($A116,Produits!$A$1:$P$357,2,FALSE)","v":"Pruneaux d'Agen Armagnac - 20°"},{"$f":"VLOOKUP($A116,Produits!$A$1:$P$357,3,FALSE)","v":"200ml"},{"$f":"VLOOKUP($A116,Produits!$A$1:$P$357,5,FALSE)","v":6},{"$f":"VLOOKUP($A116,Produits!$A$1:$P$357,4,FALSE)","v":"Bocal"},{"$f":"VLOOKUP($A116,Produits!$A$1:$P$357,6,FALSE)","v":7.0833300000000001},{"$f":"VLOOKUP($A116,Produits!$A$1:$P$357,7,FALSE)","v":8.5},{"$f":"VLOOKUP($A116,Produits!$A$1:$P$357,10,FALSE)","v":0.2},{"$f":"VLOOKUP($A116,Produits!$A$1:$P$357,8,FALSE)","v":0.2},{"$f":"VLOOKUP($A116,Produits!$A$1:$P$357,9,FALSE)","v":5.67},{"$f":"IF(ISNA(VLOOKUP($A116,Produits!$A$1:$O$357,14,FALSE)),\"\",VLOOKUP($A116,Produits!$A$1:$O$357,14,FALSE))","v":3760219062967},104]
["33B-RHM",{"$f":"VLOOKUP($A117,Produits!$A$1:$P$357,2,FALSE)","v":"Pruneaux d'Agen Rhum - 18°"},{"$f":"VLOOKUP($A117,Produits!$A$1:$P$357,3,FALSE)","v":"200ml"},{"$f":"VLOOKUP($A117,Produits!$A$1:$P$357,5,FALSE)","v":6},{"$f":"VLOOKUP($A117,Produits!$A$1:$P$357,4,FALSE)","v":"Bocal"},{"$f":"VLOOKUP($A117,Produits!$A$1:$P$357,6,FALSE)","v":4.75},{"$f":"VLOOKUP($A117,Produits!$A$1:$P$357,7,FALSE)","v":9.5},{"$f":"VLOOKUP($A117,Produits!$A$1:$P$357,10,FALSE)","v":true},{"$f":"VLOOKUP($A117,Produits!$A$1:$P$357,8,FALSE)","v":0.2},{"$f":"VLOOKUP($A117,Produits!$A$1:$P$357,9,FALSE)","v":3.8},{"$f":"IF(ISNA(VLOOKUP($A117,Produits!$A$1:$O$357,14,FALSE)),\"\",VLOOKUP($A117,Produits!$A$1:$O$357,14,FALSE))","v":3760219062998},105]
["33B-WSK",{"$f":"VLOOKUP($A118,Produits!$A$1:$P$357,2,FALSE)","v":"Pruneaux d'Agen Whisky - 18°"},{"$f":"VLOOKUP($A118,Produits!$A$1:$P$357,3,FALSE)","v":"200ml"},{"$f":"VLOOKUP($A118,Produits!$A$1:$P$357,5,FALSE)","v":6},{"$f":"VLOOKUP($A118,Produits!$A$1:$P$357,4,FALSE)","v":"Bocal"},{"$f":"VLOOKUP($A118,Produits!$A$1:$P$357,6,FALSE)","v":7.9166600000000003},{"$f":"VLOOKUP($A118,Produits!$A$1:$P$357,7,FALSE)","v":9.5},{"$f":"VLOOKUP($A118,Produits!$A$1:$P$357,10,FALSE)","v":0.2},{"$f":"VLOOKUP($A118,Produits!$A$1:$P$357,8,FALSE)","v":0.2},{"$f":"VLOOKUP($A118,Produits!$A$1:$P$357,9,FALSE)","v":6.34},{"$f":"IF(ISNA(VLOOKUP($A118,Produits!$A$1:$O$357,14,FALSE)),\"\",VLOOKUP($A118,Produits!$A$1:$O$357,14,FALSE))","v":3760219062981},106]
["33B-CTR",{"$f":"VLOOKUP($A119,Produits!$A$1:$P$357,2,FALSE)","v":"Pruneaux d'Agen Cointreau - 18°"},{"$f":"VLOOKUP($A119,Produits!$A$1:$P$357,3,FALSE)","v":"200ml"},{"$f":"VLOOKUP($A119,Produits!$A$1:$P$357,5,FALSE)","v":6},{"$f":"VLOOKUP($A119,Produits!$A$1:$P$357,4,FALSE)","v":"Bocal"},{"$f":"VLOOKUP($A119,Produits!$A$1:$P$357,6,FALSE)","v":7.9166600000000003},{"$f":"VLOOKUP($A119,Produits!$A$1:$P$357,7,FALSE)","v":9.5},{"$f":"VLOOKUP($A119,Produits!$A$1:$P$357,10,FALSE)","v":0.2},{"$f":"VLOOKUP($A119,Produits!$A$1:$P$357,8,FALSE)","v":0.2},{"$f":"VLOOKUP($A119,Produits!$A$1:$P$357,9,FALSE)","v":6.34},{"$f":"IF(ISNA(VLOOKUP($A119,Produits!$A$1:$O$357,14,FALSE)),\"\",VLOOKUP($A119,Produits!$A$1:$O$357,14,FALSE))","v":3760219062974},107]
["33C",{"$f":"VLOOKUP($A120,Produits!$A$1:$P$357,2,FALSE)","v":"Coffret Pruneaux aux alcools x2 (alcools à préciser)"},{"$f":"VLOOKUP($A120,Produits!$A$1:$P$357,3,FALSE)","v":"200ml"},{"$f":"VLOOKUP($A120,Produits!$A$1:$P$357,5,FALSE)","v":6},{"$f":"VLOOKUP($A120,Produits!$A$1:$P$357,4,FALSE)","v":"Bocal"},{"$f":"VLOOKUP($A120,Produits!$A$1:$P$357,6,FALSE)","v":15},{"$f":"VLOOKUP($A120,Produits!$A$1:$P$357,7,FALSE)","v":18},{"$f":"VLOOKUP($A120,Produits!$A$1:$P$357,10,FALSE)","v":0.2},{"$f":"VLOOKUP($A120,Produits!$A$1:$P$357,8,FALSE)","v":0.2},{"$f":"VLOOKUP($A120,Produits!$A$1:$P$357,9,FALSE)","v":12},{"$f":"IF(ISNA(VLOOKUP($A120,Produits!$A$1:$O$357,14,FALSE)),\"\",VLOOKUP($A120,Produits!$A$1:$O$357,14,FALSE))","v":3760219061847},108]
["33D",{"$f":"VLOOKUP($A121,Produits!$A$1:$P$357,2,FALSE)","v":"Coffret Pruneaux aux alcools x3 (alcools à préciser)"},{"$f":"VLOOKUP($A121,Produits!$A$1:$P$357,3,FALSE)","v":"200ml"},{"$f":"VLOOKUP($A121,Produits!$A$1:$P$357,5,FALSE)","v":6},{"$f":"VLOOKUP($A121,Produits!$A$1:$P$357,4,FALSE)","v":"Bocal"},{"$f":"VLOOKUP($A121,Produits!$A$1:$P$357,6,FALSE)","v":22.91666},{"$f":"VLOOKUP($A121,Produits!$A$1:$P$357,7,FALSE)","v":27.5},{"$f":"VLOOKUP($A121,Produits!$A$1:$P$357,10,FALSE)","v":0.2},{"$f":"VLOOKUP($A121,Produits!$A$1:$P$357,8,FALSE)","v":0.2},{"$f":"VLOOKUP($A121,Produits!$A$1:$P$357,9,FALSE)","v":18.34},{"$f":"IF(ISNA(VLOOKUP($A121,Produits!$A$1:$O$357,14,FALSE)),\"\",VLOOKUP($A121,Produits!$A$1:$O$357,14,FALSE))","v":3760219061830},109]
["34A",{"$f":"VLOOKUP($A122,Produits!$A$1:$P$357,2,FALSE)","v":"Petit verre Pruneaux Eau de vie ou Armagnac (à préciser)"},{"$f":"VLOOKUP($A122,Produits!$A$1:$P$357,3,FALSE)","v":"5cl"},{"$f":"VLOOKUP($A122,Produits!$A$1:$P$357,5,FALSE)","v":48},{"$f":"VLOOKUP($A122,Produits!$A$1:$P$357,4,FALSE)","v":"Petit verre"},{"$f":"VLOOKUP($A122,Produits!$A$1:$P$357,6,FALSE)","v":1.3},{"$f":"VLOOKUP($A122,Produits!$A$1:$P$357,7,FALSE)","v":2.6},{"$f":"VLOOKUP($A122,Produits!$A$1:$P$357,10,FALSE)","v":true},{"$f":"VLOOKUP($A122,Produits!$A$1:$P$357,8,FALSE)","v":0.2},{"$f":"VLOOKUP($A122,Produits!$A$1:$P$357,9,FALSE)","v":1.04},{"$f":"IF(ISNA(VLOOKUP($A122,Produits!$A$1:$O$357,14,FALSE)),\"\",VLOOKUP($A122,Produits!$A$1:$O$357,14,FALSE))","v":3760219061823},110]
["34B",{"$f":"VLOOKUP($A123,Produits!$A$1:$P$357,2,FALSE)","v":"Petit verre Rhum, Whisky ou Cointreau (à préciser)"},{"$f":"VLOOKUP($A123,Produits!$A$1:$P$357,3,FALSE)","v":"5cl"},{"$f":"VLOOKUP($A123,Produits!$A$1:$P$357,5,FALSE)","v":48},{"$f":"VLOOKUP($A123,Produits!$A$1:$P$357,4,FALSE)","v":"Petit verre"},{"$f":"VLOOKUP($A123,Produits!$A$1:$P$357,6,FALSE)","v":2.4166599999999998},{"$f":"VLOOKUP($A123,Produits!$A$1:$P$357,7,FALSE)","v":2.9},{"$f":"VLOOKUP($A123,Produits!$A$1:$P$357,10,FALSE)","v":0.2},{"$f":"VLOOKUP($A123,Produits!$A$1:$P$357,8,FALSE)","v":0.2},{"$f":"VLOOKUP($A123,Produits!$A$1:$P$357,9,FALSE)","v":1.94},{"$f":"IF(ISNA(VLOOKUP($A123,Produits!$A$1:$O$357,14,FALSE)),\"\",VLOOKUP($A123,Produits!$A$1:$O$357,14,FALSE))","v":3760219061816},111]
["34C",{"$f":"VLOOKUP($A124,Produits!$A$1:$P$357,2,FALSE)","v":"Coffret petits verres x6 Eau de vie ou Armagnac (à préciser)"},{"$f":"VLOOKUP($A124,Produits!$A$1:$P$357,3,FALSE)","v":"5cl"},{"$f":"VLOOKUP($A124,Produits!$A$1:$P$357,5,FALSE)","v":1},{"$f":"VLOOKUP($A124,Produits!$A$1:$P$357,4,FALSE)","v":"Petit verre"},{"$f":"VLOOKUP($A124,Produits!$A$1:$P$357,6,FALSE)","v":14.91666},{"$f":"VLOOKUP($A124,Produits!$A$1:$P$357,7,FALSE)","v":17.899999999999999},{"$f":"VLOOKUP($A124,Produits!$A$1:$P$357,10,FALSE)","v":0.2},{"$f":"VLOOKUP($A124,Produits!$A$1:$P$357,8,FALSE)","v":0.2},{"$f":"VLOOKUP($A124,Produits!$A$1:$P$357,9,FALSE)","v":11.94},{"$f":"IF(ISNA(VLOOKUP($A124,Produits!$A$1:$O$357,14,FALSE)),\"\",VLOOKUP($A124,Produits!$A$1:$O$357,14,FALSE))","v":3760219061809},112]
["34D",{"$f":"VLOOKUP($A125,Produits!$A$1:$P$357,2,FALSE)","v":"Coffret petits verres x6 mix (alcools à préciser)"},{"$f":"VLOOKUP($A125,Produits!$A$1:$P$357,3,FALSE)","v":"5cl"},{"$f":"VLOOKUP($A125,Produits!$A$1:$P$357,5,FALSE)","v":1},{"$f":"VLOOKUP($A125,Produits!$A$1:$P$357,4,FALSE)","v":"Petit verre"},{"$f":"VLOOKUP($A125,Produits!$A$1:$P$357,6,FALSE)","v":15.91666},{"$f":"VLOOKUP($A125,Produits!$A$1:$P$357,7,FALSE)","v":19.100000000000001},{"$f":"VLOOKUP($A125,Produits!$A$1:$P$357,10,FALSE)","v":0.2},{"$f":"VLOOKUP($A125,Produits!$A$1:$P$357,8,FALSE)","v":0.2},{"$f":"VLOOKUP($A125,Produits!$A$1:$P$357,9,FALSE)","v":12.74},{"$f":"IF(ISNA(VLOOKUP($A125,Produits!$A$1:$O$357,14,FALSE)),\"\",VLOOKUP($A125,Produits!$A$1:$O$357,14,FALSE))","v":3760219061793},113]
["34E",{"$f":"VLOOKUP($A126,Produits!$A$1:$P$357,2,FALSE)","v":"Coffret petits verres x12 Eau de vie ou Armagnac (à préciser)"},{"$f":"VLOOKUP($A126,Produits!$A$1:$P$357,3,FALSE)","v":"5cl"},{"$f":"VLOOKUP($A126,Produits!$A$1:$P$357,5,FALSE)","v":1},{"$f":"VLOOKUP($A126,Produits!$A$1:$P$357,4,FALSE)","v":"Petit verre"},{"$f":"VLOOKUP($A126,Produits!$A$1:$P$357,6,FALSE)","v":28},{"$f":"VLOOKUP($A126,Produits!$A$1:$P$357,7,FALSE)","v":33.6},{"$f":"VLOOKUP($A126,Produits!$A$1:$P$357,10,FALSE)","v":0.2},{"$f":"VLOOKUP($A126,Produits!$A$1:$P$357,8,FALSE)","v":0.2},{"$f":"VLOOKUP($A126,Produits!$A$1:$P$357,9,FALSE)","v":22.4},{"$f":"IF(ISNA(VLOOKUP($A126,Produits!$A$1:$O$357,14,FALSE)),\"\",VLOOKUP($A126,Produits!$A$1:$O$357,14,FALSE))","v":3760219061786},114]
["34F",{"$f":"VLOOKUP($A127,Produits!$A$1:$P$357,2,FALSE)","v":"Coffret petits verres x12 mix (alcools à préciser)"},{"$f":"VLOOKUP($A127,Produits!$A$1:$P$357,3,FALSE)","v":"5cl"},{"$f":"VLOOKUP($A127,Produits!$A$1:$P$357,5,FALSE)","v":1},{"$f":"VLOOKUP($A127,Produits!$A$1:$P$357,4,FALSE)","v":"Petit verre"},{"$f":"VLOOKUP($A127,Produits!$A$1:$P$357,6,FALSE)","v":30.08333},{"$f":"VLOOKUP($A127,Produits!$A$1:$P$357,7,FALSE)","v":36.1},{"$f":"VLOOKUP($A127,Produits!$A$1:$P$357,10,FALSE)","v":0.2},{"$f":"VLOOKUP($A127,Produits!$A$1:$P$357,8,FALSE)","v":0.2},{"$f":"VLOOKUP($A127,Produits!$A$1:$P$357,9,FALSE)","v":24.07},{"$f":"IF(ISNA(VLOOKUP($A127,Produits!$A$1:$O$357,14,FALSE)),\"\",VLOOKUP($A127,Produits!$A$1:$O$357,14,FALSE))","v":3760219061779},115]
["35A",{"$f":"VLOOKUP($A128,Produits!$A$1:$P$357,2,FALSE)","v":"Apéritif de Pruneau - 16° "},{"$f":"VLOOKUP($A128,Produits!$A$1:$P$357,3,FALSE)","v":"0,375L"},{"$f":"VLOOKUP($A128,Produits!$A$1:$P$357,5,FALSE)","v":6},{"$f":"VLOOKUP($A128,Produits!$A$1:$P$357,4,FALSE)","v":"Bouteille"},{"$f":"VLOOKUP($A128,Produits!$A$1:$P$357,6,FALSE)","v":5.75},{"$f":"VLOOKUP($A128,Produits!$A$1:$P$357,7,FALSE)","v":11.5},{"$f":"VLOOKUP($A128,Produits!$A$1:$P$357,10,FALSE)","v":true},{"$f":"VLOOKUP($A128,Produits!$A$1:$P$357,8,FALSE)","v":0.2},{"$f":"VLOOKUP($A128,Produits!$A$1:$P$357,9,FALSE)","v":4.5999999999999996},{"$f":"IF(ISNA(VLOOKUP($A128,Produits!$A$1:$O$357,14,FALSE)),\"\",VLOOKUP($A128,Produits!$A$1:$O$357,14,FALSE))","v":3760219061762},116]
["35B",{"$f":"VLOOKUP($A129,Produits!$A$1:$P$357,2,FALSE)","v":"Apéritif de Pruneau - 16°"},{"$f":"VLOOKUP($A129,Produits!$A$1:$P$357,3,FALSE)","v":"0,7L"},{"$f":"VLOOKUP($A129,Produits!$A$1:$P$357,5,FALSE)","v":6},{"$f":"VLOOKUP($A129,Produits!$A$1:$P$357,4,FALSE)","v":"Bouteille"},{"$f":"VLOOKUP($A129,Produits!$A$1:$P$357,6,FALSE)","v":15.16666},{"$f":"VLOOKUP($A129,Produits!$A$1:$P$357,7,FALSE)","v":18.2},{"$f":"VLOOKUP($A129,Produits!$A$1:$P$357,10,FALSE)","v":0.2},{"$f":"VLOOKUP($A129,Produits!$A$1:$P$357,8,FALSE)","v":0.2},{"$f":"VLOOKUP($A129,Produits!$A$1:$P$357,9,FALSE)","v":12.14},{"$f":"IF(ISNA(VLOOKUP($A129,Produits!$A$1:$O$357,14,FALSE)),\"\",VLOOKUP($A129,Produits!$A$1:$O$357,14,FALSE))","v":3760219061755},117]
["36A",{"$f":"VLOOKUP($A130,Produits!$A$1:$P$357,2,FALSE)","v":"Liqueur d’Eau de vie de prune d’Ente - 24°"},{"$f":"VLOOKUP($A130,Produits!$A$1:$P$357,3,FALSE)","v":"0,375L"},{"$f":"VLOOKUP($A130,Produits!$A$1:$P$357,5,FALSE)","v":6},{"$f":"VLOOKUP($A130,Produits!$A$1:$P$357,4,FALSE)","v":"Bouteille"},{"$f":"VLOOKUP($A130,Produits!$A$1:$P$357,6,FALSE)","v":10.5},{"$f":"VLOOKUP($A130,Produits!$A$1:$P$357,7,FALSE)","v":12.6},{"$f":"VLOOKUP($A130,Produits!$A$1:$P$357,10,FALSE)","v":0.2},{"$f":"VLOOKUP($A130,Produits!$A$1:$P$357,8,FALSE)","v":0.2},{"$f":"VLOOKUP($A130,Produits!$A$1:$P$357,9,FALSE)","v":8.4},{"$f":"IF(ISNA(VLOOKUP($A130,Produits!$A$1:$O$357,14,FALSE)),\"\",VLOOKUP($A130,Produits!$A$1:$O$357,14,FALSE))","v":3760219061748},118]
["36B",{"$f":"VLOOKUP($A131,Produits!$A$1:$P$357,2,FALSE)","v":"Liqueur d’Eau de vie de prune d’Ente - 24°"},{"$f":"VLOOKUP($A131,Produits!$A$1:$P$357,3,FALSE)","v":"0,5L"},{"$f":"VLOOKUP($A131,Produits!$A$1:$P$357,5,FALSE)","v":6},{"$f":"VLOOKUP($A131,Produits!$A$1:$P$357,4,FALSE)","v":"Bouteille"},{"$f":"VLOOKUP($A131,Produits!$A$1:$P$357,6,FALSE)","v":12.25},{"$f":"VLOOKUP($A131,Produits!$A$1:$P$357,7,FALSE)","v":14.7},{"$f":"VLOOKUP($A131,Produits!$A$1:$P$357,10,FALSE)","v":0.2},{"$f":"VLOOKUP($A131,Produits!$A$1:$P$357,8,FALSE)","v":0.2},{"$f":"VLOOKUP($A131,Produits!$A$1:$P$357,9,FALSE)","v":9.8000000000000007},{"$f":"IF(ISNA(VLOOKUP($A131,Produits!$A$1:$O$357,14,FALSE)),\"\",VLOOKUP($A131,Produits!$A$1:$O$357,14,FALSE))","v":3760219061731},119]
["36C",{"$f":"VLOOKUP($A132,Produits!$A$1:$P$357,2,FALSE)","v":"Liqueur d’Eau de vie de prune d’Ente - 24° "},{"$f":"VLOOKUP($A132,Produits!$A$1:$P$357,3,FALSE)","v":"0,7L"},{"$f":"VLOOKUP($A132,Produits!$A$1:$P$357,5,FALSE)","v":6},{"$f":"VLOOKUP($A132,Produits!$A$1:$P$357,4,FALSE)","v":"Bouteille"},{"$f":"VLOOKUP($A132,Produits!$A$1:$P$357,6,FALSE)","v":17.33333},{"$f":"VLOOKUP($A132,Produits!$A$1:$P$357,7,FALSE)","v":20.8},{"$f":"VLOOKUP($A132,Produits!$A$1:$P$357,10,FALSE)","v":0.2},{"$f":"VLOOKUP($A132,Produits!$A$1:$P$357,8,FALSE)","v":0.2},{"$f":"VLOOKUP($A132,Produits!$A$1:$P$357,9,FALSE)","v":13.87},{"$f":"IF(ISNA(VLOOKUP($A132,Produits!$A$1:$O$357,14,FALSE)),\"\",VLOOKUP($A132,Produits!$A$1:$O$357,14,FALSE))","v":3760219061724},120]
["36D",{"$f":"VLOOKUP($A133,Produits!$A$1:$P$357,2,FALSE)","v":"Liqueur d’Eau de vie de prune d’Ente - 24°"},{"$f":"VLOOKUP($A133,Produits!$A$1:$P$357,3,FALSE)","v":"5cl"},{"$f":"VLOOKUP($A133,Produits!$A$1:$P$357,5,FALSE)","v":6},{"$f":"VLOOKUP($A133,Produits!$A$1:$P$357,4,FALSE)","v":"Mignonette"},{"$f":"VLOOKUP($A133,Produits!$A$1:$P$357,6,FALSE)","v":3.0833300000000001},{"$f":"VLOOKUP($A133,Produits!$A$1:$P$357,7,FALSE)","v":3.7},{"$f":"VLOOKUP($A133,Produits!$A$1:$P$357,10,FALSE)","v":0.2},{"$f":"VLOOKUP($A133,Produits!$A$1:$P$357,8,FALSE)","v":0.2},{"$f":"VLOOKUP($A133,Produits!$A$1:$P$357,9,FALSE)","v":2.4699999999999998},{"$f":"IF(ISNA(VLOOKUP($A133,Produits!$A$1:$O$357,14,FALSE)),\"\",VLOOKUP($A133,Produits!$A$1:$O$357,14,FALSE))","v":3760219061717},121]
["37A",{"$f":"VLOOKUP($A134,Produits!$A$1:$P$357,2,FALSE)","v":"Vieille Eau de Vie Ed. limitée des 100 ans - 44.1°"},{"$f":"VLOOKUP($A134,Produits!$A$1:$P$357,3,FALSE)","v":"0,5L"},{"$f":"VLOOKUP($A134,Produits!$A$1:$P$357,5,FALSE)","v":6},{"$f":"VLOOKUP($A134,Produits!$A$1:$P$357,4,FALSE)","v":"Bouteille"},{"$f":"VLOOKUP($A134,Produits!$A$1:$P$357,6,FALSE)","v":30.83333},{"$f":"VLOOKUP($A134,Produits!$A$1:$P$357,7,FALSE)","v":37},{"$f":"VLOOKUP($A134,Produits!$A$1:$P$357,10,FALSE)","v":0.2},{"$f":"VLOOKUP($A134,Produits!$A$1:$P$357,8,FALSE)","v":0.2},{"$f":"VLOOKUP($A134,Produits!$A$1:$P$357,9,FALSE)","v":24.67},{"$f":"IF(ISNA(VLOOKUP($A134,Produits!$A$1:$O$357,14,FALSE)),\"\",VLOOKUP($A134,Produits!$A$1:$O$357,14,FALSE))","v":3760219061700},122]
["37B",{"$f":"VLOOKUP($A135,Produits!$A$1:$P$357,2,FALSE)","v":"Vieille Eau de Vie Ed. limitée des 100 ans - 44.1°"},{"$f":"VLOOKUP($A135,Produits!$A$1:$P$357,3,FALSE)","v":"5cl"},{"$f":"VLOOKUP($A135,Produits!$A$1:$P$357,5,FALSE)","v":6},{"$f":"VLOOKUP($A135,Produits!$A$1:$P$357,4,FALSE)","v":"Mignonette"},{"$f":"VLOOKUP($A135,Produits!$A$1:$P$357,6,FALSE)","v":3.0833300000000001},{"$f":"VLOOKUP($A135,Produits!$A$1:$P$357,7,FALSE)","v":3.7},{"$f":"VLOOKUP($A135,Produits!$A$1:$P$357,10,FALSE)","v":0.2},{"$f":"VLOOKUP($A135,Produits!$A$1:$P$357,8,FALSE)","v":0.2},{"$f":"VLOOKUP($A135,Produits!$A$1:$P$357,9,FALSE)","v":2.4699999999999998},{"$f":"IF(ISNA(VLOOKUP($A135,Produits!$A$1:$O$357,14,FALSE)),\"\",VLOOKUP($A135,Produits!$A$1:$O$357,14,FALSE))","v":3760219061694},123]
["38A",{"$f":"VLOOKUP($A136,Produits!$A$1:$P$357,2,FALSE)","v":"Eau de vie de prune d’Ente - 42°"},{"$f":"VLOOKUP($A136,Produits!$A$1:$P$357,3,FALSE)","v":"0,375L"},{"$f":"VLOOKUP($A136,Produits!$A$1:$P$357,5,FALSE)","v":6},{"$f":"VLOOKUP($A136,Produits!$A$1:$P$357,4,FALSE)","v":"Bouteille"},{"$f":"VLOOKUP($A136,Produits!$A$1:$P$357,6,FALSE)","v":13.83333},{"$f":"VLOOKUP($A136,Produits!$A$1:$P$357,7,FALSE)","v":16.600000000000001},{"$f":"VLOOKUP($A136,Produits!$A$1:$P$357,10,FALSE)","v":0.2},{"$f":"VLOOKUP($A136,Produits!$A$1:$P$357,8,FALSE)","v":0.2},{"$f":"VLOOKUP($A136,Produits!$A$1:$P$357,9,FALSE)","v":11.07},{"$f":"IF(ISNA(VLOOKUP($A136,Produits!$A$1:$O$357,14,FALSE)),\"\",VLOOKUP($A136,Produits!$A$1:$O$357,14,FALSE))","v":3760219061687},124]
["38B",{"$f":"VLOOKUP($A137,Produits!$A$1:$P$357,2,FALSE)","v":"Eau de vie de prune d’Ente - 42°"},{"$f":"VLOOKUP($A137,Produits!$A$1:$P$357,3,FALSE)","v":"0,5L"},{"$f":"VLOOKUP($A137,Produits!$A$1:$P$357,5,FALSE)","v":6},{"$f":"VLOOKUP($A137,Produits!$A$1:$P$357,4,FALSE)","v":"Bouteille"},{"$f":"VLOOKUP($A137,Produits!$A$1:$P$357,6,FALSE)","v":17.33333},{"$f":"VLOOKUP($A137,Produits!$A$1:$P$357,7,FALSE)","v":20.8},{"$f":"VLOOKUP($A137,Produits!$A$1:$P$357,10,FALSE)","v":0.2},{"$f":"VLOOKUP($A137,Produits!$A$1:$P$357,8,FALSE)","v":0.2},{"$f":"VLOOKUP($A137,Produits!$A$1:$P$357,9,FALSE)","v":13.87},{"$f":"IF(ISNA(VLOOKUP($A137,Produits!$A$1:$O$357,14,FALSE)),\"\",VLOOKUP($A137,Produits!$A$1:$O$357,14,FALSE))","v":3760219061670},125]
["38C",{"$f":"VLOOKUP($A138,Produits!$A$1:$P$357,2,FALSE)","v":"Eau de vie de prune d’Ente - 42°"},{"$f":"VLOOKUP($A138,Produits!$A$1:$P$357,3,FALSE)","v":"0,7L"},{"$f":"VLOOKUP($A138,Produits!$A$1:$P$357,5,FALSE)","v":6},{"$f":"VLOOKUP($A138,Produits!$A$1:$P$357,4,FALSE)","v":"Bouteille"},{"$f":"VLOOKUP($A138,Produits!$A$1:$P$357,6,FALSE)","v":23.16666},{"$f":"VLOOKUP($A138,Produits!$A$1:$P$357,7,FALSE)","v":27.8},{"$f":"VLOOKUP($A138,Produits!$A$1:$P$357,10,FALSE)","v":0.2},{"$f":"VLOOKUP($A138,Produits!$A$1:$P$357,8,FALSE)","v":0.2},{"$f":"VLOOKUP($A138,Produits!$A$1:$P$357,9,FALSE)","v":18.540000000000003},{"$f":"IF(ISNA(VLOOKUP($A138,Produits!$A$1:$O$357,14,FALSE)),\"\",VLOOKUP($A138,Produits!$A$1:$O$357,14,FALSE))","v":3760219061663},126]
["38D",{"$f":"VLOOKUP($A139,Produits!$A$1:$P$357,2,FALSE)","v":"Eau de vie de prune d’Ente - 42°"},{"$f":"VLOOKUP($A139,Produits!$A$1:$P$357,3,FALSE)","v":"5cl"},{"$f":"VLOOKUP($A139,Produits!$A$1:$P$357,5,FALSE)","v":6},{"$f":"VLOOKUP($A139,Produits!$A$1:$P$357,4,FALSE)","v":"Mignonette"},{"$f":"VLOOKUP($A139,Produits!$A$1:$P$357,6,FALSE)","v":3.0833300000000001},{"$f":"VLOOKUP($A139,Produits!$A$1:$P$357,7,FALSE)","v":3.7},{"$f":"VLOOKUP($A139,Produits!$A$1:$P$357,10,FALSE)","v":0.2},{"$f":"VLOOKUP($A139,Produits!$A$1:$P$357,8,FALSE)","v":0.2},{"$f":"VLOOKUP($A139,Produits!$A$1:$P$357,9,FALSE)","v":2.4699999999999998},{"$f":"IF(ISNA(VLOOKUP($A139,Produits!$A$1:$O$357,14,FALSE)),\"\",VLOOKUP($A139,Produits!$A$1:$O$357,14,FALSE))","v":3760219061656},127]
["39A",{"$f":"VLOOKUP($A140,Produits!$A$1:$P$357,2,FALSE)","v":"Eau de vie de pruneau - 42°"},{"$f":"VLOOKUP($A140,Produits!$A$1:$P$357,3,FALSE)","v":"0,375L"},{"$f":"VLOOKUP($A140,Produits!$A$1:$P$357,5,FALSE)","v":6},{"$f":"VLOOKUP($A140,Produits!$A$1:$P$357,4,FALSE)","v":"Bouteille"},{"$f":"VLOOKUP($A140,Produits!$A$1:$P$357,6,FALSE)","v":13.83333},{"$f":"VLOOKUP($A140,Produits!$A$1:$P$357,7,FALSE)","v":16.600000000000001},{"$f":"VLOOKUP($A140,Produits!$A$1:$P$357,10,FALSE)","v":0.2},{"$f":"VLOOKUP($A140,Produits!$A$1:$P$357,8,FALSE)","v":0.2},{"$f":"VLOOKUP($A140,Produits!$A$1:$P$357,9,FALSE)","v":11.07},{"$f":"IF(ISNA(VLOOKUP($A140,Produits!$A$1:$O$357,14,FALSE)),\"\",VLOOKUP($A140,Produits!$A$1:$O$357,14,FALSE))","v":3760219061649},128]
["39B",{"$f":"VLOOKUP($A141,Produits!$A$1:$P$357,2,FALSE)","v":"Eau de vie de pruneau - 42°"},{"$f":"VLOOKUP($A141,Produits!$A$1:$P$357,3,FALSE)","v":"0,5L"},{"$f":"VLOOKUP($A141,Produits!$A$1:$P$357,5,FALSE)","v":6},{"$f":"VLOOKUP($A141,Produits!$A$1:$P$357,4,FALSE)","v":"Bouteille"},{"$f":"VLOOKUP($A141,Produits!$A$1:$P$357,6,FALSE)","v":17.33333},{"$f":"VLOOKUP($A141,Produits!$A$1:$P$357,7,FALSE)","v":20.8},{"$f":"VLOOKUP($A141,Produits!$A$1:$P$357,10,FALSE)","v":0.2},{"$f":"VLOOKUP($A141,Produits!$A$1:$P$357,8,FALSE)","v":0.2},{"$f":"VLOOKUP($A141,Produits!$A$1:$P$357,9,FALSE)","v":13.87},{"$f":"IF(ISNA(VLOOKUP($A141,Produits!$A$1:$O$357,14,FALSE)),\"\",VLOOKUP($A141,Produits!$A$1:$O$357,14,FALSE))","v":3760219061632},129]
["39C",{"$f":"VLOOKUP($A142,Produits!$A$1:$P$357,2,FALSE)","v":"Eau de vie de pruneau - 42°"},{"$f":"VLOOKUP($A142,Produits!$A$1:$P$357,3,FALSE)","v":"0,7L"},{"$f":"VLOOKUP($A142,Produits!$A$1:$P$357,5,FALSE)","v":6},{"$f":"VLOOKUP($A142,Produits!$A$1:$P$357,4,FALSE)","v":"Bouteille"},{"$f":"VLOOKUP($A142,Produits!$A$1:$P$357,6,FALSE)","v":23.16666},{"$f":"VLOOKUP($A142,Produits!$A$1:$P$357,7,FALSE)","v":27.8},{"$f":"VLOOKUP($A142,Produits!$A$1:$P$357,10,FALSE)","v":0.2},{"$f":"VLOOKUP($A142,Produits!$A$1:$P$357,8,FALSE)","v":0.2},{"$f":"VLOOKUP($A142,Produits!$A$1:$P$357,9,FALSE)","v":18.540000000000003},{"$f":"IF(ISNA(VLOOKUP($A142,Produits!$A$1:$O$357,14,FALSE)),\"\",VLOOKUP($A142,Produits!$A$1:$O$357,14,FALSE))","v":3760219061625},130]
["39D",{"$f":"VLOOKUP($A143,Produits!$A$1:$P$357,2,FALSE)","v":"Eau de vie de pruneau - 42°"},{"$f":"VLOOKUP($A143,Produits!$A$1:$P$357,3,FALSE)","v":"5cl"},{"$f":"VLOOKUP($A143,Produits!$A$1:$P$357,5,FALSE)","v":6},{"$f":"VLOOKUP($A143,Produits!$A$1:$P$357,4,FALSE)","v":"Mignonette"},{"$f":"VLOOKUP($A143,Produits!$A$1:$P$357,6,FALSE)","v":3.0833300000000001},{"$f":"VLOOKUP($A143,Produits!$A$1:$P$357,7,FALSE)","v":3.7},{"$f":"VLOOKUP($A143,Produits!$A$1:$P$357,10,FALSE)","v":0.2},{"$f":"VLOOKUP($A143,Produits!$A$1:$P$357,8,FALSE)","v":0.2},{"$f":"VLOOKUP($A143,Produits!$A$1:$P$357,9,FALSE)","v":2.4699999999999998},{"$f":"IF(ISNA(VLOOKUP($A143,Produits!$A$1:$O$357,14,FALSE)),\"\",VLOOKUP($A143,Produits!$A$1:$O$357,14,FALSE))","v":3760219061618},131]
["40A",{"$f":"VLOOKUP($A144,Produits!$A$1:$P$357,2,FALSE)","v":"Eau de vie de prune Reine-Claude - 42°"},{"$f":"VLOOKUP($A144,Produits!$A$1:$P$357,3,FALSE)","v":"0,375L"},{"$f":"VLOOKUP($A144,Produits!$A$1:$P$357,5,FALSE)","v":6},{"$f":"VLOOKUP($A144,Produits!$A$1:$P$357,4,FALSE)","v":"Bouteille"},{"$f":"VLOOKUP($A144,Produits!$A$1:$P$357,6,FALSE)","v":13.83333},{"$f":"VLOOKUP($A144,Produits!$A$1:$P$357,7,FALSE)","v":16.600000000000001},{"$f":"VLOOKUP($A144,Produits!$A$1:$P$357,10,FALSE)","v":0.2},{"$f":"VLOOKUP($A144,Produits!$A$1:$P$357,8,FALSE)","v":0.2},{"$f":"VLOOKUP($A144,Produits!$A$1:$P$357,9,FALSE)","v":11.07},{"$f":"IF(ISNA(VLOOKUP($A144,Produits!$A$1:$O$357,14,FALSE)),\"\",VLOOKUP($A144,Produits!$A$1:$O$357,14,FALSE))","v":3760219061601},132]
["40B",{"$f":"VLOOKUP($A145,Produits!$A$1:$P$357,2,FALSE)","v":"Eau de vie de prune Reine-Claude - 42° "},{"$f":"VLOOKUP($A145,Produits!$A$1:$P$357,3,FALSE)","v":"0,5L"},{"$f":"VLOOKUP($A145,Produits!$A$1:$P$357,5,FALSE)","v":6},{"$f":"VLOOKUP($A145,Produits!$A$1:$P$357,4,FALSE)","v":"Bouteille"},{"$f":"VLOOKUP($A145,Produits!$A$1:$P$357,6,FALSE)","v":17.33333},{"$f":"VLOOKUP($A145,Produits!$A$1:$P$357,7,FALSE)","v":20.8},{"$f":"VLOOKUP($A145,Produits!$A$1:$P$357,10,FALSE)","v":0.2},{"$f":"VLOOKUP($A145,Produits!$A$1:$P$357,8,FALSE)","v":0.2},{"$f":"VLOOKUP($A145,Produits!$A$1:$P$357,9,FALSE)","v":13.87},{"$f":"IF(ISNA(VLOOKUP($A145,Produits!$A$1:$O$357,14,FALSE)),\"\",VLOOKUP($A145,Produits!$A$1:$O$357,14,FALSE))","v":3760219061595},133]
["40C",{"$f":"VLOOKUP($A146,Produits!$A$1:$P$357,2,FALSE)","v":"Eau de vie de prune Reine-Claude - 42° "},{"$f":"VLOOKUP($A146,Produits!$A$1:$P$357,3,FALSE)","v":"0,7L"},{"$f":"VLOOKUP($A146,Produits!$A$1:$P$357,5,FALSE)","v":6},{"$f":"VLOOKUP($A146,Produits!$A$1:$P$357,4,FALSE)","v":"Bouteille"},{"$f":"VLOOKUP($A146,Produits!$A$1:$P$357,6,FALSE)","v":23.16666},{"$f":"VLOOKUP($A146,Produits!$A$1:$P$357,7,FALSE)","v":27.8},{"$f":"VLOOKUP($A146,Produits!$A$1:$P$357,10,FALSE)","v":0.2},{"$f":"VLOOKUP($A146,Produits!$A$1:$P$357,8,FALSE)","v":0.2},{"$f":"VLOOKUP($A146,Produits!$A$1:$P$357,9,FALSE)","v":18.540000000000003},{"$f":"IF(ISNA(VLOOKUP($A146,Produits!$A$1:$O$357,14,FALSE)),\"\",VLOOKUP($A146,Produits!$A$1:$O$357,14,FALSE))","v":3760219061588},134]
["40D",{"$f":"VLOOKUP($A147,Produits!$A$1:$P$357,2,FALSE)","v":"Eau de vie de prune Reine-Claude - 42°"},{"$f":"VLOOKUP($A147,Produits!$A$1:$P$357,3,FALSE)","v":"5cl"},{"$f":"VLOOKUP($A147,Produits!$A$1:$P$357,5,FALSE)","v":6},{"$f":"VLOOKUP($A147,Produits!$A$1:$P$357,4,FALSE)","v":"Mignonette"},{"$f":"VLOOKUP($A147,Produits!$A$1:$P$357,6,FALSE)","v":3.0833300000000001},{"$f":"VLOOKUP($A147,Produits!$A$1:$P$357,7,FALSE)","v":3.7},{"$f":"VLOOKUP($A147,Produits!$A$1:$P$357,10,FALSE)","v":0.2},{"$f":"VLOOKUP($A147,Produits!$A$1:$P$357,8,FALSE)","v":0.2},{"$f":"VLOOKUP($A147,Produits!$A$1:$P$357,9,FALSE)","v":2.4699999999999998},{"$f":"IF(ISNA(VLOOKUP($A147,Produits!$A$1:$O$357,14,FALSE)),\"\",VLOOKUP($A147,Produits!$A$1:$O$357,14,FALSE))","v":3760219061571},135]
["41A",{"$f":"VLOOKUP($A148,Produits!$A$1:$P$357,2,FALSE)","v":"Assort. Supr. Prune'Choco® - Mini cagette gourmande"},{"$f":"VLOOKUP($A148,Produits!$A$1:$P$357,3,FALSE)","v":"400g"},{"$f":"VLOOKUP($A148,Produits!$A$1:$P$357,5,FALSE)","v":1},{"$f":"VLOOKUP($A148,Produits!$A$1:$P$357,4,FALSE)","v":"Boite bois"},{"$f":"VLOOKUP($A148,Produits!$A$1:$P$357,6,FALSE)","v":15.83},{"$f":"VLOOKUP($A148,Produits!$A$1:$P$357,7,FALSE)","v":18.5},{"$f":"VLOOKUP($A148,Produits!$A$1:$P$357,10,FALSE)","v":"Multiple"},{"$f":"VLOOKUP($A148,Produits!$A$1:$P$357,8,FALSE)","v":0.2},{"$f":"VLOOKUP($A148,Produits!$A$1:$P$357,9,FALSE)","v":12.67},{"$f":"IF(ISNA(VLOOKUP($A148,Produits!$A$1:$O$357,14,FALSE)),\"\",VLOOKUP($A148,Produits!$A$1:$O$357,14,FALSE))","v":3760219061564},136]
["42A",{"$f":"VLOOKUP($A149,Produits!$A$1:$P$357,2,FALSE)","v":"Assort. Supr. Prune'Choco® - Coffret élégance"},{"$f":"VLOOKUP($A149,Produits!$A$1:$P$357,3,FALSE)","v":"450g"},{"$f":"VLOOKUP($A149,Produits!$A$1:$P$357,5,FALSE)","v":1},{"$f":"VLOOKUP($A149,Produits!$A$1:$P$357,4,FALSE)","v":"Coffret cart."},{"$f":"VLOOKUP($A149,Produits!$A$1:$P$357,6,FALSE)","v":18.89},{"$f":"VLOOKUP($A149,Produits!$A$1:$P$357,7,FALSE)","v":22},{"$f":"VLOOKUP($A149,Produits!$A$1:$P$357,10,FALSE)","v":"Multiple"},{"$f":"VLOOKUP($A149,Produits!$A$1:$P$357,8,FALSE)","v":0.2},{"$f":"VLOOKUP($A149,Produits!$A$1:$P$357,9,FALSE)","v":15.12},{"$f":"IF(ISNA(VLOOKUP($A149,Produits!$A$1:$O$357,14,FALSE)),\"\",VLOOKUP($A149,Produits!$A$1:$O$357,14,FALSE))","v":3760219061557},137]
["43A",{"$f":"VLOOKUP($A150,Produits!$A$1:$P$357,2,FALSE)","v":"Assort. Supr. Prune'Choco® - Plateau gourmand"},{"$f":"VLOOKUP($A150,Produits!$A$1:$P$357,3,FALSE)","v":"650g"},{"$f":"VLOOKUP($A150,Produits!$A$1:$P$357,5,FALSE)","v":1},{"$f":"VLOOKUP($A150,Produits!$A$1:$P$357,4,FALSE)","v":"Boite bois"},{"$f":"VLOOKUP($A150,Produits!$A$1:$P$357,6,FALSE)","v":24.33},{"$f":"VLOOKUP($A150,Produits!$A$1:$P$357,7,FALSE)","v":27.9},{"$f":"VLOOKUP($A150,Produits!$A$1:$P$357,10,FALSE)","v":"Multiple"},{"$f":"VLOOKUP($A150,Produits!$A$1:$P$357,8,FALSE)","v":0.2},{"$f":"VLOOKUP($A150,Produits!$A$1:$P$357,9,FALSE)","v":19.470000000000002},{"$f":"IF(ISNA(VLOOKUP($A150,Produits!$A$1:$O$357,14,FALSE)),\"\",VLOOKUP($A150,Produits!$A$1:$O$357,14,FALSE))","v":3760219061540},138]
["44A",{"$f":"VLOOKUP($A151,Produits!$A$1:$P$357,2,FALSE)","v":"Assort. Supr. Prune'Choco® - Assiette raffinée"},{"$f":"VLOOKUP($A151,Produits!$A$1:$P$357,3,FALSE)","v":"650g"},{"$f":"VLOOKUP($A151,Produits!$A$1:$P$357,5,FALSE)","v":1},{"$f":"VLOOKUP($A151,Produits!$A$1:$P$357,4,FALSE)","v":"Assiette"},{"$f":"VLOOKUP($A151,Produits!$A$1:$P$357,6,FALSE)","v":25.36},{"$f":"VLOOKUP($A151,Produits!$A$1:$P$357,7,FALSE)","v":28.9},{"$f":"VLOOKUP($A151,Produits!$A$1:$P$357,10,FALSE)","v":"Multiple"},{"$f":"VLOOKUP($A151,Produits!$A$1:$P$357,8,FALSE)","v":0.2},{"$f":"VLOOKUP($A151,Produits!$A$1:$P$357,9,FALSE)","v":20.290000000000003},{"$f":"IF(ISNA(VLOOKUP($A151,Produits!$A$1:$O$357,14,FALSE)),\"\",VLOOKUP($A151,Produits!$A$1:$O$357,14,FALSE))","v":3760219061533},139]
["45A",{"$f":"VLOOKUP($A152,Produits!$A$1:$P$357,2,FALSE)","v":"Assort. Supr. Prune'Choco® - Claie Agenaise 1"},{"$f":"VLOOKUP($A152,Produits!$A$1:$P$357,3,FALSE)","v":"800g"},{"$f":"VLOOKUP($A152,Produits!$A$1:$P$357,5,FALSE)","v":1},{"$f":"VLOOKUP($A152,Produits!$A$1:$P$357,4,FALSE)","v":"Claie Agen."},{"$f":"VLOOKUP($A152,Produits!$A$1:$P$357,6,FALSE)","v":33.72},{"$f":"VLOOKUP($A152,Produits!$A$1:$P$357,7,FALSE)","v":38.799999999999997},{"$f":"VLOOKUP($A152,Produits!$A$1:$P$357,10,FALSE)","v":"Multiple"},{"$f":"VLOOKUP($A152,Produits!$A$1:$P$357,8,FALSE)","v":0.2},{"$f":"VLOOKUP($A152,Produits!$A$1:$P$357,9,FALSE)","v":26.98},{"$f":"IF(ISNA(VLOOKUP($A152,Produits!$A$1:$O$357,14,FALSE)),\"\",VLOOKUP($A152,Produits!$A$1:$O$357,14,FALSE))","v":3760219061526},140]
["46A",{"$f":"VLOOKUP($A153,Produits!$A$1:$P$357,2,FALSE)","v":"Assort. Supr. Prune'Choco® - Claie Agenaise 2"},{"$f":"VLOOKUP($A153,Produits!$A$1:$P$357,3,FALSE)","v":"1,1kg"},{"$f":"VLOOKUP($A153,Produits!$A$1:$P$357,5,FALSE)","v":1},{"$f":"VLOOKUP($A153,Produits!$A$1:$P$357,4,FALSE)","v":"Claie Agen."},{"$f":"VLOOKUP($A153,Produits!$A$1:$P$357,6,FALSE)","v":42.9},{"$f":"VLOOKUP($A153,Produits!$A$1:$P$357,7,FALSE)","v":49.8},{"$f":"VLOOKUP($A153,Produits!$A$1:$P$357,10,FALSE)","v":"Multiple"},{"$f":"VLOOKUP($A153,Produits!$A$1:$P$357,8,FALSE)","v":0.2},{"$f":"VLOOKUP($A153,Produits!$A$1:$P$357,9,FALSE)","v":34.32},{"$f":"IF(ISNA(VLOOKUP($A153,Produits!$A$1:$O$357,14,FALSE)),\"\",VLOOKUP($A153,Produits!$A$1:$O$357,14,FALSE))","v":3760219061519},141]
["47A",{"$f":"VLOOKUP($A154,Produits!$A$1:$P$357,2,FALSE)","v":"Coffret \"Découverte\" - 4 produits"},{"$f":"VLOOKUP($A154,Produits!$A$1:$P$357,3,FALSE)","v":0},{"$f":"VLOOKUP($A154,Produits!$A$1:$P$357,5,FALSE)","v":1},{"$f":"VLOOKUP($A154,Produits!$A$1:$P$357,4,FALSE)","v":"Pochette"},{"$f":"VLOOKUP($A154,Produits!$A$1:$P$357,6,FALSE)","v":14.9},{"$f":"VLOOKUP($A154,Produits!$A$1:$P$357,7,FALSE)","v":16.5},{"$f":"VLOOKUP($A154,Produits!$A$1:$P$357,10,FALSE)","v":"Multiple"},{"$f":"VLOOKUP($A154,Produits!$A$1:$P$357,8,FALSE)","v":0.2},{"$f":"VLOOKUP($A154,Produits!$A$1:$P$357,9,FALSE)","v":11.92},{"$f":"IF(ISNA(VLOOKUP($A154,Produits!$A$1:$O$357,14,FALSE)),\"\",VLOOKUP($A154,Produits!$A$1:$O$357,14,FALSE))","v":3760219061502},142]
["48A",{"$f":"VLOOKUP($A155,Produits!$A$1:$P$357,2,FALSE)","v":"Coffret \"Le Mignon\" - 5 produits"},{"$f":"VLOOKUP($A155,Produits!$A$1:$P$357,3,FALSE)","v":0},{"$f":"VLOOKUP($A155,Produits!$A$1:$P$357,5,FALSE)","v":1},{"$f":"VLOOKUP($A155,Produits!$A$1:$P$357,4,FALSE)","v":"Coffret cart."},{"$f":"VLOOKUP($A155,Produits!$A$1:$P$357,6,FALSE)","v":22.77},{"$f":"VLOOKUP($A155,Produits!$A$1:$P$357,7,FALSE)","v":26.5},{"$f":"VLOOKUP($A155,Produits!$A$1:$P$357,10,FALSE)","v":"Multiple"},{"$f":"VLOOKUP($A155,Produits!$A$1:$P$357,8,FALSE)","v":0.2},{"$f":"VLOOKUP($A155,Produits!$A$1:$P$357,9,FALSE)","v":18.220000000000002},{"$f":"IF(ISNA(VLOOKUP($A155,Produits!$A$1:$O$357,14,FALSE)),\"\",VLOOKUP($A155,Produits!$A$1:$O$357,14,FALSE))","v":3760219061496},143]
["49A",{"$f":"VLOOKUP($A156,Produits!$A$1:$P$357,2,FALSE)","v":"Coffret \"L'Intrépide\" - 7 produits"},{"$f":"VLOOKUP($A156,Produits!$A$1:$P$357,3,FALSE)","v":0},{"$f":"VLOOKUP($A156,Produits!$A$1:$P$357,5,FALSE)","v":1},{"$f":"VLOOKUP($A156,Produits!$A$1:$P$357,4,FALSE)","v":"Coffret cart."},{"$f":"VLOOKUP($A156,Produits!$A$1:$P$357,6,FALSE)","v":44.02},{"$f":"VLOOKUP($A156,Produits!$A$1:$P$357,7,FALSE)","v":49.5},{"$f":"VLOOKUP($A156,Produits!$A$1:$P$357,10,FALSE)","v":"Multiple"},{"$f":"VLOOKUP($A156,Produits!$A$1:$P$357,8,FALSE)","v":0.2},{"$f":"VLOOKUP($A156,Produits!$A$1:$P$357,9,FALSE)","v":35.22},{"$f":"IF(ISNA(VLOOKUP($A156,Produits!$A$1:$O$357,14,FALSE)),\"\",VLOOKUP($A156,Produits!$A$1:$O$357,14,FALSE))","v":3760219061489},144]
["50A",{"$f":"VLOOKUP($A157,Produits!$A$1:$P$357,2,FALSE)","v":"Coffret \"L'Intense\" - 10 produits"},{"$f":"VLOOKUP($A157,Produits!$A$1:$P$357,3,FALSE)","v":0},{"$f":"VLOOKUP($A157,Produits!$A$1:$P$357,5,FALSE)","v":1},{"$f":"VLOOKUP($A157,Produits!$A$1:$P$357,4,FALSE)","v":"Coffret cart."},{"$f":"VLOOKUP($A157,Produits!$A$1:$P$357,6,FALSE)","v":54.069999999999993},{"$f":"VLOOKUP($A157,Produits!$A$1:$P$357,7,FALSE)","v":61},{"$f":"VLOOKUP($A157,Produits!$A$1:$P$357,10,FALSE)","v":"Multiple"},{"$f":"VLOOKUP($A157,Produits!$A$1:$P$357,8,FALSE)","v":0.2},{"$f":"VLOOKUP($A157,Produits!$A$1:$P$357,9,FALSE)","v":43.26},{"$f":"IF(ISNA(VLOOKUP($A157,Produits!$A$1:$O$357,14,FALSE)),\"\",VLOOKUP($A157,Produits!$A$1:$O$357,14,FALSE))","v":3760219061472},145]
["TSVRAC",{"$f":"VLOOKUP($A158,Produits!$A$1:$P$357,2,FALSE)","v":"Tomates séchées VRAC"},{"$f":"VLOOKUP($A158,Produits!$A$1:$P$357,3,FALSE)","v":"6kg"},{"$f":"VLOOKUP($A158,Produits!$A$1:$P$357,5,FALSE)","v":1},{"$f":"VLOOKUP($A158,Produits!$A$1:$P$357,4,FALSE)","v":"Carton"},{"$f":"VLOOKUP($A158,Produits!$A$1:$P$357,6,FALSE)","v":255.92417},{"$f":"VLOOKUP($A158,Produits!$A$1:$P$357,7,FALSE)","v":270},{"$f":"VLOOKUP($A158,Produits!$A$1:$P$357,10,FALSE)","v":5.5E-2},{"$f":"VLOOKUP($A158,Produits!$A$1:$P$357,8,FALSE)","v":0.2},{"$f":"VLOOKUP($A158,Produits!$A$1:$P$357,9,FALSE)","v":204.73999999999998},null,146]
["TSPOCH",{"$f":"VLOOKUP($A159,Produits!$A$1:$P$357,2,FALSE)","v":"Tomates séchées pochettes 100g"},{"$f":"VLOOKUP($A159,Produits!$A$1:$P$357,3,FALSE)","v":"100g"},{"$f":"VLOOKUP($A159,Produits!$A$1:$P$357,5,FALSE)","v":9},{"$f":"VLOOKUP($A159,Produits!$A$1:$P$357,4,FALSE)","v":"Pichette Fizz"},{"$f":"VLOOKUP($A159,Produits!$A$1:$P$357,6,FALSE)","v":4.6445400000000001},{"$f":"VLOOKUP($A159,Produits!$A$1:$P$357,7,FALSE)","v":4.9000000000000004},{"$f":"VLOOKUP($A159,Produits!$A$1:$P$357,10,FALSE)","v":5.5E-2},{"$f":"VLOOKUP($A159,Produits!$A$1:$P$357,8,FALSE)","v":0.2},{"$f":"VLOOKUP($A159,Produits!$A$1:$P$357,9,FALSE)","v":3.7199999999999998},null,147]
["S10PX",{"$f":"VLOOKUP($A160,Produits!$A$1:$P$357,2,FALSE)","v":"Pruneaux d'Agen IGP Cal. 33/44 "},{"$f":"VLOOKUP($A160,Produits!$A$1:$P$357,3,FALSE)","v":"10kg"},{"$f":"VLOOKUP($A160,Produits!$A$1:$P$357,5,FALSE)","v":1},{"$f":"VLOOKUP($A160,Produits!$A$1:$P$357,4,FALSE)","v":"Seau"},{"$f":"VLOOKUP($A160,Produits!$A$1:$P$357,6,FALSE)","v":53.080559999999998},{"$f":"VLOOKUP($A160,Produits!$A$1:$P$357,7,FALSE)","v":56},{"$f":"VLOOKUP($A160,Produits!$A$1:$P$357,10,FALSE)","v":5.5E-2},{"$f":"VLOOKUP($A160,Produits!$A$1:$P$357,8,FALSE)","v":0.2},{"$f":"VLOOKUP($A160,Produits!$A$1:$P$357,9,FALSE)","v":42.47},null,148]
["S10PXDN",{"$f":"VLOOKUP($A161,Produits!$A$1:$P$357,2,FALSE)","v":"Pruneaux d'Agen IGP dénoyautés Cal. 44/55 avec e200"},{"$f":"VLOOKUP($A161,Produits!$A$1:$P$357,3,FALSE)","v":"10kg"},{"$f":"VLOOKUP($A161,Produits!$A$1:$P$357,5,FALSE)","v":1},{"$f":"VLOOKUP($A161,Produits!$A$1:$P$357,4,FALSE)","v":"Seau"},{"$f":"VLOOKUP($A161,Produits!$A$1:$P$357,6,FALSE)","v":77.725110000000001},{"$f":"VLOOKUP($A161,Produits!$A$1:$P$357,7,FALSE)","v":82},{"$f":"VLOOKUP($A161,Produits!$A$1:$P$357,10,FALSE)","v":5.5E-2},{"$f":"VLOOKUP($A161,Produits!$A$1:$P$357,8,FALSE)","v":0.2},{"$f":"VLOOKUP($A161,Produits!$A$1:$P$357,9,FALSE)","v":62.19},null,149]

{"sheet":"Avec champs sélectionnables","index":4,"n_rows":161,"n_cols":12,"rows_kept":161,"cut":false,"hidden":true,"merged":[[7,0,9,1],[7,3,7,5],[7,7,7,9],[8,3,8,5],[8,7,8,9],[9,2,9,3],[9,4,9,9],[6,3,6,5],[6,7,6,9],[0,2,1,9],[3,3,3,5],[3,7,3,9],[4,2,5,2],[4,3,5,9]]}
[null,null,"Tarifs Pro - Maison du Pruneau"]
[]
[]
[null,null,"Entreprise:",{"$f":"Coordonnées_client!$C$2","v":0},null,null,"Tél.:",{"$f":"Coordonnées_client!$I$2","v":0}]
[null,null,"Adresse:",{"$f":"Coordonnées_client!$F$2","v":0}]
[]
[null,null,"CP:",{"$f":"Coordonnées_client!$G$2","v":0},null,null,"Ville:",{"$f":"Coordonnées_client!$H$2","v":0}]
["«Braunès» 47320 Lafitte-sur-Lot\n05 53 84 04 17 • mdpruneau.vpc@orange.fr\nwww.maisondupruneau.com",null,"Nom:",{"$f":"Coordonnées_client!$K$2","v":0},null,null,"Prénom:",{"$f":"Coordonnées_client!$L$2","v":0}]
[null,null,"Ligne directe:",{"$f":"Coordonnées_client!$N$2","v":0},null,null,"Mail:",{"$f":"Coordonnées_client!$O$2","v":0}]
[null,null,"Conditions de règlement:",null,{"$f":"Coordonnées_client!$D$4","v":"Comptant (1ère commande) puis 30j net (commandes suivantes)"}]
[]
["Réf.","Désignation","Contenance","Colisage","Emballage","Prix HT","Prix TTC \nconseillé","TVA","Taux de\nremise","Prix remisé\nHT","Code EAN","SKU + Désignation + Contenance"]
["1A",{"$f":"VLOOKUP($A13,Produits!$A$1:$P$357,2,FALSE)","v":"Pruneaux d'Agen BIO"},{"$f":"VLOOKUP($A13,Produits!$A$1:$P$357,3,FALSE)","v":"500g"},{"$f":"VLOOKUP($A13,Produits!$A$1:$P$357,5,FALSE)","v":25},{"$f":"VLOOKUP($A13,Produits!$A$1:$P$357,4,FALSE)","v":"Sachet"},{"$f":"VLOOKUP($A13,Produits!$A$1:$P$357,6,FALSE)","v":5.2132699999999996},{"$f":"VLOOKUP($A13,Produits!$A$1:$P$357,7,FALSE)","v":5.5},{"$f":"VLOOKUP($A13,Produits!$A$1:$P$357,10,FALSE)","v":5.5E-2},{"$f":"VLOOKUP($A13,Produits!$A$1:$P$357,8,FALSE)","v":0.2},{"$f":"VLOOKUP($A13,Produits!$A$1:$P$357,9,FALSE)","v":4.18},{"$f":"IF(ISNA(VLOOKUP($A13,Produits!$A$1:$O$357,14,FALSE)),\"\",VLOOKUP($A13,Produits!$A$1:$O$357,14,FALSE))","v":3760219062868},{"$f":"Tableau15[[#This Row],[Réf.]]&\" - \"&Tableau15[[#This Row],[Désignation]]&\" - \"&Tableau15[[#This Row],[Contenance]]","v":"1A - Pruneaux d'Agen BIO - 500g"}]
["1B",{"$f":"VLOOKUP($A14,Produits!$A$1:$P$357,2,FALSE)","v":"Pruneaux d'Agen BIO"},{"$f":"VLOOKUP($A14,Produits!$A$1:$P$357,3,FALSE)","v":"1kg"},{"$f":"VLOOKUP($A14,Produits!$A$1:$P$357,5,FALSE)","v":14},{"$f":"VLOOKUP($A14,Produits!$A$1:$P$357,4,FALSE)","v":"Sachet"},{"$f":"VLOOKUP($A14,Produits!$A$1:$P$357,6,FALSE)","v":9.4786699999999993},{"$f":"VLOOKUP($A14,Produits!$A$1:$P$357,7,FALSE)","v":10},{"$f":"VLOOKUP($A14,Produits!$A$1:$P$357,10,FALSE)","v":5.5E-2},{"$f":"VLOOKUP($A14,Produits!$A$1:$P$357,8,FALSE)","v":0.2},{"$f":"VLOOKUP($A14,Produits!$A$1:$P$357,9,FALSE)","v":7.59},{"$f":"IF(ISNA(VLOOKUP($A14,Produits!$A$1:$O$357,14,FALSE)),\"\",VLOOKUP($A14,Produits!$A$1:$O$357,14,FALSE))","v":3760219062851},{"$f":"Tableau15[[#This Row],[Réf.]]&\" - \"&Tableau15[[#This Row],[Désignation]]&\" - \"&Tableau15[[#This Row],[Contenance]]","v":"1B - Pruneaux d'Agen BIO - 1kg"}]
["1C",{"$f":"VLOOKUP($A15,Produits!$A$1:$P$357,2,FALSE)","v":"Pruneaux d’Agen BIO dénoyautés "},{"$f":"VLOOKUP($A15,Produits!$A$1:$P$357,3,FALSE)","v":"500g"},{"$f":"VLOOKUP($A15,Produits!$A$1:$P$357,5,FALSE)","v":25},{"$f":"VLOOKUP($A15,Produits!$A$1:$P$357,4,FALSE)","v":"Sachet"},{"$f":"VLOOKUP($A15,Produits!$A$1:$P$357,6,FALSE)","v":7.2985699999999998},{"$f":"VLOOKUP($A15,Produits!$A$1:$P$357,7,FALSE)","v":7.7},{"$f":"VLOOKUP($A15,Produits!$A$1:$P$357,10,FALSE)","v":5.5E-2},{"$f":"VLOOKUP($A15,Produits!$A$1:$P$357,8,FALSE)","v":0.2},{"$f":"VLOOKUP($A15,Produits!$A$1:$P$357,9,FALSE)","v":5.84},{"$f":"IF(ISNA(VLOOKUP($A15,Produits!$A$1:$O$357,14,FALSE)),\"\",VLOOKUP($A15,Produits!$A$1:$O$357,14,FALSE))","v":3760219062844},{"$f":"Tableau15[[#This Row],[Réf.]]&\" - \"&Tableau15[[#This Row],[Désignation]]&\" - \"&Tableau15[[#This Row],[Contenance]]","v":"1C - Pruneaux d’Agen BIO dénoyautés  - 500g"}]
["1D",{"$f":"VLOOKUP($A16,Produits!$A$1:$P$357,2,FALSE)","v":"Pruneaux d’Agen BIO dénoyautés"},{"$f":"VLOOKUP($A16,Produits!$A$1:$P$357,3,FALSE)","v":"1kg"},{"$f":"VLOOKUP($A16,Produits!$A$1:$P$357,5,FALSE)","v":14},{"$f":"VLOOKUP($A16,Produits!$A$1:$P$357,4,FALSE)","v":"Sachet"},{"$f":"VLOOKUP($A16,Produits!$A$1:$P$357,6,FALSE)","v":13.27014},{"$f":"VLOOKUP($A16,Produits!$A$1:$P$357,7,FALSE)","v":14},{"$f":"VLOOKUP($A16,Produits!$A$1:$P$357,10,FALSE)","v":5.5E-2},{"$f":"VLOOKUP($A16,Produits!$A$1:$P$357,8,FALSE)","v":0.2},{"$f":"VLOOKUP($A16,Produits!$A$1:$P$357,9,FALSE)","v":10.62},{"$f":"IF(ISNA(VLOOKUP($A16,Produits!$A$1:$O$357,14,FALSE)),\"\",VLOOKUP($A16,Produits!$A$1:$O$357,14,FALSE))","v":3760219062837},{"$f":"Tableau15[[#This Row],[Réf.]]&\" - \"&Tableau15[[#This Row],[Désignation]]&\" - \"&Tableau15[[#This Row],[Contenance]]","v":"1D - Pruneaux d’Agen BIO dénoyautés - 1kg"}]
["2A",{"$f":"VLOOKUP($A17,Produits!$A$1:$P$357,2,FALSE)","v":"Crème de pruneaux BIO"},{"$f":"VLOOKUP($A17,Produits!$A$1:$P$357,3,FALSE)","v":"210g"},{"$f":"VLOOKUP($A17,Produits!$A$1:$P$357,5,FALSE)","v":24},{"$f":"VLOOKUP($A17,Produits!$A$1:$P$357,4,FALSE)","v":"Bocal"},{"$f":"VLOOKUP($A17,Produits!$A$1:$P$357,6,FALSE)","v":3.9810400000000001},{"$f":"VLOOKUP($A17,Produits!$A$1:$P$357,7,FALSE)","v":4.2},{"$f":"VLOOKUP($A17,Produits!$A$1:$P$357,10,FALSE)","v":5.5E-2},{"$f":"VLOOKUP($A17,Produits!$A$1:$P$357,8,FALSE)","v":0.2},{"$f":"VLOOKUP($A17,Produits!$A$1:$P$357,9,FALSE)","v":3.19},{"$f":"IF(ISNA(VLOOKUP($A17,Produits!$A$1:$O$357,14,FALSE)),\"\",VLOOKUP($A17,Produits!$A$1:$O$357,14,FALSE))","v":3760219062820},{"$f":"Tableau15[[#This Row],[Réf.]]&\" - \"&Tableau15[[#This Row],[Désignation]]&\" - \"&Tableau15[[#This Row],[Contenance]]","v":"2A - Crème de pruneaux BIO - 210g"}]
["3A",{"$f":"VLOOKUP($A18,Produits!$A$1:$P$357,2,FALSE)","v":"Jus de pruneaux BIO"},{"$f":"VLOOKUP($A18,Produits!$A$1:$P$357,3,FALSE)","v":"25cl"},{"$f":"VLOOKUP($A18,Produits!$A$1:$P$357,5,FALSE)","v":12},{"$f":"VLOOKUP($A18,Produits!$A$1:$P$357,4,FALSE)","v":"Bouteille"},{"$f":"VLOOKUP($A18,Produits!$A$1:$P$357,6,FALSE)","v":2.3696600000000001},{"$f":"VLOOKUP($A18,Produits!$A$1:$P$357,7,FALSE)","v":2.5},{"$f":"VLOOKUP($A18,Produits!$A$1:$P$357,10,FALSE)","v":5.5E-2},{"$f":"VLOOKUP($A18,Produits!$A$1:$P$357,8,FALSE)","v":0.2},{"$f":"VLOOKUP($A18,Produits!$A$1:$P$357,9,FALSE)","v":1.9},{"$f":"IF(ISNA(VLOOKUP($A18,Produits!$A$1:$O$357,14,FALSE)),\"\",VLOOKUP($A18,Produits!$A$1:$O$357,14,FALSE))","v":3760219062813},{"$f":"Tableau15[[#This Row],[Réf.]]&\" - \"&Tableau15[[#This Row],[Désignation]]&\" - \"&Tableau15[[#This Row],[Contenance]]","v":"3A - Jus de pruneaux BIO - 25cl"}]
["3B",{"$f":"VLOOKUP($A19,Produits!$A$1:$P$357,2,FALSE)","v":"Jus de pruneaux BIO"},{"$f":"VLOOKUP($A19,Produits!$A$1:$P$357,3,FALSE)","v":"1L"},{"$f":"VLOOKUP($A19,Produits!$A$1:$P$357,5,FALSE)","v":6},{"$f":"VLOOKUP($A19,Produits!$A$1:$P$357,4,FALSE)","v":"Bouteille"},{"$f":"VLOOKUP($A19,Produits!$A$1:$P$357,6,FALSE)","v":5.5924100000000001},{"$f":"VLOOKUP($A19,Produits!$A$1:$P$357,7,FALSE)","v":5.9},{"$f":"VLOOKUP($A19,Produits!$A$1:$P$357,10,FALSE)","v":5.5E-2},{"$f":"VLOOKUP($A19,Produits!$A$1:$P$357,8,FALSE)","v":0.2},{"$f":"VLOOKUP($A19,Produits!$A$1:$P$357,9,FALSE)","v":4.4799999999999995},{"$f":"IF(ISNA(VLOOKUP($A19,Produits!$A$1:$O$357,14,FALSE)),\"\",VLOOKUP($A19,Produits!$A$1:$O$357,14,FALSE))","v":3760219062899},{"$f":"Tableau15[[#This Row],[Réf.]]&\" - \"&Tableau15[[#This Row],[Désignation]]&\" - \"&Tableau15[[#This Row],[Contenance]]","v":"3B - Jus de pruneaux BIO - 1L"}]
["4A",{"$f":"VLOOKUP($A20,Produits!$A$1:$P$357,2,FALSE)","v":"Jus de fruit BIO - Pomme / Abricot"},{"$f":"VLOOKUP($A20,Produits!$A$1:$P$357,3,FALSE)","v":"25cl"},{"$f":"VLOOKUP($A20,Produits!$A$1:$P$357,5,FALSE)","v":12},{"$f":"VLOOKUP($A20,Produits!$A$1:$P$357,4,FALSE)","v":"Bouteille"},{"$f":"VLOOKUP($A20,Produits!$A$1:$P$357,6,FALSE)","v":2.3696600000000001},{"$f":"VLOOKUP($A20,Produits!$A$1:$P$357,7,FALSE)","v":2.5},{"$f":"VLOOKUP($A20,Produits!$A$1:$P$357,10,FALSE)","v":5.5E-2},{"$f":"VLOOKUP($A20,Produits!$A$1:$P$357,8,FALSE)","v":0.05},{"$f":"VLOOKUP($A20,Produits!$A$1:$P$357,9,FALSE)","v":2.2599999999999998},{"$f":"IF(ISNA(VLOOKUP($A20,Produits!$A$1:$O$357,14,FALSE)),\"\",VLOOKUP($A20,Produits!$A$1:$O$357,14,FALSE))","v":3760219062806},{"$f":"Tableau15[[#This Row],[Réf.]]&\" - \"&Tableau15[[#This Row],[Désignation]]&\" - \"&Tableau15[[#This Row],[Contenance]]","v":"4A - Jus de fruit BIO - Pomme / Abricot - 25cl"}]
["4B",{"$f":"VLOOKUP($A21,Produits!$A$1:$P$357,2,FALSE)","v":"Jus de fruit BIO - Pomme / Cerise"},{"$f":"VLOOKUP($A21,Produits!$A$1:$P$357,3,FALSE)","v":"25cl"},{"$f":"VLOOKUP($A21,Produits!$A$1:$P$357,5,FALSE)","v":12},{"$f":"VLOOKUP($A21,Produits!$A$1:$P$357,4,FALSE)","v":"Bouteille"},{"$f":"VLOOKUP($A21,Produits!$A$1:$P$357,6,FALSE)","v":2.3696600000000001},{"$f":"VLOOKUP($A21,Produits!$A$1:$P$357,7,FALSE)","v":2.5},{"$f":"VLOOKUP($A21,Produits!$A$1:$P$357,10,FALSE)","v":5.5E-2},{"$f":"VLOOKUP($A21,Produits!$A$1:$P$357,8,FALSE)","v":0.05},{"$f":"VLOOKUP($A21,Produits!$A$1:$P$357,9,FALSE)","v":2.2599999999999998},{"$f":"IF(ISNA(VLOOKUP($A21,Produits!$A$1:$O$357,14,FALSE)),\"\",VLOOKUP($A21,Produits!$A$1:$O$357,14,FALSE))","v":3760219062790},{"$f":"Tableau15[[#This Row],[Réf.]]&\" - \"&Tableau15[[#This Row],[Désignation]]&\" - \"&Tableau15[[#This Row],[Contenance]]","v":"4B - Jus de fruit BIO - Pomme / Cerise - 25cl"}]
["4C",{"$f":"VLOOKUP($A22,Produits!$A$1:$P$357,2,FALSE)","v":"Jus de fruit BIO - Pomme / Poire"},{"$f":"VLOOKUP($A22,Produits!$A$1:$P$357,3,FALSE)","v":"25cl"},{"$f":"VLOOKUP($A22,Produits!$A$1:$P$357,5,FALSE)","v":12},{"$f":"VLOOKUP($A22,Produits!$A$1:$P$357,4,FALSE)","v":"Bouteille"},{"$f":"VLOOKUP($A22,Produits!$A$1:$P$357,6,FALSE)","v":2.3696600000000001},{"$f":"VLOOKUP($A22,Produits!$A$1:$P$357,7,FALSE)","v":2.5},{"$f":"VLOOKUP($A22,Produits!$A$1:$P$357,10,FALSE)","v":5.5E-2},{"$f":"VLOOKUP($A22,Produits!$A$1:$P$357,8,FALSE)","v":0.05},{"$f":"VLOOKUP($A22,Produits!$A$1:$P$357,9,FALSE)","v":2.2599999999999998},{"$f":"IF(ISNA(VLOOKUP($A22,Produits!$A$1:$O$357,14,FALSE)),\"\",VLOOKUP($A22,Produits!$A$1:$O$357,14,FALSE))","v":3760219062783},{"$f":"Tableau15[[#This Row],[Réf.]]&\" - \"&Tableau15[[#This Row],[Désignation]]&\" - \"&Tableau15[[#This Row],[Contenance]]","v":"4C - Jus de fruit BIO - Pomme / Poire - 25cl"}]
["4D",{"$f":"VLOOKUP($A23,Produits!$A$1:$P$357,2,FALSE)","v":"Jus de fruit BIO - Pomme / Prunes"},{"$f":"VLOOKUP($A23,Produits!$A$1:$P$357,3,FALSE)","v":"25cl"},{"$f":"VLOOKUP($A23,Produits!$A$1:$P$357,5,FALSE)","v":12},{"$f":"VLOOKUP($A23,Produits!$A$1:$P$357,4,FALSE)","v":"Bouteille"},{"$f":"VLOOKUP($A23,Produits!$A$1:$P$357,6,FALSE)","v":2.3696600000000001},{"$f":"VLOOKUP($A23,Produits!$A$1:$P$357,7,FALSE)","v":2.5},{"$f":"VLOOKUP($A23,Produits!$A$1:$P$357,10,FALSE)","v":5.5E-2},{"$f":"VLOOKUP($A23,Produits!$A$1:$P$357,8,FALSE)","v":0.05},{"$f":"VLOOKUP($A23,Produits!$A$1:$P$357,9,FALSE)","v":2.2599999999999998},{"$f":"IF(ISNA(VLOOKUP($A23,Produits!$A$1:$O$357,14,FALSE)),\"\",VLOOKUP($A23,Produits!$A$1:$O$357,14,FALSE))","v":3760219062776},{"$f":"Tableau15[[#This Row],[Réf.]]&\" - \"&Tableau15[[#This Row],[Désignation]]&\" - \"&Tableau15[[#This Row],[Contenance]]","v":"4D - Jus de fruit BIO - Pomme / Prunes - 25cl"}]
["5A",{"$f":"VLOOKUP($A24,Produits!$A$1:$P$357,2,FALSE)","v":"Farine de sarrasin BIO"},{"$f":"VLOOKUP($A24,Produits!$A$1:$P$357,3,FALSE)","v":"1kg"},{"$f":"VLOOKUP($A24,Produits!$A$1:$P$357,5,FALSE)","v":6},{"$f":"VLOOKUP($A24,Produits!$A$1:$P$357,4,FALSE)","v":"Sachet"},{"$f":"VLOOKUP($A24,Produits!$A$1:$P$357,6,FALSE)","v":3.7914599999999998},{"$f":"VLOOKUP($A24,Produits!$A$1:$P$357,7,FALSE)","v":4},{"$f":"VLOOKUP($A24,Produits!$A$1:$P$357,10,FALSE)","v":5.5E-2},{"$f":"VLOOKUP($A24,Produits!$A$1:$P$357,8,FALSE)","v":0.05},{"$f":"VLOOKUP($A24,Produits!$A$1:$P$357,9,FALSE)","v":3.61},{"$f":"IF(ISNA(VLOOKUP($A24,Produits!$A$1:$O$357,14,FALSE)),\"\",VLOOKUP($A24,Produits!$A$1:$O$357,14,FALSE))","v":3760219062769},{"$f":"Tableau15[[#This Row],[Réf.]]&\" - \"&Tableau15[[#This Row],[Désignation]]&\" - \"&Tableau15[[#This Row],[Contenance]]","v":"5A - Farine de sarrasin BIO - 1kg"}]
["5B",{"$f":"VLOOKUP($A25,Produits!$A$1:$P$357,2,FALSE)","v":"Farine de petit épeautre BIO"},{"$f":"VLOOKUP($A25,Produits!$A$1:$P$357,3,FALSE)","v":"1kg"},{"$f":"VLOOKUP($A25,Produits!$A$1:$P$357,5,FALSE)","v":6},{"$f":"VLOOKUP($A25,Produits!$A$1:$P$357,4,FALSE)","v":"Sachet"},{"$f":"VLOOKUP($A25,Produits!$A$1:$P$357,6,FALSE)","v":4.7393299999999998},{"$f":"VLOOKUP($A25,Produits!$A$1:$P$357,7,FALSE)","v":5},{"$f":"VLOOKUP($A25,Produits!$A$1:$P$357,10,FALSE)","v":5.5E-2},{"$f":"VLOOKUP($A25,Produits!$A$1:$P$357,8,FALSE)","v":0.05},{"$f":"VLOOKUP($A25,Produits!$A$1:$P$357,9,FALSE)","v":4.51},{"$f":"IF(ISNA(VLOOKUP($A25,Produits!$A$1:$O$357,14,FALSE)),\"\",VLOOKUP($A25,Produits!$A$1:$O$357,14,FALSE))","v":3760219062752},{"$f":"Tableau15[[#This Row],[Réf.]]&\" - \"&Tableau15[[#This Row],[Désignation]]&\" - \"&Tableau15[[#This Row],[Contenance]]","v":"5B - Farine de petit épeautre BIO - 1kg"}]
["5C",{"$f":"VLOOKUP($A26,Produits!$A$1:$P$357,2,FALSE)","v":"Farine T80 BIO"},{"$f":"VLOOKUP($A26,Produits!$A$1:$P$357,3,FALSE)","v":"1kg"},{"$f":"VLOOKUP($A26,Produits!$A$1:$P$357,5,FALSE)","v":6},{"$f":"VLOOKUP($A26,Produits!$A$1:$P$357,4,FALSE)","v":"Sachet"},{"$f":"VLOOKUP($A26,Produits!$A$1:$P$357,6,FALSE)","v":2.1800899999999999},{"$f":"VLOOKUP($A26,Produits!$A$1:$P$357,7,FALSE)","v":2.2999999999999998},{"$f":"VLOOKUP($A26,Produits!$A$1:$P$357,10,FALSE)","v":5.5E-2},{"$f":"VLOOKUP($A26,Produits!$A$1:$P$357,8,FALSE)","v":0.05},{"$f":"VLOOKUP($A26,Produits!$A$1:$P$357,9,FALSE)","v":2.0799999999999996},{"$f":"IF(ISNA(VLOOKUP($A26,Produits!$A$1:$O$357,14,FALSE)),\"\",VLOOKUP($A26,Produits!$A$1:$O$357,14,FALSE))","v":3760219062745},{"$f":"Tableau15[[#This Row],[Réf.]]&\" - \"&Tableau15[[#This Row],[Désignation]]&\" - \"&Tableau15[[#This Row],[Contenance]]","v":"5C - Farine T80 BIO - 1kg"}]
["5D",{"$f":"VLOOKUP($A27,Produits!$A$1:$P$357,2,FALSE)","v":"Huile vierge de tournesol BIO"},{"$f":"VLOOKUP($A27,Produits!$A$1:$P$357,3,FALSE)","v":"1L"},{"$f":"VLOOKUP($A27,Produits!$A$1:$P$357,5,FALSE)","v":6},{"$f":"VLOOKUP($A27,Produits!$A$1:$P$357,4,FALSE)","v":"Bouteille"},{"$f":"VLOOKUP($A27,Produits!$A$1:$P$357,6,FALSE)","v":4.0758200000000002},{"$f":"VLOOKUP($A27,Produits!$A$1:$P$357,7,FALSE)","v":4.3},{"$f":"VLOOKUP($A27,Produits!$A$1:$P$357,10,FALSE)","v":5.5E-2},{"$f":"VLOOKUP($A27,Produits!$A$1:$P$357,8,FALSE)","v":0.05},{"$f":"VLOOKUP($A27,Produits!$A$1:$P$357,9,FALSE)","v":3.88},{"$f":"IF(ISNA(VLOOKUP($A27,Produits!$A$1:$O$357,14,FALSE)),\"\",VLOOKUP($A27,Produits!$A$1:$O$357,14,FALSE))","v":3760219062738},{"$f":"Tableau15[[#This Row],[Réf.]]&\" - \"&Tableau15[[#This Row],[Désignation]]&\" - \"&Tableau15[[#This Row],[Contenance]]","v":"5D - Huile vierge de tournesol BIO - 1L"}]
["6A",{"$f":"VLOOKUP($A28,Produits!$A$1:$P$357,2,FALSE)","v":"Pruneaux d’Agen (33/44) - Boîte Or"},{"$f":"VLOOKUP($A28,Produits!$A$1:$P$357,3,FALSE)","v":"1kg"},{"$f":"VLOOKUP($A28,Produits!$A$1:$P$357,5,FALSE)","v":6},{"$f":"VLOOKUP($A28,Produits!$A$1:$P$357,4,FALSE)","v":"Boite métal"},{"$f":"VLOOKUP($A28,Produits!$A$1:$P$357,6,FALSE)","v":9.9526000000000003},{"$f":"VLOOKUP($A28,Produits!$A$1:$P$357,7,FALSE)","v":10.5},{"$f":"VLOOKUP($A28,Produits!$A$1:$P$357,10,FALSE)","v":5.5E-2},{"$f":"VLOOKUP($A28,Produits!$A$1:$P$357,8,FALSE)","v":0.2},{"$f":"VLOOKUP($A28,Produits!$A$1:$P$357,9,FALSE)","v":7.97},{"$f":"IF(ISNA(VLOOKUP($A28,Produits!$A$1:$O$357,14,FALSE)),\"\",VLOOKUP($A28,Produits!$A$1:$O$357,14,FALSE))","v":3760219062721},{"$f":"Tableau15[[#This Row],[Réf.]]&\" - \"&Tableau15[[#This Row],[Désignation]]&\" - \"&Tableau15[[#This Row],[Contenance]]","v":"6A - Pruneaux d’Agen (33/44) - Boîte Or - 1kg"}]
["6B",{"$f":"VLOOKUP($A29,Produits!$A$1:$P$357,2,FALSE)","v":"Pruneaux d’Agen (30/35) - Boîte Or"},{"$f":"VLOOKUP($A29,Produits!$A$1:$P$357,3,FALSE)","v":"1kg"},{"$f":"VLOOKUP($A29,Produits!$A$1:$P$357,5,FALSE)","v":6},{"$f":"VLOOKUP($A29,Produits!$A$1:$P$357,4,FALSE)","v":"Boite métal"},{"$f":"VLOOKUP($A29,Produits!$A$1:$P$357,6,FALSE)","v":11.3744},{"$f":"VLOOKUP($A29,Produits!$A$1:$P$357,7,FALSE)","v":12},{"$f":"VLOOKUP($A29,Produits!$A$1:$P$357,10,FALSE)","v":5.5E-2},{"$f":"VLOOKUP($A29,Produits!$A$1:$P$357,8,FALSE)","v":0.2},{"$f":"VLOOKUP($A29,Produits!$A$1:$P$357,9,FALSE)","v":9.1},{"$f":"IF(ISNA(VLOOKUP($A29,Produits!$A$1:$O$357,14,FALSE)),\"\",VLOOKUP($A29,Produits!$A$1:$O$357,14,FALSE))","v":3760219062714},{"$f":"Tableau15[[#This Row],[Réf.]]&\" - \"&Tableau15[[#This Row],[Désignation]]&\" - \"&Tableau15[[#This Row],[Contenance]]","v":"6B - Pruneaux d’Agen (30/35) - Boîte Or - 1kg"}]
["6C",{"$f":"VLOOKUP($A30,Produits!$A$1:$P$357,2,FALSE)","v":"Pruneaux d’Agen dénoyautés (44/55) - Boîte Or"},{"$f":"VLOOKUP($A30,Produits!$A$1:$P$357,3,FALSE)","v":"1kg"},{"$f":"VLOOKUP($A30,Produits!$A$1:$P$357,5,FALSE)","v":6},{"$f":"VLOOKUP($A30,Produits!$A$1:$P$357,4,FALSE)","v":"Boite métal"},{"$f":"VLOOKUP($A30,Produits!$A$1:$P$357,6,FALSE)","v":12.32227},{"$f":"VLOOKUP($A30,Produits!$A$1:$P$357,7,FALSE)","v":13},{"$f":"VLOOKUP($A30,Produits!$A$1:$P$357,10,FALSE)","v":5.5E-2},{"$f":"VLOOKUP($A30,Produits!$A$1:$P$357,8,FALSE)","v":0.2},{"$f":"VLOOKUP($A30,Produits!$A$1:$P$357,9,FALSE)","v":9.86},{"$f":"IF(ISNA(VLOOKUP($A30,Produits!$A$1:$O$357,14,FALSE)),\"\",VLOOKUP($A30,Produits!$A$1:$O$357,14,FALSE))","v":3760219062707},{"$f":"Tableau15[[#This Row],[Réf.]]&\" - \"&Tableau15[[#This Row],[Désignation]]&\" - \"&Tableau15[[#This Row],[Contenance]]","v":"6C - Pruneaux d’Agen dénoyautés (44/55) - Boîte Or - 1kg"}]
["7A",{"$f":"VLOOKUP($A31,Produits!$A$1:$P$357,2,FALSE)","v":"Pruneaux d’Agen Mi-Cuit"},{"$f":"VLOOKUP($A31,Produits!$A$1:$P$357,3,FALSE)","v":"500g"},{"$f":"VLOOKUP($A31,Produits!$A$1:$P$357,5,FALSE)","v":25},{"$f":"VLOOKUP($A31,Produits!$A$1:$P$357,4,FALSE)","v":"Sachet"},{"$f":"VLOOKUP($A31,Produits!$A$1:$P$357,6,FALSE)","v":4.0758200000000002},{"$f":"VLOOKUP($A31,Produits!$A$1:$P$357,7,FALSE)","v":4.3},{"$f":"VLOOKUP($A31,Produits!$A$1:$P$357,10,FALSE)","v":5.5E-2},{"$f":"VLOOKUP($A31,Produits!$A$1:$P$357,8,FALSE)","v":0.2},{"$f":"VLOOKUP($A31,Produits!$A$1:$P$357,9,FALSE)","v":3.2699999999999996},{"$f":"IF(ISNA(VLOOKUP($A31,Produits!$A$1:$O$357,14,FALSE)),\"\",VLOOKUP($A31,Produits!$A$1:$O$357,14,FALSE))","v":3760219062691},{"$f":"Tableau15[[#This Row],[Réf.]]&\" - \"&Tableau15[[#This Row],[Désignation]]&\" - \"&Tableau15[[#This Row],[Contenance]]","v":"7A - Pruneaux d’Agen Mi-Cuit - 500g"}]
["7B",{"$f":"VLOOKUP($A32,Produits!$A$1:$P$357,2,FALSE)","v":"Pruneaux d’Agen Mi-Cuit"},{"$f":"VLOOKUP($A32,Produits!$A$1:$P$357,3,FALSE)","v":"1kg"},{"$f":"VLOOKUP($A32,Produits!$A$1:$P$357,5,FALSE)","v":14},{"$f":"VLOOKUP($A32,Produits!$A$1:$P$357,4,FALSE)","v":"Sachet"},{"$f":"VLOOKUP($A32,Produits!$A$1:$P$357,6,FALSE)","v":6.8720299999999996},{"$f":"VLOOKUP($A32,Produits!$A$1:$P$357,7,FALSE)","v":7.25},{"$f":"VLOOKUP($A32,Produits!$A$1:$P$357,10,FALSE)","v":5.5E-2},{"$f":"VLOOKUP($A32,Produits!$A$1:$P$357,8,FALSE)","v":0.2},{"$f":"VLOOKUP($A32,Produits!$A$1:$P$357,9,FALSE)","v":5.5},{"$f":"IF(ISNA(VLOOKUP($A32,Produits!$A$1:$O$357,14,FALSE)),\"\",VLOOKUP($A32,Produits!$A$1:$O$357,14,FALSE))","v":3760219062684},{"$f":"Tableau15[[#This Row],[Réf.]]&\" - \"&Tableau15[[#This Row],[Désignation]]&\" - \"&Tableau15[[#This Row],[Contenance]]","v":"7B - Pruneaux d’Agen Mi-Cuit - 1kg"}]
["8A",{"$f":"VLOOKUP($A33,Produits!$A$1:$P$357,2,FALSE)","v":"Pruneaux d’Agen (cal. 33/44) "},{"$f":"VLOOKUP($A33,Produits!$A$1:$P$357,3,FALSE)","v":"250g"},{"$f":"VLOOKUP($A33,Produits!$A$1:$P$357,5,FALSE)","v":50},{"$f":"VLOOKUP($A33,Produits!$A$1:$P$357,4,FALSE)","v":"Sachet"},{"$f":"VLOOKUP($A33,Produits!$A$1:$P$357,6,FALSE)","v":3.0331700000000001},{"$f":"VLOOKUP($A33,Produits!$A$1:$P$357,7,FALSE)","v":3.2},{"$f":"VLOOKUP($A33,Produits!$A$1:$P$357,10,FALSE)","v":5.5E-2},{"$f":"VLOOKUP($A33,Produits!$A$1:$P$357,8,FALSE)","v":0.2},{"$f":"VLOOKUP($A33,Produits!$A$1:$P$357,9,FALSE)","v":2.4299999999999997},{"$f":"IF(ISNA(VLOOKUP($A33,Produits!$A$1:$O$357,14,FALSE)),\"\",VLOOKUP($A33,Produits!$A$1:$O$357,14,FALSE))","v":3760219062677},{"$f":"Tableau15[[#This Row],[Réf.]]&\" - \"&Tableau15[[#This Row],[Désignation]]&\" - \"&Tableau15[[#This Row],[Contenance]]","v":"8A - Pruneaux d’Agen (cal. 33/44)  - 250g"}]
["8B",{"$f":"VLOOKUP($A34,Produits!$A$1:$P$357,2,FALSE)","v":"Pruneaux d’Agen (cal. 33/44)"},{"$f":"VLOOKUP($A34,Produits!$A$1:$P$357,3,FALSE)","v":"500g"},{"$f":"VLOOKUP($A34,Produits!$A$1:$P$357,5,FALSE)","v":25},{"$f":"VLOOKUP($A34,Produits!$A$1:$P$357,4,FALSE)","v":"Sachet"},{"$f":"VLOOKUP($A34,Produits!$A$1:$P$357,6,FALSE)","v":3.60189},{"$f":"VLOOKUP($A34,Produits!$A$1:$P$357,7,FALSE)","v":3.8},{"$f":"VLOOKUP($A34,Produits!$A$1:$P$357,10,FALSE)","v":5.5E-2},{"$f":"VLOOKUP($A34,Produits!$A$1:$P$357,8,FALSE)","v":0.2},{"$f":"VLOOKUP($A34,Produits!$A$1:$P$357,9,FALSE)","v":2.8899999999999997},{"$f":"IF(ISNA(VLOOKUP($A34,Produits!$A$1:$O$357,14,FALSE)),\"\",VLOOKUP($A34,Produits!$A$1:$O$357,14,FALSE))","v":3760219062660},{"$f":"Tableau15[[#This Row],[Réf.]]&\" - \"&Tableau15[[#This Row],[Désignation]]&\" - \"&Tableau15[[#This Row],[Contenance]]","v":"8B - Pruneaux d’Agen (cal. 33/44) - 500g"}]
["8C",{"$f":"VLOOKUP($A35,Produits!$A$1:$P$357,2,FALSE)","v":"Pruneaux d’Agen (cal. 33/44)"},{"$f":"VLOOKUP($A35,Produits!$A$1:$P$357,3,FALSE)","v":"1kg"},{"$f":"VLOOKUP($A35,Produits!$A$1:$P$357,5,FALSE)","v":14},{"$f":"VLOOKUP($A35,Produits!$A$1:$P$357,4,FALSE)","v":"Sachet"},{"$f":"VLOOKUP($A35,Produits!$A$1:$P$357,6,FALSE)","v":6.16113},{"$f":"VLOOKUP($A35,Produits!$A$1:$P$357,7,FALSE)","v":6.5},{"$f":"VLOOKUP($A35,Produits!$A$1:$P$357,10,FALSE)","v":5.5E-2},{"$f":"VLOOKUP($A35,Produits!$A$1:$P$357,8,FALSE)","v":0.2},{"$f":"VLOOKUP($A35,Produits!$A$1:$P$357,9,FALSE)","v":4.93},{"$f":"IF(ISNA(VLOOKUP($A35,Produits!$A$1:$O$357,14,FALSE)),\"\",VLOOKUP($A35,Produits!$A$1:$O$357,14,FALSE))","v":3760219062653},{"$f":"Tableau15[[#This Row],[Réf.]]&\" - \"&Tableau15[[#This Row],[Désignation]]&\" - \"&Tableau15[[#This Row],[Contenance]]","v":"8C - Pruneaux d’Agen (cal. 33/44) - 1kg"}]
["8D",{"$f":"VLOOKUP($A36,Produits!$A$1:$P$357,2,FALSE)","v":"Pruneaux d’Agen (cal. 30/35)"},{"$f":"VLOOKUP($A36,Produits!$A$1:$P$357,3,FALSE)","v":"500g"},{"$f":"VLOOKUP($A36,Produits!$A$1:$P$357,5,FALSE)","v":25},{"$f":"VLOOKUP($A36,Produits!$A$1:$P$357,4,FALSE)","v":"Sachet"},{"$f":"VLOOKUP($A36,Produits!$A$1:$P$357,6,FALSE)","v":4.6445400000000001},{"$f":"VLOOKUP($A36,Produits!$A$1:$P$357,7,FALSE)","v":4.9000000000000004},{"$f":"VLOOKUP($A36,Produits!$A$1:$P$357,10,FALSE)","v":5.5E-2},{"$f":"VLOOKUP($A36,Produits!$A$1:$P$357,8,FALSE)","v":0.2},{"$f":"VLOOKUP($A36,Produits!$A$1:$P$357,9,FALSE)","v":3.7199999999999998},{"$f":"IF(ISNA(VLOOKUP($A36,Produits!$A$1:$O$357,14,FALSE)),\"\",VLOOKUP($A36,Produits!$A$1:$O$357,14,FALSE))","v":3760219062646},{"$f":"Tableau15[[#This Row],[Réf.]]&\" - \"&Tableau15[[#This Row],[Désignation]]&\" - \"&Tableau15[[#This Row],[Contenance]]","v":"8D - Pruneaux d’Agen (cal. 30/35) - 500g"}]
["8E",{"$f":"VLOOKUP($A37,Produits!$A$1:$P$357,2,FALSE)","v":"Pruneaux d’Agen (cal. 30/35) "},{"$f":"VLOOKUP($A37,Produits!$A$1:$P$357,3,FALSE)","v":"1kg"},{"$f":"VLOOKUP($A37,Produits!$A$1:$P$357,5,FALSE)","v":14},{"$f":"VLOOKUP($A37,Produits!$A$1:$P$357,4,FALSE)","v":"Sachet"},{"$f":"VLOOKUP($A37,Produits!$A$1:$P$357,6,FALSE)","v":7.6777199999999999},{"$f":"VLOOKUP($A37,Produits!$A$1:$P$357,7,FALSE)","v":8.1},{"$f":"VLOOKUP($A37,Produits!$A$1:$P$357,10,FALSE)","v":5.5E-2},{"$f":"VLOOKUP($A37,Produits!$A$1:$P$357,8,FALSE)","v":0.2},{"$f":"VLOOKUP($A37,Produits!$A$1:$P$357,9,FALSE)","v":6.1499999999999995},{"$f":"IF(ISNA(VLOOKUP($A37,Produits!$A$1:$O$357,14,FALSE)),\"\",VLOOKUP($A37,Produits!$A$1:$O$357,14,FALSE))","v":3760219062639},{"$f":"Tableau15[[#This Row],[Réf.]]&\" - \"&Tableau15[[#This Row],[Désignation]]&\" - \"&Tableau15[[#This Row],[Contenance]]","v":"8E - Pruneaux d’Agen (cal. 30/35)  - 1kg"}]
["8F",{"$f":"VLOOKUP($A38,Produits!$A$1:$P$357,2,FALSE)","v":"Pruneaux d’Agen (cal. 25/30)"},{"$f":"VLOOKUP($A38,Produits!$A$1:$P$357,3,FALSE)","v":"500g"},{"$f":"VLOOKUP($A38,Produits!$A$1:$P$357,5,FALSE)","v":25},{"$f":"VLOOKUP($A38,Produits!$A$1:$P$357,4,FALSE)","v":"Sachet"},{"$f":"VLOOKUP($A38,Produits!$A$1:$P$357,6,FALSE)","v":4.8341200000000004},{"$f":"VLOOKUP($A38,Produits!$A$1:$P$357,7,FALSE)","v":5.0999999999999996},{"$f":"VLOOKUP($A38,Produits!$A$1:$P$357,10,FALSE)","v":5.5E-2},{"$f":"VLOOKUP($A38,Produits!$A$1:$P$357,8,FALSE)","v":0.2},{"$f":"VLOOKUP($A38,Produits!$A$1:$P$357,9,FALSE)","v":3.8699999999999997},{"$f":"IF(ISNA(VLOOKUP($A38,Produits!$A$1:$O$357,14,FALSE)),\"\",VLOOKUP($A38,Produits!$A$1:$O$357,14,FALSE))","v":3760219062622},{"$f":"Tableau15[[#This Row],[Réf.]]&\" - \"&Tableau15[[#This Row],[Désignation]]&\" - \"&Tableau15[[#This Row],[Contenance]]","v":"8F - Pruneaux d’Agen (cal. 25/30) - 500g"}]
["8G",{"$f":"VLOOKUP($A39,Produits!$A$1:$P$357,2,FALSE)","v":"Pruneaux d’Agen (cal. 25/30)"},{"$f":"VLOOKUP($A39,Produits!$A$1:$P$357,3,FALSE)","v":"1kg"},{"$f":"VLOOKUP($A39,Produits!$A$1:$P$357,5,FALSE)","v":14},{"$f":"VLOOKUP($A39,Produits!$A$1:$P$357,4,FALSE)","v":"Sachet"},{"$f":"VLOOKUP($A39,Produits!$A$1:$P$357,6,FALSE)","v":8.0500000000000007},{"$f":"VLOOKUP($A39,Produits!$A$1:$P$357,7,FALSE)","v":8.5},{"$f":"VLOOKUP($A39,Produits!$A$1:$P$357,10,FALSE)","v":5.5E-2},{"$f":"VLOOKUP($A39,Produits!$A$1:$P$357,8,FALSE)","v":0.2},{"$f":"VLOOKUP($A39,Produits!$A$1:$P$357,9,FALSE)","v":6.44},{"$f":"IF(ISNA(VLOOKUP($A39,Produits!$A$1:$O$357,14,FALSE)),\"\",VLOOKUP($A39,Produits!$A$1:$O$357,14,FALSE))","v":3760219062615},{"$f":"Tableau15[[#This Row],[Réf.]]&\" - \"&Tableau15[[#This Row],[Désignation]]&\" - \"&Tableau15[[#This Row],[Contenance]]","v":"8G - Pruneaux d’Agen (cal. 25/30) - 1kg"}]
["8H",{"$f":"VLOOKUP($A40,Produits!$A$1:$P$357,2,FALSE)","v":"Pruneaux d’Agen (cal. 33/44)"},{"$f":"VLOOKUP($A40,Produits!$A$1:$P$357,3,FALSE)","v":"5kg (2x2,5kg)"},{"$f":"VLOOKUP($A40,Produits!$A$1:$P$357,5,FALSE)","v":4},{"$f":"VLOOKUP($A40,Produits!$A$1:$P$357,4,FALSE)","v":"Sachet"},{"$f":"VLOOKUP($A40,Produits!$A$1:$P$357,6,FALSE)","v":26.919429999999998},{"$f":"VLOOKUP($A40,Produits!$A$1:$P$357,7,FALSE)","v":28.4},{"$f":"VLOOKUP($A40,Produits!$A$1:$P$357,10,FALSE)","v":5.5E-2},{"$f":"VLOOKUP($A40,Produits!$A$1:$P$357,8,FALSE)","v":0.2},{"$f":"VLOOKUP($A40,Produits!$A$1:$P$357,9,FALSE)","v":21.540000000000003},{"$f":"IF(ISNA(VLOOKUP($A40,Produits!$A$1:$O$357,14,FALSE)),\"\",VLOOKUP($A40,Produits!$A$1:$O$357,14,FALSE))","v":3760219062608},{"$f":"Tableau15[[#This Row],[Réf.]]&\" - \"&Tableau15[[#This Row],[Désignation]]&\" - \"&Tableau15[[#This Row],[Contenance]]","v":"8H - Pruneaux d’Agen (cal. 33/44) - 5kg (2x2,5kg)"}]
["8I",{"$f":"VLOOKUP($A41,Produits!$A$1:$P$357,2,FALSE)","v":"Pruneaux d’Agen (cal. 33/44) avec conservateur e200"},{"$f":"VLOOKUP($A41,Produits!$A$1:$P$357,3,FALSE)","v":"14kg"},{"$f":"VLOOKUP($A41,Produits!$A$1:$P$357,5,FALSE)","v":1},{"$f":"VLOOKUP($A41,Produits!$A$1:$P$357,4,FALSE)","v":"Sachet"},{"$f":"VLOOKUP($A41,Produits!$A$1:$P$357,6,FALSE)","v":74.881510000000006},{"$f":"VLOOKUP($A41,Produits!$A$1:$P$357,7,FALSE)","v":79},{"$f":"VLOOKUP($A41,Produits!$A$1:$P$357,10,FALSE)","v":5.5E-2},{"$f":"VLOOKUP($A41,Produits!$A$1:$P$357,8,FALSE)","v":0.2},{"$f":"VLOOKUP($A41,Produits!$A$1:$P$357,9,FALSE)","v":59.91},{"$f":"IF(ISNA(VLOOKUP($A41,Produits!$A$1:$O$357,14,FALSE)),\"\",VLOOKUP($A41,Produits!$A$1:$O$357,14,FALSE))","v":3760219062592},{"$f":"Tableau15[[#This Row],[Réf.]]&\" - \"&Tableau15[[#This Row],[Désignation]]&\" - \"&Tableau15[[#This Row],[Contenance]]","v":"8I - Pruneaux d’Agen (cal. 33/44) avec conservateur e200 - 14kg"}]
["9A",{"$f":"VLOOKUP($A42,Produits!$A$1:$P$357,2,FALSE)","v":"Pruneaux d’Agen dénoyautés (cal. 44/55)"},{"$f":"VLOOKUP($A42,Produits!$A$1:$P$357,3,FALSE)","v":"250g"},{"$f":"VLOOKUP($A42,Produits!$A$1:$P$357,5,FALSE)","v":50},{"$f":"VLOOKUP($A42,Produits!$A$1:$P$357,4,FALSE)","v":"Sachet"},{"$f":"VLOOKUP($A42,Produits!$A$1:$P$357,6,FALSE)","v":3.31},{"$f":"VLOOKUP($A42,Produits!$A$1:$P$357,7,FALSE)","v":3.5},{"$f":"VLOOKUP($A42,Produits!$A$1:$P$357,10,FALSE)","v":5.5E-2},{"$f":"VLOOKUP($A42,Produits!$A$1:$P$357,8,FALSE)","v":0.2},{"$f":"VLOOKUP($A42,Produits!$A$1:$P$357,9,FALSE)","v":2.65},{"$f":"IF(ISNA(VLOOKUP($A42,Produits!$A$1:$O$357,14,FALSE)),\"\",VLOOKUP($A42,Produits!$A$1:$O$357,14,FALSE))","v":3760219062585},{"$f":"Tableau15[[#This Row],[Réf.]]&\" - \"&Tableau15[[#This Row],[Désignation]]&\" - \"&Tableau15[[#This Row],[Contenance]]","v":"9A - Pruneaux d’Agen dénoyautés (cal. 44/55) - 250g"}]
["9B",{"$f":"VLOOKUP($A43,Produits!$A$1:$P$357,2,FALSE)","v":"Pruneaux d’Agen dénoyautés (cal. 44/55)"},{"$f":"VLOOKUP($A43,Produits!$A$1:$P$357,3,FALSE)","v":"500g"},{"$f":"VLOOKUP($A43,Produits!$A$1:$P$357,5,FALSE)","v":25},{"$f":"VLOOKUP($A43,Produits!$A$1:$P$357,4,FALSE)","v":"Sachet"},{"$f":"VLOOKUP($A43,Produits!$A$1:$P$357,6,FALSE)","v":4.54976},{"$f":"VLOOKUP($A43,Produits!$A$1:$P$357,7,FALSE)","v":4.8},{"$f":"VLOOKUP($A43,Produits!$A$1:$P$357,10,FALSE)","v":5.5E-2},{"$f":"VLOOKUP($A43,Produits!$A$1:$P$357,8,FALSE)","v":0.2},{"$f":"VLOOKUP($A43,Produits!$A$1:$P$357,9,FALSE)","v":3.6399999999999997},{"$f":"IF(ISNA(VLOOKUP($A43,Produits!$A$1:$O$357,14,FALSE)),\"\",VLOOKUP($A43,Produits!$A$1:$O$357,14,FALSE))","v":3760219062578},{"$f":"Tableau15[[#This Row],[Réf.]]&\" - \"&Tableau15[[#This Row],[Désignation]]&\" - \"&Tableau15[[#This Row],[Contenance]]","v":"9B - Pruneaux d’Agen dénoyautés (cal. 44/55) - 500g"}]
["9C",{"$f":"VLOOKUP($A44,Produits!$A$1:$P$357,2,FALSE)","v":"Pruneaux d’Agen dénoyautés (cal. 44/55)"},{"$f":"VLOOKUP($A44,Produits!$A$1:$P$357,3,FALSE)","v":"1kg"},{"$f":"VLOOKUP($A44,Produits!$A$1:$P$357,5,FALSE)","v":14},{"$f":"VLOOKUP($A44,Produits!$A$1:$P$357,4,FALSE)","v":"Sachet"},{"$f":"VLOOKUP($A44,Produits!$A$1:$P$357,6,FALSE)","v":8.4360099999999996},{"$f":"VLOOKUP($A44,Produits!$A$1:$P$357,7,FALSE)","v":8.9},{"$f":"VLOOKUP($A44,Produits!$A$1:$P$357,10,FALSE)","v":5.5E-2},{"$f":"VLOOKUP($A44,Produits!$A$1:$P$357,8,FALSE)","v":0.2},{"$f":"VLOOKUP($A44,Produits!$A$1:$P$357,9,FALSE)","v":6.75},{"$f":"IF(ISNA(VLOOKUP($A44,Produits!$A$1:$O$357,14,FALSE)),\"\",VLOOKUP($A44,Produits!$A$1:$O$357,14,FALSE))","v":3760219062561},{"$f":"Tableau15[[#This Row],[Réf.]]&\" - \"&Tableau15[[#This Row],[Désignation]]&\" - \"&Tableau15[[#This Row],[Contenance]]","v":"9C - Pruneaux d’Agen dénoyautés (cal. 44/55) - 1kg"}]
["9D",{"$f":"VLOOKUP($A45,Produits!$A$1:$P$357,2,FALSE)","v":"Pruneaux d’Agen dénoyautés (cal. 30/35) "},{"$f":"VLOOKUP($A45,Produits!$A$1:$P$357,3,FALSE)","v":"500g"},{"$f":"VLOOKUP($A45,Produits!$A$1:$P$357,5,FALSE)","v":25},{"$f":"VLOOKUP($A45,Produits!$A$1:$P$357,4,FALSE)","v":"Sachet"},{"$f":"VLOOKUP($A45,Produits!$A$1:$P$357,6,FALSE)","v":5.2132699999999996},{"$f":"VLOOKUP($A45,Produits!$A$1:$P$357,7,FALSE)","v":5.5},{"$f":"VLOOKUP($A45,Produits!$A$1:$P$357,10,FALSE)","v":5.5E-2},{"$f":"VLOOKUP($A45,Produits!$A$1:$P$357,8,FALSE)","v":0.2},{"$f":"VLOOKUP($A45,Produits!$A$1:$P$357,9,FALSE)","v":4.18},{"$f":"IF(ISNA(VLOOKUP($A45,Produits!$A$1:$O$357,14,FALSE)),\"\",VLOOKUP($A45,Produits!$A$1:$O$357,14,FALSE))","v":3760219062554},{"$f":"Tableau15[[#This Row],[Réf.]]&\" - \"&Tableau15[[#This Row],[Désignation]]&\" - \"&Tableau15[[#This Row],[Contenance]]","v":"9D - Pruneaux d’Agen dénoyautés (cal. 30/35)  - 500g"}]
["9E",{"$f":"VLOOKUP($A46,Produits!$A$1:$P$357,2,FALSE)","v":"Pruneaux d’Agen dénoyautés (cal. 30/35)"},{"$f":"VLOOKUP($A46,Produits!$A$1:$P$357,3,FALSE)","v":"1kg"},{"$f":"VLOOKUP($A46,Produits!$A$1:$P$357,5,FALSE)","v":14},{"$f":"VLOOKUP($A46,Produits!$A$1:$P$357,4,FALSE)","v":"Sachet"},{"$f":"VLOOKUP($A46,Produits!$A$1:$P$357,6,FALSE)","v":8.7203700000000008},{"$f":"VLOOKUP($A46,Produits!$A$1:$P$357,7,FALSE)","v":9.1999999999999993},{"$f":"VLOOKUP($A46,Produits!$A$1:$P$357,10,FALSE)","v":5.5E-2},{"$f":"VLOOKUP($A46,Produits!$A$1:$P$357,8,FALSE)","v":0.2},{"$f":"VLOOKUP($A46,Produits!$A$1:$P$357,9,FALSE)","v":6.9799999999999995},{"$f":"IF(ISNA(VLOOKUP($A46,Produits!$A$1:$O$357,14,FALSE)),\"\",VLOOKUP($A46,Produits!$A$1:$O$357,14,FALSE))","v":3760219062547},{"$f":"Tableau15[[#This Row],[Réf.]]&\" - \"&Tableau15[[#This Row],[Désignation]]&\" - \"&Tableau15[[#This Row],[Contenance]]","v":"9E - Pruneaux d’Agen dénoyautés (cal. 30/35) - 1kg"}]
["10A",{"$f":"VLOOKUP($A47,Produits!$A$1:$P$357,2,FALSE)","v":"Jus de Pruneaux"},{"$f":"VLOOKUP($A47,Produits!$A$1:$P$357,3,FALSE)","v":"1L"},{"$f":"VLOOKUP($A47,Produits!$A$1:$P$357,5,FALSE)","v":6},{"$f":"VLOOKUP($A47,Produits!$A$1:$P$357,4,FALSE)","v":"Bouteille"},{"$f":"VLOOKUP($A47,Produits!$A$1:$P$357,6,FALSE)","v":3.9810400000000001},{"$f":"VLOOKUP($A47,Produits!$A$1:$P$357,7,FALSE)","v":4.2},{"$f":"VLOOKUP($A47,Produits!$A$1:$P$357,10,FALSE)","v":5.5E-2},{"$f":"VLOOKUP($A47,Produits!$A$1:$P$357,8,FALSE)","v":0.2},{"$f":"VLOOKUP($A47,Produits!$A$1:$P$357,9,FALSE)","v":3.19},{"$f":"IF(ISNA(VLOOKUP($A47,Produits!$A$1:$O$357,14,FALSE)),\"\",VLOOKUP($A47,Produits!$A$1:$O$357,14,FALSE))","v":3760219062530},{"$f":"Tableau15[[#This Row],[Réf.]]&\" - \"&Tableau15[[#This Row],[Désignation]]&\" - \"&Tableau15[[#This Row],[Contenance]]","v":"10A - Jus de Pruneaux - 1L"}]
["10B",{"$f":"VLOOKUP($A48,Produits!$A$1:$P$357,2,FALSE)","v":"Jus de Pruneaux"},{"$f":"VLOOKUP($A48,Produits!$A$1:$P$357,3,FALSE)","v":"25cl"},{"$f":"VLOOKUP($A48,Produits!$A$1:$P$357,5,FALSE)","v":12},{"$f":"VLOOKUP($A48,Produits!$A$1:$P$357,4,FALSE)","v":"Bouteille"},{"$f":"VLOOKUP($A48,Produits!$A$1:$P$357,6,FALSE)","v":2.0853000000000002},{"$f":"VLOOKUP($A48,Produits!$A$1:$P$357,7,FALSE)","v":2.2000000000000002},{"$f":"VLOOKUP($A48,Produits!$A$1:$P$357,10,FALSE)","v":5.5E-2},{"$f":"VLOOKUP($A48,Produits!$A$1:$P$357,8,FALSE)","v":0.2},{"$f":"VLOOKUP($A48,Produits!$A$1:$P$357,9,FALSE)","v":1.67},{"$f":"IF(ISNA(VLOOKUP($A48,Produits!$A$1:$O$357,14,FALSE)),\"\",VLOOKUP($A48,Produits!$A$1:$O$357,14,FALSE))","v":3760219062905},{"$f":"Tableau15[[#This Row],[Réf.]]&\" - \"&Tableau15[[#This Row],[Désignation]]&\" - \"&Tableau15[[#This Row],[Contenance]]","v":"10B - Jus de Pruneaux - 25cl"}]
["11A",{"$f":"VLOOKUP($A49,Produits!$A$1:$P$357,2,FALSE)","v":"Pétillant de pruneaux"},{"$f":"VLOOKUP($A49,Produits!$A$1:$P$357,3,FALSE)","v":"0,75L"},{"$f":"VLOOKUP($A49,Produits!$A$1:$P$357,5,FALSE)","v":6},{"$f":"VLOOKUP($A49,Produits!$A$1:$P$357,4,FALSE)","v":"Bouteille"},{"$f":"VLOOKUP($A49,Produits!$A$1:$P$357,6,FALSE)","v":5.5924100000000001},{"$f":"VLOOKUP($A49,Produits!$A$1:$P$357,7,FALSE)","v":5.9},{"$f":"VLOOKUP($A49,Produits!$A$1:$P$357,10,FALSE)","v":5.5E-2},{"$f":"VLOOKUP($A49,Produits!$A$1:$P$357,8,FALSE)","v":0.2},{"$f":"VLOOKUP($A49,Produits!$A$1:$P$357,9,FALSE)","v":4.4799999999999995},{"$f":"IF(ISNA(VLOOKUP($A49,Produits!$A$1:$O$357,14,FALSE)),\"\",VLOOKUP($A49,Produits!$A$1:$O$357,14,FALSE))","v":3760219062523},{"$f":"Tableau15[[#This Row],[Réf.]]&\" - \"&Tableau15[[#This Row],[Désignation]]&\" - \"&Tableau15[[#This Row],[Contenance]]","v":"11A - Pétillant de pruneaux - 0,75L"}]
["12A",{"$f":"VLOOKUP($A50,Produits!$A$1:$P$357,2,FALSE)","v":"Pruneaux d’Agen secs"},{"$f":"VLOOKUP($A50,Produits!$A$1:$P$357,3,FALSE)","v":"500g"},{"$f":"VLOOKUP($A50,Produits!$A$1:$P$357,5,FALSE)","v":25},{"$f":"VLOOKUP($A50,Produits!$A$1:$P$357,4,FALSE)","v":"Sachet"},{"$f":"VLOOKUP($A50,Produits!$A$1:$P$357,6,FALSE)","v":2.3696600000000001},{"$f":"VLOOKUP($A50,Produits!$A$1:$P$357,7,FALSE)","v":2.5},{"$f":"VLOOKUP($A50,Produits!$A$1:$P$357,10,FALSE)","v":5.5E-2},{"$f":"VLOOKUP($A50,Produits!$A$1:$P$357,8,FALSE)","v":0.2},{"$f":"VLOOKUP($A50,Produits!$A$1:$P$357,9,FALSE)","v":1.9},{"$f":"IF(ISNA(VLOOKUP($A50,Produits!$A$1:$O$357,14,FALSE)),\"\",VLOOKUP($A50,Produits!$A$1:$O$357,14,FALSE))","v":3760219062516},{"$f":"Tableau15[[#This Row],[Réf.]]&\" - \"&Tableau15[[#This Row],[Désignation]]&\" - \"&Tableau15[[#This Row],[Contenance]]","v":"12A - Pruneaux d’Agen secs - 500g"}]
["12B",{"$f":"VLOOKUP($A51,Produits!$A$1:$P$357,2,FALSE)","v":"Pruneaux d’Agen secs"},{"$f":"VLOOKUP($A51,Produits!$A$1:$P$357,3,FALSE)","v":"1kg"},{"$f":"VLOOKUP($A51,Produits!$A$1:$P$357,5,FALSE)","v":14},{"$f":"VLOOKUP($A51,Produits!$A$1:$P$357,4,FALSE)","v":"Sachet"},{"$f":"VLOOKUP($A51,Produits!$A$1:$P$357,6,FALSE)","v":4.6445400000000001},{"$f":"VLOOKUP($A51,Produits!$A$1:$P$357,7,FALSE)","v":4.9000000000000004},{"$f":"VLOOKUP($A51,Produits!$A$1:$P$357,10,FALSE)","v":5.5E-2},{"$f":"VLOOKUP($A51,Produits!$A$1:$P$357,8,FALSE)","v":0.2},{"$f":"VLOOKUP($A51,Produits!$A$1:$P$357,9,FALSE)","v":3.7199999999999998},{"$f":"IF(ISNA(VLOOKUP($A51,Produits!$A$1:$O$357,14,FALSE)),\"\",VLOOKUP($A51,Produits!$A$1:$O$357,14,FALSE))","v":3760219062509},{"$f":"Tableau15[[#This Row],[Réf.]]&\" - \"&Tableau15[[#This Row],[Désignation]]&\" - \"&Tableau15[[#This Row],[Contenance]]","v":"12B - Pruneaux d’Agen secs - 1kg"}]
["13A",{"$f":"VLOOKUP($A52,Produits!$A$1:$P$357,2,FALSE)","v":"Crème de pruneaux"},{"$f":"VLOOKUP($A52,Produits!$A$1:$P$357,3,FALSE)","v":"220g"},{"$f":"VLOOKUP($A52,Produits!$A$1:$P$357,5,FALSE)","v":24},{"$f":"VLOOKUP($A52,Produits!$A$1:$P$357,4,FALSE)","v":"Bocal"},{"$f":"VLOOKUP($A52,Produits!$A$1:$P$357,6,FALSE)","v":3.0331700000000001},{"$f":"VLOOKUP($A52,Produits!$A$1:$P$357,7,FALSE)","v":3.2},{"$f":"VLOOKUP($A52,Produits!$A$1:$P$357,10,FALSE)","v":5.5E-2},{"$f":"VLOOKUP($A52,Produits!$A$1:$P$357,8,FALSE)","v":0.2},{"$f":"VLOOKUP($A52,Produits!$A$1:$P$357,9,FALSE)","v":2.4299999999999997},{"$f":"IF(ISNA(VLOOKUP($A52,Produits!$A$1:$O$357,14,FALSE)),\"\",VLOOKUP($A52,Produits!$A$1:$O$357,14,FALSE))","v":3760219062493},{"$f":"Tableau15[[#This Row],[Réf.]]&\" - \"&Tableau15[[#This Row],[Désignation]]&\" - \"&Tableau15[[#This Row],[Contenance]]","v":"13A - Crème de pruneaux - 220g"}]
["13B",{"$f":"VLOOKUP($A53,Produits!$A$1:$P$357,2,FALSE)","v":"Crème de pruneaux"},{"$f":"VLOOKUP($A53,Produits!$A$1:$P$357,3,FALSE)","v":"320g"},{"$f":"VLOOKUP($A53,Produits!$A$1:$P$357,5,FALSE)","v":24},{"$f":"VLOOKUP($A53,Produits!$A$1:$P$357,4,FALSE)","v":"Bocal"},{"$f":"VLOOKUP($A53,Produits!$A$1:$P$357,6,FALSE)","v":3.9810400000000001},{"$f":"VLOOKUP($A53,Produits!$A$1:$P$357,7,FALSE)","v":4.2},{"$f":"VLOOKUP($A53,Produits!$A$1:$P$357,10,FALSE)","v":5.5E-2},{"$f":"VLOOKUP($A53,Produits!$A$1:$P$357,8,FALSE)","v":0.28000000000000003},{"$f":"VLOOKUP($A53,Produits!$A$1:$P$357,9,FALSE)","v":2.8699999999999997},{"$f":"IF(ISNA(VLOOKUP($A53,Produits!$A$1:$O$357,14,FALSE)),\"\",VLOOKUP($A53,Produits!$A$1:$O$357,14,FALSE))","v":3760219062486},{"$f":"Tableau15[[#This Row],[Réf.]]&\" - \"&Tableau15[[#This Row],[Désignation]]&\" - \"&Tableau15[[#This Row],[Contenance]]","v":"13B - Crème de pruneaux - 320g"}]
["14A",{"$f":"VLOOKUP($A54,Produits!$A$1:$P$357,2,FALSE)","v":"Pulpe de pruneaux"},{"$f":"VLOOKUP($A54,Produits!$A$1:$P$357,3,FALSE)","v":"310g"},{"$f":"VLOOKUP($A54,Produits!$A$1:$P$357,5,FALSE)","v":24},{"$f":"VLOOKUP($A54,Produits!$A$1:$P$357,4,FALSE)","v":"Bocal"},{"$f":"VLOOKUP($A54,Produits!$A$1:$P$357,6,FALSE)","v":3.9810400000000001},{"$f":"VLOOKUP($A54,Produits!$A$1:$P$357,7,FALSE)","v":4.2},{"$f":"VLOOKUP($A54,Produits!$A$1:$P$357,10,FALSE)","v":5.5E-2},{"$f":"VLOOKUP($A54,Produits!$A$1:$P$357,8,FALSE)","v":0.28000000000000003},{"$f":"VLOOKUP($A54,Produits!$A$1:$P$357,9,FALSE)","v":2.8699999999999997},{"$f":"IF(ISNA(VLOOKUP($A54,Produits!$A$1:$O$357,14,FALSE)),\"\",VLOOKUP($A54,Produits!$A$1:$O$357,14,FALSE))","v":3760219062479},{"$f":"Tableau15[[#This Row],[Réf.]]&\" - \"&Tableau15[[#This Row],[Désignation]]&\" - \"&Tableau15[[#This Row],[Contenance]]","v":"14A - Pulpe de pruneaux - 310g"}]
["15A",{"$f":"VLOOKUP($A55,Produits!$A$1:$P$357,2,FALSE)","v":"Pruneaux au sirop"},{"$f":"VLOOKUP($A55,Produits!$A$1:$P$357,3,FALSE)","v":"320g"},{"$f":"VLOOKUP($A55,Produits!$A$1:$P$357,5,FALSE)","v":14},{"$f":"VLOOKUP($A55,Produits!$A$1:$P$357,4,FALSE)","v":"Bocal"},{"$f":"VLOOKUP($A55,Produits!$A$1:$P$357,6,FALSE)","v":3.2227399999999999},{"$f":"VLOOKUP($A55,Produits!$A$1:$P$357,7,FALSE)","v":3.4},{"$f":"VLOOKUP($A55,Produits!$A$1:$P$357,10,FALSE)","v":5.5E-2},{"$f":"VLOOKUP($A55,Produits!$A$1:$P$357,8,FALSE)","v":0.2},{"$f":"VLOOKUP($A55,Produits!$A$1:$P$357,9,FALSE)","v":2.5799999999999996},{"$f":"IF(ISNA(VLOOKUP($A55,Produits!$A$1:$O$357,14,FALSE)),\"\",VLOOKUP($A55,Produits!$A$1:$O$357,14,FALSE))","v":3760219062462},{"$f":"Tableau15[[#This Row],[Réf.]]&\" - \"&Tableau15[[#This Row],[Désignation]]&\" - \"&Tableau15[[#This Row],[Contenance]]","v":"15A - Pruneaux au sirop - 320g"}]
["16A",{"$f":"VLOOKUP($A56,Produits!$A$1:$P$357,2,FALSE)","v":"Confiture de Prune d'Ente allégée"},{"$f":"VLOOKUP($A56,Produits!$A$1:$P$357,3,FALSE)","v":"250g"},{"$f":"VLOOKUP($A56,Produits!$A$1:$P$357,5,FALSE)","v":10},{"$f":"VLOOKUP($A56,Produits!$A$1:$P$357,4,FALSE)","v":"Bocal"},{"$f":"VLOOKUP($A56,Produits!$A$1:$P$357,6,FALSE)","v":3.7914599999999998},{"$f":"VLOOKUP($A56,Produits!$A$1:$P$357,7,FALSE)","v":4},{"$f":"VLOOKUP($A56,Produits!$A$1:$P$357,10,FALSE)","v":5.5E-2},{"$f":"VLOOKUP($A56,Produits!$A$1:$P$357,8,FALSE)","v":0.2},{"$f":"VLOOKUP($A56,Produits!$A$1:$P$357,9,FALSE)","v":3.0399999999999996},{"$f":"IF(ISNA(VLOOKUP($A56,Produits!$A$1:$O$357,14,FALSE)),\"\",VLOOKUP($A56,Produits!$A$1:$O$357,14,FALSE))","v":3760219062455},{"$f":"Tableau15[[#This Row],[Réf.]]&\" - \"&Tableau15[[#This Row],[Désignation]]&\" - \"&Tableau15[[#This Row],[Contenance]]","v":"16A - Confiture de Prune d'Ente allégée - 250g"}]
["16B",{"$f":"VLOOKUP($A57,Produits!$A$1:$P$357,2,FALSE)","v":"Confiture de Prune Reine-Claude allégée"},{"$f":"VLOOKUP($A57,Produits!$A$1:$P$357,3,FALSE)","v":"250g"},{"$f":"VLOOKUP($A57,Produits!$A$1:$P$357,5,FALSE)","v":10},{"$f":"VLOOKUP($A57,Produits!$A$1:$P$357,4,FALSE)","v":"Bocal"},{"$f":"VLOOKUP($A57,Produits!$A$1:$P$357,6,FALSE)","v":3.7914599999999998},{"$f":"VLOOKUP($A57,Produits!$A$1:$P$357,7,FALSE)","v":4},{"$f":"VLOOKUP($A57,Produits!$A$1:$P$357,10,FALSE)","v":5.5E-2},{"$f":"VLOOKUP($A57,Produits!$A$1:$P$357,8,FALSE)","v":0.2},{"$f":"VLOOKUP($A57,Produits!$A$1:$P$357,9,FALSE)","v":3.0399999999999996},{"$f":"IF(ISNA(VLOOKUP($A57,Produits!$A$1:$O$357,14,FALSE)),\"\",VLOOKUP($A57,Produits!$A$1:$O$357,14,FALSE))","v":3760219062448},{"$f":"Tableau15[[#This Row],[Réf.]]&\" - \"&Tableau15[[#This Row],[Désignation]]&\" - \"&Tableau15[[#This Row],[Contenance]]","v":"16B - Confiture de Prune Reine-Claude allégée - 250g"}]
["16C",{"$f":"VLOOKUP($A58,Produits!$A$1:$P$357,2,FALSE)","v":"Confiture de Fraise"},{"$f":"VLOOKUP($A58,Produits!$A$1:$P$357,3,FALSE)","v":"250g"},{"$f":"VLOOKUP($A58,Produits!$A$1:$P$357,5,FALSE)","v":10},{"$f":"VLOOKUP($A58,Produits!$A$1:$P$357,4,FALSE)","v":"Bocal"},{"$f":"VLOOKUP($A58,Produits!$A$1:$P$357,6,FALSE)","v":3.7914599999999998},{"$f":"VLOOKUP($A58,Produits!$A$1:$P$357,7,FALSE)","v":4},{"$f":"VLOOKUP($A58,Produits!$A$1:$P$357,10,FALSE)","v":5.5E-2},{"$f":"VLOOKUP($A58,Produits!$A$1:$P$357,8,FALSE)","v":0.2},{"$f":"VLOOKUP($A58,Produits!$A$1:$P$357,9,FALSE)","v":3.0399999999999996},{"$f":"IF(ISNA(VLOOKUP($A58,Produits!$A$1:$O$357,14,FALSE)),\"\",VLOOKUP($A58,Produits!$A$1:$O$357,14,FALSE))","v":3760219062431},{"$f":"Tableau15[[#This Row],[Réf.]]&\" - \"&Tableau15[[#This Row],[Désignation]]&\" - \"&Tableau15[[#This Row],[Contenance]]","v":"16C - Confiture de Fraise - 250g"}]
["17A",{"$f":"VLOOKUP($A59,Produits!$A$1:$P$357,2,FALSE)","v":"Confiture de Prune d'Ente allégée"},{"$f":"VLOOKUP($A59,Produits!$A$1:$P$357,3,FALSE)","v":"330g"},{"$f":"VLOOKUP($A59,Produits!$A$1:$P$357,5,FALSE)","v":14},{"$f":"VLOOKUP($A59,Produits!$A$1:$P$357,4,FALSE)","v":"Bocal"},{"$f":"VLOOKUP($A59,Produits!$A$1:$P$357,6,FALSE)","v":4.2653999999999996},{"$f":"VLOOKUP($A59,Produits!$A$1:$P$357,7,FALSE)","v":4.5},{"$f":"VLOOKUP($A59,Produits!$A$1:$P$357,10,FALSE)","v":5.5E-2},{"$f":"VLOOKUP($A59,Produits!$A$1:$P$357,8,FALSE)","v":0.2},{"$f":"VLOOKUP($A59,Produits!$A$1:$P$357,9,FALSE)","v":3.42},{"$f":"IF(ISNA(VLOOKUP($A59,Produits!$A$1:$O$357,14,FALSE)),\"\",VLOOKUP($A59,Produits!$A$1:$O$357,14,FALSE))","v":3760219062424},{"$f":"Tableau15[[#This Row],[Réf.]]&\" - \"&Tableau15[[#This Row],[Désignation]]&\" - \"&Tableau15[[#This Row],[Contenance]]","v":"17A - Confiture de Prune d'Ente allégée - 330g"}]
["17B",{"$f":"VLOOKUP($A60,Produits!$A$1:$P$357,2,FALSE)","v":"Confiture de Prune Reine-Claude allégée"},{"$f":"VLOOKUP($A60,Produits!$A$1:$P$357,3,FALSE)","v":"330g"},{"$f":"VLOOKUP($A60,Produits!$A$1:$P$357,5,FALSE)","v":14},{"$f":"VLOOKUP($A60,Produits!$A$1:$P$357,4,FALSE)","v":"Bocal"},{"$f":"VLOOKUP($A60,Produits!$A$1:$P$357,6,FALSE)","v":4.2653999999999996},{"$f":"VLOOKUP($A60,Produits!$A$1:$P$357,7,FALSE)","v":4.5},{"$f":"VLOOKUP($A60,Produits!$A$1:$P$357,10,FALSE)","v":5.5E-2},{"$f":"VLOOKUP($A60,Produits!$A$1:$P$357,8,FALSE)","v":0.2},{"$f":"VLOOKUP($A60,Produits!$A$1:$P$357,9,FALSE)","v":3.42},{"$f":"IF(ISNA(VLOOKUP($A60,Produits!$A$1:$O$357,14,FALSE)),\"\",VLOOKUP($A60,Produits!$A$1:$O$357,14,FALSE))","v":3760219062417},{"$f":"Tableau15[[#This Row],[Réf.]]&\" - \"&Tableau15[[#This Row],[Désignation]]&\" - \"&Tableau15[[#This Row],[Contenance]]","v":"17B - Confiture de Prune Reine-Claude allégée - 330g"}]
["17C",{"$f":"VLOOKUP($A61,Produits!$A$1:$P$357,2,FALSE)","v":"Confiture de Fraise"},{"$f":"VLOOKUP($A61,Produits!$A$1:$P$357,3,FALSE)","v":"330g"},{"$f":"VLOOKUP($A61,Produits!$A$1:$P$357,5,FALSE)","v":14},{"$f":"VLOOKUP($A61,Produits!$A$1:$P$357,4,FALSE)","v":"Bocal"},{"$f":"VLOOKUP($A61,Produits!$A$1:$P$357,6,FALSE)","v":4.2653999999999996},{"$f":"VLOOKUP($A61,Produits!$A$1:$P$357,7,FALSE)","v":4.5},{"$f":"VLOOKUP($A61,Produits!$A$1:$P$357,10,FALSE)","v":5.5E-2},{"$f":"VLOOKUP($A61,Produits!$A$1:$P$357,8,FALSE)","v":0.2},{"$f":"VLOOKUP($A61,Produits!$A$1:$P$357,9,FALSE)","v":3.42},{"$f":"IF(ISNA(VLOOKUP($A61,Produits!$A$1:$O$357,14,FALSE)),\"\",VLOOKUP($A61,Produits!$A$1:$O$357,14,FALSE))","v":3760219062400},{"$f":"Tableau15[[#This Row],[Réf.]]&\" - \"&Tableau15[[#This Row],[Désignation]]&\" - \"&Tableau15[[#This Row],[Contenance]]","v":"17C - Confiture de Fraise - 330g"}]
["18A",{"$f":"VLOOKUP($A62,Produits!$A$1:$P$357,2,FALSE)","v":"Nougat aux pruneaux"},{"$f":"VLOOKUP($A62,Produits!$A$1:$P$357,3,FALSE)","v":"100g"},{"$f":"VLOOKUP($A62,Produits!$A$1:$P$357,5,FALSE)","v":10},{"$f":"VLOOKUP($A62,Produits!$A$1:$P$357,4,FALSE)","v":"Sachet"},{"$f":"VLOOKUP($A62,Produits!$A$1:$P$357,6,FALSE)","v":4.5833300000000001},{"$f":"VLOOKUP($A62,Produits!$A$1:$P$357,7,FALSE)","v":5.5},{"$f":"VLOOKUP($A62,Produits!$A$1:$P$357,10,FALSE)","v":0.2},{"$f":"VLOOKUP($A62,Produits!$A$1:$P$357,8,FALSE)","v":0.2},{"$f":"VLOOKUP($A62,Produits!$A$1:$P$357,9,FALSE)","v":3.67},{"$f":"IF(ISNA(VLOOKUP($A62,Produits!$A$1:$O$357,14,FALSE)),\"\",VLOOKUP($A62,Produits!$A$1:$O$357,14,FALSE))","v":3760219062394},{"$f":"Tableau15[[#This Row],[Réf.]]&\" - \"&Tableau15[[#This Row],[Désignation]]&\" - \"&Tableau15[[#This Row],[Contenance]]","v":"18A - Nougat aux pruneaux - 100g"}]
["18B",{"$f":"VLOOKUP($A63,Produits!$A$1:$P$357,2,FALSE)","v":"Nougat aux pruneaux"},{"$f":"VLOOKUP($A63,Produits!$A$1:$P$357,3,FALSE)","v":"150g"},{"$f":"VLOOKUP($A63,Produits!$A$1:$P$357,5,FALSE)","v":10},{"$f":"VLOOKUP($A63,Produits!$A$1:$P$357,4,FALSE)","v":"Sachet"},{"$f":"VLOOKUP($A63,Produits!$A$1:$P$357,6,FALSE)","v":6.6666600000000003},{"$f":"VLOOKUP($A63,Produits!$A$1:$P$357,7,FALSE)","v":8},{"$f":"VLOOKUP($A63,Produits!$A$1:$P$357,10,FALSE)","v":0.2},{"$f":"VLOOKUP($A63,Produits!$A$1:$P$357,8,FALSE)","v":0.2},{"$f":"VLOOKUP($A63,Produits!$A$1:$P$357,9,FALSE)","v":5.34},{"$f":"IF(ISNA(VLOOKUP($A63,Produits!$A$1:$O$357,14,FALSE)),\"\",VLOOKUP($A63,Produits!$A$1:$O$357,14,FALSE))","v":3760219062387},{"$f":"Tableau15[[#This Row],[Réf.]]&\" - \"&Tableau15[[#This Row],[Désignation]]&\" - \"&Tableau15[[#This Row],[Contenance]]","v":"18B - Nougat aux pruneaux - 150g"}]
["19A",{"$f":"VLOOKUP($A64,Produits!$A$1:$P$357,2,FALSE)","v":"Mendiants chocolat noir"},{"$f":"VLOOKUP($A64,Produits!$A$1:$P$357,3,FALSE)","v":"150g"},{"$f":"VLOOKUP($A64,Produits!$A$1:$P$357,5,FALSE)","v":10},{"$f":"VLOOKUP($A64,Produits!$A$1:$P$357,4,FALSE)","v":"Sachet"},{"$f":"VLOOKUP($A64,Produits!$A$1:$P$357,6,FALSE)","v":5.6871999999999998},{"$f":"VLOOKUP($A64,Produits!$A$1:$P$357,7,FALSE)","v":6},{"$f":"VLOOKUP($A64,Produits!$A$1:$P$357,10,FALSE)","v":5.5E-2},{"$f":"VLOOKUP($A64,Produits!$A$1:$P$357,8,FALSE)","v":0.2},{"$f":"VLOOKUP($A64,Produits!$A$1:$P$357,9,FALSE)","v":4.55},{"$f":"IF(ISNA(VLOOKUP($A64,Produits!$A$1:$O$357,14,FALSE)),\"\",VLOOKUP($A64,Produits!$A$1:$O$357,14,FALSE))","v":3760219062370},{"$f":"Tableau15[[#This Row],[Réf.]]&\" - \"&Tableau15[[#This Row],[Désignation]]&\" - \"&Tableau15[[#This Row],[Contenance]]","v":"19A - Mendiants chocolat noir - 150g"}]
["19B",{"$f":"VLOOKUP($A65,Produits!$A$1:$P$357,2,FALSE)","v":"Mendiants chocolat noir"},{"$f":"VLOOKUP($A65,Produits!$A$1:$P$357,3,FALSE)","v":"200g"},{"$f":"VLOOKUP($A65,Produits!$A$1:$P$357,5,FALSE)","v":10},{"$f":"VLOOKUP($A65,Produits!$A$1:$P$357,4,FALSE)","v":"Sachet"},{"$f":"VLOOKUP($A65,Produits!$A$1:$P$357,6,FALSE)","v":3.75},{"$f":"VLOOKUP($A65,Produits!$A$1:$P$357,7,FALSE)","v":7.5},{"$f":"VLOOKUP($A65,Produits!$A$1:$P$357,10,FALSE)","v":true},{"$f":"VLOOKUP($A65,Produits!$A$1:$P$357,8,FALSE)","v":0.2},{"$f":"VLOOKUP($A65,Produits!$A$1:$P$357,9,FALSE)","v":3},{"$f":"IF(ISNA(VLOOKUP($A65,Produits!$A$1:$O$357,14,FALSE)),\"\",VLOOKUP($A65,Produits!$A$1:$O$357,14,FALSE))","v":3760219062363},{"$f":"Tableau15[[#This Row],[Réf.]]&\" - \"&Tableau15[[#This Row],[Désignation]]&\" - \"&Tableau15[[#This Row],[Contenance]]","v":"19B - Mendiants chocolat noir - 200g"}]
["20A",{"$f":"VLOOKUP($A66,Produits!$A$1:$P$357,2,FALSE)","v":"Mendiants chocolat lait"},{"$f":"VLOOKUP($A66,Produits!$A$1:$P$357,3,FALSE)","v":"150g"},{"$f":"VLOOKUP($A66,Produits!$A$1:$P$357,5,FALSE)","v":10},{"$f":"VLOOKUP($A66,Produits!$A$1:$P$357,4,FALSE)","v":"Sachet"},{"$f":"VLOOKUP($A66,Produits!$A$1:$P$357,6,FALSE)","v":5.6871999999999998},{"$f":"VLOOKUP($A66,Produits!$A$1:$P$357,7,FALSE)","v":6},{"$f":"VLOOKUP($A66,Produits!$A$1:$P$357,10,FALSE)","v":5.5E-2},{"$f":"VLOOKUP($A66,Produits!$A$1:$P$357,8,FALSE)","v":0.2},{"$f":"VLOOKUP($A66,Produits!$A$1:$P$357,9,FALSE)","v":4.55},{"$f":"IF(ISNA(VLOOKUP($A66,Produits!$A$1:$O$357,14,FALSE)),\"\",VLOOKUP($A66,Produits!$A$1:$O$357,14,FALSE))","v":3760219062356},{"$f":"Tableau15[[#This Row],[Réf.]]&\" - \"&Tableau15[[#This Row],[Désignation]]&\" - \"&Tableau15[[#This Row],[Contenance]]","v":"20A - Mendiants chocolat lait - 150g"}]
["20B",{"$f":"VLOOKUP($A67,Produits!$A$1:$P$357,2,FALSE)","v":"Mendiants chocolat lait"},{"$f":"VLOOKUP($A67,Produits!$A$1:$P$357,3,FALSE)","v":"200g"},{"$f":"VLOOKUP($A67,Produits!$A$1:$P$357,5,FALSE)","v":10},{"$f":"VLOOKUP($A67,Produits!$A$1:$P$357,4,FALSE)","v":"Sachet"},{"$f":"VLOOKUP($A67,Produits!$A$1:$P$357,6,FALSE)","v":7.1},{"$f":"VLOOKUP($A67,Produits!$A$1:$P$357,7,FALSE)","v":7.5},{"$f":"VLOOKUP($A67,Produits!$A$1:$P$357,10,FALSE)","v":5.5E-2},{"$f":"VLOOKUP($A67,Produits!$A$1:$P$357,8,FALSE)","v":0.2},{"$f":"VLOOKUP($A67,Produits!$A$1:$P$357,9,FALSE)","v":5.68},{"$f":"IF(ISNA(VLOOKUP($A67,Produits!$A$1:$O$357,14,FALSE)),\"\",VLOOKUP($A67,Produits!$A$1:$O$357,14,FALSE))","v":3760219062349},{"$f":"Tableau15[[#This Row],[Réf.]]&\" - \"&Tableau15[[#This Row],[Désignation]]&\" - \"&Tableau15[[#This Row],[Contenance]]","v":"20B - Mendiants chocolat lait - 200g"}]
["21A",{"$f":"VLOOKUP($A68,Produits!$A$1:$P$357,2,FALSE)","v":"Pâtes de fruit - (saveur à préciser)"},{"$f":"VLOOKUP($A68,Produits!$A$1:$P$357,3,FALSE)","v":"150g"},{"$f":"VLOOKUP($A68,Produits!$A$1:$P$357,5,FALSE)","v":10},{"$f":"VLOOKUP($A68,Produits!$A$1:$P$357,4,FALSE)","v":"Sachet"},{"$f":"VLOOKUP($A68,Produits!$A$1:$P$357,6,FALSE)","v":5.6871999999999998},{"$f":"VLOOKUP($A68,Produits!$A$1:$P$357,7,FALSE)","v":6},{"$f":"VLOOKUP($A68,Produits!$A$1:$P$357,10,FALSE)","v":5.5E-2},{"$f":"VLOOKUP($A68,Produits!$A$1:$P$357,8,FALSE)","v":0.2},{"$f":"VLOOKUP($A68,Produits!$A$1:$P$357,9,FALSE)","v":4.55},{"$f":"IF(ISNA(VLOOKUP($A68,Produits!$A$1:$O$357,14,FALSE)),\"\",VLOOKUP($A68,Produits!$A$1:$O$357,14,FALSE))","v":3760219062332},{"$f":"Tableau15[[#This Row],[Réf.]]&\" - \"&Tableau15[[#This Row],[Désignation]]&\" - \"&Tableau15[[#This Row],[Contenance]]","v":"21A - Pâtes de fruit - (saveur à préciser) - 150g"}]
["21B",{"$f":"VLOOKUP($A69,Produits!$A$1:$P$357,2,FALSE)","v":"Pâtes de fruit - Mixte (mélange)"},{"$f":"VLOOKUP($A69,Produits!$A$1:$P$357,3,FALSE)","v":"150g"},{"$f":"VLOOKUP($A69,Produits!$A$1:$P$357,5,FALSE)","v":10},{"$f":"VLOOKUP($A69,Produits!$A$1:$P$357,4,FALSE)","v":"Sachet"},{"$f":"VLOOKUP($A69,Produits!$A$1:$P$357,6,FALSE)","v":6.16113},{"$f":"VLOOKUP($A69,Produits!$A$1:$P$357,7,FALSE)","v":6.5},{"$f":"VLOOKUP($A69,Produits!$A$1:$P$357,10,FALSE)","v":5.5E-2},{"$f":"VLOOKUP($A69,Produits!$A$1:$P$357,8,FALSE)","v":0.2},{"$f":"VLOOKUP($A69,Produits!$A$1:$P$357,9,FALSE)","v":4.93},{"$f":"IF(ISNA(VLOOKUP($A69,Produits!$A$1:$O$357,14,FALSE)),\"\",VLOOKUP($A69,Produits!$A$1:$O$357,14,FALSE))","v":3760219062325},{"$f":"Tableau15[[#This Row],[Réf.]]&\" - \"&Tableau15[[#This Row],[Désignation]]&\" - \"&Tableau15[[#This Row],[Contenance]]","v":"21B - Pâtes de fruit - Mixte (mélange) - 150g"}]
["22A",{"$f":"VLOOKUP($A70,Produits!$A$1:$P$357,2,FALSE)","v":"Pâtes de velours chocolat"},{"$f":"VLOOKUP($A70,Produits!$A$1:$P$357,3,FALSE)","v":"150g"},{"$f":"VLOOKUP($A70,Produits!$A$1:$P$357,5,FALSE)","v":10},{"$f":"VLOOKUP($A70,Produits!$A$1:$P$357,4,FALSE)","v":"Sachet"},{"$f":"VLOOKUP($A70,Produits!$A$1:$P$357,6,FALSE)","v":6.16113},{"$f":"VLOOKUP($A70,Produits!$A$1:$P$357,7,FALSE)","v":6.5},{"$f":"VLOOKUP($A70,Produits!$A$1:$P$357,10,FALSE)","v":5.5E-2},{"$f":"VLOOKUP($A70,Produits!$A$1:$P$357,8,FALSE)","v":0.2},{"$f":"VLOOKUP($A70,Produits!$A$1:$P$357,9,FALSE)","v":4.93},{"$f":"IF(ISNA(VLOOKUP($A70,Produits!$A$1:$O$357,14,FALSE)),\"\",VLOOKUP($A70,Produits!$A$1:$O$357,14,FALSE))","v":3760219062318},{"$f":"Tableau15[[#This Row],[Réf.]]&\" - \"&Tableau15[[#This Row],[Désignation]]&\" - \"&Tableau15[[#This Row],[Contenance]]","v":"22A - Pâtes de velours chocolat - 150g"}]
["23A",{"$f":"VLOOKUP($A71,Produits!$A$1:$P$357,2,FALSE)","v":"Madeleines à la crème de pruneau (env. 5 unités)"},{"$f":"VLOOKUP($A71,Produits!$A$1:$P$357,3,FALSE)","v":"100g"},{"$f":"VLOOKUP($A71,Produits!$A$1:$P$357,5,FALSE)","v":10},{"$f":"VLOOKUP($A71,Produits!$A$1:$P$357,4,FALSE)","v":"Sachet"},{"$f":"VLOOKUP($A71,Produits!$A$1:$P$357,6,FALSE)","v":2.4644499999999998},{"$f":"VLOOKUP($A71,Produits!$A$1:$P$357,7,FALSE)","v":2.6},{"$f":"VLOOKUP($A71,Produits!$A$1:$P$357,10,FALSE)","v":5.5E-2},{"$f":"VLOOKUP($A71,Produits!$A$1:$P$357,8,FALSE)","v":0.2},{"$f":"VLOOKUP($A71,Produits!$A$1:$P$357,9,FALSE)","v":1.98},{"$f":"IF(ISNA(VLOOKUP($A71,Produits!$A$1:$O$357,14,FALSE)),\"\",VLOOKUP($A71,Produits!$A$1:$O$357,14,FALSE))","v":3760219062301},{"$f":"Tableau15[[#This Row],[Réf.]]&\" - \"&Tableau15[[#This Row],[Désignation]]&\" - \"&Tableau15[[#This Row],[Contenance]]","v":"23A - Madeleines à la crème de pruneau (env. 5 unités) - 100g"}]
["23B",{"$f":"VLOOKUP($A72,Produits!$A$1:$P$357,2,FALSE)","v":"Madeleines à la crème de pruneau (env. 8 unités)"},{"$f":"VLOOKUP($A72,Produits!$A$1:$P$357,3,FALSE)","v":"150g"},{"$f":"VLOOKUP($A72,Produits!$A$1:$P$357,5,FALSE)","v":10},{"$f":"VLOOKUP($A72,Produits!$A$1:$P$357,4,FALSE)","v":"Sachet"},{"$f":"VLOOKUP($A72,Produits!$A$1:$P$357,6,FALSE)","v":3.6966800000000002},{"$f":"VLOOKUP($A72,Produits!$A$1:$P$357,7,FALSE)","v":3.9},{"$f":"VLOOKUP($A72,Produits!$A$1:$P$357,10,FALSE)","v":5.5E-2},{"$f":"VLOOKUP($A72,Produits!$A$1:$P$357,8,FALSE)","v":0.2},{"$f":"VLOOKUP($A72,Produits!$A$1:$P$357,9,FALSE)","v":2.96},{"$f":"IF(ISNA(VLOOKUP($A72,Produits!$A$1:$O$357,14,FALSE)),\"\",VLOOKUP($A72,Produits!$A$1:$O$357,14,FALSE))","v":3760219062295},{"$f":"Tableau15[[#This Row],[Réf.]]&\" - \"&Tableau15[[#This Row],[Désignation]]&\" - \"&Tableau15[[#This Row],[Contenance]]","v":"23B - Madeleines à la crème de pruneau (env. 8 unités) - 150g"}]
["24A",{"$f":"VLOOKUP($A73,Produits!$A$1:$P$357,2,FALSE)","v":"Pruneaux fourrés - Boîte Or des 100 ans"},{"$f":"VLOOKUP($A73,Produits!$A$1:$P$357,3,FALSE)","v":"350g"},{"$f":"VLOOKUP($A73,Produits!$A$1:$P$357,5,FALSE)","v":6},{"$f":"VLOOKUP($A73,Produits!$A$1:$P$357,4,FALSE)","v":"Boite métal"},{"$f":"VLOOKUP($A73,Produits!$A$1:$P$357,6,FALSE)","v":12.41666},{"$f":"VLOOKUP($A73,Produits!$A$1:$P$357,7,FALSE)","v":14.9},{"$f":"VLOOKUP($A73,Produits!$A$1:$P$357,10,FALSE)","v":0.2},{"$f":"VLOOKUP($A73,Produits!$A$1:$P$357,8,FALSE)","v":0.2},{"$f":"VLOOKUP($A73,Produits!$A$1:$P$357,9,FALSE)","v":9.94},{"$f":"IF(ISNA(VLOOKUP($A73,Produits!$A$1:$O$357,14,FALSE)),\"\",VLOOKUP($A73,Produits!$A$1:$O$357,14,FALSE))","v":3760219062288},{"$f":"Tableau15[[#This Row],[Réf.]]&\" - \"&Tableau15[[#This Row],[Désignation]]&\" - \"&Tableau15[[#This Row],[Contenance]]","v":"24A - Pruneaux fourrés - Boîte Or des 100 ans - 350g"}]
["24B",{"$f":"VLOOKUP($A74,Produits!$A$1:$P$357,2,FALSE)","v":"Pruneaux fourrés Armagnac - Boîte Or des 100 ans"},{"$f":"VLOOKUP($A74,Produits!$A$1:$P$357,3,FALSE)","v":"350g"},{"$f":"VLOOKUP($A74,Produits!$A$1:$P$357,5,FALSE)","v":6},{"$f":"VLOOKUP($A74,Produits!$A$1:$P$357,4,FALSE)","v":"Boite métal"},{"$f":"VLOOKUP($A74,Produits!$A$1:$P$357,6,FALSE)","v":12.91666},{"$f":"VLOOKUP($A74,Produits!$A$1:$P$357,7,FALSE)","v":15.5},{"$f":"VLOOKUP($A74,Produits!$A$1:$P$357,10,FALSE)","v":0.2},{"$f":"VLOOKUP($A74,Produits!$A$1:$P$357,8,FALSE)","v":0.2},{"$f":"VLOOKUP($A74,Produits!$A$1:$P$357,9,FALSE)","v":10.34},{"$f":"IF(ISNA(VLOOKUP($A74,Produits!$A$1:$O$357,14,FALSE)),\"\",VLOOKUP($A74,Produits!$A$1:$O$357,14,FALSE))","v":3760219062271},{"$f":"Tableau15[[#This Row],[Réf.]]&\" - \"&Tableau15[[#This Row],[Désignation]]&\" - \"&Tableau15[[#This Row],[Contenance]]","v":"24B - Pruneaux fourrés Armagnac - Boîte Or des 100 ans - 350g"}]
["24C",{"$f":"VLOOKUP($A75,Produits!$A$1:$P$357,2,FALSE)","v":"Pruneaux fourrés - Boîte Or des 100 ans"},{"$f":"VLOOKUP($A75,Produits!$A$1:$P$357,3,FALSE)","v":"600g"},{"$f":"VLOOKUP($A75,Produits!$A$1:$P$357,5,FALSE)","v":6},{"$f":"VLOOKUP($A75,Produits!$A$1:$P$357,4,FALSE)","v":"Boite métal"},{"$f":"VLOOKUP($A75,Produits!$A$1:$P$357,6,FALSE)","v":17.83333},{"$f":"VLOOKUP($A75,Produits!$A$1:$P$357,7,FALSE)","v":21.4},{"$f":"VLOOKUP($A75,Produits!$A$1:$P$357,10,FALSE)","v":0.2},{"$f":"VLOOKUP($A75,Produits!$A$1:$P$357,8,FALSE)","v":0.2},{"$f":"VLOOKUP($A75,Produits!$A$1:$P$357,9,FALSE)","v":14.27},{"$f":"IF(ISNA(VLOOKUP($A75,Produits!$A$1:$O$357,14,FALSE)),\"\",VLOOKUP($A75,Produits!$A$1:$O$357,14,FALSE))","v":3760219062264},{"$f":"Tableau15[[#This Row],[Réf.]]&\" - \"&Tableau15[[#This Row],[Désignation]]&\" - \"&Tableau15[[#This Row],[Contenance]]","v":"24C - Pruneaux fourrés - Boîte Or des 100 ans - 600g"}]
["24D",{"$f":"VLOOKUP($A76,Produits!$A$1:$P$357,2,FALSE)","v":"Pruneaux fourrés Armagnac - Boîte Or des 100 ans"},{"$f":"VLOOKUP($A76,Produits!$A$1:$P$357,3,FALSE)","v":"600g"},{"$f":"VLOOKUP($A76,Produits!$A$1:$P$357,5,FALSE)","v":6},{"$f":"VLOOKUP($A76,Produits!$A$1:$P$357,4,FALSE)","v":"Boite métal"},{"$f":"VLOOKUP($A76,Produits!$A$1:$P$357,6,FALSE)","v":18.33333},{"$f":"VLOOKUP($A76,Produits!$A$1:$P$357,7,FALSE)","v":22},{"$f":"VLOOKUP($A76,Produits!$A$1:$P$357,10,FALSE)","v":0.2},{"$f":"VLOOKUP($A76,Produits!$A$1:$P$357,8,FALSE)","v":0.2},{"$f":"VLOOKUP($A76,Produits!$A$1:$P$357,9,FALSE)","v":14.67},{"$f":"IF(ISNA(VLOOKUP($A76,Produits!$A$1:$O$357,14,FALSE)),\"\",VLOOKUP($A76,Produits!$A$1:$O$357,14,FALSE))","v":3760219062257},{"$f":"Tableau15[[#This Row],[Réf.]]&\" - \"&Tableau15[[#This Row],[Désignation]]&\" - \"&Tableau15[[#This Row],[Contenance]]","v":"24D - Pruneaux fourrés Armagnac - Boîte Or des 100 ans - 600g"}]
["24E",{"$f":"VLOOKUP($A77,Produits!$A$1:$P$357,2,FALSE)","v":"Pruneaux fourrés - Boîte Or des 100 ans"},{"$f":"VLOOKUP($A77,Produits!$A$1:$P$357,3,FALSE)","v":"850g"},{"$f":"VLOOKUP($A77,Produits!$A$1:$P$357,5,FALSE)","v":6},{"$f":"VLOOKUP($A77,Produits!$A$1:$P$357,4,FALSE)","v":"Boite métal"},{"$f":"VLOOKUP($A77,Produits!$A$1:$P$357,6,FALSE)","v":23.66666},{"$f":"VLOOKUP($A77,Produits!$A$1:$P$357,7,FALSE)","v":28.4},{"$f":"VLOOKUP($A77,Produits!$A$1:$P$357,10,FALSE)","v":0.2},{"$f":"VLOOKUP($A77,Produits!$A$1:$P$357,8,FALSE)","v":0.2},{"$f":"VLOOKUP($A77,Produits!$A$1:$P$357,9,FALSE)","v":18.940000000000001},{"$f":"IF(ISNA(VLOOKUP($A77,Produits!$A$1:$O$357,14,FALSE)),\"\",VLOOKUP($A77,Produits!$A$1:$O$357,14,FALSE))","v":3760219062240},{"$f":"Tableau15[[#This Row],[Réf.]]&\" - \"&Tableau15[[#This Row],[Désignation]]&\" - \"&Tableau15[[#This Row],[Contenance]]","v":"24E - Pruneaux fourrés - Boîte Or des 100 ans - 850g"}]
["24F",{"$f":"VLOOKUP($A78,Produits!$A$1:$P$357,2,FALSE)","v":"Pruneaux fourrés + Prunchoco® - Boîte Or des 100 ans"},{"$f":"VLOOKUP($A78,Produits!$A$1:$P$357,3,FALSE)","v":"290g"},{"$f":"VLOOKUP($A78,Produits!$A$1:$P$357,5,FALSE)","v":6},{"$f":"VLOOKUP($A78,Produits!$A$1:$P$357,4,FALSE)","v":"Boite métal"},{"$f":"VLOOKUP($A78,Produits!$A$1:$P$357,6,FALSE)","v":12.25},{"$f":"VLOOKUP($A78,Produits!$A$1:$P$357,7,FALSE)","v":14.7},{"$f":"VLOOKUP($A78,Produits!$A$1:$P$357,10,FALSE)","v":0.2},{"$f":"VLOOKUP($A78,Produits!$A$1:$P$357,8,FALSE)","v":0.2},{"$f":"VLOOKUP($A78,Produits!$A$1:$P$357,9,FALSE)","v":9.8000000000000007},{"$f":"IF(ISNA(VLOOKUP($A78,Produits!$A$1:$O$357,14,FALSE)),\"\",VLOOKUP($A78,Produits!$A$1:$O$357,14,FALSE))","v":3760219062233},{"$f":"Tableau15[[#This Row],[Réf.]]&\" - \"&Tableau15[[#This Row],[Désignation]]&\" - \"&Tableau15[[#This Row],[Contenance]]","v":"24F - Pruneaux fourrés + Prunchoco® - Boîte Or des 100 ans - 290g"}]
["24G",{"$f":"VLOOKUP($A79,Produits!$A$1:$P$357,2,FALSE)","v":"Pruneaux fourrés + Prunchoco® - Boîte Or des 100 ans"},{"$f":"VLOOKUP($A79,Produits!$A$1:$P$357,3,FALSE)","v":"500g"},{"$f":"VLOOKUP($A79,Produits!$A$1:$P$357,5,FALSE)","v":6},{"$f":"VLOOKUP($A79,Produits!$A$1:$P$357,4,FALSE)","v":"Boite métal"},{"$f":"VLOOKUP($A79,Produits!$A$1:$P$357,6,FALSE)","v":17.75},{"$f":"VLOOKUP($A79,Produits!$A$1:$P$357,7,FALSE)","v":21.3},{"$f":"VLOOKUP($A79,Produits!$A$1:$P$357,10,FALSE)","v":0.2},{"$f":"VLOOKUP($A79,Produits!$A$1:$P$357,8,FALSE)","v":0.2},{"$f":"VLOOKUP($A79,Produits!$A$1:$P$357,9,FALSE)","v":14.2},{"$f":"IF(ISNA(VLOOKUP($A79,Produits!$A$1:$O$357,14,FALSE)),\"\",VLOOKUP($A79,Produits!$A$1:$O$357,14,FALSE))","v":3760219062226},{"$f":"Tableau15[[#This Row],[Réf.]]&\" - \"&Tableau15[[#This Row],[Désignation]]&\" - \"&Tableau15[[#This Row],[Contenance]]","v":"24G - Pruneaux fourrés + Prunchoco® - Boîte Or des 100 ans - 500g"}]
["25A",{"$f":"VLOOKUP($A80,Produits!$A$1:$P$357,2,FALSE)","v":"Claie Agenaise (Pruneaux fourrés)"},{"$f":"VLOOKUP($A80,Produits!$A$1:$P$357,3,FALSE)","v":"350g"},{"$f":"VLOOKUP($A80,Produits!$A$1:$P$357,5,FALSE)","v":1},{"$f":"VLOOKUP($A80,Produits!$A$1:$P$357,4,FALSE)","v":"Claie Agen."},{"$f":"VLOOKUP($A80,Produits!$A$1:$P$357,6,FALSE)","v":12.83333},{"$f":"VLOOKUP($A80,Produits!$A$1:$P$357,7,FALSE)","v":15.4},{"$f":"VLOOKUP($A80,Produits!$A$1:$P$357,10,FALSE)","v":0.2},{"$f":"VLOOKUP($A80,Produits!$A$1:$P$357,8,FALSE)","v":0.2},{"$f":"VLOOKUP($A80,Produits!$A$1:$P$357,9,FALSE)","v":10.27},{"$f":"IF(ISNA(VLOOKUP($A80,Produits!$A$1:$O$357,14,FALSE)),\"\",VLOOKUP($A80,Produits!$A$1:$O$357,14,FALSE))","v":3760219062219},{"$f":"Tableau15[[#This Row],[Réf.]]&\" - \"&Tableau15[[#This Row],[Désignation]]&\" - \"&Tableau15[[#This Row],[Contenance]]","v":"25A - Claie Agenaise (Pruneaux fourrés) - 350g"}]
["25B",{"$f":"VLOOKUP($A81,Produits!$A$1:$P$357,2,FALSE)","v":"Claie Agenaise (Pruneaux fourrés)"},{"$f":"VLOOKUP($A81,Produits!$A$1:$P$357,3,FALSE)","v":"600g"},{"$f":"VLOOKUP($A81,Produits!$A$1:$P$357,5,FALSE)","v":1},{"$f":"VLOOKUP($A81,Produits!$A$1:$P$357,4,FALSE)","v":"Claie Agen."},{"$f":"VLOOKUP($A81,Produits!$A$1:$P$357,6,FALSE)","v":19.58333},{"$f":"VLOOKUP($A81,Produits!$A$1:$P$357,7,FALSE)","v":23.5},{"$f":"VLOOKUP($A81,Produits!$A$1:$P$357,10,FALSE)","v":0.2},{"$f":"VLOOKUP($A81,Produits!$A$1:$P$357,8,FALSE)","v":0.2},{"$f":"VLOOKUP($A81,Produits!$A$1:$P$357,9,FALSE)","v":15.67},{"$f":"IF(ISNA(VLOOKUP($A81,Produits!$A$1:$O$357,14,FALSE)),\"\",VLOOKUP($A81,Produits!$A$1:$O$357,14,FALSE))","v":3760219062202},{"$f":"Tableau15[[#This Row],[Réf.]]&\" - \"&Tableau15[[#This Row],[Désignation]]&\" - \"&Tableau15[[#This Row],[Contenance]]","v":"25B - Claie Agenaise (Pruneaux fourrés) - 600g"}]
["25C",{"$f":"VLOOKUP($A82,Produits!$A$1:$P$357,2,FALSE)","v":"Claie Agenaise (Pruneaux fourrés)"},{"$f":"VLOOKUP($A82,Produits!$A$1:$P$357,3,FALSE)","v":"850g"},{"$f":"VLOOKUP($A82,Produits!$A$1:$P$357,5,FALSE)","v":1},{"$f":"VLOOKUP($A82,Produits!$A$1:$P$357,4,FALSE)","v":"Claie Agen."},{"$f":"VLOOKUP($A82,Produits!$A$1:$P$357,6,FALSE)","v":26.16666},{"$f":"VLOOKUP($A82,Produits!$A$1:$P$357,7,FALSE)","v":31.4},{"$f":"VLOOKUP($A82,Produits!$A$1:$P$357,10,FALSE)","v":0.2},{"$f":"VLOOKUP($A82,Produits!$A$1:$P$357,8,FALSE)","v":0.2},{"$f":"VLOOKUP($A82,Produits!$A$1:$P$357,9,FALSE)","v":20.94},{"$f":"IF(ISNA(VLOOKUP($A82,Produits!$A$1:$O$357,14,FALSE)),\"\",VLOOKUP($A82,Produits!$A$1:$O$357,14,FALSE))","v":3760219062196},{"$f":"Tableau15[[#This Row],[Réf.]]&\" - \"&Tableau15[[#This Row],[Désignation]]&\" - \"&Tableau15[[#This Row],[Contenance]]","v":"25C - Claie Agenaise (Pruneaux fourrés) - 850g"}]
["25D",{"$f":"VLOOKUP($A83,Produits!$A$1:$P$357,2,FALSE)","v":"Claie Agenaise (Pruneaux fourrés)"},{"$f":"VLOOKUP($A83,Produits!$A$1:$P$357,3,FALSE)","v":"1,1kg"},{"$f":"VLOOKUP($A83,Produits!$A$1:$P$357,5,FALSE)","v":1},{"$f":"VLOOKUP($A83,Produits!$A$1:$P$357,4,FALSE)","v":"Claie Agen."},{"$f":"VLOOKUP($A83,Produits!$A$1:$P$357,6,FALSE)","v":32.083329999999997},{"$f":"VLOOKUP($A83,Produits!$A$1:$P$357,7,FALSE)","v":38.5},{"$f":"VLOOKUP($A83,Produits!$A$1:$P$357,10,FALSE)","v":0.2},{"$f":"VLOOKUP($A83,Produits!$A$1:$P$357,8,FALSE)","v":0.2},{"$f":"VLOOKUP($A83,Produits!$A$1:$P$357,9,FALSE)","v":25.67},{"$f":"IF(ISNA(VLOOKUP($A83,Produits!$A$1:$O$357,14,FALSE)),\"\",VLOOKUP($A83,Produits!$A$1:$O$357,14,FALSE))","v":3760219062189},{"$f":"Tableau15[[#This Row],[Réf.]]&\" - \"&Tableau15[[#This Row],[Désignation]]&\" - \"&Tableau15[[#This Row],[Contenance]]","v":"25D - Claie Agenaise (Pruneaux fourrés) - 1,1kg"}]
["25E",{"$f":"VLOOKUP($A84,Produits!$A$1:$P$357,2,FALSE)","v":"Petit panier (Pruneaux fourrés)"},{"$f":"VLOOKUP($A84,Produits!$A$1:$P$357,3,FALSE)","v":"220g"},{"$f":"VLOOKUP($A84,Produits!$A$1:$P$357,5,FALSE)","v":1},{"$f":"VLOOKUP($A84,Produits!$A$1:$P$357,4,FALSE)","v":"Panier bois"},{"$f":"VLOOKUP($A84,Produits!$A$1:$P$357,6,FALSE)","v":7.9166600000000003},{"$f":"VLOOKUP($A84,Produits!$A$1:$P$357,7,FALSE)","v":9.5},{"$f":"VLOOKUP($A84,Produits!$A$1:$P$357,10,FALSE)","v":0.2},{"$f":"VLOOKUP($A84,Produits!$A$1:$P$357,8,FALSE)","v":0.2},{"$f":"VLOOKUP($A84,Produits!$A$1:$P$357,9,FALSE)","v":6.34},{"$f":"IF(ISNA(VLOOKUP($A84,Produits!$A$1:$O$357,14,FALSE)),\"\",VLOOKUP($A84,Produits!$A$1:$O$357,14,FALSE))","v":3760219062172},{"$f":"Tableau15[[#This Row],[Réf.]]&\" - \"&Tableau15[[#This Row],[Désignation]]&\" - \"&Tableau15[[#This Row],[Contenance]]","v":"25E - Petit panier (Pruneaux fourrés) - 220g"}]
["25F",{"$f":"VLOOKUP($A85,Produits!$A$1:$P$357,2,FALSE)","v":"Petit panier (Pruneaux fourrés)"},{"$f":"VLOOKUP($A85,Produits!$A$1:$P$357,3,FALSE)","v":"320g"},{"$f":"VLOOKUP($A85,Produits!$A$1:$P$357,5,FALSE)","v":1},{"$f":"VLOOKUP($A85,Produits!$A$1:$P$357,4,FALSE)","v":"Panier bois"},{"$f":"VLOOKUP($A85,Produits!$A$1:$P$357,6,FALSE)","v":10.83333},{"$f":"VLOOKUP($A85,Produits!$A$1:$P$357,7,FALSE)","v":13},{"$f":"VLOOKUP($A85,Produits!$A$1:$P$357,10,FALSE)","v":0.2},{"$f":"VLOOKUP($A85,Produits!$A$1:$P$357,8,FALSE)","v":0.2},{"$f":"VLOOKUP($A85,Produits!$A$1:$P$357,9,FALSE)","v":8.67},{"$f":"IF(ISNA(VLOOKUP($A85,Produits!$A$1:$O$357,14,FALSE)),\"\",VLOOKUP($A85,Produits!$A$1:$O$357,14,FALSE))","v":3760219062165},{"$f":"Tableau15[[#This Row],[Réf.]]&\" - \"&Tableau15[[#This Row],[Désignation]]&\" - \"&Tableau15[[#This Row],[Contenance]]","v":"25F - Petit panier (Pruneaux fourrés) - 320g"}]
["25G",{"$f":"VLOOKUP($A86,Produits!$A$1:$P$357,2,FALSE)","v":"Panier moyen (Pruneaux fourrés + Prun'Choco® noir)"},{"$f":"VLOOKUP($A86,Produits!$A$1:$P$357,3,FALSE)","v":"470g"},{"$f":"VLOOKUP($A86,Produits!$A$1:$P$357,5,FALSE)","v":1},{"$f":"VLOOKUP($A86,Produits!$A$1:$P$357,4,FALSE)","v":"Panier bois"},{"$f":"VLOOKUP($A86,Produits!$A$1:$P$357,6,FALSE)","v":16.08333},{"$f":"VLOOKUP($A86,Produits!$A$1:$P$357,7,FALSE)","v":19.3},{"$f":"VLOOKUP($A86,Produits!$A$1:$P$357,10,FALSE)","v":0.2},{"$f":"VLOOKUP($A86,Produits!$A$1:$P$357,8,FALSE)","v":0.2},{"$f":"VLOOKUP($A86,Produits!$A$1:$P$357,9,FALSE)","v":12.87},{"$f":"IF(ISNA(VLOOKUP($A86,Produits!$A$1:$O$357,14,FALSE)),\"\",VLOOKUP($A86,Produits!$A$1:$O$357,14,FALSE))","v":3760219062158},{"$f":"Tableau15[[#This Row],[Réf.]]&\" - \"&Tableau15[[#This Row],[Désignation]]&\" - \"&Tableau15[[#This Row],[Contenance]]","v":"25G - Panier moyen (Pruneaux fourrés + Prun'Choco® noir) - 470g"}]
["25H",{"$f":"VLOOKUP($A87,Produits!$A$1:$P$357,2,FALSE)","v":"Plateau moyen (pruneaux fourrés + Prun’Choco® noir)"},{"$f":"VLOOKUP($A87,Produits!$A$1:$P$357,3,FALSE)","v":"590g"},{"$f":"VLOOKUP($A87,Produits!$A$1:$P$357,5,FALSE)","v":1},{"$f":"VLOOKUP($A87,Produits!$A$1:$P$357,4,FALSE)","v":"Plateau bois"},{"$f":"VLOOKUP($A87,Produits!$A$1:$P$357,6,FALSE)","v":19.16666},{"$f":"VLOOKUP($A87,Produits!$A$1:$P$357,7,FALSE)","v":23},{"$f":"VLOOKUP($A87,Produits!$A$1:$P$357,10,FALSE)","v":0.2},{"$f":"VLOOKUP($A87,Produits!$A$1:$P$357,8,FALSE)","v":0.2},{"$f":"VLOOKUP($A87,Produits!$A$1:$P$357,9,FALSE)","v":15.34},{"$f":"IF(ISNA(VLOOKUP($A87,Produits!$A$1:$O$357,14,FALSE)),\"\",VLOOKUP($A87,Produits!$A$1:$O$357,14,FALSE))","v":3760219062141},{"$f":"Tableau15[[#This Row],[Réf.]]&\" - \"&Tableau15[[#This Row],[Désignation]]&\" - \"&Tableau15[[#This Row],[Contenance]]","v":"25H - Plateau moyen (pruneaux fourrés + Prun’Choco® noir) - 590g"}]
["25I",{"$f":"VLOOKUP($A88,Produits!$A$1:$P$357,2,FALSE)","v":"Grand plateau (pruneaux fourrés + Prun’Choco® noir)"},{"$f":"VLOOKUP($A88,Produits!$A$1:$P$357,3,FALSE)","v":"800g"},{"$f":"VLOOKUP($A88,Produits!$A$1:$P$357,5,FALSE)","v":1},{"$f":"VLOOKUP($A88,Produits!$A$1:$P$357,4,FALSE)","v":"Plateau bois"},{"$f":"VLOOKUP($A88,Produits!$A$1:$P$357,6,FALSE)","v":26.66666},{"$f":"VLOOKUP($A88,Produits!$A$1:$P$357,7,FALSE)","v":32},{"$f":"VLOOKUP($A88,Produits!$A$1:$P$357,10,FALSE)","v":0.2},{"$f":"VLOOKUP($A88,Produits!$A$1:$P$357,8,FALSE)","v":0.2},{"$f":"VLOOKUP($A88,Produits!$A$1:$P$357,9,FALSE)","v":21.34},{"$f":"IF(ISNA(VLOOKUP($A88,Produits!$A$1:$O$357,14,FALSE)),\"\",VLOOKUP($A88,Produits!$A$1:$O$357,14,FALSE))","v":3760219062134},{"$f":"Tableau15[[#This Row],[Réf.]]&\" - \"&Tableau15[[#This Row],[Désignation]]&\" - \"&Tableau15[[#This Row],[Contenance]]","v":"25I - Grand plateau (pruneaux fourrés + Prun’Choco® noir) - 800g"}]
["26P",{"$f":"VLOOKUP($A89,Produits!$A$1:$P$357,2,FALSE)","v":"Prun’Choco® (saveur à préciser)"},{"$f":"VLOOKUP($A89,Produits!$A$1:$P$357,3,FALSE)","v":"200g"},{"$f":"VLOOKUP($A89,Produits!$A$1:$P$357,5,FALSE)","v":5},{"$f":"VLOOKUP($A89,Produits!$A$1:$P$357,4,FALSE)","v":"Pochette"},{"$f":"VLOOKUP($A89,Produits!$A$1:$P$357,6,FALSE)","v":4.45},{"$f":"VLOOKUP($A89,Produits!$A$1:$P$357,7,FALSE)","v":8.9},{"$f":"VLOOKUP($A89,Produits!$A$1:$P$357,10,FALSE)","v":true},{"$f":"VLOOKUP($A89,Produits!$A$1:$P$357,8,FALSE)","v":0.2},{"$f":"VLOOKUP($A89,Produits!$A$1:$P$357,9,FALSE)","v":3.56},{"$f":"IF(ISNA(VLOOKUP($A89,Produits!$A$1:$O$357,14,FALSE)),\"\",VLOOKUP($A89,Produits!$A$1:$O$357,14,FALSE))","v":3760219062127},{"$f":"Tableau15[[#This Row],[Réf.]]&\" - \"&Tableau15[[#This Row],[Désignation]]&\" - \"&Tableau15[[#This Row],[Contenance]]","v":"26P - Prun’Choco® (saveur à préciser) - 200g"}]
["26B1",{"$f":"VLOOKUP($A90,Produits!$A$1:$P$357,2,FALSE)","v":"Prun’Choco® (saveur à préciser)"},{"$f":"VLOOKUP($A90,Produits!$A$1:$P$357,3,FALSE)","v":"95g"},{"$f":"VLOOKUP($A90,Produits!$A$1:$P$357,5,FALSE)","v":5},{"$f":"VLOOKUP($A90,Produits!$A$1:$P$357,4,FALSE)","v":"Ballotin"},{"$f":"VLOOKUP($A90,Produits!$A$1:$P$357,6,FALSE)","v":4.6445400000000001},{"$f":"VLOOKUP($A90,Produits!$A$1:$P$357,7,FALSE)","v":4.9000000000000004},{"$f":"VLOOKUP($A90,Produits!$A$1:$P$357,10,FALSE)","v":5.5E-2},{"$f":"VLOOKUP($A90,Produits!$A$1:$P$357,8,FALSE)","v":0.2},{"$f":"VLOOKUP($A90,Produits!$A$1:$P$357,9,FALSE)","v":3.7199999999999998},{"$f":"IF(ISNA(VLOOKUP($A90,Produits!$A$1:$O$357,14,FALSE)),\"\",VLOOKUP($A90,Produits!$A$1:$O$357,14,FALSE))","v":3760219062110},{"$f":"Tableau15[[#This Row],[Réf.]]&\" - \"&Tableau15[[#This Row],[Désignation]]&\" - \"&Tableau15[[#This Row],[Contenance]]","v":"26B1 - Prun’Choco® (saveur à préciser) - 95g"}]
["26B2",{"$f":"VLOOKUP($A91,Produits!$A$1:$P$357,2,FALSE)","v":"Prun’Choco® (saveur à préciser)"},{"$f":"VLOOKUP($A91,Produits!$A$1:$P$357,3,FALSE)","v":"200g"},{"$f":"VLOOKUP($A91,Produits!$A$1:$P$357,5,FALSE)","v":5},{"$f":"VLOOKUP($A91,Produits!$A$1:$P$357,4,FALSE)","v":"Ballotin"},{"$f":"VLOOKUP($A91,Produits!$A$1:$P$357,6,FALSE)","v":9.3838799999999996},{"$f":"VLOOKUP($A91,Produits!$A$1:$P$357,7,FALSE)","v":9.9},{"$f":"VLOOKUP($A91,Produits!$A$1:$P$357,10,FALSE)","v":5.5E-2},{"$f":"VLOOKUP($A91,Produits!$A$1:$P$357,8,FALSE)","v":0.2},{"$f":"VLOOKUP($A91,Produits!$A$1:$P$357,9,FALSE)","v":7.51},{"$f":"IF(ISNA(VLOOKUP($A91,Produits!$A$1:$O$357,14,FALSE)),\"\",VLOOKUP($A91,Produits!$A$1:$O$357,14,FALSE))","v":3760219062103},{"$f":"Tableau15[[#This Row],[Réf.]]&\" - \"&Tableau15[[#This Row],[Désignation]]&\" - \"&Tableau15[[#This Row],[Contenance]]","v":"26B2 - Prun’Choco® (saveur à préciser) - 200g"}]
["26B3",{"$f":"VLOOKUP($A92,Produits!$A$1:$P$357,2,FALSE)","v":"Prun’Choco® (saveur à préciser) "},{"$f":"VLOOKUP($A92,Produits!$A$1:$P$357,3,FALSE)","v":"300g"},{"$f":"VLOOKUP($A92,Produits!$A$1:$P$357,5,FALSE)","v":5},{"$f":"VLOOKUP($A92,Produits!$A$1:$P$357,4,FALSE)","v":"Ballotin"},{"$f":"VLOOKUP($A92,Produits!$A$1:$P$357,6,FALSE)","v":7.1},{"$f":"VLOOKUP($A92,Produits!$A$1:$P$357,7,FALSE)","v":14.2},{"$f":"VLOOKUP($A92,Produits!$A$1:$P$357,10,FALSE)","v":true},{"$f":"VLOOKUP($A92,Produits!$A$1:$P$357,8,FALSE)","v":0.2},{"$f":"VLOOKUP($A92,Produits!$A$1:$P$357,9,FALSE)","v":5.68},{"$f":"IF(ISNA(VLOOKUP($A92,Produits!$A$1:$O$357,14,FALSE)),\"\",VLOOKUP($A92,Produits!$A$1:$O$357,14,FALSE))","v":3760219062097},{"$f":"Tableau15[[#This Row],[Réf.]]&\" - \"&Tableau15[[#This Row],[Désignation]]&\" - \"&Tableau15[[#This Row],[Contenance]]","v":"26B3 - Prun’Choco® (saveur à préciser)  - 300g"}]
["26E1",{"$f":"VLOOKUP($A93,Produits!$A$1:$P$357,2,FALSE)","v":"Prun’Choco® (saveur à préciser)"},{"$f":"VLOOKUP($A93,Produits!$A$1:$P$357,3,FALSE)","v":"200g"},{"$f":"VLOOKUP($A93,Produits!$A$1:$P$357,5,FALSE)","v":5},{"$f":"VLOOKUP($A93,Produits!$A$1:$P$357,4,FALSE)","v":"Écrin élég."},{"$f":"VLOOKUP($A93,Produits!$A$1:$P$357,6,FALSE)","v":12.796200000000001},{"$f":"VLOOKUP($A93,Produits!$A$1:$P$357,7,FALSE)","v":13.5},{"$f":"VLOOKUP($A93,Produits!$A$1:$P$357,10,FALSE)","v":5.5E-2},{"$f":"VLOOKUP($A93,Produits!$A$1:$P$357,8,FALSE)","v":0.2},{"$f":"VLOOKUP($A93,Produits!$A$1:$P$357,9,FALSE)","v":10.24},{"$f":"IF(ISNA(VLOOKUP($A93,Produits!$A$1:$O$357,14,FALSE)),\"\",VLOOKUP($A93,Produits!$A$1:$O$357,14,FALSE))","v":3760219062080},{"$f":"Tableau15[[#This Row],[Réf.]]&\" - \"&Tableau15[[#This Row],[Désignation]]&\" - \"&Tableau15[[#This Row],[Contenance]]","v":"26E1 - Prun’Choco® (saveur à préciser) - 200g"}]
["26E2",{"$f":"VLOOKUP($A94,Produits!$A$1:$P$357,2,FALSE)","v":"Prun’Choco® (saveur à préciser)"},{"$f":"VLOOKUP($A94,Produits!$A$1:$P$357,3,FALSE)","v":"300g"},{"$f":"VLOOKUP($A94,Produits!$A$1:$P$357,5,FALSE)","v":5},{"$f":"VLOOKUP($A94,Produits!$A$1:$P$357,4,FALSE)","v":"Écrin élég."},{"$f":"VLOOKUP($A94,Produits!$A$1:$P$357,6,FALSE)","v":19.810420000000001},{"$f":"VLOOKUP($A94,Produits!$A$1:$P$357,7,FALSE)","v":20.9},{"$f":"VLOOKUP($A94,Produits!$A$1:$P$357,10,FALSE)","v":5.5E-2},{"$f":"VLOOKUP($A94,Produits!$A$1:$P$357,8,FALSE)","v":0.2},{"$f":"VLOOKUP($A94,Produits!$A$1:$P$357,9,FALSE)","v":15.85},{"$f":"IF(ISNA(VLOOKUP($A94,Produits!$A$1:$O$357,14,FALSE)),\"\",VLOOKUP($A94,Produits!$A$1:$O$357,14,FALSE))","v":3760219062073},{"$f":"Tableau15[[#This Row],[Réf.]]&\" - \"&Tableau15[[#This Row],[Désignation]]&\" - \"&Tableau15[[#This Row],[Contenance]]","v":"26E2 - Prun’Choco® (saveur à préciser) - 300g"}]
["26V",{"$f":"VLOOKUP($A95,Produits!$A$1:$P$357,2,FALSE)","v":"Prun’Choco® (saveur à préciser)"},{"$f":"VLOOKUP($A95,Produits!$A$1:$P$357,3,FALSE)","v":"1kg"},{"$f":"VLOOKUP($A95,Produits!$A$1:$P$357,5,FALSE)","v":1},{"$f":"VLOOKUP($A95,Produits!$A$1:$P$357,4,FALSE)","v":"VRAC"},{"$f":"VLOOKUP($A95,Produits!$A$1:$P$357,6,FALSE)","v":37.819899999999997},{"$f":"VLOOKUP($A95,Produits!$A$1:$P$357,7,FALSE)","v":39.9},{"$f":"VLOOKUP($A95,Produits!$A$1:$P$357,10,FALSE)","v":5.5E-2},{"$f":"VLOOKUP($A95,Produits!$A$1:$P$357,8,FALSE)","v":0.2},{"$f":"VLOOKUP($A95,Produits!$A$1:$P$357,9,FALSE)","v":30.26},{"$f":"IF(ISNA(VLOOKUP($A95,Produits!$A$1:$O$357,14,FALSE)),\"\",VLOOKUP($A95,Produits!$A$1:$O$357,14,FALSE))","v":3760219062066},{"$f":"Tableau15[[#This Row],[Réf.]]&\" - \"&Tableau15[[#This Row],[Désignation]]&\" - \"&Tableau15[[#This Row],[Contenance]]","v":"26V - Prun’Choco® (saveur à préciser) - 1kg"}]
["27P",{"$f":"VLOOKUP($A96,Produits!$A$1:$P$357,2,FALSE)","v":"Pruneaux fourrés"},{"$f":"VLOOKUP($A96,Produits!$A$1:$P$357,3,FALSE)","v":"250g"},{"$f":"VLOOKUP($A96,Produits!$A$1:$P$357,5,FALSE)","v":5},{"$f":"VLOOKUP($A96,Produits!$A$1:$P$357,4,FALSE)","v":"Pochette"},{"$f":"VLOOKUP($A96,Produits!$A$1:$P$357,6,FALSE)","v":4.45},{"$f":"VLOOKUP($A96,Produits!$A$1:$P$357,7,FALSE)","v":8.9},{"$f":"VLOOKUP($A96,Produits!$A$1:$P$357,10,FALSE)","v":true},{"$f":"VLOOKUP($A96,Produits!$A$1:$P$357,8,FALSE)","v":0.2},{"$f":"VLOOKUP($A96,Produits!$A$1:$P$357,9,FALSE)","v":3.56},{"$f":"IF(ISNA(VLOOKUP($A96,Produits!$A$1:$O$357,14,FALSE)),\"\",VLOOKUP($A96,Produits!$A$1:$O$357,14,FALSE))","v":3760219062059},{"$f":"Tableau15[[#This Row],[Réf.]]&\" - \"&Tableau15[[#This Row],[Désignation]]&\" - \"&Tableau15[[#This Row],[Contenance]]","v":"27P - Pruneaux fourrés - 250g"}]
["27B1",{"$f":"VLOOKUP($A97,Produits!$A$1:$P$357,2,FALSE)","v":"Pruneaux fourrés"},{"$f":"VLOOKUP($A97,Produits!$A$1:$P$357,3,FALSE)","v":"100g"},{"$f":"VLOOKUP($A97,Produits!$A$1:$P$357,5,FALSE)","v":5},{"$f":"VLOOKUP($A97,Produits!$A$1:$P$357,4,FALSE)","v":"Ballotin"},{"$f":"VLOOKUP($A97,Produits!$A$1:$P$357,6,FALSE)","v":4.0833300000000001},{"$f":"VLOOKUP($A97,Produits!$A$1:$P$357,7,FALSE)","v":4.9000000000000004},{"$f":"VLOOKUP($A97,Produits!$A$1:$P$357,10,FALSE)","v":0.2},{"$f":"VLOOKUP($A97,Produits!$A$1:$P$357,8,FALSE)","v":0.2},{"$f":"VLOOKUP($A97,Produits!$A$1:$P$357,9,FALSE)","v":3.2699999999999996},{"$f":"IF(ISNA(VLOOKUP($A97,Produits!$A$1:$O$357,14,FALSE)),\"\",VLOOKUP($A97,Produits!$A$1:$O$357,14,FALSE))","v":3760219062042},{"$f":"Tableau15[[#This Row],[Réf.]]&\" - \"&Tableau15[[#This Row],[Désignation]]&\" - \"&Tableau15[[#This Row],[Contenance]]","v":"27B1 - Pruneaux fourrés - 100g"}]
["27E1",{"$f":"VLOOKUP($A98,Produits!$A$1:$P$357,2,FALSE)","v":"Pruneaux fourrés"},{"$f":"VLOOKUP($A98,Produits!$A$1:$P$357,3,FALSE)","v":"400g"},{"$f":"VLOOKUP($A98,Produits!$A$1:$P$357,5,FALSE)","v":5},{"$f":"VLOOKUP($A98,Produits!$A$1:$P$357,4,FALSE)","v":"Écrin élég."},{"$f":"VLOOKUP($A98,Produits!$A$1:$P$357,6,FALSE)","v":14.08333},{"$f":"VLOOKUP($A98,Produits!$A$1:$P$357,7,FALSE)","v":16.899999999999999},{"$f":"VLOOKUP($A98,Produits!$A$1:$P$357,10,FALSE)","v":0.2},{"$f":"VLOOKUP($A98,Produits!$A$1:$P$357,8,FALSE)","v":0.2},{"$f":"VLOOKUP($A98,Produits!$A$1:$P$357,9,FALSE)","v":11.27},{"$f":"IF(ISNA(VLOOKUP($A98,Produits!$A$1:$O$357,14,FALSE)),\"\",VLOOKUP($A98,Produits!$A$1:$O$357,14,FALSE))","v":3760219062035},{"$f":"Tableau15[[#This Row],[Réf.]]&\" - \"&Tableau15[[#This Row],[Désignation]]&\" - \"&Tableau15[[#This Row],[Contenance]]","v":"27E1 - Pruneaux fourrés - 400g"}]
["27E2",{"$f":"VLOOKUP($A99,Produits!$A$1:$P$357,2,FALSE)","v":"Pruneaux fourrés"},{"$f":"VLOOKUP($A99,Produits!$A$1:$P$357,3,FALSE)","v":"550g"},{"$f":"VLOOKUP($A99,Produits!$A$1:$P$357,5,FALSE)","v":5},{"$f":"VLOOKUP($A99,Produits!$A$1:$P$357,4,FALSE)","v":"Écrin élég."},{"$f":"VLOOKUP($A99,Produits!$A$1:$P$357,6,FALSE)","v":17.5},{"$f":"VLOOKUP($A99,Produits!$A$1:$P$357,7,FALSE)","v":21},{"$f":"VLOOKUP($A99,Produits!$A$1:$P$357,10,FALSE)","v":0.2},{"$f":"VLOOKUP($A99,Produits!$A$1:$P$357,8,FALSE)","v":0.2},{"$f":"VLOOKUP($A99,Produits!$A$1:$P$357,9,FALSE)","v":14},{"$f":"IF(ISNA(VLOOKUP($A99,Produits!$A$1:$O$357,14,FALSE)),\"\",VLOOKUP($A99,Produits!$A$1:$O$357,14,FALSE))","v":3760219062028},{"$f":"Tableau15[[#This Row],[Réf.]]&\" - \"&Tableau15[[#This Row],[Désignation]]&\" - \"&Tableau15[[#This Row],[Contenance]]","v":"27E2 - Pruneaux fourrés - 550g"}]
["28P",{"$f":"VLOOKUP($A100,Produits!$A$1:$P$357,2,FALSE)","v":"Pruneaux fourrés orangette"},{"$f":"VLOOKUP($A100,Produits!$A$1:$P$357,3,FALSE)","v":"250g"},{"$f":"VLOOKUP($A100,Produits!$A$1:$P$357,5,FALSE)","v":5},{"$f":"VLOOKUP($A100,Produits!$A$1:$P$357,4,FALSE)","v":"Pochette"},{"$f":"VLOOKUP($A100,Produits!$A$1:$P$357,6,FALSE)","v":7.6666600000000003},{"$f":"VLOOKUP($A100,Produits!$A$1:$P$357,7,FALSE)","v":9.1999999999999993},{"$f":"VLOOKUP($A100,Produits!$A$1:$P$357,10,FALSE)","v":0.2},{"$f":"VLOOKUP($A100,Produits!$A$1:$P$357,8,FALSE)","v":0.2},{"$f":"VLOOKUP($A100,Produits!$A$1:$P$357,9,FALSE)","v":6.14},{"$f":"IF(ISNA(VLOOKUP($A100,Produits!$A$1:$O$357,14,FALSE)),\"\",VLOOKUP($A100,Produits!$A$1:$O$357,14,FALSE))","v":3760219062011},{"$f":"Tableau15[[#This Row],[Réf.]]&\" - \"&Tableau15[[#This Row],[Désignation]]&\" - \"&Tableau15[[#This Row],[Contenance]]","v":"28P - Pruneaux fourrés orangette - 250g"}]
["28B1",{"$f":"VLOOKUP($A101,Produits!$A$1:$P$357,2,FALSE)","v":"Pruneaux fourrés orangette"},{"$f":"VLOOKUP($A101,Produits!$A$1:$P$357,3,FALSE)","v":"100g"},{"$f":"VLOOKUP($A101,Produits!$A$1:$P$357,5,FALSE)","v":5},{"$f":"VLOOKUP($A101,Produits!$A$1:$P$357,4,FALSE)","v":"Ballotin"},{"$f":"VLOOKUP($A101,Produits!$A$1:$P$357,6,FALSE)","v":4.1666600000000003},{"$f":"VLOOKUP($A101,Produits!$A$1:$P$357,7,FALSE)","v":5},{"$f":"VLOOKUP($A101,Produits!$A$1:$P$357,10,FALSE)","v":0.2},{"$f":"VLOOKUP($A101,Produits!$A$1:$P$357,8,FALSE)","v":0.2},{"$f":"VLOOKUP($A101,Produits!$A$1:$P$357,9,FALSE)","v":3.34},{"$f":"IF(ISNA(VLOOKUP($A101,Produits!$A$1:$O$357,14,FALSE)),\"\",VLOOKUP($A101,Produits!$A$1:$O$357,14,FALSE))","v":3760219062004},{"$f":"Tableau15[[#This Row],[Réf.]]&\" - \"&Tableau15[[#This Row],[Désignation]]&\" - \"&Tableau15[[#This Row],[Contenance]]","v":"28B1 - Pruneaux fourrés orangette - 100g"}]
["28E1",{"$f":"VLOOKUP($A102,Produits!$A$1:$P$357,2,FALSE)","v":"Pruneaux fourrés orangette"},{"$f":"VLOOKUP($A102,Produits!$A$1:$P$357,3,FALSE)","v":"400g"},{"$f":"VLOOKUP($A102,Produits!$A$1:$P$357,5,FALSE)","v":5},{"$f":"VLOOKUP($A102,Produits!$A$1:$P$357,4,FALSE)","v":"Écrin élég."},{"$f":"VLOOKUP($A102,Produits!$A$1:$P$357,6,FALSE)","v":14.58333},{"$f":"VLOOKUP($A102,Produits!$A$1:$P$357,7,FALSE)","v":17.5},{"$f":"VLOOKUP($A102,Produits!$A$1:$P$357,10,FALSE)","v":0.2},{"$f":"VLOOKUP($A102,Produits!$A$1:$P$357,8,FALSE)","v":0.2},{"$f":"VLOOKUP($A102,Produits!$A$1:$P$357,9,FALSE)","v":11.67},{"$f":"IF(ISNA(VLOOKUP($A102,Produits!$A$1:$O$357,14,FALSE)),\"\",VLOOKUP($A102,Produits!$A$1:$O$357,14,FALSE))","v":3760219061991},{"$f":"Tableau15[[#This Row],[Réf.]]&\" - \"&Tableau15[[#This Row],[Désignation]]&\" - \"&Tableau15[[#This Row],[Contenance]]","v":"28E1 - Pruneaux fourrés orangette - 400g"}]
["28E2",{"$f":"VLOOKUP($A103,Produits!$A$1:$P$357,2,FALSE)","v":"Pruneaux fourrés orangette"},{"$f":"VLOOKUP($A103,Produits!$A$1:$P$357,3,FALSE)","v":"550g"},{"$f":"VLOOKUP($A103,Produits!$A$1:$P$357,5,FALSE)","v":5},{"$f":"VLOOKUP($A103,Produits!$A$1:$P$357,4,FALSE)","v":"Écrin élég."},{"$f":"VLOOKUP($A103,Produits!$A$1:$P$357,6,FALSE)","v":18.25},{"$f":"VLOOKUP($A103,Produits!$A$1:$P$357,7,FALSE)","v":21.9},{"$f":"VLOOKUP($A103,Produits!$A$1:$P$357,10,FALSE)","v":0.2},{"$f":"VLOOKUP($A103,Produits!$A$1:$P$357,8,FALSE)","v":0.2},{"$f":"VLOOKUP($A103,Produits!$A$1:$P$357,9,FALSE)","v":14.6},{"$f":"IF(ISNA(VLOOKUP($A103,Produits!$A$1:$O$357,14,FALSE)),\"\",VLOOKUP($A103,Produits!$A$1:$O$357,14,FALSE))","v":3760219061984},{"$f":"Tableau15[[#This Row],[Réf.]]&\" - \"&Tableau15[[#This Row],[Désignation]]&\" - \"&Tableau15[[#This Row],[Contenance]]","v":"28E2 - Pruneaux fourrés orangette - 550g"}]
["29E1",{"$f":"VLOOKUP($A104,Produits!$A$1:$P$357,2,FALSE)","v":"Pruneaux d’Agen truffés"},{"$f":"VLOOKUP($A104,Produits!$A$1:$P$357,3,FALSE)","v":"270g"},{"$f":"VLOOKUP($A104,Produits!$A$1:$P$357,5,FALSE)","v":5},{"$f":"VLOOKUP($A104,Produits!$A$1:$P$357,4,FALSE)","v":"Écrin élég."},{"$f":"VLOOKUP($A104,Produits!$A$1:$P$357,6,FALSE)","v":14.12322},{"$f":"VLOOKUP($A104,Produits!$A$1:$P$357,7,FALSE)","v":14.9},{"$f":"VLOOKUP($A104,Produits!$A$1:$P$357,10,FALSE)","v":5.5E-2},{"$f":"VLOOKUP($A104,Produits!$A$1:$P$357,8,FALSE)","v":0.2},{"$f":"VLOOKUP($A104,Produits!$A$1:$P$357,9,FALSE)","v":11.299999999999999},{"$f":"IF(ISNA(VLOOKUP($A104,Produits!$A$1:$O$357,14,FALSE)),\"\",VLOOKUP($A104,Produits!$A$1:$O$357,14,FALSE))","v":3760219061977},{"$f":"Tableau15[[#This Row],[Réf.]]&\" - \"&Tableau15[[#This Row],[Désignation]]&\" - \"&Tableau15[[#This Row],[Contenance]]","v":"29E1 - Pruneaux d’Agen truffés - 270g"}]
["29E2",{"$f":"VLOOKUP($A105,Produits!$A$1:$P$357,2,FALSE)","v":"Pruneaux d’Agen truffés"},{"$f":"VLOOKUP($A105,Produits!$A$1:$P$357,3,FALSE)","v":"400g"},{"$f":"VLOOKUP($A105,Produits!$A$1:$P$357,5,FALSE)","v":5},{"$f":"VLOOKUP($A105,Produits!$A$1:$P$357,4,FALSE)","v":"Écrin élég."},{"$f":"VLOOKUP($A105,Produits!$A$1:$P$357,6,FALSE)","v":20.853079999999999},{"$f":"VLOOKUP($A105,Produits!$A$1:$P$357,7,FALSE)","v":22},{"$f":"VLOOKUP($A105,Produits!$A$1:$P$357,10,FALSE)","v":5.5E-2},{"$f":"VLOOKUP($A105,Produits!$A$1:$P$357,8,FALSE)","v":0.2},{"$f":"VLOOKUP($A105,Produits!$A$1:$P$357,9,FALSE)","v":16.690000000000001},{"$f":"IF(ISNA(VLOOKUP($A105,Produits!$A$1:$O$357,14,FALSE)),\"\",VLOOKUP($A105,Produits!$A$1:$O$357,14,FALSE))","v":3760219061960},{"$f":"Tableau15[[#This Row],[Réf.]]&\" - \"&Tableau15[[#This Row],[Désignation]]&\" - \"&Tableau15[[#This Row],[Contenance]]","v":"29E2 - Pruneaux d’Agen truffés - 400g"}]
["30A",{"$f":"VLOOKUP($A106,Produits!$A$1:$P$357,2,FALSE)","v":"Pruneaux aromatisés au vin blanc MonBazillac"},{"$f":"VLOOKUP($A106,Produits!$A$1:$P$357,3,FALSE)","v":"320g"},{"$f":"VLOOKUP($A106,Produits!$A$1:$P$357,5,FALSE)","v":14},{"$f":"VLOOKUP($A106,Produits!$A$1:$P$357,4,FALSE)","v":"Bocal"},{"$f":"VLOOKUP($A106,Produits!$A$1:$P$357,6,FALSE)","v":6.6350699999999998},{"$f":"VLOOKUP($A106,Produits!$A$1:$P$357,7,FALSE)","v":7},{"$f":"VLOOKUP($A106,Produits!$A$1:$P$357,10,FALSE)","v":5.5E-2},{"$f":"VLOOKUP($A106,Produits!$A$1:$P$357,8,FALSE)","v":0.25},{"$f":"VLOOKUP($A106,Produits!$A$1:$P$357,9,FALSE)","v":4.9799999999999995},{"$f":"IF(ISNA(VLOOKUP($A106,Produits!$A$1:$O$357,14,FALSE)),\"\",VLOOKUP($A106,Produits!$A$1:$O$357,14,FALSE))","v":3760219061953},{"$f":"Tableau15[[#This Row],[Réf.]]&\" - \"&Tableau15[[#This Row],[Désignation]]&\" - \"&Tableau15[[#This Row],[Contenance]]","v":"30A - Pruneaux aromatisés au vin blanc MonBazillac - 320g"}]
["30B",{"$f":"VLOOKUP($A107,Produits!$A$1:$P$357,2,FALSE)","v":"Pruneaux aromatisés au vin rouge de pays vanille"},{"$f":"VLOOKUP($A107,Produits!$A$1:$P$357,3,FALSE)","v":"320g"},{"$f":"VLOOKUP($A107,Produits!$A$1:$P$357,5,FALSE)","v":14},{"$f":"VLOOKUP($A107,Produits!$A$1:$P$357,4,FALSE)","v":"Bocal"},{"$f":"VLOOKUP($A107,Produits!$A$1:$P$357,6,FALSE)","v":5.7819900000000004},{"$f":"VLOOKUP($A107,Produits!$A$1:$P$357,7,FALSE)","v":6.1},{"$f":"VLOOKUP($A107,Produits!$A$1:$P$357,10,FALSE)","v":5.5E-2},{"$f":"VLOOKUP($A107,Produits!$A$1:$P$357,8,FALSE)","v":0.25},{"$f":"VLOOKUP($A107,Produits!$A$1:$P$357,9,FALSE)","v":4.34},{"$f":"IF(ISNA(VLOOKUP($A107,Produits!$A$1:$O$357,14,FALSE)),\"\",VLOOKUP($A107,Produits!$A$1:$O$357,14,FALSE))","v":3760219061946},{"$f":"Tableau15[[#This Row],[Réf.]]&\" - \"&Tableau15[[#This Row],[Désignation]]&\" - \"&Tableau15[[#This Row],[Contenance]]","v":"30B - Pruneaux aromatisés au vin rouge de pays vanille - 320g"}]
["30C",{"$f":"VLOOKUP($A108,Produits!$A$1:$P$357,2,FALSE)","v":"Pruneaux aromatisés au vin rouge de pays canelle"},{"$f":"VLOOKUP($A108,Produits!$A$1:$P$357,3,FALSE)","v":"320g"},{"$f":"VLOOKUP($A108,Produits!$A$1:$P$357,5,FALSE)","v":14},{"$f":"VLOOKUP($A108,Produits!$A$1:$P$357,4,FALSE)","v":"Bocal"},{"$f":"VLOOKUP($A108,Produits!$A$1:$P$357,6,FALSE)","v":5.7819900000000004},{"$f":"VLOOKUP($A108,Produits!$A$1:$P$357,7,FALSE)","v":6.1},{"$f":"VLOOKUP($A108,Produits!$A$1:$P$357,10,FALSE)","v":5.5E-2},{"$f":"VLOOKUP($A108,Produits!$A$1:$P$357,8,FALSE)","v":0.25},{"$f":"VLOOKUP($A108,Produits!$A$1:$P$357,9,FALSE)","v":4.34},{"$f":"IF(ISNA(VLOOKUP($A108,Produits!$A$1:$O$357,14,FALSE)),\"\",VLOOKUP($A108,Produits!$A$1:$O$357,14,FALSE))","v":3760219061939},{"$f":"Tableau15[[#This Row],[Réf.]]&\" - \"&Tableau15[[#This Row],[Désignation]]&\" - \"&Tableau15[[#This Row],[Contenance]]","v":"30C - Pruneaux aromatisés au vin rouge de pays canelle - 320g"}]
["31A",{"$f":"VLOOKUP($A109,Produits!$A$1:$P$357,2,FALSE)","v":"Pruneaux à l’Armagnac - 20°"},{"$f":"VLOOKUP($A109,Produits!$A$1:$P$357,3,FALSE)","v":"0,5L"},{"$f":"VLOOKUP($A109,Produits!$A$1:$P$357,5,FALSE)","v":6},{"$f":"VLOOKUP($A109,Produits!$A$1:$P$357,4,FALSE)","v":"Bocal"},{"$f":"VLOOKUP($A109,Produits!$A$1:$P$357,6,FALSE)","v":16.08333},{"$f":"VLOOKUP($A109,Produits!$A$1:$P$357,7,FALSE)","v":19.3},{"$f":"VLOOKUP($A109,Produits!$A$1:$P$357,10,FALSE)","v":0.2},{"$f":"VLOOKUP($A109,Produits!$A$1:$P$357,8,FALSE)","v":0.2},{"$f":"VLOOKUP($A109,Produits!$A$1:$P$357,9,FALSE)","v":12.87},{"$f":"IF(ISNA(VLOOKUP($A109,Produits!$A$1:$O$357,14,FALSE)),\"\",VLOOKUP($A109,Produits!$A$1:$O$357,14,FALSE))","v":3760219061922},{"$f":"Tableau15[[#This Row],[Réf.]]&\" - \"&Tableau15[[#This Row],[Désignation]]&\" - \"&Tableau15[[#This Row],[Contenance]]","v":"31A - Pruneaux à l’Armagnac - 20° - 0,5L"}]
["31B",{"$f":"VLOOKUP($A110,Produits!$A$1:$P$357,2,FALSE)","v":"Pruneaux à l’Armagnac - 20°"},{"$f":"VLOOKUP($A110,Produits!$A$1:$P$357,3,FALSE)","v":"0,7L"},{"$f":"VLOOKUP($A110,Produits!$A$1:$P$357,5,FALSE)","v":6},{"$f":"VLOOKUP($A110,Produits!$A$1:$P$357,4,FALSE)","v":"Bocal"},{"$f":"VLOOKUP($A110,Produits!$A$1:$P$357,6,FALSE)","v":20.41666},{"$f":"VLOOKUP($A110,Produits!$A$1:$P$357,7,FALSE)","v":24.5},{"$f":"VLOOKUP($A110,Produits!$A$1:$P$357,10,FALSE)","v":0.2},{"$f":"VLOOKUP($A110,Produits!$A$1:$P$357,8,FALSE)","v":0.2},{"$f":"VLOOKUP($A110,Produits!$A$1:$P$357,9,FALSE)","v":16.34},{"$f":"IF(ISNA(VLOOKUP($A110,Produits!$A$1:$O$357,14,FALSE)),\"\",VLOOKUP($A110,Produits!$A$1:$O$357,14,FALSE))","v":3760219061915},{"$f":"Tableau15[[#This Row],[Réf.]]&\" - \"&Tableau15[[#This Row],[Désignation]]&\" - \"&Tableau15[[#This Row],[Contenance]]","v":"31B - Pruneaux à l’Armagnac - 20° - 0,7L"}]
["31C",{"$f":"VLOOKUP($A111,Produits!$A$1:$P$357,2,FALSE)","v":"Pruneaux à l’Armagnac - 20° "},{"$f":"VLOOKUP($A111,Produits!$A$1:$P$357,3,FALSE)","v":"1L"},{"$f":"VLOOKUP($A111,Produits!$A$1:$P$357,5,FALSE)","v":6},{"$f":"VLOOKUP($A111,Produits!$A$1:$P$357,4,FALSE)","v":"Bocal"},{"$f":"VLOOKUP($A111,Produits!$A$1:$P$357,6,FALSE)","v":24.91666},{"$f":"VLOOKUP($A111,Produits!$A$1:$P$357,7,FALSE)","v":29.9},{"$f":"VLOOKUP($A111,Produits!$A$1:$P$357,10,FALSE)","v":0.2},{"$f":"VLOOKUP($A111,Produits!$A$1:$P$357,8,FALSE)","v":0.2},{"$f":"VLOOKUP($A111,Produits!$A$1:$P$357,9,FALSE)","v":19.940000000000001},{"$f":"IF(ISNA(VLOOKUP($A111,Produits!$A$1:$O$357,14,FALSE)),\"\",VLOOKUP($A111,Produits!$A$1:$O$357,14,FALSE))","v":3760219061908},{"$f":"Tableau15[[#This Row],[Réf.]]&\" - \"&Tableau15[[#This Row],[Désignation]]&\" - \"&Tableau15[[#This Row],[Contenance]]","v":"31C - Pruneaux à l’Armagnac - 20°  - 1L"}]
["32A",{"$f":"VLOOKUP($A112,Produits!$A$1:$P$357,2,FALSE)","v":"Pruneaux à l’eau de vie - 20° "},{"$f":"VLOOKUP($A112,Produits!$A$1:$P$357,3,FALSE)","v":"0,5L"},{"$f":"VLOOKUP($A112,Produits!$A$1:$P$357,5,FALSE)","v":6},{"$f":"VLOOKUP($A112,Produits!$A$1:$P$357,4,FALSE)","v":"Bocal"},{"$f":"VLOOKUP($A112,Produits!$A$1:$P$357,6,FALSE)","v":16.08333},{"$f":"VLOOKUP($A112,Produits!$A$1:$P$357,7,FALSE)","v":19.3},{"$f":"VLOOKUP($A112,Produits!$A$1:$P$357,10,FALSE)","v":0.2},{"$f":"VLOOKUP($A112,Produits!$A$1:$P$357,8,FALSE)","v":0.2},{"$f":"VLOOKUP($A112,Produits!$A$1:$P$357,9,FALSE)","v":12.87},{"$f":"IF(ISNA(VLOOKUP($A112,Produits!$A$1:$O$357,14,FALSE)),\"\",VLOOKUP($A112,Produits!$A$1:$O$357,14,FALSE))","v":3760219061892},{"$f":"Tableau15[[#This Row],[Réf.]]&\" - \"&Tableau15[[#This Row],[Désignation]]&\" - \"&Tableau15[[#This Row],[Contenance]]","v":"32A - Pruneaux à l’eau de vie - 20°  - 0,5L"}]
["32B",{"$f":"VLOOKUP($A113,Produits!$A$1:$P$357,2,FALSE)","v":"Pruneaux à l’eau de vie - 20°"},{"$f":"VLOOKUP($A113,Produits!$A$1:$P$357,3,FALSE)","v":"0,7L"},{"$f":"VLOOKUP($A113,Produits!$A$1:$P$357,5,FALSE)","v":6},{"$f":"VLOOKUP($A113,Produits!$A$1:$P$357,4,FALSE)","v":"Bocal"},{"$f":"VLOOKUP($A113,Produits!$A$1:$P$357,6,FALSE)","v":20.41666},{"$f":"VLOOKUP($A113,Produits!$A$1:$P$357,7,FALSE)","v":24.5},{"$f":"VLOOKUP($A113,Produits!$A$1:$P$357,10,FALSE)","v":0.2},{"$f":"VLOOKUP($A113,Produits!$A$1:$P$357,8,FALSE)","v":0.2},{"$f":"VLOOKUP($A113,Produits!$A$1:$P$357,9,FALSE)","v":16.34},{"$f":"IF(ISNA(VLOOKUP($A113,Produits!$A$1:$O$357,14,FALSE)),\"\",VLOOKUP($A113,Produits!$A$1:$O$357,14,FALSE))","v":3760219061885},{"$f":"Tableau15[[#This Row],[Réf.]]&\" - \"&Tableau15[[#This Row],[Désignation]]&\" - \"&Tableau15[[#This Row],[Contenance]]","v":"32B - Pruneaux à l’eau de vie - 20° - 0,7L"}]
["32C",{"$f":"VLOOKUP($A114,Produits!$A$1:$P$357,2,FALSE)","v":"Pruneaux à l’eau de vie - 20°"},{"$f":"VLOOKUP($A114,Produits!$A$1:$P$357,3,FALSE)","v":"1L"},{"$f":"VLOOKUP($A114,Produits!$A$1:$P$357,5,FALSE)","v":6},{"$f":"VLOOKUP($A114,Produits!$A$1:$P$357,4,FALSE)","v":"Bocal"},{"$f":"VLOOKUP($A114,Produits!$A$1:$P$357,6,FALSE)","v":24.91666},{"$f":"VLOOKUP($A114,Produits!$A$1:$P$357,7,FALSE)","v":29.9},{"$f":"VLOOKUP($A114,Produits!$A$1:$P$357,10,FALSE)","v":0.2},{"$f":"VLOOKUP($A114,Produits!$A$1:$P$357,8,FALSE)","v":0.2},{"$f":"VLOOKUP($A114,Produits!$A$1:$P$357,9,FALSE)","v":19.940000000000001},{"$f":"IF(ISNA(VLOOKUP($A114,Produits!$A$1:$O$357,14,FALSE)),\"\",VLOOKUP($A114,Produits!$A$1:$O$357,14,FALSE))","v":3760219061878},{"$f":"Tableau15[[#This Row],[Réf.]]&\" - \"&Tableau15[[#This Row],[Désignation]]&\" - \"&Tableau15[[#This Row],[Contenance]]","v":"32C - Pruneaux à l’eau de vie - 20° - 1L"}]
["33A-EDV",{"$f":"VLOOKUP($A115,Produits!$A$1:$P$357,2,FALSE)","v":"Pruneaux d'Agen Eau de vie - 20°"},{"$f":"VLOOKUP($A115,Produits!$A$1:$P$357,3,FALSE)","v":"200ml"},{"$f":"VLOOKUP($A115,Produits!$A$1:$P$357,5,FALSE)","v":6},{"$f":"VLOOKUP($A115,Produits!$A$1:$P$357,4,FALSE)","v":"Bocal"},{"$f":"VLOOKUP($A115,Produits!$A$1:$P$357,6,FALSE)","v":7.0833300000000001},{"$f":"VLOOKUP($A115,Produits!$A$1:$P$357,7,FALSE)","v":8.5},{"$f":"VLOOKUP($A115,Produits!$A$1:$P$357,10,FALSE)","v":0.2},{"$f":"VLOOKUP($A115,Produits!$A$1:$P$357,8,FALSE)","v":0.2},{"$f":"VLOOKUP($A115,Produits!$A$1:$P$357,9,FALSE)","v":5.67},{"$f":"IF(ISNA(VLOOKUP($A115,Produits!$A$1:$O$357,14,FALSE)),\"\",VLOOKUP($A115,Produits!$A$1:$O$357,14,FALSE))","v":3760219062950},{"$f":"Tableau15[[#This Row],[Réf.]]&\" - \"&Tableau15[[#This Row],[Désignation]]&\" - \"&Tableau15[[#This Row],[Contenance]]","v":"33A-EDV - Pruneaux d'Agen Eau de vie - 20° - 200ml"}]
["33A-ARM",{"$f":"VLOOKUP($A116,Produits!$A$1:$P$357,2,FALSE)","v":"Pruneaux d'Agen Armagnac - 20°"},{"$f":"VLOOKUP($A116,Produits!$A$1:$P$357,3,FALSE)","v":"200ml"},{"$f":"VLOOKUP($A116,Produits!$A$1:$P$357,5,FALSE)","v":6},{"$f":"VLOOKUP($A116,Produits!$A$1:$P$357,4,FALSE)","v":"Bocal"},{"$f":"VLOOKUP($A116,Produits!$A$1:$P$357,6,FALSE)","v":7.0833300000000001},{"$f":"VLOOKUP($A116,Produits!$A$1:$P$357,7,FALSE)","v":8.5},{"$f":"VLOOKUP($A116,Produits!$A$1:$P$357,10,FALSE)","v":0.2},{"$f":"VLOOKUP($A116,Produits!$A$1:$P$357,8,FALSE)","v":0.2},{"$f":"VLOOKUP($A116,Produits!$A$1:$P$357,9,FALSE)","v":5.67},{"$f":"IF(ISNA(VLOOKUP($A116,Produits!$A$1:$O$357,14,FALSE)),\"\",VLOOKUP($A116,Produits!$A$1:$O$357,14,FALSE))","v":3760219062967},{"$f":"Tableau15[[#This Row],[Réf.]]&\" - \"&Tableau15[[#This Row],[Désignation]]&\" - \"&Tableau15[[#This Row],[Contenance]]","v":"33A-ARM - Pruneaux d'Agen Armagnac - 20° - 200ml"}]
["33B-RHM",{"$f":"VLOOKUP($A117,Produits!$A$1:$P$357,2,FALSE)","v":"Pruneaux d'Agen Rhum - 18°"},{"$f":"VLOOKUP($A117,Produits!$A$1:$P$357,3,FALSE)","v":"200ml"},{"$f":"VLOOKUP($A117,Produits!$A$1:$P$357,5,FALSE)","v":6},{"$f":"VLOOKUP($A117,Produits!$A$1:$P$357,4,FALSE)","v":"Bocal"},{"$f":"VLOOKUP($A117,Produits!$A$1:$P$357,6,FALSE)","v":4.75},{"$f":"VLOOKUP($A117,Produits!$A$1:$P$357,7,FALSE)","v":9.5},{"$f":"VLOOKUP($A117,Produits!$A$1:$P$357,10,FALSE)","v":true},{"$f":"VLOOKUP($A117,Produits!$A$1:$P$357,8,FALSE)","v":0.2},{"$f":"VLOOKUP($A117,Produits!$A$1:$P$357,9,FALSE)","v":3.8},{"$f":"IF(ISNA(VLOOKUP($A117,Produits!$A$1:$O$357,14,FALSE)),\"\",VLOOKUP($A117,Produits!$A$1:$O$357,14,FALSE))","v":3760219062998},{"$f":"Tableau15[[#This Row],[Réf.]]&\" - \"&Tableau15[[#This Row],[Désignation]]&\" - \"&Tableau15[[#This Row],[Contenance]]","v":"33B-RHM - Pruneaux d'Agen Rhum - 18° - 200ml"}]
["33B-WSK",{"$f":"VLOOKUP($A118,Produits!$A$1:$P$357,2,FALSE)","v":"Pruneaux d'Agen Whisky - 18°"},{"$f":"VLOOKUP($A118,Produits!$A$1:$P$357,3,FALSE)","v":"200ml"},{"$f":"VLOOKUP($A118,Produits!$A$1:$P$357,5,FALSE)","v":6},{"$f":"VLOOKUP($A118,Produits!$A$1:$P$357,4,FALSE)","v":"Bocal"},{"$f":"VLOOKUP($A118,Produits!$A$1:$P$357,6,FALSE)","v":7.9166600000000003},{"$f":"VLOOKUP($A118,Produits!$A$1:$P$357,7,FALSE)","v":9.5},{"$f":"VLOOKUP($A118,Produits!$A$1:$P$357,10,FALSE)","v":0.2},{"$f":"VLOOKUP($A118,Produits!$A$1:$P$357,8,FALSE)","v":0.2},{"$f":"VLOOKUP($A118,Produits!$A$1:$P$357,9,FALSE)","v":6.34},{"$f":"IF(ISNA(VLOOKUP($A118,Produits!$A$1:$O$357,14,FALSE)),\"\",VLOOKUP($A118,Produits!$A$1:$O$357,14,FALSE))","v":3760219062981},{"$f":"Tableau15[[#This Row],[Réf.]]&\" - \"&Tableau15[[#This Row],[Désignation]]&\" - \"&Tableau15[[#This Row],[Contenance]]","v":"33B-WSK - Pruneaux d'Agen Whisky - 18° - 200ml"}]
["33B-CTR",{"$f":"VLOOKUP($A119,Produits!$A$1:$P$357,2,FALSE)","v":"Pruneaux d'Agen Cointreau - 18°"},{"$f":"VLOOKUP($A119,Produits!$A$1:$P$357,3,FALSE)","v":"200ml"},{"$f":"VLOOKUP($A119,Produits!$A$1:$P$357,5,FALSE)","v":6},{"$f":"VLOOKUP($A119,Produits!$A$1:$P$357,4,FALSE)","v":"Bocal"},{"$f":"VLOOKUP($A119,Produits!$A$1:$P$357,6,FALSE)","v":7.9166600000000003},{"$f":"VLOOKUP($A119,Produits!$A$1:$P$357,7,FALSE)","v":9.5},{"$f":"VLOOKUP($A119,Produits!$A$1:$P$357,10,FALSE)","v":0.2},{"$f":"VLOOKUP($A119,Produits!$A$1:$P$357,8,FALSE)","v":0.2},{"$f":"VLOOKUP($A119,Produits!$A$1:$P$357,9,FALSE)","v":6.34},{"$f":"IF(ISNA(VLOOKUP($A119,Produits!$A$1:$O$357,14,FALSE)),\"\",VLOOKUP($A119,Produits!$A$1:$O$357,14,FALSE))","v":3760219062974},{"$f":"Tableau15[[#This Row],[Réf.]]&\" - \"&Tableau15[[#This Row],[Désignation]]&\" - \"&Tableau15[[#This Row],[Contenance]]","v":"33B-CTR - Pruneaux d'Agen Cointreau - 18° - 200ml"}]
["33C",{"$f":"VLOOKUP($A120,Produits!$A$1:$P$357,2,FALSE)","v":"Coffret Pruneaux aux alcools x2 (alcools à préciser)"},{"$f":"VLOOKUP($A120,Produits!$A$1:$P$357,3,FALSE)","v":"200ml"},{"$f":"VLOOKUP($A120,Produits!$A$1:$P$357,5,FALSE)","v":6},{"$f":"VLOOKUP($A120,Produits!$A$1:$P$357,4,FALSE)","v":"Bocal"},{"$f":"VLOOKUP($A120,Produits!$A$1:$P$357,6,FALSE)","v":15},{"$f":"VLOOKUP($A120,Produits!$A$1:$P$357,7,FALSE)","v":18},{"$f":"VLOOKUP($A120,Produits!$A$1:$P$357,10,FALSE)","v":0.2},{"$f":"VLOOKUP($A120,Produits!$A$1:$P$357,8,FALSE)","v":0.2},{"$f":"VLOOKUP($A120,Produits!$A$1:$P$357,9,FALSE)","v":12},{"$f":"IF(ISNA(VLOOKUP($A120,Produits!$A$1:$O$357,14,FALSE)),\"\",VLOOKUP($A120,Produits!$A$1:$O$357,14,FALSE))","v":3760219061847},{"$f":"Tableau15[[#This Row],[Réf.]]&\" - \"&Tableau15[[#This Row],[Désignation]]&\" - \"&Tableau15[[#This Row],[Contenance]]","v":"33C - Coffret Pruneaux aux alcools x2 (alcools à préciser) - 200ml"}]
["33D",{"$f":"VLOOKUP($A121,Produits!$A$1:$P$357,2,FALSE)","v":"Coffret Pruneaux aux alcools x3 (alcools à préciser)"},{"$f":"VLOOKUP($A121,Produits!$A$1:$P$357,3,FALSE)","v":"200ml"},{"$f":"VLOOKUP($A121,Produits!$A$1:$P$357,5,FALSE)","v":6},{"$f":"VLOOKUP($A121,Produits!$A$1:$P$357,4,FALSE)","v":"Bocal"},{"$f":"VLOOKUP($A121,Produits!$A$1:$P$357,6,FALSE)","v":22.91666},{"$f":"VLOOKUP($A121,Produits!$A$1:$P$357,7,FALSE)","v":27.5},{"$f":"VLOOKUP($A121,Produits!$A$1:$P$357,10,FALSE)","v":0.2},{"$f":"VLOOKUP($A121,Produits!$A$1:$P$357,8,FALSE)","v":0.2},{"$f":"VLOOKUP($A121,Produits!$A$1:$P$357,9,FALSE)","v":18.34},{"$f":"IF(ISNA(VLOOKUP($A121,Produits!$A$1:$O$357,14,FALSE)),\"\",VLOOKUP($A121,Produits!$A$1:$O$357,14,FALSE))","v":3760219061830},{"$f":"Tableau15[[#This Row],[Réf.]]&\" - \"&Tableau15[[#This Row],[Désignation]]&\" - \"&Tableau15[[#This Row],[Contenance]]","v":"33D - Coffret Pruneaux aux alcools x3 (alcools à préciser) - 200ml"}]
["34A",{"$f":"VLOOKUP($A122,Produits!$A$1:$P$357,2,FALSE)","v":"Petit verre Pruneaux Eau de vie ou Armagnac (à préciser)"},{"$f":"VLOOKUP($A122,Produits!$A$1:$P$357,3,FALSE)","v":"5cl"},{"$f":"VLOOKUP($A122,Produits!$A$1:$P$357,5,FALSE)","v":48},{"$f":"VLOOKUP($A122,Produits!$A$1:$P$357,4,FALSE)","v":"Petit verre"},{"$f":"VLOOKUP($A122,Produits!$A$1:$P$357,6,FALSE)","v":1.3},{"$f":"VLOOKUP($A122,Produits!$A$1:$P$357,7,FALSE)","v":2.6},{"$f":"VLOOKUP($A122,Produits!$A$1:$P$357,10,FALSE)","v":true},{"$f":"VLOOKUP($A122,Produits!$A$1:$P$357,8,FALSE)","v":0.2},{"$f":"VLOOKUP($A122,Produits!$A$1:$P$357,9,FALSE)","v":1.04},{"$f":"IF(ISNA(VLOOKUP($A122,Produits!$A$1:$O$357,14,FALSE)),\"\",VLOOKUP($A122,Produits!$A$1:$O$357,14,FALSE))","v":3760219061823},{"$f":"Tableau15[[#This Row],[Réf.]]&\" - \"&Tableau15[[#This Row],[Désignation]]&\" - \"&Tableau15[[#This Row],[Contenance]]","v":"34A - Petit verre Pruneaux Eau de vie ou Armagnac (à préciser) - 5cl"}]
["34B",{"$f":"VLOOKUP($A123,Produits!$A$1:$P$357,2,FALSE)","v":"Petit verre Rhum, Whisky ou Cointreau (à préciser)"},{"$f":"VLOOKUP($A123,Produits!$A$1:$P$357,3,FALSE)","v":"5cl"},{"$f":"VLOOKUP($A123,Produits!$A$1:$P$357,5,FALSE)","v":48},{"$f":"VLOOKUP($A123,Produits!$A$1:$P$357,4,FALSE)","v":"Petit verre"},{"$f":"VLOOKUP($A123,Produits!$A$1:$P$357,6,FALSE)","v":2.4166599999999998},{"$f":"VLOOKUP($A123,Produits!$A$1:$P$357,7,FALSE)","v":2.9},{"$f":"VLOOKUP($A123,Produits!$A$1:$P$357,10,FALSE)","v":0.2},{"$f":"VLOOKUP($A123,Produits!$A$1:$P$357,8,FALSE)","v":0.2},{"$f":"VLOOKUP($A123,Produits!$A$1:$P$357,9,FALSE)","v":1.94},{"$f":"IF(ISNA(VLOOKUP($A123,Produits!$A$1:$O$357,14,FALSE)),\"\",VLOOKUP($A123,Produits!$A$1:$O$357,14,FALSE))","v":3760219061816},{"$f":"Tableau15[[#This Row],[Réf.]]&\" - \"&Tableau15[[#This Row],[Désignation]]&\" - \"&Tableau15[[#This Row],[Contenance]]","v":"34B - Petit verre Rhum, Whisky ou Cointreau (à préciser) - 5cl"}]
["34C",{"$f":"VLOOKUP($A124,Produits!$A$1:$P$357,2,FALSE)","v":"Coffret petits verres x6 Eau de vie ou Armagnac (à préciser)"},{"$f":"VLOOKUP($A124,Produits!$A$1:$P$357,3,FALSE)","v":"5cl"},{"$f":"VLOOKUP($A124,Produits!$A$1:$P$357,5,FALSE)","v":1},{"$f":"VLOOKUP($A124,Produits!$A$1:$P$357,4,FALSE)","v":"Petit verre"},{"$f":"VLOOKUP($A124,Produits!$A$1:$P$357,6,FALSE)","v":14.91666},{"$f":"VLOOKUP($A124,Produits!$A$1:$P$357,7,FALSE)","v":17.899999999999999},{"$f":"VLOOKUP($A124,Produits!$A$1:$P$357,10,FALSE)","v":0.2},{"$f":"VLOOKUP($A124,Produits!$A$1:$P$357,8,FALSE)","v":0.2},{"$f":"VLOOKUP($A124,Produits!$A$1:$P$357,9,FALSE)","v":11.94},{"$f":"IF(ISNA(VLOOKUP($A124,Produits!$A$1:$O$357,14,FALSE)),\"\",VLOOKUP($A124,Produits!$A$1:$O$357,14,FALSE))","v":3760219061809},{"$f":"Tableau15[[#This Row],[Réf.]]&\" - \"&Tableau15[[#This Row],[Désignation]]&\" - \"&Tableau15[[#This Row],[Contenance]]","v":"34C - Coffret petits verres x6 Eau de vie ou Armagnac (à préciser) - 5cl"}]
["34D",{"$f":"VLOOKUP($A125,Produits!$A$1:$P$357,2,FALSE)","v":"Coffret petits verres x6 mix (alcools à préciser)"},{"$f":"VLOOKUP($A125,Produits!$A$1:$P$357,3,FALSE)","v":"5cl"},{"$f":"VLOOKUP($A125,Produits!$A$1:$P$357,5,FALSE)","v":1},{"$f":"VLOOKUP($A125,Produits!$A$1:$P$357,4,FALSE)","v":"Petit verre"},{"$f":"VLOOKUP($A125,Produits!$A$1:$P$357,6,FALSE)","v":15.91666},{"$f":"VLOOKUP($A125,Produits!$A$1:$P$357,7,FALSE)","v":19.100000000000001},{"$f":"VLOOKUP($A125,Produits!$A$1:$P$357,10,FALSE)","v":0.2},{"$f":"VLOOKUP($A125,Produits!$A$1:$P$357,8,FALSE)","v":0.2},{"$f":"VLOOKUP($A125,Produits!$A$1:$P$357,9,FALSE)","v":12.74},{"$f":"IF(ISNA(VLOOKUP($A125,Produits!$A$1:$O$357,14,FALSE)),\"\",VLOOKUP($A125,Produits!$A$1:$O$357,14,FALSE))","v":3760219061793},{"$f":"Tableau15[[#This Row],[Réf.]]&\" - \"&Tableau15[[#This Row],[Désignation]]&\" - \"&Tableau15[[#This Row],[Contenance]]","v":"34D - Coffret petits verres x6 mix (alcools à préciser) - 5cl"}]
["34E",{"$f":"VLOOKUP($A126,Produits!$A$1:$P$357,2,FALSE)","v":"Coffret petits verres x12 Eau de vie ou Armagnac (à préciser)"},{"$f":"VLOOKUP($A126,Produits!$A$1:$P$357,3,FALSE)","v":"5cl"},{"$f":"VLOOKUP($A126,Produits!$A$1:$P$357,5,FALSE)","v":1},{"$f":"VLOOKUP($A126,Produits!$A$1:$P$357,4,FALSE)","v":"Petit verre"},{"$f":"VLOOKUP($A126,Produits!$A$1:$P$357,6,FALSE)","v":28},{"$f":"VLOOKUP($A126,Produits!$A$1:$P$357,7,FALSE)","v":33.6},{"$f":"VLOOKUP($A126,Produits!$A$1:$P$357,10,FALSE)","v":0.2},{"$f":"VLOOKUP($A126,Produits!$A$1:$P$357,8,FALSE)","v":0.2},{"$f":"VLOOKUP($A126,Produits!$A$1:$P$357,9,FALSE)","v":22.4},{"$f":"IF(ISNA(VLOOKUP($A126,Produits!$A$1:$O$357,14,FALSE)),\"\",VLOOKUP($A126,Produits!$A$1:$O$357,14,FALSE))","v":3760219061786},{"$f":"Tableau15[[#This Row],[Réf.]]&\" - \"&Tableau15[[#This Row],[Désignation]]&\" - \"&Tableau15[[#This Row],[Contenance]]","v":"34E - Coffret petits verres x12 Eau de vie ou Armagnac (à préciser) - 5cl"}]
["34F",{"$f":"VLOOKUP($A127,Produits!$A$1:$P$357,2,FALSE)","v":"Coffret petits verres x12 mix (alcools à préciser)"},{"$f":"VLOOKUP($A127,Produits!$A$1:$P$357,3,FALSE)","v":"5cl"},{"$f":"VLOOKUP($A127,Produits!$A$1:$P$357,5,FALSE)","v":1},{"$f":"VLOOKUP($A127,Produits!$A$1:$P$357,4,FALSE)","v":"Petit verre"},{"$f":"VLOOKUP($A127,Produits!$A$1:$P$357,6,FALSE)","v":30.08333},{"$f":"VLOOKUP($A127,Produits!$A$1:$P$357,7,FALSE)","v":36.1},{"$f":"VLOOKUP($A127,Produits!$A$1:$P$357,10,FALSE)","v":0.2},{"$f":"VLOOKUP($A127,Produits!$A$1:$P$357,8,FALSE)","v":0.2},{"$f":"VLOOKUP($A127,Produits!$A$1:$P$357,9,FALSE)","v":24.07},{"$f":"IF(ISNA(VLOOKUP($A127,Produits!$A$1:$O$357,14,FALSE)),\"\",VLOOKUP($A127,Produits!$A$1:$O$357,14,FALSE))","v":3760219061779},{"$f":"Tableau15[[#This Row],[Réf.]]&\" - \"&Tableau15[[#This Row],[Désignation]]&\" - \"&Tableau15[[#This Row],[Contenance]]","v":"34F - Coffret petits verres x12 mix (alcools à préciser) - 5cl"}]
["35A",{"$f":"VLOOKUP($A128,Produits!$A$1:$P$357,2,FALSE)","v":"Apéritif de Pruneau - 16° "},{"$f":"VLOOKUP($A128,Produits!$A$1:$P$357,3,FALSE)","v":"0,375L"},{"$f":"VLOOKUP($A128,Produits!$A$1:$P$357,5,FALSE)","v":6},{"$f":"VLOOKUP($A128,Produits!$A$1:$P$357,4,FALSE)","v":"Bouteille"},{"$f":"VLOOKUP($A128,Produits!$A$1:$P$357,6,FALSE)","v":5.75},{"$f":"VLOOKUP($A128,Produits!$A$1:$P$357,7,FALSE)","v":11.5},{"$f":"VLOOKUP($A128,Produits!$A$1:$P$357,10,FALSE)","v":true},{"$f":"VLOOKUP($A128,Produits!$A$1:$P$357,8,FALSE)","v":0.2},{"$f":"VLOOKUP($A128,Produits!$A$1:$P$357,9,FALSE)","v":4.5999999999999996},{"$f":"IF(ISNA(VLOOKUP($A128,Produits!$A$1:$O$357,14,FALSE)),\"\",VLOOKUP($A128,Produits!$A$1:$O$357,14,FALSE))","v":3760219061762},{"$f":"Tableau15[[#This Row],[Réf.]]&\" - \"&Tableau15[[#This Row],[Désignation]]&\" - \"&Tableau15[[#This Row],[Contenance]]","v":"35A - Apéritif de Pruneau - 16°  - 0,375L"}]
["35B",{"$f":"VLOOKUP($A129,Produits!$A$1:$P$357,2,FALSE)","v":"Apéritif de Pruneau - 16°"},{"$f":"VLOOKUP($A129,Produits!$A$1:$P$357,3,FALSE)","v":"0,7L"},{"$f":"VLOOKUP($A129,Produits!$A$1:$P$357,5,FALSE)","v":6},{"$f":"VLOOKUP($A129,Produits!$A$1:$P$357,4,FALSE)","v":"Bouteille"},{"$f":"VLOOKUP($A129,Produits!$A$1:$P$357,6,FALSE)","v":15.16666},{"$f":"VLOOKUP($A129,Produits!$A$1:$P$357,7,FALSE)","v":18.2},{"$f":"VLOOKUP($A129,Produits!$A$1:$P$357,10,FALSE)","v":0.2},{"$f":"VLOOKUP($A129,Produits!$A$1:$P$357,8,FALSE)","v":0.2},{"$f":"VLOOKUP($A129,Produits!$A$1:$P$357,9,FALSE)","v":12.14},{"$f":"IF(ISNA(VLOOKUP($A129,Produits!$A$1:$O$357,14,FALSE)),\"\",VLOOKUP($A129,Produits!$A$1:$O$357,14,FALSE))","v":3760219061755},{"$f":"Tableau15[[#This Row],[Réf.]]&\" - \"&Tableau15[[#This Row],[Désignation]]&\" - \"&Tableau15[[#This Row],[Contenance]]","v":"35B - Apéritif de Pruneau - 16° - 0,7L"}]
["36A",{"$f":"VLOOKUP($A130,Produits!$A$1:$P$357,2,FALSE)","v":"Liqueur d’Eau de vie de prune d’Ente - 24°"},{"$f":"VLOOKUP($A130,Produits!$A$1:$P$357,3,FALSE)","v":"0,375L"},{"$f":"VLOOKUP($A130,Produits!$A$1:$P$357,5,FALSE)","v":6},{"$f":"VLOOKUP($A130,Produits!$A$1:$P$357,4,FALSE)","v":"Bouteille"},{"$f":"VLOOKUP($A130,Produits!$A$1:$P$357,6,FALSE)","v":10.5},{"$f":"VLOOKUP($A130,Produits!$A$1:$P$357,7,FALSE)","v":12.6},{"$f":"VLOOKUP($A130,Produits!$A$1:$P$357,10,FALSE)","v":0.2},{"$f":"VLOOKUP($A130,Produits!$A$1:$P$357,8,FALSE)","v":0.2},{"$f":"VLOOKUP($A130,Produits!$A$1:$P$357,9,FALSE)","v":8.4},{"$f":"IF(ISNA(VLOOKUP($A130,Produits!$A$1:$O$357,14,FALSE)),\"\",VLOOKUP($A130,Produits!$A$1:$O$357,14,FALSE))","v":3760219061748},{"$f":"Tableau15[[#This Row],[Réf.]]&\" - \"&Tableau15[[#This Row],[Désignation]]&\" - \"&Tableau15[[#This Row],[Contenance]]","v":"36A - Liqueur d’Eau de vie de prune d’Ente - 24° - 0,375L"}]
["36B",{"$f":"VLOOKUP($A131,Produits!$A$1:$P$357,2,FALSE)","v":"Liqueur d’Eau de vie de prune d’Ente - 24°"},{"$f":"VLOOKUP($A131,Produits!$A$1:$P$357,3,FALSE)","v":"0,5L"},{"$f":"VLOOKUP($A131,Produits!$A$1:$P$357,5,FALSE)","v":6},{"$f":"VLOOKUP($A131,Produits!$A$1:$P$357,4,FALSE)","v":"Bouteille"},{"$f":"VLOOKUP($A131,Produits!$A$1:$P$357,6,FALSE)","v":12.25},{"$f":"VLOOKUP($A131,Produits!$A$1:$P$357,7,FALSE)","v":14.7},{"$f":"VLOOKUP($A131,Produits!$A$1:$P$357,10,FALSE)","v":0.2},{"$f":"VLOOKUP($A131,Produits!$A$1:$P$357,8,FALSE)","v":0.2},{"$f":"VLOOKUP($A131,Produits!$A$1:$P$357,9,FALSE)","v":9.8000000000000007},{"$f":"IF(ISNA(VLOOKUP($A131,Produits!$A$1:$O$357,14,FALSE)),\"\",VLOOKUP($A131,Produits!$A$1:$O$357,14,FALSE))","v":3760219061731},{"$f":"Tableau15[[#This Row],[Réf.]]&\" - \"&Tableau15[[#This Row],[Désignation]]&\" - \"&Tableau15[[#This Row],[Contenance]]","v":"36B - Liqueur d’Eau de vie de prune d’Ente - 24° - 0,5L"}]
["36C",{"$f":"VLOOKUP($A132,Produits!$A$1:$P$357,2,FALSE)","v":"Liqueur d’Eau de vie de prune d’Ente - 24° "},{"$f":"VLOOKUP($A132,Produits!$A$1:$P$357,3,FALSE)","v":"0,7L"},{"$f":"VLOOKUP($A132,Produits!$A$1:$P$357,5,FALSE)","v":6},{"$f":"VLOOKUP($A132,Produits!$A$1:$P$357,4,FALSE)","v":"Bouteille"},{"$f":"VLOOKUP($A132,Produits!$A$1:$P$357,6,FALSE)","v":17.33333},{"$f":"VLOOKUP($A132,Produits!$A$1:$P$357,7,FALSE)","v":20.8},{"$f":"VLOOKUP($A132,Produits!$A$1:$P$357,10,FALSE)","v":0.2},{"$f":"VLOOKUP($A132,Produits!$A$1:$P$357,8,FALSE)","v":0.2},{"$f":"VLOOKUP($A132,Produits!$A$1:$P$357,9,FALSE)","v":13.87},{"$f":"IF(ISNA(VLOOKUP($A132,Produits!$A$1:$O$357,14,FALSE)),\"\",VLOOKUP($A132,Produits!$A$1:$O$357,14,FALSE))","v":3760219061724},{"$f":"Tableau15[[#This Row],[Réf.]]&\" - \"&Tableau15[[#This Row],[Désignation]]&\" - \"&Tableau15[[#This Row],[Contenance]]","v":"36C - Liqueur d’Eau de vie de prune d’Ente - 24°  - 0,7L"}]
["36D",{"$f":"VLOOKUP($A133,Produits!$A$1:$P$357,2,FALSE)","v":"Liqueur d’Eau de vie de prune d’Ente - 24°"},{"$f":"VLOOKUP($A133,Produits!$A$1:$P$357,3,FALSE)","v":"5cl"},{"$f":"VLOOKUP($A133,Produits!$A$1:$P$357,5,FALSE)","v":6},{"$f":"VLOOKUP($A133,Produits!$A$1:$P$357,4,FALSE)","v":"Mignonette"},{"$f":"VLOOKUP($A133,Produits!$A$1:$P$357,6,FALSE)","v":3.0833300000000001},{"$f":"VLOOKUP($A133,Produits!$A$1:$P$357,7,FALSE)","v":3.7},{"$f":"VLOOKUP($A133,Produits!$A$1:$P$357,10,FALSE)","v":0.2},{"$f":"VLOOKUP($A133,Produits!$A$1:$P$357,8,FALSE)","v":0.2},{"$f":"VLOOKUP($A133,Produits!$A$1:$P$357,9,FALSE)","v":2.4699999999999998},{"$f":"IF(ISNA(VLOOKUP($A133,Produits!$A$1:$O$357,14,FALSE)),\"\",VLOOKUP($A133,Produits!$A$1:$O$357,14,FALSE))","v":3760219061717},{"$f":"Tableau15[[#This Row],[Réf.]]&\" - \"&Tableau15[[#This Row],[Désignation]]&\" - \"&Tableau15[[#This Row],[Contenance]]","v":"36D - Liqueur d’Eau de vie de prune d’Ente - 24° - 5cl"}]
["37A",{"$f":"VLOOKUP($A134,Produits!$A$1:$P$357,2,FALSE)","v":"Vieille Eau de Vie Ed. limitée des 100 ans - 44.1°"},{"$f":"VLOOKUP($A134,Produits!$A$1:$P$357,3,FALSE)","v":"0,5L"},{"$f":"VLOOKUP($A134,Produits!$A$1:$P$357,5,FALSE)","v":6},{"$f":"VLOOKUP($A134,Produits!$A$1:$P$357,4,FALSE)","v":"Bouteille"},{"$f":"VLOOKUP($A134,Produits!$A$1:$P$357,6,FALSE)","v":30.83333},{"$f":"VLOOKUP($A134,Produits!$A$1:$P$357,7,FALSE)","v":37},{"$f":"VLOOKUP($A134,Produits!$A$1:$P$357,10,FALSE)","v":0.2},{"$f":"VLOOKUP($A134,Produits!$A$1:$P$357,8,FALSE)","v":0.2},{"$f":"VLOOKUP($A134,Produits!$A$1:$P$357,9,FALSE)","v":24.67},{"$f":"IF(ISNA(VLOOKUP($A134,Produits!$A$1:$O$357,14,FALSE)),\"\",VLOOKUP($A134,Produits!$A$1:$O$357,14,FALSE))","v":3760219061700},{"$f":"Tableau15[[#This Row],[Réf.]]&\" - \"&Tableau15[[#This Row],[Désignation]]&\" - \"&Tableau15[[#This Row],[Contenance]]","v":"37A - Vieille Eau de Vie Ed. limitée des 100 ans - 44.1° - 0,5L"}]
["37B",{"$f":"VLOOKUP($A135,Produits!$A$1:$P$357,2,FALSE)","v":"Vieille Eau de Vie Ed. limitée des 100 ans - 44.1°"},{"$f":"VLOOKUP($A135,Produits!$A$1:$P$357,3,FALSE)","v":"5cl"},{"$f":"VLOOKUP($A135,Produits!$A$1:$P$357,5,FALSE)","v":6},{"$f":"VLOOKUP($A135,Produits!$A$1:$P$357,4,FALSE)","v":"Mignonette"},{"$f":"VLOOKUP($A135,Produits!$A$1:$P$357,6,FALSE)","v":3.0833300000000001},{"$f":"VLOOKUP($A135,Produits!$A$1:$P$357,7,FALSE)","v":3.7},{"$f":"VLOOKUP($A135,Produits!$A$1:$P$357,10,FALSE)","v":0.2},{"$f":"VLOOKUP($A135,Produits!$A$1:$P$357,8,FALSE)","v":0.2},{"$f":"VLOOKUP($A135,Produits!$A$1:$P$357,9,FALSE)","v":2.4699999999999998},{"$f":"IF(ISNA(VLOOKUP($A135,Produits!$A$1:$O$357,14,FALSE)),\"\",VLOOKUP($A135,Produits!$A$1:$O$357,14,FALSE))","v":3760219061694},{"$f":"Tableau15[[#This Row],[Réf.]]&\" - \"&Tableau15[[#This Row],[Désignation]]&\" - \"&Tableau15[[#This Row],[Contenance]]","v":"37B - Vieille Eau de Vie Ed. limitée des 100 ans - 44.1° - 5cl"}]
["38A",{"$f":"VLOOKUP($A136,Produits!$A$1:$P$357,2,FALSE)","v":"Eau de vie de prune d’Ente - 42°"},{"$f":"VLOOKUP($A136,Produits!$A$1:$P$357,3,FALSE)","v":"0,375L"},{"$f":"VLOOKUP($A136,Produits!$A$1:$P$357,5,FALSE)","v":6},{"$f":"VLOOKUP($A136,Produits!$A$1:$P$357,4,FALSE)","v":"Bouteille"},{"$f":"VLOOKUP($A136,Produits!$A$1:$P$357,6,FALSE)","v":13.83333},{"$f":"VLOOKUP($A136,Produits!$A$1:$P$357,7,FALSE)","v":16.600000000000001},{"$f":"VLOOKUP($A136,Produits!$A$1:$P$357,10,FALSE)","v":0.2},{"$f":"VLOOKUP($A136,Produits!$A$1:$P$357,8,FALSE)","v":0.2},{"$f":"VLOOKUP($A136,Produits!$A$1:$P$357,9,FALSE)","v":11.07},{"$f":"IF(ISNA(VLOOKUP($A136,Produits!$A$1:$O$357,14,FALSE)),\"\",VLOOKUP($A136,Produits!$A$1:$O$357,14,FALSE))","v":3760219061687},{"$f":"Tableau15[[#This Row],[Réf.]]&\" - \"&Tableau15[[#This Row],[Désignation]]&\" - \"&Tableau15[[#This Row],[Contenance]]","v":"38A - Eau de vie de prune d’Ente - 42° - 0,375L"}]
["38B",{"$f":"VLOOKUP($A137,Produits!$A$1:$P$357,2,FALSE)","v":"Eau de vie de prune d’Ente - 42°"},{"$f":"VLOOKUP($A137,Produits!$A$1:$P$357,3,FALSE)","v":"0,5L"},{"$f":"VLOOKUP($A137,Produits!$A$1:$P$357,5,FALSE)","v":6},{"$f":"VLOOKUP($A137,Produits!$A$1:$P$357,4,FALSE)","v":"Bouteille"},{"$f":"VLOOKUP($A137,Produits!$A$1:$P$357,6,FALSE)","v":17.33333},{"$f":"VLOOKUP($A137,Produits!$A$1:$P$357,7,FALSE)","v":20.8},{"$f":"VLOOKUP($A137,Produits!$A$1:$P$357,10,FALSE)","v":0.2},{"$f":"VLOOKUP($A137,Produits!$A$1:$P$357,8,FALSE)","v":0.2},{"$f":"VLOOKUP($A137,Produits!$A$1:$P$357,9,FALSE)","v":13.87},{"$f":"IF(ISNA(VLOOKUP($A137,Produits!$A$1:$O$357,14,FALSE)),\"\",VLOOKUP($A137,Produits!$A$1:$O$357,14,FALSE))","v":3760219061670},{"$f":"Tableau15[[#This Row],[Réf.]]&\" - \"&Tableau15[[#This Row],[Désignation]]&\" - \"&Tableau15[[#This Row],[Contenance]]","v":"38B - Eau de vie de prune d’Ente - 42° - 0,5L"}]
["38C",{"$f":"VLOOKUP($A138,Produits!$A$1:$P$357,2,FALSE)","v":"Eau de vie de prune d’Ente - 42°"},{"$f":"VLOOKUP($A138,Produits!$A$1:$P$357,3,FALSE)","v":"0,7L"},{"$f":"VLOOKUP($A138,Produits!$A$1:$P$357,5,FALSE)","v":6},{"$f":"VLOOKUP($A138,Produits!$A$1:$P$357,4,FALSE)","v":"Bouteille"},{"$f":"VLOOKUP($A138,Produits!$A$1:$P$357,6,FALSE)","v":23.16666},{"$f":"VLOOKUP($A138,Produits!$A$1:$P$357,7,FALSE)","v":27.8},{"$f":"VLOOKUP($A138,Produits!$A$1:$P$357,10,FALSE)","v":0.2},{"$f":"VLOOKUP($A138,Produits!$A$1:$P$357,8,FALSE)","v":0.2},{"$f":"VLOOKUP($A138,Produits!$A$1:$P$357,9,FALSE)","v":18.540000000000003},{"$f":"IF(ISNA(VLOOKUP($A138,Produits!$A$1:$O$357,14,FALSE)),\"\",VLOOKUP($A138,Produits!$A$1:$O$357,14,FALSE))","v":3760219061663},{"$f":"Tableau15[[#This Row],[Réf.]]&\" - \"&Tableau15[[#This Row],[Désignation]]&\" - \"&Tableau15[[#This Row],[Contenance]]","v":"38C - Eau de vie de prune d’Ente - 42° - 0,7L"}]
["38D",{"$f":"VLOOKUP($A139,Produits!$A$1:$P$357,2,FALSE)","v":"Eau de vie de prune d’Ente - 42°"},{"$f":"VLOOKUP($A139,Produits!$A$1:$P$357,3,FALSE)","v":"5cl"},{"$f":"VLOOKUP($A139,Produits!$A$1:$P$357,5,FALSE)","v":6},{"$f":"VLOOKUP($A139,Produits!$A$1:$P$357,4,FALSE)","v":"Mignonette"},{"$f":"VLOOKUP($A139,Produits!$A$1:$P$357,6,FALSE)","v":3.0833300000000001},{"$f":"VLOOKUP($A139,Produits!$A$1:$P$357,7,FALSE)","v":3.7},{"$f":"VLOOKUP($A139,Produits!$A$1:$P$357,10,FALSE)","v":0.2},{"$f":"VLOOKUP($A139,Produits!$A$1:$P$357,8,FALSE)","v":0.2},{"$f":"VLOOKUP($A139,Produits!$A$1:$P$357,9,FALSE)","v":2.4699999999999998},{"$f":"IF(ISNA(VLOOKUP($A139,Produits!$A$1:$O$357,14,FALSE)),\"\",VLOOKUP($A139,Produits!$A$1:$O$357,14,FALSE))","v":3760219061656},{"$f":"Tableau15[[#This Row],[Réf.]]&\" - \"&Tableau15[[#This Row],[Désignation]]&\" - \"&Tableau15[[#This Row],[Contenance]]","v":"38D - Eau de vie de prune d’Ente - 42° - 5cl"}]
["39A",{"$f":"VLOOKUP($A140,Produits!$A$1:$P$357,2,FALSE)","v":"Eau de vie de pruneau - 42°"},{"$f":"VLOOKUP($A140,Produits!$A$1:$P$357,3,FALSE)","v":"0,375L"},{"$f":"VLOOKUP($A140,Produits!$A$1:$P$357,5,FALSE)","v":6},{"$f":"VLOOKUP($A140,Produits!$A$1:$P$357,4,FALSE)","v":"Bouteille"},{"$f":"VLOOKUP($A140,Produits!$A$1:$P$357,6,FALSE)","v":13.83333},{"$f":"VLOOKUP($A140,Produits!$A$1:$P$357,7,FALSE)","v":16.600000000000001},{"$f":"VLOOKUP($A140,Produits!$A$1:$P$357,10,FALSE)","v":0.2},{"$f":"VLOOKUP($A140,Produits!$A$1:$P$357,8,FALSE)","v":0.2},{"$f":"VLOOKUP($A140,Produits!$A$1:$P$357,9,FALSE)","v":11.07},{"$f":"IF(ISNA(VLOOKUP($A140,Produits!$A$1:$O$357,14,FALSE)),\"\",VLOOKUP($A140,Produits!$A$1:$O$357,14,FALSE))","v":3760219061649},{"$f":"Tableau15[[#This Row],[Réf.]]&\" - \"&Tableau15[[#This Row],[Désignation]]&\" - \"&Tableau15[[#This Row],[Contenance]]","v":"39A - Eau de vie de pruneau - 42° - 0,375L"}]
["39B",{"$f":"VLOOKUP($A141,Produits!$A$1:$P$357,2,FALSE)","v":"Eau de vie de pruneau - 42°"},{"$f":"VLOOKUP($A141,Produits!$A$1:$P$357,3,FALSE)","v":"0,5L"},{"$f":"VLOOKUP($A141,Produits!$A$1:$P$357,5,FALSE)","v":6},{"$f":"VLOOKUP($A141,Produits!$A$1:$P$357,4,FALSE)","v":"Bouteille"},{"$f":"VLOOKUP($A141,Produits!$A$1:$P$357,6,FALSE)","v":17.33333},{"$f":"VLOOKUP($A141,Produits!$A$1:$P$357,7,FALSE)","v":20.8},{"$f":"VLOOKUP($A141,Produits!$A$1:$P$357,10,FALSE)","v":0.2},{"$f":"VLOOKUP($A141,Produits!$A$1:$P$357,8,FALSE)","v":0.2},{"$f":"VLOOKUP($A141,Produits!$A$1:$P$357,9,FALSE)","v":13.87},{"$f":"IF(ISNA(VLOOKUP($A141,Produits!$A$1:$O$357,14,FALSE)),\"\",VLOOKUP($A141,Produits!$A$1:$O$357,14,FALSE))","v":3760219061632},{"$f":"Tableau15[[#This Row],[Réf.]]&\" - \"&Tableau15[[#This Row],[Désignation]]&\" - \"&Tableau15[[#This Row],[Contenance]]","v":"39B - Eau de vie de pruneau - 42° - 0,5L"}]
["39C",{"$f":"VLOOKUP($A142,Produits!$A$1:$P$357,2,FALSE)","v":"Eau de vie de pruneau - 42°"},{"$f":"VLOOKUP($A142,Produits!$A$1:$P$357,3,FALSE)","v":"0,7L"},{"$f":"VLOOKUP($A142,Produits!$A$1:$P$357,5,FALSE)","v":6},{"$f":"VLOOKUP($A142,Produits!$A$1:$P$357,4,FALSE)","v":"Bouteille"},{"$f":"VLOOKUP($A142,Produits!$A$1:$P$357,6,FALSE)","v":23.16666},{"$f":"VLOOKUP($A142,Produits!$A$1:$P$357,7,FALSE)","v":27.8},{"$f":"VLOOKUP($A142,Produits!$A$1:$P$357,10,FALSE)","v":0.2},{"$f":"VLOOKUP($A142,Produits!$A$1:$P$357,8,FALSE)","v":0.2},{"$f":"VLOOKUP($A142,Produits!$A$1:$P$357,9,FALSE)","v":18.540000000000003},{"$f":"IF(ISNA(VLOOKUP($A142,Produits!$A$1:$O$357,14,FALSE)),\"\",VLOOKUP($A142,Produits!$A$1:$O$357,14,FALSE))","v":3760219061625},{"$f":"Tableau15[[#This Row],[Réf.]]&\" - \"&Tableau15[[#This Row],[Désignation]]&\" - \"&Tableau15[[#This Row],[Contenance]]","v":"39C - Eau de vie de pruneau - 42° - 0,7L"}]
["39D",{"$f":"VLOOKUP($A143,Produits!$A$1:$P$357,2,FALSE)","v":"Eau de vie de pruneau - 42°"},{"$f":"VLOOKUP($A143,Produits!$A$1:$P$357,3,FALSE)","v":"5cl"},{"$f":"VLOOKUP($A143,Produits!$A$1:$P$357,5,FALSE)","v":6},{"$f":"VLOOKUP($A143,Produits!$A$1:$P$357,4,FALSE)","v":"Mignonette"},{"$f":"VLOOKUP($A143,Produits!$A$1:$P$357,6,FALSE)","v":3.0833300000000001},{"$f":"VLOOKUP($A143,Produits!$A$1:$P$357,7,FALSE)","v":3.7},{"$f":"VLOOKUP($A143,Produits!$A$1:$P$357,10,FALSE)","v":0.2},{"$f":"VLOOKUP($A143,Produits!$A$1:$P$357,8,FALSE)","v":0.2},{"$f":"VLOOKUP($A143,Produits!$A$1:$P$357,9,FALSE)","v":2.4699999999999998},{"$f":"IF(ISNA(VLOOKUP($A143,Produits!$A$1:$O$357,14,FALSE)),\"\",VLOOKUP($A143,Produits!$A$1:$O$357,14,FALSE))","v":3760219061618},{"$f":"Tableau15[[#This Row],[Réf.]]&\" - \"&Tableau15[[#This Row],[Désignation]]&\" - \"&Tableau15[[#This Row],[Contenance]]","v":"39D - Eau de vie de pruneau - 42° - 5cl"}]
["40A",{"$f":"VLOOKUP($A144,Produits!$A$1:$P$357,2,FALSE)","v":"Eau de vie de prune Reine-Claude - 42°"},{"$f":"VLOOKUP($A144,Produits!$A$1:$P$357,3,FALSE)","v":"0,375L"},{"$f":"VLOOKUP($A144,Produits!$A$1:$P$357,5,FALSE)","v":6},{"$f":"VLOOKUP($A144,Produits!$A$1:$P$357,4,FALSE)","v":"Bouteille"},{"$f":"VLOOKUP($A144,Produits!$A$1:$P$357,6,FALSE)","v":13.83333},{"$f":"VLOOKUP($A144,Produits!$A$1:$P$357,7,FALSE)","v":16.600000000000001},{"$f":"VLOOKUP($A144,Produits!$A$1:$P$357,10,FALSE)","v":0.2},{"$f":"VLOOKUP($A144,Produits!$A$1:$P$357,8,FALSE)","v":0.2},{"$f":"VLOOKUP($A144,Produits!$A$1:$P$357,9,FALSE)","v":11.07},{"$f":"IF(ISNA(VLOOKUP($A144,Produits!$A$1:$O$357,14,FALSE)),\"\",VLOOKUP($A144,Produits!$A$1:$O$357,14,FALSE))","v":3760219061601},{"$f":"Tableau15[[#This Row],[Réf.]]&\" - \"&Tableau15[[#This Row],[Désignation]]&\" - \"&Tableau15[[#This Row],[Contenance]]","v":"40A - Eau de vie de prune Reine-Claude - 42° - 0,375L"}]
["40B",{"$f":"VLOOKUP($A145,Produits!$A$1:$P$357,2,FALSE)","v":"Eau de vie de prune Reine-Claude - 42° "},{"$f":"VLOOKUP($A145,Produits!$A$1:$P$357,3,FALSE)","v":"0,5L"},{"$f":"VLOOKUP($A145,Produits!$A$1:$P$357,5,FALSE)","v":6},{"$f":"VLOOKUP($A145,Produits!$A$1:$P$357,4,FALSE)","v":"Bouteille"},{"$f":"VLOOKUP($A145,Produits!$A$1:$P$357,6,FALSE)","v":17.33333},{"$f":"VLOOKUP($A145,Produits!$A$1:$P$357,7,FALSE)","v":20.8},{"$f":"VLOOKUP($A145,Produits!$A$1:$P$357,10,FALSE)","v":0.2},{"$f":"VLOOKUP($A145,Produits!$A$1:$P$357,8,FALSE)","v":0.2},{"$f":"VLOOKUP($A145,Produits!$A$1:$P$357,9,FALSE)","v":13.87},{"$f":"IF(ISNA(VLOOKUP($A145,Produits!$A$1:$O$357,14,FALSE)),\"\",VLOOKUP($A145,Produits!$A$1:$O$357,14,FALSE))","v":3760219061595},{"$f":"Tableau15[[#This Row],[Réf.]]&\" - \"&Tableau15[[#This Row],[Désignation]]&\" - \"&Tableau15[[#This Row],[Contenance]]","v":"40B - Eau de vie de prune Reine-Claude - 42°  - 0,5L"}]
["40C",{"$f":"VLOOKUP($A146,Produits!$A$1:$P$357,2,FALSE)","v":"Eau de vie de prune Reine-Claude - 42° "},{"$f":"VLOOKUP($A146,Produits!$A$1:$P$357,3,FALSE)","v":"0,7L"},{"$f":"VLOOKUP($A146,Produits!$A$1:$P$357,5,FALSE)","v":6},{"$f":"VLOOKUP($A146,Produits!$A$1:$P$357,4,FALSE)","v":"Bouteille"},{"$f":"VLOOKUP($A146,Produits!$A$1:$P$357,6,FALSE)","v":23.16666},{"$f":"VLOOKUP($A146,Produits!$A$1:$P$357,7,FALSE)","v":27.8},{"$f":"VLOOKUP($A146,Produits!$A$1:$P$357,10,FALSE)","v":0.2},{"$f":"VLOOKUP($A146,Produits!$A$1:$P$357,8,FALSE)","v":0.2},{"$f":"VLOOKUP($A146,Produits!$A$1:$P$357,9,FALSE)","v":18.540000000000003},{"$f":"IF(ISNA(VLOOKUP($A146,Produits!$A$1:$O$357,14,FALSE)),\"\",VLOOKUP($A146,Produits!$A$1:$O$357,14,FALSE))","v":3760219061588},{"$f":"Tableau15[[#This Row],[Réf.]]&\" - \"&Tableau15[[#This Row],[Désignation]]&\" - \"&Tableau15[[#This Row],[Contenance]]","v":"40C - Eau de vie de prune Reine-Claude - 42°  - 0,7L"}]
["40D",{"$f":"VLOOKUP($A147,Produits!$A$1:$P$357,2,FALSE)","v":"Eau de vie de prune Reine-Claude - 42°"},{"$f":"VLOOKUP($A147,Produits!$A$1:$P$357,3,FALSE)","v":"5cl"},{"$f":"VLOOKUP($A147,Produits!$A$1:$P$357,5,FALSE)","v":6},{"$f":"VLOOKUP($A147,Produits!$A$1:$P$357,4,FALSE)","v":"Mignonette"},{"$f":"VLOOKUP($A147,Produits!$A$1:$P$357,6,FALSE)","v":3.0833300000000001},{"$f":"VLOOKUP($A147,Produits!$A$1:$P$357,7,FALSE)","v":3.7},{"$f":"VLOOKUP($A147,Produits!$A$1:$P$357,10,FALSE)","v":0.2},{"$f":"VLOOKUP($A147,Produits!$A$1:$P$357,8,FALSE)","v":0.2},{"$f":"VLOOKUP($A147,Produits!$A$1:$P$357,9,FALSE)","v":2.4699999999999998},{"$f":"IF(ISNA(VLOOKUP($A147,Produits!$A$1:$O$357,14,FALSE)),\"\",VLOOKUP($A147,Produits!$A$1:$O$357,14,FALSE))","v":3760219061571},{"$f":"Tableau15[[#This Row],[Réf.]]&\" - \"&Tableau15[[#This Row],[Désignation]]&\" - \"&Tableau15[[#This Row],[Contenance]]","v":"40D - Eau de vie de prune Reine-Claude - 42° - 5cl"}]
["41A",{"$f":"VLOOKUP($A148,Produits!$A$1:$P$357,2,FALSE)","v":"Assort. Supr. Prune'Choco® - Mini cagette gourmande"},{"$f":"VLOOKUP($A148,Produits!$A$1:$P$357,3,FALSE)","v":"400g"},{"$f":"VLOOKUP($A148,Produits!$A$1:$P$357,5,FALSE)","v":1},{"$f":"VLOOKUP($A148,Produits!$A$1:$P$357,4,FALSE)","v":"Boite bois"},{"$f":"VLOOKUP($A148,Produits!$A$1:$P$357,6,FALSE)","v":15.83},{"$f":"VLOOKUP($A148,Produits!$A$1:$P$357,7,FALSE)","v":18.5},{"$f":"VLOOKUP($A148,Produits!$A$1:$P$357,10,FALSE)","v":"Multiple"},{"$f":"VLOOKUP($A148,Produits!$A$1:$P$357,8,FALSE)","v":0.2},{"$f":"VLOOKUP($A148,Produits!$A$1:$P$357,9,FALSE)","v":12.67},{"$f":"IF(ISNA(VLOOKUP($A148,Produits!$A$1:$O$357,14,FALSE)),\"\",VLOOKUP($A148,Produits!$A$1:$O$357,14,FALSE))","v":3760219061564},{"$f":"Tableau15[[#This Row],[Réf.]]&\" - \"&Tableau15[[#This Row],[Désignation]]&\" - \"&Tableau15[[#This Row],[Contenance]]","v":"41A - Assort. Supr. Prune'Choco® - Mini cagette gourmande - 400g"}]
["42A",{"$f":"VLOOKUP($A149,Produits!$A$1:$P$357,2,FALSE)","v":"Assort. Supr. Prune'Choco® - Coffret élégance"},{"$f":"VLOOKUP($A149,Produits!$A$1:$P$357,3,FALSE)","v":"450g"},{"$f":"VLOOKUP($A149,Produits!$A$1:$P$357,5,FALSE)","v":1},{"$f":"VLOOKUP($A149,Produits!$A$1:$P$357,4,FALSE)","v":"Coffret cart."},{"$f":"VLOOKUP($A149,Produits!$A$1:$P$357,6,FALSE)","v":18.89},{"$f":"VLOOKUP($A149,Produits!$A$1:$P$357,7,FALSE)","v":22},{"$f":"VLOOKUP($A149,Produits!$A$1:$P$357,10,FALSE)","v":"Multiple"},{"$f":"VLOOKUP($A149,Produits!$A$1:$P$357,8,FALSE)","v":0.2},{"$f":"VLOOKUP($A149,Produits!$A$1:$P$357,9,FALSE)","v":15.12},{"$f":"IF(ISNA(VLOOKUP($A149,Produits!$A$1:$O$357,14,FALSE)),\"\",VLOOKUP($A149,Produits!$A$1:$O$357,14,FALSE))","v":3760219061557},{"$f":"Tableau15[[#This Row],[Réf.]]&\" - \"&Tableau15[[#This Row],[Désignation]]&\" - \"&Tableau15[[#This Row],[Contenance]]","v":"42A - Assort. Supr. Prune'Choco® - Coffret élégance - 450g"}]
["43A",{"$f":"VLOOKUP($A150,Produits!$A$1:$P$357,2,FALSE)","v":"Assort. Supr. Prune'Choco® - Plateau gourmand"},{"$f":"VLOOKUP($A150,Produits!$A$1:$P$357,3,FALSE)","v":"650g"},{"$f":"VLOOKUP($A150,Produits!$A$1:$P$357,5,FALSE)","v":1},{"$f":"VLOOKUP($A150,Produits!$A$1:$P$357,4,FALSE)","v":"Boite bois"},{"$f":"VLOOKUP($A150,Produits!$A$1:$P$357,6,FALSE)","v":24.33},{"$f":"VLOOKUP($A150,Produits!$A$1:$P$357,7,FALSE)","v":27.9},{"$f":"VLOOKUP($A150,Produits!$A$1:$P$357,10,FALSE)","v":"Multiple"},{"$f":"VLOOKUP($A150,Produits!$A$1:$P$357,8,FALSE)","v":0.2},{"$f":"VLOOKUP($A150,Produits!$A$1:$P$357,9,FALSE)","v":19.470000000000002},{"$f":"IF(ISNA(VLOOKUP($A150,Produits!$A$1:$O$357,14,FALSE)),\"\",VLOOKUP($A150,Produits!$A$1:$O$357,14,FALSE))","v":3760219061540},{"$f":"Tableau15[[#This Row],[Réf.]]&\" - \"&Tableau15[[#This Row],[Désignation]]&\" - \"&Tableau15[[#This Row],[Contenance]]","v":"43A - Assort. Supr. Prune'Choco® - Plateau gourmand - 650g"}]
["44A",{"$f":"VLOOKUP($A151,Produits!$A$1:$P$357,2,FALSE)","v":"Assort. Supr. Prune'Choco® - Assiette raffinée"},{"$f":"VLOOKUP($A151,Produits!$A$1:$P$357,3,FALSE)","v":"650g"},{"$f":"VLOOKUP($A151,Produits!$A$1:$P$357,5,FALSE)","v":1},{"$f":"VLOOKUP($A151,Produits!$A$1:$P$357,4,FALSE)","v":"Assiette"},{"$f":"VLOOKUP($A151,Produits!$A$1:$P$357,6,FALSE)","v":25.36},{"$f":"VLOOKUP($A151,Produits!$A$1:$P$357,7,FALSE)","v":28.9},{"$f":"VLOOKUP($A151,Produits!$A$1:$P$357,10,FALSE)","v":"Multiple"},{"$f":"VLOOKUP($A151,Produits!$A$1:$P$357,8,FALSE)","v":0.2},{"$f":"VLOOKUP($A151,Produits!$A$1:$P$357,9,FALSE)","v":20.290000000000003},{"$f":"IF(ISNA(VLOOKUP($A151,Produits!$A$1:$O$357,14,FALSE)),\"\",VLOOKUP($A151,Produits!$A$1:$O$357,14,FALSE))","v":3760219061533},{"$f":"Tableau15[[#This Row],[Réf.]]&\" - \"&Tableau15[[#This Row],[Désignation]]&\" - \"&Tableau15[[#This Row],[Contenance]]","v":"44A - Assort. Supr. Prune'Choco® - Assiette raffinée - 650g"}]
["45A",{"$f":"VLOOKUP($A152,Produits!$A$1:$P$357,2,FALSE)","v":"Assort. Supr. Prune'Choco® - Claie Agenaise 1"},{"$f":"VLOOKUP($A152,Produits!$A$1:$P$357,3,FALSE)","v":"800g"},{"$f":"VLOOKUP($A152,Produits!$A$1:$P$357,5,FALSE)","v":1},{"$f":"VLOOKUP($A152,Produits!$A$1:$P$357,4,FALSE)","v":"Claie Agen."},{"$f":"VLOOKUP($A152,Produits!$A$1:$P$357,6,FALSE)","v":33.72},{"$f":"VLOOKUP($A152,Produits!$A$1:$P$357,7,FALSE)","v":38.799999999999997},{"$f":"VLOOKUP($A152,Produits!$A$1:$P$357,10,FALSE)","v":"Multiple"},{"$f":"VLOOKUP($A152,Produits!$A$1:$P$357,8,FALSE)","v":0.2},{"$f":"VLOOKUP($A152,Produits!$A$1:$P$357,9,FALSE)","v":26.98},{"$f":"IF(ISNA(VLOOKUP($A152,Produits!$A$1:$O$357,14,FALSE)),\"\",VLOOKUP($A152,Produits!$A$1:$O$357,14,FALSE))","v":3760219061526},{"$f":"Tableau15[[#This Row],[Réf.]]&\" - \"&Tableau15[[#This Row],[Désignation]]&\" - \"&Tableau15[[#This Row],[Contenance]]","v":"45A - Assort. Supr. Prune'Choco® - Claie Agenaise 1 - 800g"}]
["46A",{"$f":"VLOOKUP($A153,Produits!$A$1:$P$357,2,FALSE)","v":"Assort. Supr. Prune'Choco® - Claie Agenaise 2"},{"$f":"VLOOKUP($A153,Produits!$A$1:$P$357,3,FALSE)","v":"1,1kg"},{"$f":"VLOOKUP($A153,Produits!$A$1:$P$357,5,FALSE)","v":1},{"$f":"VLOOKUP($A153,Produits!$A$1:$P$357,4,FALSE)","v":"Claie Agen."},{"$f":"VLOOKUP($A153,Produits!$A$1:$P$357,6,FALSE)","v":42.9},{"$f":"VLOOKUP($A153,Produits!$A$1:$P$357,7,FALSE)","v":49.8},{"$f":"VLOOKUP($A153,Produits!$A$1:$P$357,10,FALSE)","v":"Multiple"},{"$f":"VLOOKUP($A153,Produits!$A$1:$P$357,8,FALSE)","v":0.2},{"$f":"VLOOKUP($A153,Produits!$A$1:$P$357,9,FALSE)","v":34.32},{"$f":"IF(ISNA(VLOOKUP($A153,Produits!$A$1:$O$357,14,FALSE)),\"\",VLOOKUP($A153,Produits!$A$1:$O$357,14,FALSE))","v":3760219061519},{"$f":"Tableau15[[#This Row],[Réf.]]&\" - \"&Tableau15[[#This Row],[Désignation]]&\" - \"&Tableau15[[#This Row],[Contenance]]","v":"46A - Assort. Supr. Prune'Choco® - Claie Agenaise 2 - 1,1kg"}]
["47A",{"$f":"VLOOKUP($A154,Produits!$A$1:$P$357,2,FALSE)","v":"Coffret \"Découverte\" - 4 produits"},{"$f":"VLOOKUP($A154,Produits!$A$1:$P$357,3,FALSE)","v":0},{"$f":"VLOOKUP($A154,Produits!$A$1:$P$357,5,FALSE)","v":1},{"$f":"VLOOKUP($A154,Produits!$A$1:$P$357,4,FALSE)","v":"Pochette"},{"$f":"VLOOKUP($A154,Produits!$A$1:$P$357,6,FALSE)","v":14.9},{"$f":"VLOOKUP($A154,Produits!$A$1:$P$357,7,FALSE)","v":16.5},{"$f":"VLOOKUP($A154,Produits!$A$1:$P$357,10,FALSE)","v":"Multiple"},{"$f":"VLOOKUP($A154,Produits!$A$1:$P$357,8,FALSE)","v":0.2},{"$f":"VLOOKUP($A154,Produits!$A$1:$P$357,9,FALSE)","v":11.92},{"$f":"IF(ISNA(VLOOKUP($A154,Produits!$A$1:$O$357,14,FALSE)),\"\",VLOOKUP($A154,Produits!$A$1:$O$357,14,FALSE))","v":3760219061502},{"$f":"Tableau15[[#This Row],[Réf.]]&\" - \"&Tableau15[[#This Row],[Désignation]]&\" - \"&Tableau15[[#This Row],[Contenance]]","v":"47A - Coffret \"Découverte\" - 4 produits - 0"}]
["48A",{"$f":"VLOOKUP($A155,Produits!$A$1:$P$357,2,FALSE)","v":"Coffret \"Le Mignon\" - 5 produits"},{"$f":"VLOOKUP($A155,Produits!$A$1:$P$357,3,FALSE)","v":0},{"$f":"VLOOKUP($A155,Produits!$A$1:$P$357,5,FALSE)","v":1},{"$f":"VLOOKUP($A155,Produits!$A$1:$P$357,4,FALSE)","v":"Coffret cart."},{"$f":"VLOOKUP($A155,Produits!$A$1:$P$357,6,FALSE)","v":22.77},{"$f":"VLOOKUP($A155,Produits!$A$1:$P$357,7,FALSE)","v":26.5},{"$f":"VLOOKUP($A155,Produits!$A$1:$P$357,10,FALSE)","v":"Multiple"},{"$f":"VLOOKUP($A155,Produits!$A$1:$P$357,8,FALSE)","v":0.2},{"$f":"VLOOKUP($A155,Produits!$A$1:$P$357,9,FALSE)","v":18.220000000000002},{"$f":"IF(ISNA(VLOOKUP($A155,Produits!$A$1:$O$357,14,FALSE)),\"\",VLOOKUP($A155,Produits!$A$1:$O$357,14,FALSE))","v":3760219061496},{"$f":"Tableau15[[#This Row],[Réf.]]&\" - \"&Tableau15[[#This Row],[Désignation]]&\" - \"&Tableau15[[#This Row],[Contenance]]","v":"48A - Coffret \"Le Mignon\" - 5 produits - 0"}]
["49A",{"$f":"VLOOKUP($A156,Produits!$A$1:$P$357,2,FALSE)","v":"Coffret \"L'Intrépide\" - 7 produits"},{"$f":"VLOOKUP($A156,Produits!$A$1:$P$357,3,FALSE)","v":0},{"$f":"VLOOKUP($A156,Produits!$A$1:$P$357,5,FALSE)","v":1},{"$f":"VLOOKUP($A156,Produits!$A$1:$P$357,4,FALSE)","v":"Coffret cart."},{"$f":"VLOOKUP($A156,Produits!$A$1:$P$357,6,FALSE)","v":44.02},{"$f":"VLOOKUP($A156,Produits!$A$1:$P$357,7,FALSE)","v":49.5},{"$f":"VLOOKUP($A156,Produits!$A$1:$P$357,10,FALSE)","v":"Multiple"},{"$f":"VLOOKUP($A156,Produits!$A$1:$P$357,8,FALSE)","v":0.2},{"$f":"VLOOKUP($A156,Produits!$A$1:$P$357,9,FALSE)","v":35.22},{"$f":"IF(ISNA(VLOOKUP($A156,Produits!$A$1:$O$357,14,FALSE)),\"\",VLOOKUP($A156,Produits!$A$1:$O$357,14,FALSE))","v":3760219061489},{"$f":"Tableau15[[#This Row],[Réf.]]&\" - \"&Tableau15[[#This Row],[Désignation]]&\" - \"&Tableau15[[#This Row],[Contenance]]","v":"49A - Coffret \"L'Intrépide\" - 7 produits - 0"}]
["50A",{"$f":"VLOOKUP($A157,Produits!$A$1:$P$357,2,FALSE)","v":"Coffret \"L'Intense\" - 10 produits"},{"$f":"VLOOKUP($A157,Produits!$A$1:$P$357,3,FALSE)","v":0},{"$f":"VLOOKUP($A157,Produits!$A$1:$P$357,5,FALSE)","v":1},{"$f":"VLOOKUP($A157,Produits!$A$1:$P$357,4,FALSE)","v":"Coffret cart."},{"$f":"VLOOKUP($A157,Produits!$A$1:$P$357,6,FALSE)","v":54.069999999999993},{"$f":"VLOOKUP($A157,Produits!$A$1:$P$357,7,FALSE)","v":61},{"$f":"VLOOKUP($A157,Produits!$A$1:$P$357,10,FALSE)","v":"Multiple"},{"$f":"VLOOKUP($A157,Produits!$A$1:$P$357,8,FALSE)","v":0.2},{"$f":"VLOOKUP($A157,Produits!$A$1:$P$357,9,FALSE)","v":43.26},{"$f":"IF(ISNA(VLOOKUP($A157,Produits!$A$1:$O$357,14,FALSE)),\"\",VLOOKUP($A157,Produits!$A$1:$O$357,14,FALSE))","v":3760219061472},{"$f":"Tableau15[[#This Row],[Réf.]]&\" - \"&Tableau15[[#This Row],[Désignation]]&\" - \"&Tableau15[[#This Row],[Contenance]]","v":"50A - Coffret \"L'Intense\" - 10 produits - 0"}]
["TSVRAC",{"$f":"VLOOKUP($A158,Produits!$A$1:$P$357,2,FALSE)","v":"Tomates séchées VRAC"},{"$f":"VLOOKUP($A158,Produits!$A$1:$P$357,3,FALSE)","v":"6kg"},{"$f":"VLOOKUP($A158,Produits!$A$1:$P$357,5,FALSE)","v":1},{"$f":"VLOOKUP($A158,Produits!$A$1:$P$357,4,FALSE)","v":"Carton"},{"$f":"VLOOKUP($A158,Produits!$A$1:$P$357,6,FALSE)","v":255.92417},{"$f":"VLOOKUP($A158,Produits!$A$1:$P$357,7,FALSE)","v":270},{"$f":"VLOOKUP($A158,Produits!$A$1:$P$357,10,FALSE)","v":5.5E-2},{"$f":"VLOOKUP($A158,Produits!$A$1:$P$357,8,FALSE)","v":0.2},{"$f":"VLOOKUP($A158,Produits!$A$1:$P$357,9,FALSE)","v":204.73999999999998},null,{"$f":"Tableau15[[#This Row],[Réf.]]&\" - \"&Tableau15[[#This Row],[Désignation]]&\" - \"&Tableau15[[#This Row],[Contenance]]","v":"TSVRAC - Tomates séchées VRAC - 6kg"}]
["TSPOCH",{"$f":"VLOOKUP($A159,Produits!$A$1:$P$357,2,FALSE)","v":"Tomates séchées pochettes 100g"},{"$f":"VLOOKUP($A159,Produits!$A$1:$P$357,3,FALSE)","v":"100g"},{"$f":"VLOOKUP($A159,Produits!$A$1:$P$357,5,FALSE)","v":9},{"$f":"VLOOKUP($A159,Produits!$A$1:$P$357,4,FALSE)","v":"Pichette Fizz"},{"$f":"VLOOKUP($A159,Produits!$A$1:$P$357,6,FALSE)","v":4.6445400000000001},{"$f":"VLOOKUP($A159,Produits!$A$1:$P$357,7,FALSE)","v":4.9000000000000004},{"$f":"VLOOKUP($A159,Produits!$A$1:$P$357,10,FALSE)","v":5.5E-2},{"$f":"VLOOKUP($A159,Produits!$A$1:$P$357,8,FALSE)","v":0.2},{"$f":"VLOOKUP($A159,Produits!$A$1:$P$357,9,FALSE)","v":3.7199999999999998},null,{"$f":"Tableau15[[#This Row],[Réf.]]&\" - \"&Tableau15[[#This Row],[Désignation]]&\" - \"&Tableau15[[#This Row],[Contenance]]","v":"TSPOCH - Tomates séchées pochettes 100g - 100g"}]
["S10PX",{"$f":"VLOOKUP($A160,Produits!$A$1:$P$357,2,FALSE)","v":"Pruneaux d'Agen IGP Cal. 33/44 "},{"$f":"VLOOKUP($A160,Produits!$A$1:$P$357,3,FALSE)","v":"10kg"},{"$f":"VLOOKUP($A160,Produits!$A$1:$P$357,5,FALSE)","v":1},{"$f":"VLOOKUP($A160,Produits!$A$1:$P$357,4,FALSE)","v":"Seau"},{"$f":"VLOOKUP($A160,Produits!$A$1:$P$357,6,FALSE)","v":53.080559999999998},{"$f":"VLOOKUP($A160,Produits!$A$1:$P$357,7,FALSE)","v":56},{"$f":"VLOOKUP($A160,Produits!$A$1:$P$357,10,FALSE)","v":5.5E-2},{"$f":"VLOOKUP($A160,Produits!$A$1:$P$357,8,FALSE)","v":0.2},{"$f":"VLOOKUP($A160,Produits!$A$1:$P$357,9,FALSE)","v":42.47},null,{"$f":"Tableau15[[#This Row],[Réf.]]&\" - \"&Tableau15[[#This Row],[Désignation]]&\" - \"&Tableau15[[#This Row],[Contenance]]","v":"S10PX - Pruneaux d'Agen IGP Cal. 33/44  - 10kg"}]
["S10PXDN",{"$f":"VLOOKUP($A161,Produits!$A$1:$P$357,2,FALSE)","v":"Pruneaux d'Agen IGP dénoyautés Cal. 44/55 avec e200"},{"$f":"VLOOKUP($A161,Produits!$A$1:$P$357,3,FALSE)","v":"10kg"},{"$f":"VLOOKUP($A161,Produits!$A$1:$P$357,5,FALSE)","v":1},{"$f":"VLOOKUP($A161,Produits!$A$1:$P$357,4,FALSE)","v":"Seau"},{"$f":"VLOOKUP($A161,Produits!$A$1:$P$357,6,FALSE)","v":77.725110000000001},{"$f":"VLOOKUP($A161,Produits!$A$1:$P$357,7,FALSE)","v":82},{"$f":"VLOOKUP($A161,Produits!$A$1:$P$357,10,FALSE)","v":5.5E-2},{"$f":"VLOOKUP($A161,Produits!$A$1:$P$357,8,FALSE)","v":0.2},{"$f":"VLOOKUP($A161,Produits!$A$1:$P$357,9,FALSE)","v":62.19},null,{"$f":"Tableau15[[#This Row],[Réf.]]&\" - \"&Tableau15[[#This Row],[Désignation]]&\" - \"&Tableau15[[#This Row],[Contenance]]","v":"S10PXDN - Pruneaux d'Agen IGP dénoyautés Cal. 44/55 avec e200 - 10kg"}]

{"sheet":"Tarifs Pros MPV","index":5,"n_rows":42,"n_cols":11,"rows_kept":42,"cut":false,"hidden":true,"merged":[[6,3,6,5],[6,7,6,9],[7,0,9,1],[7,3,7,5],[7,7,7,9],[8,3,8,5],[8,7,8,9],[9,2,9,3],[9,4,9,9],[0,2,1,9],[3,3,3,5],[3,7,3,9],[4,2,5,2],[4,3,5,9]]}
[null,null,"Tarifs Pro - Mon Petit Verger"]
[]
[]
[null,null,"Entreprise:",{"$f":"Coordonnées_client!$C$2","v":0},null,null,"Tél.:",{"$f":"Coordonnées_client!$I$2","v":0}]
[null,null,"Adresse:",{"$f":"Coordonnées_client!$F$2","v":0}]
[]
[null,null,"CP:",{"$f":"Coordonnées_client!$G$2","v":0},null,null,"Ville:",{"$f":"Coordonnées_client!$H$2","v":0}]
["«Braunès» 47320 Lafitte-sur-Lot\n05 53 84 04 17 • mdpruneau.vpc@orange.fr\nwww.maisondupruneau.com",null,"Nom:",{"$f":"Coordonnées_client!$K$2","v":0},null,null,"Prénom:",{"$f":"Coordonnées_client!$L$2","v":0}]
[null,null,"Ligne directe:",{"$f":"Coordonnées_client!$N$2","v":0},null,null,"Mail:",{"$f":"Coordonnées_client!$O$2","v":0}]
[null,null,"Conditions de règlement:",null,{"$f":"Coordonnées_client!$D$4","v":"Comptant (1ère commande) puis 30j net (commandes suivantes)"}]
[]
["Réf.","Désignation","Contenance","Colisage","Emballage","Prix HT","Prix TTC \nconseillé","TVA","Taux de\nremise","Prix remisé\nHT","#"]
["MPV1A",{"$f":"VLOOKUP($A13,Produits!$A$1:$P$357,2,FALSE)","v":"Pruneaux d'Agen BIO "},{"$f":"VLOOKUP($A13,Produits!$A$1:$P$357,3,FALSE)","v":"500g"},{"$f":"VLOOKUP($A13,Produits!$A$1:$P$357,5,FALSE)","v":25},{"$f":"VLOOKUP($A13,Produits!$A$1:$P$357,4,FALSE)","v":"Sachet"},{"$f":"VLOOKUP($A13,Produits!$A$1:$P$357,6,FALSE)","v":5.2132699999999996},{"$f":"VLOOKUP($A13,Produits!$A$1:$P$357,7,FALSE)","v":5.5},{"$f":"VLOOKUP($A13,Produits!$A$1:$P$357,10,FALSE)","v":5.5E-2},{"$f":"VLOOKUP($A13,Produits!$A$1:$P$357,8,FALSE)","v":0.2},{"$f":"VLOOKUP($A13,Produits!$A$1:$P$357,9,FALSE)","v":4.18},1]
["MPV1B",{"$f":"VLOOKUP($A14,Produits!$A$1:$P$357,2,FALSE)","v":"Pruneaux d'Agen BIO"},{"$f":"VLOOKUP($A14,Produits!$A$1:$P$357,3,FALSE)","v":"1kg"},{"$f":"VLOOKUP($A14,Produits!$A$1:$P$357,5,FALSE)","v":14},{"$f":"VLOOKUP($A14,Produits!$A$1:$P$357,4,FALSE)","v":"Sachet"},{"$f":"VLOOKUP($A14,Produits!$A$1:$P$357,6,FALSE)","v":9.4786699999999993},{"$f":"VLOOKUP($A14,Produits!$A$1:$P$357,7,FALSE)","v":10},{"$f":"VLOOKUP($A14,Produits!$A$1:$P$357,10,FALSE)","v":5.5E-2},{"$f":"VLOOKUP($A14,Produits!$A$1:$P$357,8,FALSE)","v":0.2},{"$f":"VLOOKUP($A14,Produits!$A$1:$P$357,9,FALSE)","v":7.59},2]
["MPV1C",{"$f":"VLOOKUP($A15,Produits!$A$1:$P$357,2,FALSE)","v":"Pruneaux d’Agen BIO dénoyautés"},{"$f":"VLOOKUP($A15,Produits!$A$1:$P$357,3,FALSE)","v":"500g"},{"$f":"VLOOKUP($A15,Produits!$A$1:$P$357,5,FALSE)","v":25},{"$f":"VLOOKUP($A15,Produits!$A$1:$P$357,4,FALSE)","v":"Sachet"},{"$f":"VLOOKUP($A15,Produits!$A$1:$P$357,6,FALSE)","v":7.2985699999999998},{"$f":"VLOOKUP($A15,Produits!$A$1:$P$357,7,FALSE)","v":7.7},{"$f":"VLOOKUP($A15,Produits!$A$1:$P$357,10,FALSE)","v":5.5E-2},{"$f":"VLOOKUP($A15,Produits!$A$1:$P$357,8,FALSE)","v":0.2},{"$f":"VLOOKUP($A15,Produits!$A$1:$P$357,9,FALSE)","v":5.84},3]
["MPV1D",{"$f":"VLOOKUP($A16,Produits!$A$1:$P$357,2,FALSE)","v":"Pruneaux d’Agen BIO dénoyautés"},{"$f":"VLOOKUP($A16,Produits!$A$1:$P$357,3,FALSE)","v":"1kg"},{"$f":"VLOOKUP($A16,Produits!$A$1:$P$357,5,FALSE)","v":14},{"$f":"VLOOKUP($A16,Produits!$A$1:$P$357,4,FALSE)","v":"Sachet"},{"$f":"VLOOKUP($A16,Produits!$A$1:$P$357,6,FALSE)","v":13.27014},{"$f":"VLOOKUP($A16,Produits!$A$1:$P$357,7,FALSE)","v":14},{"$f":"VLOOKUP($A16,Produits!$A$1:$P$357,10,FALSE)","v":5.5E-2},{"$f":"VLOOKUP($A16,Produits!$A$1:$P$357,8,FALSE)","v":0.2},{"$f":"VLOOKUP($A16,Produits!$A$1:$P$357,9,FALSE)","v":10.62},4]
["MPV2A",{"$f":"VLOOKUP($A17,Produits!$A$1:$P$357,2,FALSE)","v":"Crème de pruneaux BIO"},{"$f":"VLOOKUP($A17,Produits!$A$1:$P$357,3,FALSE)","v":"220g"},{"$f":"VLOOKUP($A17,Produits!$A$1:$P$357,5,FALSE)","v":24},{"$f":"VLOOKUP($A17,Produits!$A$1:$P$357,4,FALSE)","v":"Bocal"},{"$f":"VLOOKUP($A17,Produits!$A$1:$P$357,6,FALSE)","v":3.9810400000000001},{"$f":"VLOOKUP($A17,Produits!$A$1:$P$357,7,FALSE)","v":4.2},{"$f":"VLOOKUP($A17,Produits!$A$1:$P$357,10,FALSE)","v":5.5E-2},{"$f":"VLOOKUP($A17,Produits!$A$1:$P$357,8,FALSE)","v":0.2},{"$f":"VLOOKUP($A17,Produits!$A$1:$P$357,9,FALSE)","v":3.19},5]
["MPV3A",{"$f":"VLOOKUP($A18,Produits!$A$1:$P$357,2,FALSE)","v":"Jus de pruneaux BIO"},{"$f":"VLOOKUP($A18,Produits!$A$1:$P$357,3,FALSE)","v":"25cl"},{"$f":"VLOOKUP($A18,Produits!$A$1:$P$357,5,FALSE)","v":12},{"$f":"VLOOKUP($A18,Produits!$A$1:$P$357,4,FALSE)","v":"Bouteille"},{"$f":"VLOOKUP($A18,Produits!$A$1:$P$357,6,FALSE)","v":2.3696600000000001},{"$f":"VLOOKUP($A18,Produits!$A$1:$P$357,7,FALSE)","v":2.5},{"$f":"VLOOKUP($A18,Produits!$A$1:$P$357,10,FALSE)","v":5.5E-2},{"$f":"VLOOKUP($A18,Produits!$A$1:$P$357,8,FALSE)","v":0.2},{"$f":"VLOOKUP($A18,Produits!$A$1:$P$357,9,FALSE)","v":1.9},6]
["MPV6A2",{"$f":"VLOOKUP($A19,Produits!$A$1:$P$357,2,FALSE)","v":"Pruneaux d’Agen (33/44) - Boîte Or"},{"$f":"VLOOKUP($A19,Produits!$A$1:$P$357,3,FALSE)","v":"750g"},{"$f":"VLOOKUP($A19,Produits!$A$1:$P$357,5,FALSE)","v":6},{"$f":"VLOOKUP($A19,Produits!$A$1:$P$357,4,FALSE)","v":"Boite métal"},{"$f":"VLOOKUP($A19,Produits!$A$1:$P$357,6,FALSE)","v":9.4881499999999992},{"$f":"VLOOKUP($A19,Produits!$A$1:$P$357,7,FALSE)","v":10.01},{"$f":"VLOOKUP($A19,Produits!$A$1:$P$357,10,FALSE)","v":5.5E-2},{"$f":"VLOOKUP($A19,Produits!$A$1:$P$357,8,FALSE)","v":0.2},{"$f":"VLOOKUP($A19,Produits!$A$1:$P$357,9,FALSE)","v":7.6},7]
["MPV7A",{"$f":"VLOOKUP($A20,Produits!$A$1:$P$357,2,FALSE)","v":"Pruneaux d’Agen Mi-Cuit"},{"$f":"VLOOKUP($A20,Produits!$A$1:$P$357,3,FALSE)","v":"500g"},{"$f":"VLOOKUP($A20,Produits!$A$1:$P$357,5,FALSE)","v":25},{"$f":"VLOOKUP($A20,Produits!$A$1:$P$357,4,FALSE)","v":"Sachet"},{"$f":"VLOOKUP($A20,Produits!$A$1:$P$357,6,FALSE)","v":4.0758200000000002},{"$f":"VLOOKUP($A20,Produits!$A$1:$P$357,7,FALSE)","v":4.3},{"$f":"VLOOKUP($A20,Produits!$A$1:$P$357,10,FALSE)","v":5.5E-2},{"$f":"VLOOKUP($A20,Produits!$A$1:$P$357,8,FALSE)","v":0.2},{"$f":"VLOOKUP($A20,Produits!$A$1:$P$357,9,FALSE)","v":3.2699999999999996},8]
["MPV7B",{"$f":"VLOOKUP($A21,Produits!$A$1:$P$357,2,FALSE)","v":"Pruneaux d’Agen Mi-Cuit"},{"$f":"VLOOKUP($A21,Produits!$A$1:$P$357,3,FALSE)","v":"1kg"},{"$f":"VLOOKUP($A21,Produits!$A$1:$P$357,5,FALSE)","v":14},{"$f":"VLOOKUP($A21,Produits!$A$1:$P$357,4,FALSE)","v":"Sachet"},{"$f":"VLOOKUP($A21,Produits!$A$1:$P$357,6,FALSE)","v":6.8720299999999996},{"$f":"VLOOKUP($A21,Produits!$A$1:$P$357,7,FALSE)","v":7.25},{"$f":"VLOOKUP($A21,Produits!$A$1:$P$357,10,FALSE)","v":5.5E-2},{"$f":"VLOOKUP($A21,Produits!$A$1:$P$357,8,FALSE)","v":0.2},{"$f":"VLOOKUP($A21,Produits!$A$1:$P$357,9,FALSE)","v":5.5},9]
["MPV8A",{"$f":"VLOOKUP($A22,Produits!$A$1:$P$357,2,FALSE)","v":"Pruneaux d’Agen (cal. 33/44)"},{"$f":"VLOOKUP($A22,Produits!$A$1:$P$357,3,FALSE)","v":"250g"},{"$f":"VLOOKUP($A22,Produits!$A$1:$P$357,5,FALSE)","v":50},{"$f":"VLOOKUP($A22,Produits!$A$1:$P$357,4,FALSE)","v":"Sachet"},{"$f":"VLOOKUP($A22,Produits!$A$1:$P$357,6,FALSE)","v":3.0331700000000001},{"$f":"VLOOKUP($A22,Produits!$A$1:$P$357,7,FALSE)","v":3.2},{"$f":"VLOOKUP($A22,Produits!$A$1:$P$357,10,FALSE)","v":5.5E-2},{"$f":"VLOOKUP($A22,Produits!$A$1:$P$357,8,FALSE)","v":0.2},{"$f":"VLOOKUP($A22,Produits!$A$1:$P$357,9,FALSE)","v":2.4299999999999997},10]
["MPV8B",{"$f":"VLOOKUP($A23,Produits!$A$1:$P$357,2,FALSE)","v":"Pruneaux d’Agen (cal. 33/44)"},{"$f":"VLOOKUP($A23,Produits!$A$1:$P$357,3,FALSE)","v":"500g"},{"$f":"VLOOKUP($A23,Produits!$A$1:$P$357,5,FALSE)","v":25},{"$f":"VLOOKUP($A23,Produits!$A$1:$P$357,4,FALSE)","v":"Sachet"},{"$f":"VLOOKUP($A23,Produits!$A$1:$P$357,6,FALSE)","v":3.60189},{"$f":"VLOOKUP($A23,Produits!$A$1:$P$357,7,FALSE)","v":3.8},{"$f":"VLOOKUP($A23,Produits!$A$1:$P$357,10,FALSE)","v":5.5E-2},{"$f":"VLOOKUP($A23,Produits!$A$1:$P$357,8,FALSE)","v":0.2},{"$f":"VLOOKUP($A23,Produits!$A$1:$P$357,9,FALSE)","v":2.8899999999999997},11]
["MPV8C",{"$f":"VLOOKUP($A24,Produits!$A$1:$P$357,2,FALSE)","v":"Pruneaux d’Agen (cal. 33/44)"},{"$f":"VLOOKUP($A24,Produits!$A$1:$P$357,3,FALSE)","v":"1kg"},{"$f":"VLOOKUP($A24,Produits!$A$1:$P$357,5,FALSE)","v":14},{"$f":"VLOOKUP($A24,Produits!$A$1:$P$357,4,FALSE)","v":"Sachet"},{"$f":"VLOOKUP($A24,Produits!$A$1:$P$357,6,FALSE)","v":6.16113},{"$f":"VLOOKUP($A24,Produits!$A$1:$P$357,7,FALSE)","v":6.5},{"$f":"VLOOKUP($A24,Produits!$A$1:$P$357,10,FALSE)","v":5.5E-2},{"$f":"VLOOKUP($A24,Produits!$A$1:$P$357,8,FALSE)","v":0.2},{"$f":"VLOOKUP($A24,Produits!$A$1:$P$357,9,FALSE)","v":4.93},12]
["MPV9A",{"$f":"VLOOKUP($A25,Produits!$A$1:$P$357,2,FALSE)","v":"Pruneaux d’Agen dénoyauté (cal. 44/55)"},{"$f":"VLOOKUP($A25,Produits!$A$1:$P$357,3,FALSE)","v":"250g"},{"$f":"VLOOKUP($A25,Produits!$A$1:$P$357,5,FALSE)","v":50},{"$f":"VLOOKUP($A25,Produits!$A$1:$P$357,4,FALSE)","v":"Sachet"},{"$f":"VLOOKUP($A25,Produits!$A$1:$P$357,6,FALSE)","v":3.0331700000000001},{"$f":"VLOOKUP($A25,Produits!$A$1:$P$357,7,FALSE)","v":3.2},{"$f":"VLOOKUP($A25,Produits!$A$1:$P$357,10,FALSE)","v":5.5E-2},{"$f":"VLOOKUP($A25,Produits!$A$1:$P$357,8,FALSE)","v":0.2},{"$f":"VLOOKUP($A25,Produits!$A$1:$P$357,9,FALSE)","v":2.4299999999999997},13]
["MPV9B",{"$f":"VLOOKUP($A26,Produits!$A$1:$P$357,2,FALSE)","v":"Pruneaux d’Agen dénoyauté (cal. 44/55)"},{"$f":"VLOOKUP($A26,Produits!$A$1:$P$357,3,FALSE)","v":"500g"},{"$f":"VLOOKUP($A26,Produits!$A$1:$P$357,5,FALSE)","v":25},{"$f":"VLOOKUP($A26,Produits!$A$1:$P$357,4,FALSE)","v":"Sachet"},{"$f":"VLOOKUP($A26,Produits!$A$1:$P$357,6,FALSE)","v":4.54976},{"$f":"VLOOKUP($A26,Produits!$A$1:$P$357,7,FALSE)","v":4.8},{"$f":"VLOOKUP($A26,Produits!$A$1:$P$357,10,FALSE)","v":5.5E-2},{"$f":"VLOOKUP($A26,Produits!$A$1:$P$357,8,FALSE)","v":0.2},{"$f":"VLOOKUP($A26,Produits!$A$1:$P$357,9,FALSE)","v":3.6399999999999997},14]
["MPV9C",{"$f":"VLOOKUP($A27,Produits!$A$1:$P$357,2,FALSE)","v":"Pruneaux d’Agen dénoy. (cal. 44/55)"},{"$f":"VLOOKUP($A27,Produits!$A$1:$P$357,3,FALSE)","v":"1kg"},{"$f":"VLOOKUP($A27,Produits!$A$1:$P$357,5,FALSE)","v":14},{"$f":"VLOOKUP($A27,Produits!$A$1:$P$357,4,FALSE)","v":"Sachet"},{"$f":"VLOOKUP($A27,Produits!$A$1:$P$357,6,FALSE)","v":8.4360099999999996},{"$f":"VLOOKUP($A27,Produits!$A$1:$P$357,7,FALSE)","v":8.9},{"$f":"VLOOKUP($A27,Produits!$A$1:$P$357,10,FALSE)","v":5.5E-2},{"$f":"VLOOKUP($A27,Produits!$A$1:$P$357,8,FALSE)","v":0.2},{"$f":"VLOOKUP($A27,Produits!$A$1:$P$357,9,FALSE)","v":6.75},15]
["MPV10A",{"$f":"VLOOKUP($A28,Produits!$A$1:$P$357,2,FALSE)","v":"Jus de Pruneaux"},{"$f":"VLOOKUP($A28,Produits!$A$1:$P$357,3,FALSE)","v":"1L"},{"$f":"VLOOKUP($A28,Produits!$A$1:$P$357,5,FALSE)","v":6},{"$f":"VLOOKUP($A28,Produits!$A$1:$P$357,4,FALSE)","v":"Bouteille"},{"$f":"VLOOKUP($A28,Produits!$A$1:$P$357,6,FALSE)","v":3.9810400000000001},{"$f":"VLOOKUP($A28,Produits!$A$1:$P$357,7,FALSE)","v":4.2},{"$f":"VLOOKUP($A28,Produits!$A$1:$P$357,10,FALSE)","v":5.5E-2},{"$f":"VLOOKUP($A28,Produits!$A$1:$P$357,8,FALSE)","v":0.2},{"$f":"VLOOKUP($A28,Produits!$A$1:$P$357,9,FALSE)","v":3.19},16]
["MPV10B",{"$f":"VLOOKUP($A29,Produits!$A$1:$P$357,2,FALSE)","v":"Jus de Pruneaux"},{"$f":"VLOOKUP($A29,Produits!$A$1:$P$357,3,FALSE)","v":"25cl"},{"$f":"VLOOKUP($A29,Produits!$A$1:$P$357,5,FALSE)","v":12},{"$f":"VLOOKUP($A29,Produits!$A$1:$P$357,4,FALSE)","v":"Bouteille"},{"$f":"VLOOKUP($A29,Produits!$A$1:$P$357,6,FALSE)","v":2.0853000000000002},{"$f":"VLOOKUP($A29,Produits!$A$1:$P$357,7,FALSE)","v":2.2000000000000002},{"$f":"VLOOKUP($A29,Produits!$A$1:$P$357,10,FALSE)","v":5.5E-2},{"$f":"VLOOKUP($A29,Produits!$A$1:$P$357,8,FALSE)","v":0.2},{"$f":"VLOOKUP($A29,Produits!$A$1:$P$357,9,FALSE)","v":1.67},17]
["MPV12A",{"$f":"VLOOKUP($A30,Produits!$A$1:$P$357,2,FALSE)","v":"Pruneaux d’Agen secs"},{"$f":"VLOOKUP($A30,Produits!$A$1:$P$357,3,FALSE)","v":"500g"},{"$f":"VLOOKUP($A30,Produits!$A$1:$P$357,5,FALSE)","v":25},{"$f":"VLOOKUP($A30,Produits!$A$1:$P$357,4,FALSE)","v":"Sachet"},{"$f":"VLOOKUP($A30,Produits!$A$1:$P$357,6,FALSE)","v":2.3696600000000001},{"$f":"VLOOKUP($A30,Produits!$A$1:$P$357,7,FALSE)","v":2.5},{"$f":"VLOOKUP($A30,Produits!$A$1:$P$357,10,FALSE)","v":5.5E-2},{"$f":"VLOOKUP($A30,Produits!$A$1:$P$357,8,FALSE)","v":0.2},{"$f":"VLOOKUP($A30,Produits!$A$1:$P$357,9,FALSE)","v":1.9},18]
["MPV13A",{"$f":"VLOOKUP($A31,Produits!$A$1:$P$357,2,FALSE)","v":"Crème de pruneaux"},{"$f":"VLOOKUP($A31,Produits!$A$1:$P$357,3,FALSE)","v":"220g"},{"$f":"VLOOKUP($A31,Produits!$A$1:$P$357,5,FALSE)","v":24},{"$f":"VLOOKUP($A31,Produits!$A$1:$P$357,4,FALSE)","v":"Bocal"},{"$f":"VLOOKUP($A31,Produits!$A$1:$P$357,6,FALSE)","v":3.0331700000000001},{"$f":"VLOOKUP($A31,Produits!$A$1:$P$357,7,FALSE)","v":3.2},{"$f":"VLOOKUP($A31,Produits!$A$1:$P$357,10,FALSE)","v":5.5E-2},{"$f":"VLOOKUP($A31,Produits!$A$1:$P$357,8,FALSE)","v":0.2},{"$f":"VLOOKUP($A31,Produits!$A$1:$P$357,9,FALSE)","v":2.4299999999999997},19]
["MPV13B",{"$f":"VLOOKUP($A32,Produits!$A$1:$P$357,2,FALSE)","v":"Crème de pruneaux "},{"$f":"VLOOKUP($A32,Produits!$A$1:$P$357,3,FALSE)","v":"320g"},{"$f":"VLOOKUP($A32,Produits!$A$1:$P$357,5,FALSE)","v":24},{"$f":"VLOOKUP($A32,Produits!$A$1:$P$357,4,FALSE)","v":"Bocal"},{"$f":"VLOOKUP($A32,Produits!$A$1:$P$357,6,FALSE)","v":3.9810400000000001},{"$f":"VLOOKUP($A32,Produits!$A$1:$P$357,7,FALSE)","v":4.2},{"$f":"VLOOKUP($A32,Produits!$A$1:$P$357,10,FALSE)","v":5.5E-2},{"$f":"VLOOKUP($A32,Produits!$A$1:$P$357,8,FALSE)","v":0.2},{"$f":"VLOOKUP($A32,Produits!$A$1:$P$357,9,FALSE)","v":3.19},20]
["MPV14A",{"$f":"VLOOKUP($A33,Produits!$A$1:$P$357,2,FALSE)","v":"Pulpe de pruneaux"},{"$f":"VLOOKUP($A33,Produits!$A$1:$P$357,3,FALSE)","v":"310g"},{"$f":"VLOOKUP($A33,Produits!$A$1:$P$357,5,FALSE)","v":24},{"$f":"VLOOKUP($A33,Produits!$A$1:$P$357,4,FALSE)","v":"Bocal"},{"$f":"VLOOKUP($A33,Produits!$A$1:$P$357,6,FALSE)","v":3.9810400000000001},{"$f":"VLOOKUP($A33,Produits!$A$1:$P$357,7,FALSE)","v":4.2},{"$f":"VLOOKUP($A33,Produits!$A$1:$P$357,10,FALSE)","v":5.5E-2},{"$f":"VLOOKUP($A33,Produits!$A$1:$P$357,8,FALSE)","v":0.2},{"$f":"VLOOKUP($A33,Produits!$A$1:$P$357,9,FALSE)","v":3.19},21]
["MPV15A",{"$f":"VLOOKUP($A34,Produits!$A$1:$P$357,2,FALSE)","v":"Pruneaux au sirop"},{"$f":"VLOOKUP($A34,Produits!$A$1:$P$357,3,FALSE)","v":"320g"},{"$f":"VLOOKUP($A34,Produits!$A$1:$P$357,5,FALSE)","v":14},{"$f":"VLOOKUP($A34,Produits!$A$1:$P$357,4,FALSE)","v":"Bocal"},{"$f":"VLOOKUP($A34,Produits!$A$1:$P$357,6,FALSE)","v":3.2227399999999999},{"$f":"VLOOKUP($A34,Produits!$A$1:$P$357,7,FALSE)","v":3.4},{"$f":"VLOOKUP($A34,Produits!$A$1:$P$357,10,FALSE)","v":5.5E-2},{"$f":"VLOOKUP($A34,Produits!$A$1:$P$357,8,FALSE)","v":0.2},{"$f":"VLOOKUP($A34,Produits!$A$1:$P$357,9,FALSE)","v":2.5799999999999996},22]
["MPV17A",{"$f":"VLOOKUP($A35,Produits!$A$1:$P$357,2,FALSE)","v":"Confiture de Prune d'Ente allégée"},{"$f":"VLOOKUP($A35,Produits!$A$1:$P$357,3,FALSE)","v":"330g"},{"$f":"VLOOKUP($A35,Produits!$A$1:$P$357,5,FALSE)","v":14},{"$f":"VLOOKUP($A35,Produits!$A$1:$P$357,4,FALSE)","v":"Bocal"},{"$f":"VLOOKUP($A35,Produits!$A$1:$P$357,6,FALSE)","v":4.2653999999999996},{"$f":"VLOOKUP($A35,Produits!$A$1:$P$357,7,FALSE)","v":4.5},{"$f":"VLOOKUP($A35,Produits!$A$1:$P$357,10,FALSE)","v":5.5E-2},{"$f":"VLOOKUP($A35,Produits!$A$1:$P$357,8,FALSE)","v":0.2},{"$f":"VLOOKUP($A35,Produits!$A$1:$P$357,9,FALSE)","v":3.42},23]
["MPV17B",{"$f":"VLOOKUP($A36,Produits!$A$1:$P$357,2,FALSE)","v":"Confiture de Prune Reine-Claude allégée"},{"$f":"VLOOKUP($A36,Produits!$A$1:$P$357,3,FALSE)","v":"330g"},{"$f":"VLOOKUP($A36,Produits!$A$1:$P$357,5,FALSE)","v":14},{"$f":"VLOOKUP($A36,Produits!$A$1:$P$357,4,FALSE)","v":"Bocal"},{"$f":"VLOOKUP($A36,Produits!$A$1:$P$357,6,FALSE)","v":4.2653999999999996},{"$f":"VLOOKUP($A36,Produits!$A$1:$P$357,7,FALSE)","v":4.5},{"$f":"VLOOKUP($A36,Produits!$A$1:$P$357,10,FALSE)","v":5.5E-2},{"$f":"VLOOKUP($A36,Produits!$A$1:$P$357,8,FALSE)","v":0.2},{"$f":"VLOOKUP($A36,Produits!$A$1:$P$357,9,FALSE)","v":3.42},24]
["MPV17C",{"$f":"VLOOKUP($A37,Produits!$A$1:$P$357,2,FALSE)","v":"Confiture de Fraise"},{"$f":"VLOOKUP($A37,Produits!$A$1:$P$357,3,FALSE)","v":"330g"},{"$f":"VLOOKUP($A37,Produits!$A$1:$P$357,5,FALSE)","v":14},{"$f":"VLOOKUP($A37,Produits!$A$1:$P$357,4,FALSE)","v":"Bocal"},{"$f":"VLOOKUP($A37,Produits!$A$1:$P$357,6,FALSE)","v":4.2653999999999996},{"$f":"VLOOKUP($A37,Produits!$A$1:$P$357,7,FALSE)","v":4.5},{"$f":"VLOOKUP($A37,Produits!$A$1:$P$357,10,FALSE)","v":5.5E-2},{"$f":"VLOOKUP($A37,Produits!$A$1:$P$357,8,FALSE)","v":0.2},{"$f":"VLOOKUP($A37,Produits!$A$1:$P$357,9,FALSE)","v":3.42},25]
["MPV17D",{"$f":"VLOOKUP($A38,Produits!$A$1:$P$357,2,FALSE)","v":"Confiture de Kiwi allégée"},{"$f":"VLOOKUP($A38,Produits!$A$1:$P$357,3,FALSE)","v":"330g"},{"$f":"VLOOKUP($A38,Produits!$A$1:$P$357,5,FALSE)","v":14},{"$f":"VLOOKUP($A38,Produits!$A$1:$P$357,4,FALSE)","v":"Bocal"},{"$f":"VLOOKUP($A38,Produits!$A$1:$P$357,6,FALSE)","v":4.2653999999999996},{"$f":"VLOOKUP($A38,Produits!$A$1:$P$357,7,FALSE)","v":4.5},{"$f":"VLOOKUP($A38,Produits!$A$1:$P$357,10,FALSE)","v":5.5E-2},{"$f":"VLOOKUP($A38,Produits!$A$1:$P$357,8,FALSE)","v":0.2},{"$f":"VLOOKUP($A38,Produits!$A$1:$P$357,9,FALSE)","v":3.42},26]
["MPV24A",{"$f":"VLOOKUP($A39,Produits!$A$1:$P$357,2,FALSE)","v":"Pruneaux fourrés - Boîte Or"},{"$f":"VLOOKUP($A39,Produits!$A$1:$P$357,3,FALSE)","v":"350g"},{"$f":"VLOOKUP($A39,Produits!$A$1:$P$357,5,FALSE)","v":6},{"$f":"VLOOKUP($A39,Produits!$A$1:$P$357,4,FALSE)","v":"Boite métal"},{"$f":"VLOOKUP($A39,Produits!$A$1:$P$357,6,FALSE)","v":12.41666},{"$f":"VLOOKUP($A39,Produits!$A$1:$P$357,7,FALSE)","v":14.9},{"$f":"VLOOKUP($A39,Produits!$A$1:$P$357,10,FALSE)","v":0.2},{"$f":"VLOOKUP($A39,Produits!$A$1:$P$357,8,FALSE)","v":0.2},{"$f":"VLOOKUP($A39,Produits!$A$1:$P$357,9,FALSE)","v":9.94},27]
["MPV30A",{"$f":"VLOOKUP($A40,Produits!$A$1:$P$357,2,FALSE)","v":"Pruneaux aromatisés au vin blanc MonBazillac"},{"$f":"VLOOKUP($A40,Produits!$A$1:$P$357,3,FALSE)","v":"320g"},{"$f":"VLOOKUP($A40,Produits!$A$1:$P$357,5,FALSE)","v":14},{"$f":"VLOOKUP($A40,Produits!$A$1:$P$357,4,FALSE)","v":"Bocal"},{"$f":"VLOOKUP($A40,Produits!$A$1:$P$357,6,FALSE)","v":6.6350699999999998},{"$f":"VLOOKUP($A40,Produits!$A$1:$P$357,7,FALSE)","v":7},{"$f":"VLOOKUP($A40,Produits!$A$1:$P$357,10,FALSE)","v":5.5E-2},{"$f":"VLOOKUP($A40,Produits!$A$1:$P$357,8,FALSE)","v":0.2},{"$f":"VLOOKUP($A40,Produits!$A$1:$P$357,9,FALSE)","v":5.31},28]
["MPV30B",{"$f":"VLOOKUP($A41,Produits!$A$1:$P$357,2,FALSE)","v":"Pruneaux aromatisés au vin rouge de pays vanille"},{"$f":"VLOOKUP($A41,Produits!$A$1:$P$357,3,FALSE)","v":"320g"},{"$f":"VLOOKUP($A41,Produits!$A$1:$P$357,5,FALSE)","v":14},{"$f":"VLOOKUP($A41,Produits!$A$1:$P$357,4,FALSE)","v":"Bocal"},{"$f":"VLOOKUP($A41,Produits!$A$1:$P$357,6,FALSE)","v":5.7819900000000004},{"$f":"VLOOKUP($A41,Produits!$A$1:$P$357,7,FALSE)","v":6.1},{"$f":"VLOOKUP($A41,Produits!$A$1:$P$357,10,FALSE)","v":5.5E-2},{"$f":"VLOOKUP($A41,Produits!$A$1:$P$357,8,FALSE)","v":0.2},{"$f":"VLOOKUP($A41,Produits!$A$1:$P$357,9,FALSE)","v":4.63},29]
["MPV30C",{"$f":"VLOOKUP($A42,Produits!$A$1:$P$357,2,FALSE)","v":"Pruneaux aromatisés au vin rouge de pays canelle"},{"$f":"VLOOKUP($A42,Produits!$A$1:$P$357,3,FALSE)","v":"320g"},{"$f":"VLOOKUP($A42,Produits!$A$1:$P$357,5,FALSE)","v":14},{"$f":"VLOOKUP($A42,Produits!$A$1:$P$357,4,FALSE)","v":"Bocal"},{"$f":"VLOOKUP($A42,Produits!$A$1:$P$357,6,FALSE)","v":5.7819900000000004},{"$f":"VLOOKUP($A42,Produits!$A$1:$P$357,7,FALSE)","v":6.1},{"$f":"VLOOKUP($A42,Produits!$A$1:$P$357,10,FALSE)","v":5.5E-2},{"$f":"VLOOKUP($A42,Produits!$A$1:$P$357,8,FALSE)","v":0.2},{"$f":"VLOOKUP($A42,Produits!$A$1:$P$357,9,FALSE)","v":4.63},30]

{"sheet":"Devis","index":6,"n_rows":77,"n_cols":24,"rows_kept":77,"cut":false,"hidden":true,"merged":[[0,5,1,6],[0,7,1,8],[0,9,1,10],[0,11,1,12],[3,6,3,8],[3,10,3,12],[4,5,5,5],[4,6,5,12],[6,6,6,8],[6,10,6,12],[7,0,9,4],[7,6,7,8],[7,10,7,12],[8,6,8,8],[8,10,8,12],[9,5,9,6],[9,7,9,12],[11,0,12,0],[11,1,12,4],[11,5,12,5],[11,6,12,6],[11,7,12,7],[11,8,12,8],[11,9,12,9],[11,10,12,10],[11,11,12,11],[11,22,12,22],[11,23,12,23],[13,0,14,0],[13,1,13,4],[14,2,14,3],[11,12,12,12],[11,14,12,14],[11,13,12,13],[11,15,12,15],[11,17,12,17],[11,18,12,18],[13,22,14,22],[13,23,14,23],[13,17,14,17],[13,18,14,18],[13,19,14,19],[13,20,14,20],[15,0,16,0],[15,1,15,4],[16,2,16,3],[11,19,12,19],[11,20,12,20],[11,21,12,21],[13,21,14,21],[13,10,14,10],[13,11,14,11],[13,12,14,12],[13,14,14,14],[13,13,14,13],[13,15,14,15],[15,9,16,9],[15,10,16,10],[15,11,16,11],[15,12,16,12],[15,14,16,14],[15,13,16,13],[15,15,16,15],[15,21,16,21],[29,0,30,0],[29,1,29,4],[30,2,30,3],[31,0,32,0],[31,1,31,4],[32,2,32,3],[25,0,26,0],[25,1,25,4],[26,2,26,3],[27,0,28,0],[27,1,27,4],[28,2,28,3],[37,0,38,0],[37,1,37,4],[38,2,38,3],[39,0,40,0],[39,1,39,4],[40,2,40,3],[33,0,34,0],[33,1,33,4],[34,2,34,3],[35,0,36,0],[35,1,35,4],[36,2,36,3],[45,0,46,0],[45,1,45,4],[46,2,46,3],[45,9,46,9],[45,10,46,10],[45,11,46,11],[45,12,46,12],[41,0,42,0],[41,1,41,4],[42,2,42,3],[43,0,44,0],[43,1,43,4],[44,2,44,3],[46,5,46,8],[44,5,44,8],[41,9,42,9],[41,10,42,10],[41,11,42,11],[41,12,42,12],[42,5,42,8],[43,9,44,9],[43,10,44,10],[43,11,44,11],[43,12,44,12],[64,0,66,6],[57,8,57,11],[61,8,61,11],[62,8,62,11],[61,3,61,6],[51,1,51,4],[52,0,52,6],[52,8,52,11],[53,0,55,6],[53,8,53,11],[54,8,54,11],[55,8,55,11],[56,8,56,11],[59,3,60,6],[83,1,83,4],[84,1,84,4],[85,1,85,4],[86,1,86,4],[87,1,87,4],[88,1,88,4],[78,1,78,4],[79,1,79,4],[80,1,80,4],[81,1,81,4],[82,1,82,4],[95,1,95,4],[96,1,96,4],[97,1,97,4],[98,1,98,4],[99,1,99,4],[100,1,100,4],[89,1,89,4],[90,1,90,4],[91,1,91,4],[92,1,92,4],[93,1,93,4],[94,1,94,4],[107,1,107,4],[108,1,108,4],[109,1,109,4],[110,1,110,4],[111,1,111,4],[112,1,112,4],[101,1,101,4],[102,1,102,4],[103,1,103,4],[104,1,104,4],[105,1,105,4],[106,1,106,4],[119,1,119,4],[120,1,120,4],[121,1,121,4],[122,1,122,4],[123,1,123,4],[124,1,124,4],[113,1,113,4],[114,1,114,4],[115,1,115,4],[116,1,116,4],[117,1,117,4],[118,1,118,4],[131,1,131,4],[132,1,132,4],[133,1,133,4],[134,1,134,4],[135,1,135,4],[136,1,136,4],[125,1,125,4],[126,1,126,4],[127,1,127,4],[128,1,128,4],[129,1,129,4],[130,1,130,4],[143,1,143,4],[144,1,144,4],[145,1,145,4],[146,1,146,4],[147,1,147,4],[148,1,148,4],[137,1,137,4],[138,1,138,4],[139,1,139,4],[140,1,140,4],[141,1,141,4],[142,1,142,4],[157,1,157,4],[158,1,158,4],[159,1,159,4],[160,1,160,4],[149,1,149,4],[150,1,150,4],[151,1,151,4],[152,1,152,4],[153,1,153,4],[154,1,154,4],[173,1,173,4],[174,1,174,4],[175,1,175,4],[176,1,176,4],[177,1,177,4],[13,9,14,9],[14,5,14,8],[16,5,16,8],[23,9,24,9],[24,5,24,8],[167,1,167,4],[168,1,168,4],[169,1,169,4],[170,1,170,4],[171,1,171,4],[172,1,172,4],[161,1,161,4],[162,1,162,4],[163,1,163,4],[164,1,164,4],[165,1,165,4],[166,1,166,4],[155,1,155,4],[156,1,156,4],[26,5,26,8],[27,9,28,9],[27,10,28,10],[27,11,28,11],[27,12,28,12],[27,14,28,14],[27,13,28,13],[27,15,28,15],[28,5,28,8],[25,9,26,9],[25,10,26,10],[25,11,26,11],[25,12,26,12],[25,14,26,14],[25,13,26,13],[30,5,30,8],[31,9,32,9],[31,10,32,10],[31,11,32,11],[31,12,32,12],[32,5,32,8],[29,9,30,9],[29,10,30,10],[29,11,30,11],[29,12,30,12],[35,15,36,15],[36,5,36,8],[33,9,34,9],[33,10,34,10],[33,11,34,11],[33,12,34,12],[33,14,34,14],[33,13,34,13],[40,5,40,8],[39,12,40,12],[39,11,40,11],[39,10,40,10],[39,9,40,9],[38,5,38,8],[34,5,34,8],[35,9,36,9],[35,10,36,10],[35,11,36,11],[35,12,36,12],[45,14,46,14],[45,13,46,13],[45,15,46,15],[37,15,38,15],[33,15,34,15],[29,15,30,15],[25,15,26,15],[41,15,42,15],[54,14,54,15],[39,15,40,15],[39,14,40,14],[39,13,40,13],[37,14,38,14],[37,13,38,13],[43,14,44,14],[43,13,44,13],[43,15,44,15],[31,14,32,14],[31,13,32,13],[31,15,32,15],[29,14,30,14],[29,13,30,13],[35,14,36,14],[35,13,36,13],[15,22,16,22],[15,23,16,23],[15,17,16,17],[15,18,16,18],[15,19,16,19],[15,20,16,20],[41,14,42,14],[41,13,42,13],[25,23,26,23],[27,17,28,17],[27,18,28,18],[27,19,28,19],[27,20,28,20],[27,21,28,21],[27,22,28,22],[27,23,28,23],[25,17,26,17],[25,18,26,18],[25,19,26,19],[25,20,26,20],[25,21,26,21],[25,22,26,22],[29,23,30,23],[31,17,32,17],[31,18,32,18],[31,19,32,19],[31,20,32,20],[31,21,32,21],[31,22,32,22],[31,23,32,23],[29,17,30,17],[29,18,30,18],[29,19,30,19],[29,20,30,20],[29,21,30,21],[29,22,30,22],[35,20,36,20],[35,21,36,21],[35,22,36,22],[35,23,36,23],[33,17,34,17],[33,18,34,18],[33,19,34,19],[33,20,34,20],[33,21,34,21],[33,22,34,22],[35,18,36,18],[35,19,36,19],[39,17,40,17],[39,18,40,18],[39,19,40,19],[39,20,40,20],[39,21,40,21],[39,22,40,22],[39,23,40,23],[37,17,38,17],[37,18,38,18],[37,19,38,19],[37,20,38,20],[37,21,38,21],[37,22,38,22],[59,14,60,15],[45,23,46,23],[45,17,46,17],[45,18,46,18],[45,19,46,19],[45,20,46,20],[45,21,46,21],[45,22,46,22],[41,23,42,23],[43,17,44,17],[43,18,44,18],[43,19,44,19],[43,20,44,20],[43,21,44,21],[43,22,44,22],[43,23,44,23],[41,17,42,17],[41,18,42,18],[41,19,42,19],[41,20,42,20],[41,21,42,21],[41,22,42,22],[53,14,53,15],[56,14,56,15],[76,0,77,12],[71,7,74,12],[70,7,70,12],[48,1,48,8],[49,1,49,8],[50,1,50,8],[59,8,59,11],[60,8,60,11],[58,8,58,11],[57,3,58,6],[57,0,58,2],[68,1,68,4],[69,0,69,12],[70,1,70,3],[70,5,70,6],[71,1,71,3],[71,5,71,6],[63,8,63,11],[62,3,62,4],[62,5,62,6],[64,8,64,11],[66,10,66,11],[67,10,67,11],[59,0,62,2],[17,18,18,18],[17,19,18,19],[17,20,18,20],[17,21,18,21],[17,22,18,22],[17,23,18,23],[18,2,18,3],[18,5,18,8],[19,0,20,0],[19,1,19,4],[19,9,20,9],[19,10,20,10],[19,11,20,11],[19,12,20,12],[19,13,20,13],[19,14,20,14],[19,15,20,15],[17,0,18,0],[17,1,17,4],[17,9,18,9],[17,10,18,10],[17,11,18,11],[17,12,18,12],[17,13,18,13],[17,14,18,14],[17,15,18,15],[54,17,54,18],[11,24,12,24],[13,24,14,24],[15,24,16,24],[17,24,18,24],[19,24,20,24],[21,24,22,24],[23,24,24,24],[25,24,26,24],[27,24,28,24],[29,24,30,24],[31,24,32,24],[33,24,34,24],[35,24,36,24],[37,24,38,24],[39,24,40,24],[41,24,42,24],[43,24,44,24],[45,24,46,24],[19,18,20,18],[19,19,20,19],[19,22,20,22],[19,23,20,23],[17,17,18,17],[19,21,20,21],[19,20,20,20],[19,17,20,17],[24,2,24,3],[23,23,24,23],[23,22,24,22],[23,21,24,21],[23,20,24,20],[23,19,24,19],[23,18,24,18],[23,17,24,17],[23,15,24,15],[23,14,24,14],[23,13,24,13],[23,12,24,12],[23,11,24,11],[23,10,24,10],[23,1,23,4],[20,2,20,3],[20,5,20,8],[21,1,21,4],[21,9,22,9],[21,10,22,10],[21,11,22,11],[37,12,38,12],[37,11,38,11],[37,10,38,10],[37,9,38,9],[23,0,24,0],[21,23,22,23],[21,22,22,22],[21,21,22,21],[21,20,22,20],[21,19,22,19],[21,18,22,18],[21,17,22,17],[21,0,22,0],[21,12,22,12],[21,13,22,13],[21,14,22,14],[21,15,22,15],[22,2,22,3],[22,5,22,8],[37,23,38,23],[33,23,34,23],[35,17,36,17]]}
[null,null,null,null,null,"DEVIS N° ",null,"D201909-001",null,"DATE: ",null,{"$f":"TODAY()","v":"2019-09-25"}]
[]
[]
[null,null,null,null,null,"Entreprise:",{"$f":"Coordonnées_client!$C$2","v":0},null,null,"Tél.:",{"$f":"Coordonnées_client!$I$2","v":0}]
[null,null,null,null,null,"Adresse:",{"$f":"Coordonnées_client!$F$2","v":0}]
[]
[null,null,null,null,null,"CP:",{"$f":"Coordonnées_client!$G$2","v":0},null,null,"Ville:",{"$f":"Coordonnées_client!$H$2","v":0}]
["«Braunès» 47320 Lafitte-sur-Lot\n05 53 84 04 17 • mdpruneau.vpc@orange.fr\nwww.maisondupruneau.com",null,null,null,null,"Nom:",{"$f":"Coordonnées_client!$K$2","v":0},null,null,"Prénom:",{"$f":"Coordonnées_client!$L$2","v":0}]
[null,null,null,null,null,"Ligne directe:",{"$f":"Coordonnées_client!$N$2","v":0},null,null,"Mail:",{"$f":"Coordonnées_client!$O$2","v":0}]
[null,null,null,null,null,"Conditions de règlement:",null,{"$f":"Coordonnées_client!$D$4","v":"Comptant (1ère commande) puis 30j net (commandes suivantes)"}]
[]
["Réf.","Désignation",null,null,null,"Contenance","Prix HT","Prix TTC\nconseillé","TVA","Remise","Prix remisé\nHT","Quantité","TOTAL Ligne\nremisée HT","Colisage\npar lot de: ","Poids Brut","Total Poids\nLigne",null,"Total ligne\nHT","Total ligne\nTTC","Total ligne\nremisé TTC","Remise HT","Remise TTC","TVA 5,5%","TVA 20%"]
[]
["27B1",{"$f":"IF(ISNA(VLOOKUP($A14,Produits!$A$1:$O$357,2,FALSE)),\"\",VLOOKUP($A14,Produits!$A$1:$O$357,2,FALSE))","v":"Pruneaux fourrés"},null,null,null,{"$f":"IF(ISNA(VLOOKUP($A14,Produits!$A$1:$O$357,3,FALSE)),\"\",VLOOKUP($A14,Produits!$A$1:$O$357,3,FALSE))","v":"100g"},{"$f":"IF(ISNA(VLOOKUP($A14,Produits!$A$1:$O$357,6,FALSE)),\"\",VLOOKUP($A14,Produits!$A$1:$O$357,6,FALSE))","v":4.0833300000000001},{"$f":"IF(ISNA(VLOOKUP($A14,Produits!$A$1:$O$357,7,FALSE)),\"\",VLOOKUP($A14,Produits!$A$1:$O$357,7,FALSE))","v":4.9000000000000004},{"$f":"IF(ISNA(VLOOKUP($A14,Produits!$A$1:$O$357,10,FALSE)),\"\",VLOOKUP($A14,Produits!$A$1:$O$357,10,FALSE))","v":0.2},null,{"$f":"IF(J14=0,G14,IFERROR(ROUNDDOWN(G14-G14*J14,2),\"\"))","v":4.0833300000000001},100,{"$f":"IFERROR(MROUND($K14*$L14,ROUNDDOWN(G14-G14*J14,2)),\"\")","v":408},{"$f":"IF(ISNA(VLOOKUP($A14,Produits!$A$1:$O$357,5,FALSE)),\"\",VLOOKUP($A14,Produits!$A$1:$O$357,5,FALSE))","v":5},{"$f":"IF(ISNA(VLOOKUP($A14,Produits!$A$1:$O$357,15,FALSE)),\"\",VLOOKUP($A14,Produits!$A$1:$O$357,15,FALSE))","v":115},{"$f":"IFERROR($L14*$O14/1000,\"\")","v":11.5},null,{"$f":"IFERROR(MROUND(G14*L14,ROUNDDOWN(H14/(1+I14),2)),\"\")","v":408},{"$f":"IFERROR(ROUNDUP(H14*L14,2),\"\")","v":490},{"$f":"IFERROR(IF($I14=\"Multiple\",$M14+$W14+$X14,ROUNDUP($M14*(1+$I14),2)),\"\")","v":489.6},{"$f":"IF(J14=\"\",0,IFERROR($G14*$L14-ROUNDUP($K14,2)*$L14,\"\"))","v":0},{"$f":"IF(J14=\"\",0,IFERROR(ROUND($H14*$L14-$T14,2),\"\"))","v":0},{"$f":"IFERROR(IF($I14=\"Multiple\",VLOOKUP($A14,Produits_composes!$A$1:$AA$30,25,FALSE)*$L14,IF($I14=5.5%,ROUNDUP(($K14*(1+$I14)-$K14)*$L14,2),\"\"*$L14)),\"\")","v":""},{"$f":"IFERROR(IF($I14=\"Multiple\",VLOOKUP($A14,Produits_composes!$A$1:$AA$30,26,FALSE)*$L14,IF($I14=20%,ROUNDUP(($K14*(1+$I14)-$K14)*$L14,2),\"\"*$L14)),\"\")","v":81.67}]
[null,{"$f":"IF(A14=\"\",\"\",\"Code EAN :\")","v":"Code EAN :"},{"$f":"IF(ISNA(VLOOKUP($A14,Produits!$A$1:$O$357,14,FALSE)),\"\",VLOOKUP($A14,Produits!$A$1:$O$357,14,FALSE))","v":3760219062042},null,{"$f":"IF(A14=\"\",\"\",\"Commentaire :\")","v":"Commentaire :"}]
[null,{"$f":"IF(ISNA(VLOOKUP($A16,Produits!$A$1:$O$357,2,FALSE)),\"\",VLOOKUP($A16,Produits!$A$1:$O$357,2,FALSE))","v":""},null,null,null,{"$f":"IF(ISNA(VLOOKUP($A16,Produits!$A$1:$O$357,3,FALSE)),\"\",VLOOKUP($A16,Produits!$A$1:$O$357,3,FALSE))","v":""},{"$f":"IF(ISNA(VLOOKUP($A16,Produits!$A$1:$O$357,6,FALSE)),\"\",VLOOKUP($A16,Produits!$A$1:$O$357,6,FALSE))","v":""},{"$f":"IF(ISNA(VLOOKUP($A16,Produits!$A$1:$O$357,7,FALSE)),\"\",VLOOKUP($A16,Produits!$A$1:$O$357,7,FALSE))","v":""},{"$f":"IF(ISNA(VLOOKUP($A16,Produits!$A$1:$O$357,10,FALSE)),\"\",VLOOKUP($A16,Produits!$A$1:$O$357,10,FALSE))","v":""},null,{"$f":"IF(J16=0,G16,IFERROR(ROUNDDOWN(G16-G16*J16,2),\"\"))","v":""},null,{"$f":"IFERROR(MROUND($K16*$L16,ROUNDDOWN(G16-G16*J16,2)),\"\")","v":""},{"$f":"IF(ISNA(VLOOKUP($A16,Produits!$A$1:$O$357,5,FALSE)),\"\",VLOOKUP($A16,Produits!$A$1:$O$357,5,FALSE))","v":""},{"$f":"IF(ISNA(VLOOKUP($A16,Produits!$A$1:$O$357,15,FALSE)),\"\",VLOOKUP($A16,Produits!$A$1:$O$357,15,FALSE))","v":""},{"$f":"IFERROR($L16*$O16/1000,\"\")","v":""},null,{"$f":"IFERROR(MROUND(G16*L16,ROUNDDOWN(H16/(1+I16),2)),\"\")","v":""},{"$f":"IFERROR(ROUNDUP(H16*L16,2),\"\")","v":""},{"$f":"IFERROR(IF($I16=\"Multiple\",$M16+$W16+$X16,ROUNDUP($M16*(1+$I16),2)),\"\")","v":""},{"$f":"IF(J16=\"\",0,IFERROR($G16*$L16-ROUNDUP($K16,2)*$L16,\"\"))","v":0},{"$f":"IF(J16=\"\",0,IFERROR(ROUND($H16*$L16-$T16,2),\"\"))","v":0},{"$f":"IFERROR(IF($I16=\"Multiple\",VLOOKUP($A16,Produits_composes!$A$1:$AA$30,25,FALSE)*$L16,IF($I16=5.5%,ROUNDUP(($K16*(1+$I16)-$K16)*$L16,2),\"\"*$L16)),\"\")","v":""},{"$f":"IFERROR(IF($I16=\"Multiple\",VLOOKUP($A16,Produits_composes!$A$1:$AA$30,26,FALSE)*$L16,IF($I16=20%,ROUNDUP(($K16*(1+$I16)-$K16)*$L16,2),\"\"*$L16)),\"\")","v":""}]
[null,{"$f":"IF(A16=\"\",\"\",\"Code EAN :\")","v":""},{"$f":"IF(ISNA(VLOOKUP($A16,Produits!$A$1:$O$357,14,FALSE)),\"\",VLOOKUP($A16,Produits!$A$1:$O$357,14,FALSE))","v":""},null,{"$f":"IF(A16=\"\",\"\",\"Commentaire :\")","v":""}]
[null,{"$f":"IF(ISNA(VLOOKUP($A18,Produits!$A$1:$O$357,2,FALSE)),\"\",VLOOKUP($A18,Produits!$A$1:$O$357,2,FALSE))","v":""},null,null,null,{"$f":"IF(ISNA(VLOOKUP($A18,Produits!$A$1:$O$357,3,FALSE)),\"\",VLOOKUP($A18,Produits!$A$1:$O$357,3,FALSE))","v":""},{"$f":"IF(ISNA(VLOOKUP($A18,Produits!$A$1:$O$357,6,FALSE)),\"\",VLOOKUP($A18,Produits!$A$1:$O$357,6,FALSE))","v":""},{"$f":"IF(ISNA(VLOOKUP($A18,Produits!$A$1:$O$357,7,FALSE)),\"\",VLOOKUP($A18,Produits!$A$1:$O$357,7,FALSE))","v":""},{"$f":"IF(ISNA(VLOOKUP($A18,Produits!$A$1:$O$357,10,FALSE)),\"\",VLOOKUP($A18,Produits!$A$1:$O$357,10,FALSE))","v":""},null,{"$f":"IF(J18=0,G18,IFERROR(ROUNDDOWN(G18-G18*J18,2),\"\"))","v":""},null,{"$f":"IFERROR(MROUND($K18*$L18,ROUNDDOWN(G18-G18*J18,2)),\"\")","v":""},{"$f":"IF(ISNA(VLOOKUP($A18,Produits!$A$1:$O$357,5,FALSE)),\"\",VLOOKUP($A18,Produits!$A$1:$O$357,5,FALSE))","v":""},{"$f":"IF(ISNA(VLOOKUP($A18,Produits!$A$1:$O$357,15,FALSE)),\"\",VLOOKUP($A18,Produits!$A$1:$O$357,15,FALSE))","v":""},{"$f":"IFERROR($L18*$O18/1000,\"\")","v":""},null,{"$f":"IFERROR(MROUND(G18*L18,ROUNDDOWN(H18/(1+I18),2)),\"\")","v":""},{"$f":"IFERROR(ROUNDUP(H18*L18,2),\"\")","v":""},{"$f":"IFERROR(IF($I18=\"Multiple\",$M18+$W18+$X18,ROUNDUP($M18*(1+$I18),2)),\"\")","v":""},{"$f":"IF(J18=\"\",0,IFERROR($G18*$L18-ROUNDUP($K18,2)*$L18,\"\"))","v":0},{"$f":"IF(J18=\"\",0,IFERROR(ROUND($H18*$L18-$T18,2),\"\"))","v":0},{"$f":"IFERROR(IF($I18=\"Multiple\",VLOOKUP($A18,Produits_composes!$A$1:$AA$30,25,FALSE)*$L18,IF($I18=5.5%,ROUNDUP(($K18*(1+$I18)-$K18)*$L18,2),\"\"*$L18)),\"\")","v":""},{"$f":"IFERROR(IF($I18=\"Multiple\",VLOOKUP($A18,Produits_composes!$A$1:$AA$30,26,FALSE)*$L18,IF($I18=20%,ROUNDUP(($K18*(1+$I18)-$K18)*$L18,2),\"\"*$L18)),\"\")","v":""}]
[null,{"$f":"IF(A18=\"\",\"\",\"Code EAN :\")","v":""},{"$f":"IF(ISNA(VLOOKUP($A18,Produits!$A$1:$O$357,14,FALSE)),\"\",VLOOKUP($A18,Produits!$A$1:$O$357,14,FALSE))","v":""},null,{"$f":"IF(A18=\"\",\"\",\"Commentaire :\")","v":""}]
[null,{"$f":"IF(ISNA(VLOOKUP($A20,Produits!$A$1:$O$357,2,FALSE)),\"\",VLOOKUP($A20,Produits!$A$1:$O$357,2,FALSE))","v":""},null,null,null,{"$f":"IF(ISNA(VLOOKUP($A20,Produits!$A$1:$O$357,3,FALSE)),\"\",VLOOKUP($A20,Produits!$A$1:$O$357,3,FALSE))","v":""},{"$f":"IF(ISNA(VLOOKUP($A20,Produits!$A$1:$O$357,6,FALSE)),\"\",VLOOKUP($A20,Produits!$A$1:$O$357,6,FALSE))","v":""},{"$f":"IF(ISNA(VLOOKUP($A20,Produits!$A$1:$O$357,7,FALSE)),\"\",VLOOKUP($A20,Produits!$A$1:$O$357,7,FALSE))","v":""},{"$f":"IF(ISNA(VLOOKUP($A20,Produits!$A$1:$O$357,10,FALSE)),\"\",VLOOKUP($A20,Produits!$A$1:$O$357,10,FALSE))","v":""},null,{"$f":"IF(J20=0,G20,IFERROR(ROUNDDOWN(G20-G20*J20,2),\"\"))","v":""},null,{"$f":"IFERROR(MROUND($K20*$L20,ROUNDDOWN(G20-G20*J20,2)),\"\")","v":""},{"$f":"IF(ISNA(VLOOKUP($A20,Produits!$A$1:$O$357,5,FALSE)),\"\",VLOOKUP($A20,Produits!$A$1:$O$357,5,FALSE))","v":""},{"$f":"IF(ISNA(VLOOKUP($A20,Produits!$A$1:$O$357,15,FALSE)),\"\",VLOOKUP($A20,Produits!$A$1:$O$357,15,FALSE))","v":""},{"$f":"IFERROR($L20*$O20/1000,\"\")","v":""},null,{"$f":"IFERROR(MROUND(G20*L20,ROUNDDOWN(H20/(1+I20),2)),\"\")","v":""},{"$f":"IFERROR(ROUNDUP(H20*L20,2),\"\")","v":""},{"$f":"IFERROR(IF($I20=\"Multiple\",$M20+$W20+$X20,ROUNDUP($M20*(1+$I20),2)),\"\")","v":""},{"$f":"IF(J20=\"\",0,IFERROR($G20*$L20-ROUNDUP($K20,2)*$L20,\"\"))","v":0},{"$f":"IF(J20=\"\",0,IFERROR(ROUND($H20*$L20-$T20,2),\"\"))","v":0},{"$f":"IFERROR(IF($I20=\"Multiple\",VLOOKUP($A20,Produits_composes!$A$1:$AA$30,25,FALSE)*$L20,IF($I20=5.5%,ROUNDUP(($K20*(1+$I20)-$K20)*$L20,2),\"\"*$L20)),\"\")","v":""},{"$f":"IFERROR(IF($I20=\"Multiple\",VLOOKUP($A20,Produits_composes!$A$1:$AA$30,26,FALSE)*$L20,IF($I20=20%,ROUNDUP(($K20*(1+$I20)-$K20)*$L20,2),\"\"*$L20)),\"\")","v":""}]
[null,{"$f":"IF(A20=\"\",\"\",\"Code EAN :\")","v":""},{"$f":"IF(ISNA(VLOOKUP($A20,Produits!$A$1:$O$357,14,FALSE)),\"\",VLOOKUP($A20,Produits!$A$1:$O$357,14,FALSE))","v":""},null,{"$f":"IF(A20=\"\",\"\",\"Commentaire :\")","v":""}]
[null,{"$f":"IF(ISNA(VLOOKUP($A22,Produits!$A$1:$O$357,2,FALSE)),\"\",VLOOKUP($A22,Produits!$A$1:$O$357,2,FALSE))","v":""},null,null,null,{"$f":"IF(ISNA(VLOOKUP($A22,Produits!$A$1:$O$357,3,FALSE)),\"\",VLOOKUP($A22,Produits!$A$1:$O$357,3,FALSE))","v":""},{"$f":"IF(ISNA(VLOOKUP($A22,Produits!$A$1:$O$357,6,FALSE)),\"\",VLOOKUP($A22,Produits!$A$1:$O$357,6,FALSE))","v":""},{"$f":"IF(ISNA(VLOOKUP($A22,Produits!$A$1:$O$357,7,FALSE)),\"\",VLOOKUP($A22,Produits!$A$1:$O$357,7,FALSE))","v":""},{"$f":"IF(ISNA(VLOOKUP($A22,Produits!$A$1:$O$357,10,FALSE)),\"\",VLOOKUP($A22,Produits!$A$1:$O$357,10,FALSE))","v":""},null,{"$f":"IF(J22=0,G22,IFERROR(ROUNDDOWN(G22-G22*J22,2),\"\"))","v":""},null,{"$f":"IFERROR(MROUND($K22*$L22,ROUNDDOWN(G22-G22*J22,2)),\"\")","v":""},{"$f":"IF(ISNA(VLOOKUP($A22,Produits!$A$1:$O$357,5,FALSE)),\"\",VLOOKUP($A22,Produits!$A$1:$O$357,5,FALSE))","v":""},{"$f":"IF(ISNA(VLOOKUP($A22,Produits!$A$1:$O$357,15,FALSE)),\"\",VLOOKUP($A22,Produits!$A$1:$O$357,15,FALSE))","v":""},{"$f":"IFERROR($L22*$O22/1000,\"\")","v":""},null,{"$f":"IFERROR(MROUND(G22*L22,ROUNDDOWN(H22/(1+I22),2)),\"\")","v":""},{"$f":"IFERROR(ROUNDUP(H22*L22,2),\"\")","v":""},{"$f":"IFERROR(IF($I22=\"Multiple\",$M22+$W22+$X22,ROUNDUP($M22*(1+$I22),2)),\"\")","v":""},{"$f":"IF(J22=\"\",0,IFERROR($G22*$L22-ROUNDUP($K22,2)*$L22,\"\"))","v":0},{"$f":"IF(J22=\"\",0,IFERROR(ROUND($H22*$L22-$T22,2),\"\"))","v":0},{"$f":"IFERROR(IF($I22=\"Multiple\",VLOOKUP($A22,Produits_composes!$A$1:$AA$30,25,FALSE)*$L22,IF($I22=5.5%,ROUNDUP(($K22*(1+$I22)-$K22)*$L22,2),\"\"*$L22)),\"\")","v":""},{"$f":"IFERROR(IF($I22=\"Multiple\",VLOOKUP($A22,Produits_composes!$A$1:$AA$30,26,FALSE)*$L22,IF($I22=20%,ROUNDUP(($K22*(1+$I22)-$K22)*$L22,2),\"\"*$L22)),\"\")","v":""}]
[null,{"$f":"IF(A22=\"\",\"\",\"Code EAN :\")","v":""},{"$f":"IF(ISNA(VLOOKUP($A22,Produits!$A$1:$O$357,14,FALSE)),\"\",VLOOKUP($A22,Produits!$A$1:$O$357,14,FALSE))","v":""},null,{"$f":"IF(A22=\"\",\"\",\"Commentaire :\")","v":""}]
[null,{"$f":"IF(ISNA(VLOOKUP($A24,Produits!$A$1:$O$357,2,FALSE)),\"\",VLOOKUP($A24,Produits!$A$1:$O$357,2,FALSE))","v":""},null,null,null,{"$f":"IF(ISNA(VLOOKUP($A24,Produits!$A$1:$O$357,3,FALSE)),\"\",VLOOKUP($A24,Produits!$A$1:$O$357,3,FALSE))","v":""},{"$f":"IF(ISNA(VLOOKUP($A24,Produits!$A$1:$O$357,6,FALSE)),\"\",VLOOKUP($A24,Produits!$A$1:$O$357,6,FALSE))","v":""},{"$f":"IF(ISNA(VLOOKUP($A24,Produits!$A$1:$O$357,7,FALSE)),\"\",VLOOKUP($A24,Produits!$A$1:$O$357,7,FALSE))","v":""},{"$f":"IF(ISNA(VLOOKUP($A24,Produits!$A$1:$O$357,10,FALSE)),\"\",VLOOKUP($A24,Produits!$A$1:$O$357,10,FALSE))","v":""},null,{"$f":"IF(J24=0,G24,IFERROR(ROUNDDOWN(G24-G24*J24,2),\"\"))","v":""},null,{"$f":"IFERROR(MROUND($K24*$L24,ROUNDDOWN(G24-G24*J24,2)),\"\")","v":""},{"$f":"IF(ISNA(VLOOKUP($A24,Produits!$A$1:$O$357,5,FALSE)),\"\",VLOOKUP($A24,Produits!$A$1:$O$357,5,FALSE))","v":""},{"$f":"IF(ISNA(VLOOKUP($A24,Produits!$A$1:$O$357,15,FALSE)),\"\",VLOOKUP($A24,Produits!$A$1:$O$357,15,FALSE))","v":""},{"$f":"IFERROR($L24*$O24/1000,\"\")","v":""},null,{"$f":"IFERROR(MROUND(G24*L24,ROUNDDOWN(H24/(1+I24),2)),\"\")","v":""},{"$f":"IFERROR(ROUNDUP(H24*L24,2),\"\")","v":""},{"$f":"IFERROR(IF($I24=\"Multiple\",$M24+$W24+$X24,ROUNDUP($M24*(1+$I24),2)),\"\")","v":""},{"$f":"IF(J24=\"\",0,IFERROR($G24*$L24-ROUNDUP($K24,2)*$L24,\"\"))","v":0},{"$f":"IF(J24=\"\",0,IFERROR(ROUND($H24*$L24-$T24,2),\"\"))","v":0},{"$f":"IFERROR(IF($I24=\"Multiple\",VLOOKUP($A24,Produits_composes!$A$1:$AA$30,25,FALSE)*$L24,IF($I24=5.5%,ROUNDUP(($K24*(1+$I24)-$K24)*$L24,2),\"\"*$L24)),\"\")","v":""},{"$f":"IFERROR(IF($I24=\"Multiple\",VLOOKUP($A24,Produits_composes!$A$1:$AA$30,26,FALSE)*$L24,IF($I24=20%,ROUNDUP(($K24*(1+$I24)-$K24)*$L24,2),\"\"*$L24)),\"\")","v":""}]
[null,{"$f":"IF(A24=\"\",\"\",\"Code EAN :\")","v":""},{"$f":"IF(ISNA(VLOOKUP($A24,Produits!$A$1:$O$357,14,FALSE)),\"\",VLOOKUP($A24,Produits!$A$1:$O$357,14,FALSE))","v":""},null,{"$f":"IF(A24=\"\",\"\",\"Commentaire :\")","v":""}]
[null,{"$f":"IF(ISNA(VLOOKUP($A26,Produits!$A$1:$O$357,2,FALSE)),\"\",VLOOKUP($A26,Produits!$A$1:$O$357,2,FALSE))","v":""},null,null,null,{"$f":"IF(ISNA(VLOOKUP($A26,Produits!$A$1:$O$357,3,FALSE)),\"\",VLOOKUP($A26,Produits!$A$1:$O$357,3,FALSE))","v":""},{"$f":"IF(ISNA(VLOOKUP($A26,Produits!$A$1:$O$357,6,FALSE)),\"\",VLOOKUP($A26,Produits!$A$1:$O$357,6,FALSE))","v":""},{"$f":"IF(ISNA(VLOOKUP($A26,Produits!$A$1:$O$357,7,FALSE)),\"\",VLOOKUP($A26,Produits!$A$1:$O$357,7,FALSE))","v":""},{"$f":"IF(ISNA(VLOOKUP($A26,Produits!$A$1:$O$357,10,FALSE)),\"\",VLOOKUP($A26,Produits!$A$1:$O$357,10,FALSE))","v":""},null,{"$f":"IF(J26=0,G26,IFERROR(ROUNDDOWN(G26-G26*J26,2),\"\"))","v":""},null,{"$f":"IFERROR(MROUND($K26*$L26,ROUNDDOWN(G26-G26*J26,2)),\"\")","v":""},{"$f":"IF(ISNA(VLOOKUP($A26,Produits!$A$1:$O$357,5,FALSE)),\"\",VLOOKUP($A26,Produits!$A$1:$O$357,5,FALSE))","v":""},{"$f":"IF(ISNA(VLOOKUP($A26,Produits!$A$1:$O$357,15,FALSE)),\"\",VLOOKUP($A26,Produits!$A$1:$O$357,15,FALSE))","v":""},{"$f":"IFERROR($L26*$O26/1000,\"\")","v":""},null,{"$f":"IFERROR(MROUND(G26*L26,ROUNDDOWN(H26/(1+I26),2)),\"\")","v":""},{"$f":"IFERROR(ROUNDUP(H26*L26,2),\"\")","v":""},{"$f":"IFERROR(IF($I26=\"Multiple\",$M26+$W26+$X26,ROUNDUP($M26*(1+$I26),2)),\"\")","v":""},{"$f":"IF(J26=\"\",0,IFERROR($G26*$L26-ROUNDUP($K26,2)*$L26,\"\"))","v":0},0,{"$f":"IFERROR(IF($I26=\"Multiple\",VLOOKUP($A26,Produits_composes!$A$1:$AA$30,25,FALSE)*$L26,IF($I26=5.5%,ROUNDUP(($K26*(1+$I26)-$K26)*$L26,2),\"\"*$L26)),\"\")","v":""},{"$f":"IFERROR(IF($I26=\"Multiple\",VLOOKUP($A26,Produits_composes!$A$1:$AA$30,26,FALSE)*$L26,IF($I26=20%,ROUNDUP(($K26*(1+$I26)-$K26)*$L26,2),\"\"*$L26)),\"\")","v":""}]
[null,{"$f":"IF(A26=\"\",\"\",\"Code EAN :\")","v":""},{"$f":"IF(ISNA(VLOOKUP($A26,Produits!$A$1:$O$357,14,FALSE)),\"\",VLOOKUP($A26,Produits!$A$1:$O$357,14,FALSE))","v":""},null,{"$f":"IF(A26=\"\",\"\",\"Commentaire :\")","v":""}]
[null,{"$f":"IF(ISNA(VLOOKUP($A28,Produits!$A$1:$O$357,2,FALSE)),\"\",VLOOKUP($A28,Produits!$A$1:$O$357,2,FALSE))","v":""},null,null,null,{"$f":"IF(ISNA(VLOOKUP($A28,Produits!$A$1:$O$357,3,FALSE)),\"\",VLOOKUP($A28,Produits!$A$1:$O$357,3,FALSE))","v":""},{"$f":"IF(ISNA(VLOOKUP($A28,Produits!$A$1:$O$357,6,FALSE)),\"\",VLOOKUP($A28,Produits!$A$1:$O$357,6,FALSE))","v":""},{"$f":"IF(ISNA(VLOOKUP($A28,Produits!$A$1:$O$357,7,FALSE)),\"\",VLOOKUP($A28,Produits!$A$1:$O$357,7,FALSE))","v":""},{"$f":"IF(ISNA(VLOOKUP($A28,Produits!$A$1:$O$357,10,FALSE)),\"\",VLOOKUP($A28,Produits!$A$1:$O$357,10,FALSE))","v":""},null,{"$f":"IF(J28=0,G28,IFERROR(ROUNDDOWN(G28-G28*J28,2),\"\"))","v":""},null,{"$f":"IFERROR(MROUND($K28*$L28,ROUNDDOWN(G28-G28*J28,2)),\"\")","v":""},{"$f":"IF(ISNA(VLOOKUP($A28,Produits!$A$1:$O$357,5,FALSE)),\"\",VLOOKUP($A28,Produits!$A$1:$O$357,5,FALSE))","v":""},{"$f":"IF(ISNA(VLOOKUP($A28,Produits!$A$1:$O$357,15,FALSE)),\"\",VLOOKUP($A28,Produits!$A$1:$O$357,15,FALSE))","v":""},{"$f":"IFERROR($L28*$O28/1000,\"\")","v":""},null,{"$f":"IFERROR(MROUND(G28*L28,ROUNDDOWN(H28/(1+I28),2)),\"\")","v":""},{"$f":"IFERROR(ROUNDUP(H28*L28,2),\"\")","v":""},{"$f":"IFERROR(IF($I28=\"Multiple\",$M28+$W28+$X28,ROUNDUP($M28*(1+$I28),2)),\"\")","v":""},{"$f":"IF(J28=\"\",0,IFERROR($G28*$L28-ROUNDUP($K28,2)*$L28,\"\"))","v":0},0,{"$f":"IFERROR(IF($I28=\"Multiple\",VLOOKUP($A28,Produits_composes!$A$1:$AA$30,25,FALSE)*$L28,IF($I28=5.5%,ROUNDUP(($K28*(1+$I28)-$K28)*$L28,2),\"\"*$L28)),\"\")","v":""},{"$f":"IFERROR(IF($I28=\"Multiple\",VLOOKUP($A28,Produits_composes!$A$1:$AA$30,26,FALSE)*$L28,IF($I28=20%,ROUNDUP(($K28*(1+$I28)-$K28)*$L28,2),\"\"*$L28)),\"\")","v":""}]
[null,{"$f":"IF(A28=\"\",\"\",\"Code EAN :\")","v":""},{"$f":"IF(ISNA(VLOOKUP($A28,Produits!$A$1:$O$357,14,FALSE)),\"\",VLOOKUP($A28,Produits!$A$1:$O$357,14,FALSE))","v":""},null,{"$f":"IF(A28=\"\",\"\",\"Commentaire :\")","v":""}]
[null,{"$f":"IF(ISNA(VLOOKUP($A30,Produits!$A$1:$O$357,2,FALSE)),\"\",VLOOKUP($A30,Produits!$A$1:$O$357,2,FALSE))","v":""},null,null,null,{"$f":"IF(ISNA(VLOOKUP($A30,Produits!$A$1:$O$357,3,FALSE)),\"\",VLOOKUP($A30,Produits!$A$1:$O$357,3,FALSE))","v":""},{"$f":"IF(ISNA(VLOOKUP($A30,Produits!$A$1:$O$357,6,FALSE)),\"\",VLOOKUP($A30,Produits!$A$1:$O$357,6,FALSE))","v":""},{"$f":"IF(ISNA(VLOOKUP($A30,Produits!$A$1:$O$357,7,FALSE)),\"\",VLOOKUP($A30,Produits!$A$1:$O$357,7,FALSE))","v":""},{"$f":"IF(ISNA(VLOOKUP($A30,Produits!$A$1:$O$357,10,FALSE)),\"\",VLOOKUP($A30,Produits!$A$1:$O$357,10,FALSE))","v":""},null,{"$f":"IF(J30=0,G30,IFERROR(ROUNDDOWN(G30-G30*J30,2),\"\"))","v":""},null,{"$f":"IFERROR(MROUND($K30*$L30,ROUNDDOWN(G30-G30*J30,2)),\"\")","v":""},{"$f":"IF(ISNA(VLOOKUP($A30,Produits!$A$1:$O$357,5,FALSE)),\"\",VLOOKUP($A30,Produits!$A$1:$O$357,5,FALSE))","v":""},{"$f":"IF(ISNA(VLOOKUP($A30,Produits!$A$1:$O$357,15,FALSE)),\"\",VLOOKUP($A30,Produits!$A$1:$O$357,15,FALSE))","v":""},{"$f":"IFERROR($L30*$O30/1000,\"\")","v":""},null,{"$f":"IFERROR(MROUND(G30*L30,ROUNDDOWN(H30/(1+I30),2)),\"\")","v":""},{"$f":"IFERROR(ROUNDUP(H30*L30,2),\"\")","v":""},{"$f":"IFERROR(IF($I30=\"Multiple\",$M30+$W30+$X30,ROUNDUP($M30*(1+$I30),2)),\"\")","v":""},{"$f":"IF(J30=\"\",0,IFERROR($G30*$L30-ROUNDUP($K30,2)*$L30,\"\"))","v":0},{"$f":"IF(J30=\"\",0,IFERROR(ROUND($H30*$L30-$T30,2),\"\"))","v":0},{"$f":"IFERROR(IF($I30=\"Multiple\",VLOOKUP($A30,Produits_composes!$A$1:$AA$30,25,FALSE)*$L30,IF($I30=5.5%,ROUNDUP(($K30*(1+$I30)-$K30)*$L30,2),\"\"*$L30)),\"\")","v":""},{"$f":"IFERROR(IF($I30=\"Multiple\",VLOOKUP($A30,Produits_composes!$A$1:$AA$30,26,FALSE)*$L30,IF($I30=20%,ROUNDUP(($K30*(1+$I30)-$K30)*$L30,2),\"\"*$L30)),\"\")","v":""}]
[null,{"$f":"IF(A30=\"\",\"\",\"Code EAN :\")","v":""},{"$f":"IF(ISNA(VLOOKUP($A30,Produits!$A$1:$O$357,14,FALSE)),\"\",VLOOKUP($A30,Produits!$A$1:$O$357,14,FALSE))","v":""},null,{"$f":"IF(A30=\"\",\"\",\"Commentaire :\")","v":""}]
[null,{"$f":"IF(ISNA(VLOOKUP($A32,Produits!$A$1:$O$357,2,FALSE)),\"\",VLOOKUP($A32,Produits!$A$1:$O$357,2,FALSE))","v":""},null,null,null,{"$f":"IF(ISNA(VLOOKUP($A32,Produits!$A$1:$O$357,3,FALSE)),\"\",VLOOKUP($A32,Produits!$A$1:$O$357,3,FALSE))","v":""},{"$f":"IF(ISNA(VLOOKUP($A32,Produits!$A$1:$O$357,6,FALSE)),\"\",VLOOKUP($A32,Produits!$A$1:$O$357,6,FALSE))","v":""},{"$f":"IF(ISNA(VLOOKUP($A32,Produits!$A$1:$O$357,7,FALSE)),\"\",VLOOKUP($A32,Produits!$A$1:$O$357,7,FALSE))","v":""},{"$f":"IF(ISNA(VLOOKUP($A32,Produits!$A$1:$O$357,10,FALSE)),\"\",VLOOKUP($A32,Produits!$A$1:$O$357,10,FALSE))","v":""},null,{"$f":"IF(J32=0,G32,IFERROR(ROUNDDOWN(G32-G32*J32,2),\"\"))","v":""},null,{"$f":"IFERROR(MROUND($K32*$L32,ROUNDDOWN(G32-G32*J32,2)),\"\")","v":""},{"$f":"IF(ISNA(VLOOKUP($A32,Produits!$A$1:$O$357,5,FALSE)),\"\",VLOOKUP($A32,Produits!$A$1:$O$357,5,FALSE))","v":""},{"$f":"IF(ISNA(VLOOKUP($A32,Produits!$A$1:$O$357,15,FALSE)),\"\",VLOOKUP($A32,Produits!$A$1:$O$357,15,FALSE))","v":""},{"$f":"IFERROR($L32*$O32/1000,\"\")","v":""},null,{"$f":"IFERROR(MROUND(G32*L32,ROUNDDOWN(H32/(1+I32),2)),\"\")","v":""},{"$f":"IFERROR(ROUNDUP(H32*L32,2),\"\")","v":""},{"$f":"IFERROR(IF($I32=\"Multiple\",$M32+$W32+$X32,ROUNDUP($M32*(1+$I32),2)),\"\")","v":""},{"$f":"IF(J32=\"\",0,IFERROR($G32*$L32-ROUNDUP($K32,2)*$L32,\"\"))","v":0},0,{"$f":"IFERROR(IF($I32=\"Multiple\",VLOOKUP($A32,Produits_composes!$A$1:$AA$30,25,FALSE)*$L32,IF($I32=5.5%,ROUNDUP(($K32*(1+$I32)-$K32)*$L32,2),\"\"*$L32)),\"\")","v":""},{"$f":"IFERROR(IF($I32=\"Multiple\",VLOOKUP($A32,Produits_composes!$A$1:$AA$30,26,FALSE)*$L32,IF($I32=20%,ROUNDUP(($K32*(1+$I32)-$K32)*$L32,2),\"\"*$L32)),\"\")","v":""}]
[null,{"$f":"IF(A32=\"\",\"\",\"Code EAN :\")","v":""},{"$f":"IF(ISNA(VLOOKUP($A32,Produits!$A$1:$O$357,14,FALSE)),\"\",VLOOKUP($A32,Produits!$A$1:$O$357,14,FALSE))","v":""},null,{"$f":"IF(A32=\"\",\"\",\"Commentaire :\")","v":""}]
[null,{"$f":"IF(ISNA(VLOOKUP($A34,Produits!$A$1:$O$357,2,FALSE)),\"\",VLOOKUP($A34,Produits!$A$1:$O$357,2,FALSE))","v":""},null,null,null,{"$f":"IF(ISNA(VLOOKUP($A34,Produits!$A$1:$O$357,3,FALSE)),\"\",VLOOKUP($A34,Produits!$A$1:$O$357,3,FALSE))","v":""},{"$f":"IF(ISNA(VLOOKUP($A34,Produits!$A$1:$O$357,6,FALSE)),\"\",VLOOKUP($A34,Produits!$A$1:$O$357,6,FALSE))","v":""},{"$f":"IF(ISNA(VLOOKUP($A34,Produits!$A$1:$O$357,7,FALSE)),\"\",VLOOKUP($A34,Produits!$A$1:$O$357,7,FALSE))","v":""},{"$f":"IF(ISNA(VLOOKUP($A34,Produits!$A$1:$O$357,10,FALSE)),\"\",VLOOKUP($A34,Produits!$A$1:$O$357,10,FALSE))","v":""},null,{"$f":"IF(J34=0,G34,IFERROR(ROUNDDOWN(G34-G34*J34,2),\"\"))","v":""},null,{"$f":"IFERROR(MROUND($K34*$L34,ROUNDDOWN(G34-G34*J34,2)),\"\")","v":""},{"$f":"IF(ISNA(VLOOKUP($A34,Produits!$A$1:$O$357,5,FALSE)),\"\",VLOOKUP($A34,Produits!$A$1:$O$357,5,FALSE))","v":""},{"$f":"IF(ISNA(VLOOKUP($A34,Produits!$A$1:$O$357,15,FALSE)),\"\",VLOOKUP($A34,Produits!$A$1:$O$357,15,FALSE))","v":""},{"$f":"IFERROR($L34*$O34/1000,\"\")","v":""},null,{"$f":"IFERROR(MROUND(G34*L34,ROUNDDOWN(H34/(1+I34),2)),\"\")","v":""},{"$f":"IFERROR(ROUNDUP(H34*L34,2),\"\")","v":""},{"$f":"IFERROR(IF($I34=\"Multiple\",$M34+$W34+$X34,ROUNDUP($M34*(1+$I34),2)),\"\")","v":""},{"$f":"IF(J34=\"\",0,IFERROR($G34*$L34-ROUNDUP($K34,2)*$L34,\"\"))","v":0},0,{"$f":"IFERROR(IF($I34=\"Multiple\",VLOOKUP($A34,Produits_composes!$A$1:$AA$30,25,FALSE)*$L34,IF($I34=5.5%,ROUNDUP(($K34*(1+$I34)-$K34)*$L34,2),\"\"*$L34)),\"\")","v":""},{"$f":"IFERROR(IF($I34=\"Multiple\",VLOOKUP($A34,Produits_composes!$A$1:$AA$30,26,FALSE)*$L34,IF($I34=20%,ROUNDUP(($K34*(1+$I34)-$K34)*$L34,2),\"\"*$L34)),\"\")","v":""}]
[null,{"$f":"IF(A34=\"\",\"\",\"Code EAN :\")","v":""},{"$f":"IF(ISNA(VLOOKUP($A34,Produits!$A$1:$O$357,14,FALSE)),\"\",VLOOKUP($A34,Produits!$A$1:$O$357,14,FALSE))","v":""},null,{"$f":"IF(A34=\"\",\"\",\"Commentaire :\")","v":""}]
[null,{"$f":"IF(ISNA(VLOOKUP($A36,Produits!$A$1:$O$357,2,FALSE)),\"\",VLOOKUP($A36,Produits!$A$1:$O$357,2,FALSE))","v":""},null,null,null,{"$f":"IF(ISNA(VLOOKUP($A36,Produits!$A$1:$O$357,3,FALSE)),\"\",VLOOKUP($A36,Produits!$A$1:$O$357,3,FALSE))","v":""},{"$f":"IF(ISNA(VLOOKUP($A36,Produits!$A$1:$O$357,6,FALSE)),\"\",VLOOKUP($A36,Produits!$A$1:$O$357,6,FALSE))","v":""},{"$f":"IF(ISNA(VLOOKUP($A36,Produits!$A$1:$O$357,7,FALSE)),\"\",VLOOKUP($A36,Produits!$A$1:$O$357,7,FALSE))","v":""},{"$f":"IF(ISNA(VLOOKUP($A36,Produits!$A$1:$O$357,10,FALSE)),\"\",VLOOKUP($A36,Produits!$A$1:$O$357,10,FALSE))","v":""},null,{"$f":"IF(J36=0,G36,IFERROR(ROUNDDOWN(G36-G36*J36,2),\"\"))","v":""},null,{"$f":"IFERROR(MROUND($K36*$L36,ROUNDDOWN(G36-G36*J36,2)),\"\")","v":""},{"$f":"IF(ISNA(VLOOKUP($A36,Produits!$A$1:$O$357,5,FALSE)),\"\",VLOOKUP($A36,Produits!$A$1:$O$357,5,FALSE))","v":""},{"$f":"IF(ISNA(VLOOKUP($A36,Produits!$A$1:$O$357,15,FALSE)),\"\",VLOOKUP($A36,Produits!$A$1:$O$357,15,FALSE))","v":""},{"$f":"IFERROR($L36*$O36/1000,\"\")","v":""},null,{"$f":"IFERROR(MROUND(G36*L36,ROUNDDOWN(H36/(1+I36),2)),\"\")","v":""},{"$f":"IFERROR(ROUNDUP(H36*L36,2),\"\")","v":""},{"$f":"IFERROR(IF($I36=\"Multiple\",$M36+$W36+$X36,ROUNDUP($M36*(1+$I36),2)),\"\")","v":""},{"$f":"IF(J36=\"\",0,IFERROR($G36*$L36-ROUNDUP($K36,2)*$L36,\"\"))","v":0},{"$f":"IF(J36=\"\",0,IFERROR(ROUND($H36*$L36-$T36,2),\"\"))","v":0},{"$f":"IFERROR(IF($I36=\"Multiple\",VLOOKUP($A36,Produits_composes!$A$1:$AA$30,25,FALSE)*$L36,IF($I36=5.5%,ROUNDUP(($K36*(1+$I36)-$K36)*$L36,2),\"\"*$L36)),\"\")","v":""},{"$f":"IFERROR(IF($I36=\"Multiple\",VLOOKUP($A36,Produits_composes!$A$1:$AA$30,26,FALSE)*$L36,IF($I36=20%,ROUNDUP(($K36*(1+$I36)-$K36)*$L36,2),\"\"*$L36)),\"\")","v":""}]
[null,{"$f":"IF(A36=\"\",\"\",\"Code EAN :\")","v":""},{"$f":"IF(ISNA(VLOOKUP($A36,Produits!$A$1:$O$357,14,FALSE)),\"\",VLOOKUP($A36,Produits!$A$1:$O$357,14,FALSE))","v":""},null,{"$f":"IF(A36=\"\",\"\",\"Commentaire :\")","v":""}]
[null,{"$f":"IF(ISNA(VLOOKUP($A38,Produits!$A$1:$O$357,2,FALSE)),\"\",VLOOKUP($A38,Produits!$A$1:$O$357,2,FALSE))","v":""},null,null,null,{"$f":"IF(ISNA(VLOOKUP($A38,Produits!$A$1:$O$357,3,FALSE)),\"\",VLOOKUP($A38,Produits!$A$1:$O$357,3,FALSE))","v":""},{"$f":"IF(ISNA(VLOOKUP($A38,Produits!$A$1:$O$357,6,FALSE)),\"\",VLOOKUP($A38,Produits!$A$1:$O$357,6,FALSE))","v":""},{"$f":"IF(ISNA(VLOOKUP($A38,Produits!$A$1:$O$357,7,FALSE)),\"\",VLOOKUP($A38,Produits!$A$1:$O$357,7,FALSE))","v":""},{"$f":"IF(ISNA(VLOOKUP($A38,Produits!$A$1:$O$357,10,FALSE)),\"\",VLOOKUP($A38,Produits!$A$1:$O$357,10,FALSE))","v":""},null,{"$f":"IF(J38=0,G38,IFERROR(ROUNDDOWN(G38-G38*J38,2),\"\"))","v":""},null,{"$f":"IFERROR(MROUND($K38*$L38,ROUNDDOWN(G38-G38*J38,2)),\"\")","v":""},{"$f":"IF(ISNA(VLOOKUP($A38,Produits!$A$1:$O$357,5,FALSE)),\"\",VLOOKUP($A38,Produits!$A$1:$O$357,5,FALSE))","v":""},{"$f":"IF(ISNA(VLOOKUP($A38,Produits!$A$1:$O$357,15,FALSE)),\"\",VLOOKUP($A38,Produits!$A$1:$O$357,15,FALSE))","v":""},{"$f":"IFERROR($L38*$O38/1000,\"\")","v":""},null,{"$f":"IFERROR(MROUND(G38*L38,ROUNDDOWN(H38/(1+I38),2)),\"\")","v":""},{"$f":"IFERROR(ROUNDUP(H38*L38,2),\"\")","v":""},{"$f":"IFERROR(IF($I38=\"Multiple\",$M38+$W38+$X38,ROUNDUP($M38*(1+$I38),2)),\"\")","v":""},{"$f":"IF(J38=\"\",0,IFERROR($G38*$L38-ROUNDUP($K38,2)*$L38,\"\"))","v":0},0,{"$f":"IFERROR(IF($I38=\"Multiple\",VLOOKUP($A38,Produits_composes!$A$1:$AA$30,25,FALSE)*$L38,IF($I38=5.5%,ROUNDUP(($K38*(1+$I38)-$K38)*$L38,2),\"\"*$L38)),\"\")","v":""},{"$f":"IFERROR(IF($I38=\"Multiple\",VLOOKUP($A38,Produits_composes!$A$1:$AA$30,26,FALSE)*$L38,IF($I38=20%,ROUNDUP(($K38*(1+$I38)-$K38)*$L38,2),\"\"*$L38)),\"\")","v":""}]
[null,{"$f":"IF(A38=\"\",\"\",\"Code EAN :\")","v":""},{"$f":"IF(ISNA(VLOOKUP($A38,Produits!$A$1:$O$357,14,FALSE)),\"\",VLOOKUP($A38,Produits!$A$1:$O$357,14,FALSE))","v":""},null,{"$f":"IF(A38=\"\",\"\",\"Commentaire :\")","v":""}]
[null,{"$f":"IF(ISNA(VLOOKUP($A40,Produits!$A$1:$O$357,2,FALSE)),\"\",VLOOKUP($A40,Produits!$A$1:$O$357,2,FALSE))","v":""},null,null,null,{"$f":"IF(ISNA(VLOOKUP($A40,Produits!$A$1:$O$357,3,FALSE)),\"\",VLOOKUP($A40,Produits!$A$1:$O$357,3,FALSE))","v":""},{"$f":"IF(ISNA(VLOOKUP($A40,Produits!$A$1:$O$357,6,FALSE)),\"\",VLOOKUP($A40,Produits!$A$1:$O$357,6,FALSE))","v":""},{"$f":"IF(ISNA(VLOOKUP($A40,Produits!$A$1:$O$357,7,FALSE)),\"\",VLOOKUP($A40,Produits!$A$1:$O$357,7,FALSE))","v":""},{"$f":"IF(ISNA(VLOOKUP($A40,Produits!$A$1:$O$357,10,FALSE)),\"\",VLOOKUP($A40,Produits!$A$1:$O$357,10,FALSE))","v":""},null,{"$f":"IF(J40=0,G40,IFERROR(ROUNDDOWN(G40-G40*J40,2),\"\"))","v":""},null,{"$f":"IFERROR(MROUND($K40*$L40,ROUNDDOWN(G40-G40*J40,2)),\"\")","v":""},{"$f":"IF(ISNA(VLOOKUP($A40,Produits!$A$1:$O$357,5,FALSE)),\"\",VLOOKUP($A40,Produits!$A$1:$O$357,5,FALSE))","v":""},{"$f":"IF(ISNA(VLOOKUP($A40,Produits!$A$1:$O$357,15,FALSE)),\"\",VLOOKUP($A40,Produits!$A$1:$O$357,15,FALSE))","v":""},{"$f":"IFERROR($L40*$O40/1000,\"\")","v":""},null,{"$f":"IFERROR(MROUND(G40*L40,ROUNDDOWN(H40/(1+I40),2)),\"\")","v":""},{"$f":"IFERROR(ROUNDUP(H40*L40,2),\"\")","v":""},{"$f":"IFERROR(IF($I40=\"Multiple\",$M40+$W40+$X40,ROUNDUP($M40*(1+$I40),2)),\"\")","v":""},{"$f":"IF(J40=\"\",0,IFERROR($G40*$L40-ROUNDUP($K40,2)*$L40,\"\"))","v":0},0,{"$f":"IFERROR(IF($I40=\"Multiple\",VLOOKUP($A40,Produits_composes!$A$1:$AA$30,25,FALSE)*$L40,IF($I40=5.5%,ROUNDUP(($K40*(1+$I40)-$K40)*$L40,2),\"\"*$L40)),\"\")","v":""},{"$f":"IFERROR(IF($I40=\"Multiple\",VLOOKUP($A40,Produits_composes!$A$1:$AA$30,26,FALSE)*$L40,IF($I40=20%,ROUNDUP(($K40*(1+$I40)-$K40)*$L40,2),\"\"*$L40)),\"\")","v":""}]
[null,{"$f":"IF(A40=\"\",\"\",\"Code EAN :\")","v":""},{"$f":"IF(ISNA(VLOOKUP($A40,Produits!$A$1:$O$357,14,FALSE)),\"\",VLOOKUP($A40,Produits!$A$1:$O$357,14,FALSE))","v":""},null,{"$f":"IF(A40=\"\",\"\",\"Commentaire :\")","v":""}]
[null,{"$f":"IF(ISNA(VLOOKUP($A42,Produits!$A$1:$O$357,2,FALSE)),\"\",VLOOKUP($A42,Produits!$A$1:$O$357,2,FALSE))","v":""},null,null,null,{"$f":"IF(ISNA(VLOOKUP($A42,Produits!$A$1:$O$357,3,FALSE)),\"\",VLOOKUP($A42,Produits!$A$1:$O$357,3,FALSE))","v":""},{"$f":"IF(ISNA(VLOOKUP($A42,Produits!$A$1:$O$357,6,FALSE)),\"\",VLOOKUP($A42,Produits!$A$1:$O$357,6,FALSE))","v":""},{"$f":"IF(ISNA(VLOOKUP($A42,Produits!$A$1:$O$357,7,FALSE)),\"\",VLOOKUP($A42,Produits!$A$1:$O$357,7,FALSE))","v":""},{"$f":"IF(ISNA(VLOOKUP($A42,Produits!$A$1:$O$357,10,FALSE)),\"\",VLOOKUP($A42,Produits!$A$1:$O$357,10,FALSE))","v":""},null,{"$f":"IF(J42=0,G42,IFERROR(ROUNDDOWN(G42-G42*J42,2),\"\"))","v":""},null,{"$f":"IFERROR(MROUND($K42*$L42,ROUNDDOWN(G42-G42*J42,2)),\"\")","v":""},{"$f":"IF(ISNA(VLOOKUP($A42,Produits!$A$1:$O$357,5,FALSE)),\"\",VLOOKUP($A42,Produits!$A$1:$O$357,5,FALSE))","v":""},{"$f":"IF(ISNA(VLOOKUP($A42,Produits!$A$1:$O$357,15,FALSE)),\"\",VLOOKUP($A42,Produits!$A$1:$O$357,15,FALSE))","v":""},{"$f":"IFERROR($L42*$O42/1000,\"\")","v":""},null,{"$f":"IFERROR(MROUND(G42*L42,ROUNDDOWN(H42/(1+I42),2)),\"\")","v":""},{"$f":"IFERROR(ROUNDUP(H42*L42,2),\"\")","v":""},{"$f":"IFERROR(IF($I42=\"Multiple\",$M42+$W42+$X42,ROUNDUP($M42*(1+$I42),2)),\"\")","v":""},{"$f":"IF(J42=\"\",0,IFERROR($G42*$L42-ROUNDUP($K42,2)*$L42,\"\"))","v":0},{"$f":"IF(J42=\"\",0,IFERROR(ROUND($H42*$L42-$T42,2),\"\"))","v":0},{"$f":"IFERROR(IF($I42=\"Multiple\",VLOOKUP($A42,Produits_composes!$A$1:$AA$30,25,FALSE)*$L42,IF($I42=5.5%,ROUNDUP(($K42*(1+$I42)-$K42)*$L42,2),\"\"*$L42)),\"\")","v":""},{"$f":"IFERROR(IF($I42=\"Multiple\",VLOOKUP($A42,Produits_composes!$A$1:$AA$30,26,FALSE)*$L42,IF($I42=20%,ROUNDUP(($K42*(1+$I42)-$K42)*$L42,2),\"\"*$L42)),\"\")","v":""}]
[null,{"$f":"IF(A42=\"\",\"\",\"Code EAN :\")","v":""},{"$f":"IF(ISNA(VLOOKUP($A42,Produits!$A$1:$O$357,14,FALSE)),\"\",VLOOKUP($A42,Produits!$A$1:$O$357,14,FALSE))","v":""},null,{"$f":"IF(A42=\"\",\"\",\"Commentaire :\")","v":""}]
[null,{"$f":"IF(ISNA(VLOOKUP($A44,Produits!$A$1:$O$357,2,FALSE)),\"\",VLOOKUP($A44,Produits!$A$1:$O$357,2,FALSE))","v":""},null,null,null,{"$f":"IF(ISNA(VLOOKUP($A44,Produits!$A$1:$O$357,3,FALSE)),\"\",VLOOKUP($A44,Produits!$A$1:$O$357,3,FALSE))","v":""},{"$f":"IF(ISNA(VLOOKUP($A44,Produits!$A$1:$O$357,6,FALSE)),\"\",VLOOKUP($A44,Produits!$A$1:$O$357,6,FALSE))","v":""},{"$f":"IF(ISNA(VLOOKUP($A44,Produits!$A$1:$O$357,7,FALSE)),\"\",VLOOKUP($A44,Produits!$A$1:$O$357,7,FALSE))","v":""},{"$f":"IF(ISNA(VLOOKUP($A44,Produits!$A$1:$O$357,10,FALSE)),\"\",VLOOKUP($A44,Produits!$A$1:$O$357,10,FALSE))","v":""},null,{"$f":"IF(J44=0,G44,IFERROR(ROUNDDOWN(G44-G44*J44,2),\"\"))","v":""},null,{"$f":"IFERROR(MROUND($K44*$L44,ROUNDDOWN(G44-G44*J44,2)),\"\")","v":""},{"$f":"IF(ISNA(VLOOKUP($A44,Produits!$A$1:$O$357,5,FALSE)),\"\",VLOOKUP($A44,Produits!$A$1:$O$357,5,FALSE))","v":""},{"$f":"IF(ISNA(VLOOKUP($A44,Produits!$A$1:$O$357,15,FALSE)),\"\",VLOOKUP($A44,Produits!$A$1:$O$357,15,FALSE))","v":""},{"$f":"IFERROR($L44*$O44/1000,\"\")","v":""},null,{"$f":"IFERROR(MROUND(G44*L44,ROUNDDOWN(H44/(1+I44),2)),\"\")","v":""},{"$f":"IFERROR(ROUNDUP(H44*L44,2),\"\")","v":""},{"$f":"IFERROR(IF($I44=\"Multiple\",$M44+$W44+$X44,ROUNDUP($M44*(1+$I44),2)),\"\")","v":""},{"$f":"IF(J44=\"\",0,IFERROR($G44*$L44-ROUNDUP($K44,2)*$L44,\"\"))","v":0},0,{"$f":"IFERROR(IF($I44=\"Multiple\",VLOOKUP($A44,Produits_composes!$A$1:$AA$30,25,FALSE)*$L44,IF($I44=5.5%,ROUNDUP(($K44*(1+$I44)-$K44)*$L44,2),\"\"*$L44)),\"\")","v":""},{"$f":"IFERROR(IF($I44=\"Multiple\",VLOOKUP($A44,Produits_composes!$A$1:$AA$30,26,FALSE)*$L44,IF($I44=20%,ROUNDUP(($K44*(1+$I44)-$K44)*$L44,2),\"\"*$L44)),\"\")","v":""}]
[null,{"$f":"IF(A44=\"\",\"\",\"Code EAN :\")","v":""},{"$f":"IF(ISNA(VLOOKUP($A44,Produits!$A$1:$O$357,14,FALSE)),\"\",VLOOKUP($A44,Produits!$A$1:$O$357,14,FALSE))","v":""},null,{"$f":"IF(A44=\"\",\"\",\"Commentaire :\")","v":""}]
[null,{"$f":"IF(ISNA(VLOOKUP($A46,Produits!$A$1:$O$357,2,FALSE)),\"\",VLOOKUP($A46,Produits!$A$1:$O$357,2,FALSE))","v":""},null,null,null,{"$f":"IF(ISNA(VLOOKUP($A46,Produits!$A$1:$O$357,3,FALSE)),\"\",VLOOKUP($A46,Produits!$A$1:$O$357,3,FALSE))","v":""},{"$f":"IF(ISNA(VLOOKUP($A46,Produits!$A$1:$O$357,6,FALSE)),\"\",VLOOKUP($A46,Produits!$A$1:$O$357,6,FALSE))","v":""},{"$f":"IF(ISNA(VLOOKUP($A46,Produits!$A$1:$O$357,7,FALSE)),\"\",VLOOKUP($A46,Produits!$A$1:$O$357,7,FALSE))","v":""},{"$f":"IF(ISNA(VLOOKUP($A46,Produits!$A$1:$O$357,10,FALSE)),\"\",VLOOKUP($A46,Produits!$A$1:$O$357,10,FALSE))","v":""},null,{"$f":"IF(J46=0,G46,IFERROR(ROUNDDOWN(G46-G46*J46,2),\"\"))","v":""},null,{"$f":"IFERROR(MROUND($K46*$L46,ROUNDDOWN(G46-G46*J46,2)),\"\")","v":""},{"$f":"IF(ISNA(VLOOKUP($A46,Produits!$A$1:$O$357,5,FALSE)),\"\",VLOOKUP($A46,Produits!$A$1:$O$357,5,FALSE))","v":""},{"$f":"IF(ISNA(VLOOKUP($A46,Produits!$A$1:$O$357,15,FALSE)),\"\",VLOOKUP($A46,Produits!$A$1:$O$357,15,FALSE))","v":""},{"$f":"IFERROR($L46*$O46/1000,\"\")","v":""},null,{"$f":"IFERROR(MROUND(G46*L46,ROUNDDOWN(H46/(1+I46),2)),\"\")","v":""},{"$f":"IFERROR(ROUNDUP(H46*L46,2),\"\")","v":""},{"$f":"IFERROR(IF($I46=\"Multiple\",$M46+$W46+$X46,ROUNDUP($M46*(1+$I46),2)),\"\")","v":""},{"$f":"IF(J46=\"\",0,IFERROR($G46*$L46-ROUNDUP($K46,2)*$L46,\"\"))","v":0},0,{"$f":"IFERROR(IF($I46=\"Multiple\",VLOOKUP($A46,Produits_composes!$A$1:$AA$30,25,FALSE)*$L46,IF($I46=5.5%,ROUNDUP(($K46*(1+$I46)-$K46)*$L46,2),\"\"*$L46)),\"\")","v":""},{"$f":"IFERROR(IF($I46=\"Multiple\",VLOOKUP($A46,Produits_composes!$A$1:$AA$30,26,FALSE)*$L46,IF($I46=20%,ROUNDUP(($K46*(1+$I46)-$K46)*$L46,2),\"\"*$L46)),\"\")","v":""}]
[null,{"$f":"IF(A46=\"\",\"\",\"Code EAN :\")","v":""},{"$f":"IF(ISNA(VLOOKUP($A46,Produits!$A$1:$O$357,14,FALSE)),\"\",VLOOKUP($A46,Produits!$A$1:$O$357,14,FALSE))","v":""},null,{"$f":"IF(A46=\"\",\"\",\"Commentaire :\")","v":""}]
[]
["Réf.","Autre(s) article(s)",null,null,null,null,null,null,null,"TVA","Prix TTC","Prix HT","Poids Brut (g)"]
["TVA55",null,null,null,null,null,null,null,null,5.5E-2,null,{"$f":"ROUNDDOWN(K50/(1+J50),2)","v":0},null,null,null,null,null,{"$f":"L50","v":0},{"$f":"IFERROR(K50,\"\")","v":0},{"$f":"ROUNDUP(L50*(1+J50),2)","v":0},null,null,{"$f":"ROUNDUP(($L$50*(1+$J$50)-$L$50),2)","v":0}]
["TVA20","Planche étiquettes personnalisées (100 étiquettes)",null,null,null,null,null,null,null,0.2,10,{"$f":"ROUNDDOWN(K51/(1+J51),2)","v":8.33},null,null,null,null,null,{"$f":"L51","v":8.33},{"$f":"IFERROR(K51,\"\")","v":10},{"$f":"ROUNDUP(L51*(1+J51),2)","v":10},null,null,null,{"$f":"ROUNDUP(($L$51*(1+$J$51)-$L$51),2)","v":1.67}]
[]
["Commentaire",null,null,null,null,null,null,null,"Sous-total (HT)",null,null,null,{"$f":"SUM(R14:R51)","v":416.33}]
[null,null,null,null,null,null,null,null,"(TTC)",null,null,null,{"$f":"SUM(S14:S51)","v":500},null,"Frais de livraison offerts ?",null,null,"Transporteur"]
[null,null,null,null,null,null,null,null,"Votre remise € (HT)",null,null,null,{"$f":"SUM(U14:U47)","v":0},null,"Non",null,null,"Récupération sur site"]
[null,null,null,null,null,null,null,null," (TTC)",null,null,null,{"$f":"SUM(V14:V47)","v":0}]
[null,null,null,null,null,null,null,null,"Sous-total remisé € (HT)",null,null,null,{"$f":"SUM(M14:M47,L50:L51)","v":416.33},null,"Port personnalisé: ",null,"Assujéti TVA?"]
["Modes de paiements acceptés:",null,null,"POIDS TOTAL DE LA COMMANDE AVEC EMBALLAGE",null,null,null,null,"(TTC)",null,null,null,{"$f":"SUM(T14:T51)","v":499.6},null,null,"€ HT","Non"]
[null,null,null,null,null,null,null,null,"Remise commerciale accordée sur montant HT",null,null,null,{"$f":"IF(O62=\"\",\"\",\"- \"& O62&\" \"&P62)","v":""}]
["Chèque, CB, Paypal, Virement, Espèces",null,null,{"$f":"MROUND(IF(SUM(P14:P51)<=10,SUM(P14:P51)*1.1,IF(SUM(P14:P51)>=10.01,SUM(P14:P51)*1.065)),0.05)","v":12.25},null,null,null,null,"Solde après remise commerciale (HT) ",null,null,null,{"$f":"IF(O62=\"\",\"\",IF(P62=\"%\",M57-M57*O62/100,M57-O62))","v":""},null,"Remise commerciale HT hors frais de livraison"]
[null,null,null,null,null,null,null,null,"(TTC) ",null,null,null,{"$f":"IF(O62=\"\",\"\",IF(P62=\"%\",ROUNDUP(M58-M58*O62/100,2),ROUNDUP(M58-M58*(O62/M57),2)))","v":""}]
[null,null,null,"FRAIS DE CONDITIONNEMENT ET DE LIVRAISON:",null,null,null,null,"(1) Frais de cond. et de livraisons € (HT):",null,null,null,{"$f":"IF(O55=\"Non\",IF(O58=\"\",VLOOKUP(D60,Paramètres!G3:K50,3,TRUE),O58),0)","v":29.9},null,null,"%"]
[null,null,null,{"$f":"IF(O55=\"Non\",IF(O58=\"\",VLOOKUP(D60,Paramètres!G3:K50,3,TRUE),O58),0)","v":29.9},null,{"$f":"IF(O55=\"Oui\",R55,IF(O58=\"\",VLOOKUP(D60,Paramètres!G3:K50,5,TRUE),IF(R55=\"\",\"Autre moy. de livraison\",R55)))","v":"Messagerie"},null,null,"€ (TTC)",null,null,null,{"$f":"IF(O55=\"Non\",IF(O58=\"\",VLOOKUP(D60,Paramètres!G3:K50,4,TRUE),O58*(1+Paramètres!C4)),0)","v":35.879999999999995}]
[null,null,null,null,null,null,null,null,"Total € (HT)",null,null,null,{"$f":"IF(M60=\"\",ROUNDDOWN(M57+M62,2),ROUNDDOWN(M60+M62,2))","v":446.23},null,null,null,null,{"$f":"SUM(W14:W51)","v":0},{"$f":"IFERROR(IF(P62=\"%\",ROUNDUP(R64-R64*O62/100,2),ROUNDUP(R64-R64*O62/M57,2)),0)","v":0},null,null,{"$f":"R64/$R$67","v":0}]
["Frais de livraison applicables uniquement pour les envois vers départements de France métropolitaine (hors Corse, DOM-TOM et international)",null,null,null,null,null,null,null,"Total à régler € (TTC)",null,null,null,{"$f":"IF(M61=\"\",ROUNDUP(M58+M63,2),ROUNDUP(M61+M63,2))","v":535.48},null,null,null,null,{"$f":"SUM(X14:X51)","v":83.34},{"$f":"IFERROR(IF(P62=\"%\",ROUNDUP(R65-R65*O62/100,2),ROUNDUP(R65-R65*O62/M57,2)),0)","v":83.34},{"$f":"M63-M62","v":5.9799999999999969},null,{"$f":"R65/$R$67","v":1}]
[]
[null,null,null,null,null,null,null,null,null,null,"dont TVA à 5,5%:",null,{"$f":"IFERROR((M65-M64)*V64,0)","v":0},null,null,null,null,{"$f":"R64+R65","v":83.34}]
[null,null,null,null,null,null,null,null,null,null,"dont TVA à 20%:",null,{"$f":"IFERROR((M65-M64)*V65,0)","v":89.25}]
[]
["Validation du devis:"]
["Nom:",null,null,null,"Date:",null,null,"Cachet de l'entreprise et/ou signature + mention manuscrite \"Bon pour accord\""]
["Prénom:"]
[]
[]
[]
[]
["SARL au capital de 7 622,45 € - RCS Marmande 402 145 437 - SIRET 402 145 437 00016 - TVA Intracom. FR 84 40 214 54 37\nPas d'escompte pour paiement anticipé - Indemnité forfaitaire de 40€ pour frais de recouvrement en cas de retard de paiement"]

{"sheet":"Pro Forma","index":7,"n_rows":77,"n_cols":24,"rows_kept":77,"cut":false,"hidden":true,"merged":[[0,5,1,6],[0,7,1,8],[0,9,1,10],[0,11,1,12],[3,6,3,8],[3,10,3,12],[4,5,5,5],[4,6,5,12],[6,6,6,8],[6,10,6,12],[7,0,9,4],[7,6,7,8],[7,10,7,12],[8,6,8,8],[8,10,8,12],[9,5,9,6],[9,7,9,12],[11,0,12,0],[11,1,12,4],[11,5,12,5],[11,6,12,6],[11,7,12,7],[11,8,12,8],[11,9,12,9],[11,10,12,10],[11,11,12,11],[11,21,12,21],[11,22,12,22],[11,23,12,23],[13,0,14,0],[13,1,13,4],[13,9,14,9],[13,10,14,10],[13,11,14,11],[11,12,12,12],[11,13,12,13],[11,14,12,14],[11,15,12,15],[11,17,12,17],[11,18,12,18],[13,22,14,22],[13,23,14,23],[14,2,14,3],[14,5,14,8],[13,12,14,12],[13,13,14,13],[13,14,14,14],[13,15,14,15],[13,21,14,21],[15,0,16,0],[15,1,15,4],[15,9,16,9],[15,10,16,10],[15,11,16,11],[15,12,16,12],[13,19,14,19],[11,19,12,19],[11,20,12,20],[13,20,14,20],[15,20,16,20],[13,17,14,17],[13,18,14,18],[15,21,16,21],[15,22,16,22],[15,23,16,23],[16,2,16,3],[16,5,16,8],[15,13,16,13],[15,14,16,14],[15,15,16,15],[15,17,16,17],[15,18,16,18],[15,19,16,19],[17,23,18,23],[18,2,18,3],[18,5,18,8],[17,13,18,13],[17,14,18,14],[17,15,18,15],[17,17,18,17],[17,18,18,18],[17,19,18,19],[17,1,17,4],[17,9,18,9],[17,10,18,10],[17,11,18,11],[17,12,18,12],[19,0,20,0],[19,1,19,4],[19,9,20,9],[19,10,20,10],[19,11,20,11],[19,12,20,12],[17,20,18,20],[17,21,18,21],[17,22,18,22],[17,0,18,0],[19,20,20,20],[19,21,20,21],[19,22,20,22],[19,23,20,23],[20,2,20,3],[20,5,20,8],[19,13,20,13],[19,14,20,14],[19,15,20,15],[19,17,20,17],[19,18,20,18],[19,19,20,19],[21,23,22,23],[22,2,22,3],[22,5,22,8],[21,13,22,13],[21,14,22,14],[21,15,22,15],[21,17,22,17],[21,18,22,18],[21,19,22,19],[21,1,21,4],[21,9,22,9],[21,10,22,10],[21,11,22,11],[21,12,22,12],[23,0,24,0],[23,1,23,4],[23,9,24,9],[23,10,24,10],[23,11,24,11],[23,12,24,12],[21,20,22,20],[21,21,22,21],[21,22,22,22],[21,0,22,0],[23,20,24,20],[23,21,24,21],[23,22,24,22],[23,23,24,23],[24,2,24,3],[24,5,24,8],[23,13,24,13],[23,14,24,14],[23,15,24,15],[23,17,24,17],[23,18,24,18],[23,19,24,19],[25,23,26,23],[26,2,26,3],[26,5,26,8],[25,13,26,13],[25,14,26,14],[25,15,26,15],[25,17,26,17],[25,18,26,18],[25,19,26,19],[25,1,25,4],[25,9,26,9],[25,10,26,10],[25,11,26,11],[25,12,26,12],[27,0,28,0],[27,1,27,4],[27,9,28,9],[27,10,28,10],[27,11,28,11],[27,12,28,12],[25,20,26,20],[25,21,26,21],[25,22,26,22],[25,0,26,0],[27,20,28,20],[27,21,28,21],[27,22,28,22],[27,23,28,23],[28,2,28,3],[28,5,28,8],[27,13,28,13],[27,14,28,14],[27,15,28,15],[27,17,28,17],[27,18,28,18],[27,19,28,19],[29,23,30,23],[30,2,30,3],[30,5,30,8],[29,13,30,13],[29,14,30,14],[29,15,30,15],[29,17,30,17],[29,18,30,18],[29,19,30,19],[29,1,29,4],[29,9,30,9],[29,10,30,10],[29,11,30,11],[29,12,30,12],[31,0,32,0],[31,1,31,4],[31,9,32,9],[31,10,32,10],[31,11,32,11],[31,12,32,12],[29,20,30,20],[29,21,30,21],[29,22,30,22],[29,0,30,0],[31,20,32,20],[31,21,32,21],[31,22,32,22],[31,23,32,23],[32,2,32,3],[32,5,32,8],[31,13,32,13],[31,14,32,14],[31,15,32,15],[31,17,32,17],[31,18,32,18],[31,19,32,19],[33,23,34,23],[34,2,34,3],[34,5,34,8],[33,13,34,13],[33,14,34,14],[33,15,34,15],[33,17,34,17],[33,18,34,18],[33,19,34,19],[33,1,33,4],[33,9,34,9],[33,10,34,10],[33,11,34,11],[33,12,34,12],[35,0,36,0],[35,1,35,4],[35,9,36,9],[35,10,36,10],[35,11,36,11],[35,12,36,12],[33,20,34,20],[33,21,34,21],[33,22,34,22],[33,0,34,0],[35,20,36,20],[35,21,36,21],[35,22,36,22],[35,23,36,23],[36,2,36,3],[36,5,36,8],[35,13,36,13],[35,14,36,14],[35,15,36,15],[35,17,36,17],[35,18,36,18],[35,19,36,19],[37,23,38,23],[38,2,38,3],[38,5,38,8],[37,13,38,13],[37,14,38,14],[37,15,38,15],[37,17,38,17],[37,18,38,18],[37,19,38,19],[37,1,37,4],[37,9,38,9],[37,10,38,10],[37,11,38,11],[37,12,38,12],[39,0,40,0],[39,1,39,4],[39,9,40,9],[39,10,40,10],[39,11,40,11],[39,12,40,12],[37,20,38,20],[37,21,38,21],[37,22,38,22],[37,0,38,0],[39,20,40,20],[39,21,40,21],[39,22,40,22],[39,23,40,23],[40,2,40,3],[40,5,40,8],[39,13,40,13],[39,14,40,14],[39,15,40,15],[39,17,40,17],[39,18,40,18],[39,19,40,19],[78,1,78,4],[79,1,79,4],[80,1,80,4],[81,1,81,4],[82,1,82,4],[71,1,71,3],[76,0,77,12],[68,1,68,4],[69,0,69,12],[70,1,70,3],[70,5,70,6],[70,7,70,12],[71,5,71,6],[71,7,74,12],[89,1,89,4],[90,1,90,4],[91,1,91,4],[92,1,92,4],[93,1,93,4],[94,1,94,4],[83,1,83,4],[84,1,84,4],[85,1,85,4],[86,1,86,4],[87,1,87,4],[88,1,88,4],[101,1,101,4],[102,1,102,4],[103,1,103,4],[104,1,104,4],[105,1,105,4],[106,1,106,4],[95,1,95,4],[96,1,96,4],[97,1,97,4],[98,1,98,4],[99,1,99,4],[100,1,100,4],[113,1,113,4],[114,1,114,4],[115,1,115,4],[116,1,116,4],[117,1,117,4],[118,1,118,4],[107,1,107,4],[108,1,108,4],[109,1,109,4],[110,1,110,4],[111,1,111,4],[112,1,112,4],[125,1,125,4],[126,1,126,4],[127,1,127,4],[128,1,128,4],[129,1,129,4],[130,1,130,4],[119,1,119,4],[120,1,120,4],[121,1,121,4],[122,1,122,4],[123,1,123,4],[124,1,124,4],[137,1,137,4],[138,1,138,4],[139,1,139,4],[140,1,140,4],[141,1,141,4],[142,1,142,4],[131,1,131,4],[132,1,132,4],[133,1,133,4],[134,1,134,4],[135,1,135,4],[136,1,136,4],[149,1,149,4],[150,1,150,4],[151,1,151,4],[152,1,152,4],[153,1,153,4],[154,1,154,4],[143,1,143,4],[144,1,144,4],[145,1,145,4],[146,1,146,4],[147,1,147,4],[148,1,148,4],[161,1,161,4],[162,1,162,4],[163,1,163,4],[164,1,164,4],[165,1,165,4],[166,1,166,4],[155,1,155,4],[156,1,156,4],[157,1,157,4],[158,1,158,4],[159,1,159,4],[160,1,160,4],[53,0,55,6],[57,0,58,2],[57,3,58,6],[59,0,62,2],[59,3,60,6],[59,8,59,11],[52,8,52,11],[53,8,53,11],[54,8,54,11],[55,8,55,11],[56,8,56,11],[41,0,42,0],[41,1,41,4],[41,9,42,9],[41,10,42,10],[41,11,42,11],[45,0,46,0],[45,9,46,9],[45,10,46,10],[45,11,46,11],[45,1,45,4],[41,14,42,14],[41,15,42,15],[41,17,42,17],[41,18,42,18],[41,19,42,19],[41,20,42,20],[41,21,42,21],[57,8,57,11],[58,8,58,11],[53,14,53,15],[54,14,54,15],[56,14,56,15],[41,22,42,22],[41,23,42,23],[42,2,42,3],[42,5,42,8],[43,0,44,0],[43,1,43,4],[43,9,44,9],[43,10,44,10],[43,11,44,11],[43,12,44,12],[43,13,44,13],[43,14,44,14],[43,15,44,15],[43,17,44,17],[43,18,44,18],[43,19,44,19],[43,20,44,20],[43,21,44,21],[43,22,44,22],[43,23,44,23],[44,2,44,3],[44,5,44,8],[41,12,42,12],[41,13,42,13],[45,22,46,22],[45,23,46,23],[46,2,46,3],[46,5,46,8],[48,1,48,8],[49,1,49,8],[50,1,50,8],[51,1,51,4],[52,0,52,6],[45,12,46,12],[45,13,46,13],[45,14,46,14],[45,15,46,15],[45,17,46,17],[45,18,46,18],[45,19,46,19],[45,20,46,20],[45,21,46,21],[59,14,60,15],[60,8,60,11],[61,3,61,6],[61,8,61,11],[62,3,62,4],[62,5,62,6],[62,8,62,11],[66,10,66,11],[67,10,67,11],[64,0,66,6],[64,8,64,11],[63,8,63,11]]}
[null,null,null,null,null,"Pro Forma N° ",null,null,null,"DATE: ",null,{"$f":"TODAY()","v":"2019-09-25"}]
[]
[]
[null,null,null,null,null,"Entreprise:",{"$f":"Coordonnées_client!#REF!","v":{"$error":"#REF!"}},null,null,"Tél.:",{"$f":"Coordonnées_client!#REF!","v":{"$error":"#REF!"}}]
[null,null,null,null,null,"Adresse:",{"$f":"Coordonnées_client!#REF!","v":{"$error":"#REF!"}}]
[]
[null,null,null,null,null,"CP:",{"$f":"Coordonnées_client!#REF!","v":{"$error":"#REF!"}},null,null,"Ville:",{"$f":"Coordonnées_client!#REF!","v":{"$error":"#REF!"}}]
["«Braunès» 47320 Lafitte-sur-Lot\n05 53 84 04 17 • mdpruneau.vpc@orange.fr\nwww.maisondupruneau.com",null,null,null,null,"Nom:",{"$f":"Coordonnées_client!#REF!","v":{"$error":"#REF!"}},null,null,"Prénom:",{"$f":"Coordonnées_client!#REF!","v":{"$error":"#REF!"}}]
[null,null,null,null,null,"Ligne directe:",{"$f":"Coordonnées_client!#REF!","v":{"$error":"#REF!"}},null,null,"Mail:",{"$f":"Coordonnées_client!#REF!","v":{"$error":"#REF!"}}]
[null,null,null,null,null,"Conditions de règlement:",null,{"$f":"Coordonnées_client!$D$4","v":"Comptant (1ère commande) puis 30j net (commandes suivantes)"}]
[]
["Réf.","Désignation",null,null,null,"Contenance","Prix HT","Prix TTC\nconseillé","TVA","Remise","Prix remisé\nHT","Quantité","TOTAL Ligne\nremisée HT","Colisage\npar lot de: ","Poids Brut","Total Poids\nLigne",null,"Total ligne\nHT","Total ligne\nTTC","Total ligne\nremisé TTC","Remise HT","Remise TTC","TVA 5,5%","TVA 20%"]
[]
[null,{"$f":"IF(ISNA(VLOOKUP($A14,Produits!$A$1:$O$357,2,FALSE)),\"\",VLOOKUP($A14,Produits!$A$1:$O$357,2,FALSE))","v":""},null,null,null,{"$f":"IF(ISNA(VLOOKUP($A14,Produits!$A$1:$O$357,3,FALSE)),\"\",VLOOKUP($A14,Produits!$A$1:$O$357,3,FALSE))","v":""},{"$f":"IF(ISNA(VLOOKUP($A14,Produits!$A$1:$O$357,6,FALSE)),\"\",VLOOKUP($A14,Produits!$A$1:$O$357,6,FALSE))","v":""},{"$f":"IF(ISNA(VLOOKUP($A14,Produits!$A$1:$O$357,7,FALSE)),\"\",VLOOKUP($A14,Produits!$A$1:$O$357,7,FALSE))","v":""},{"$f":"IF(ISNA(VLOOKUP($A14,Produits!$A$1:$O$357,10,FALSE)),\"\",VLOOKUP($A14,Produits!$A$1:$O$357,10,FALSE))","v":""},null,{"$f":"IF(J14=0,G14,IFERROR(ROUNDDOWN(G14-G14*J14,2),\"\"))","v":""},null,{"$f":"IFERROR($K14*$L14,\"\")","v":""},{"$f":"IF(ISNA(VLOOKUP($A14,Produits!$A$1:$O$357,5,FALSE)),\"\",VLOOKUP($A14,Produits!$A$1:$O$357,5,FALSE))","v":""},{"$f":"IF(ISNA(VLOOKUP($A14,Produits!$A$1:$O$357,15,FALSE)),\"\",VLOOKUP($A14,Produits!$A$1:$O$357,15,FALSE))","v":""},{"$f":"IFERROR($L14*$O14/1000,\"\")","v":""},null,{"$f":"IFERROR(G14*L14,\"\")","v":""},{"$f":"IFERROR(ROUNDUP(H14*L14,2),\"\")","v":""},{"$f":"IFERROR(IF($I14=\"Multiple\",$M14+$W14+$X14,ROUNDUP($M14*(1+$I14),2)),\"\")","v":""},{"$f":"IF(J14=\"\",0,IFERROR($G14*$L14-ROUNDUP($K14,2)*$L14,\"\"))","v":0},{"$f":"IF(J14=\"\",0,IFERROR(ROUND($H14*$L14-$T14,2),\"\"))","v":0},{"$f":"IFERROR(IF($I14=\"Multiple\",VLOOKUP($A14,Produits_composes!$A$1:$AA$30,25,FALSE)*$L14,IF($I14=5.5%,ROUNDUP(($K14*(1+$I14)-$K14)*$L14,2),\"\"*$L14)),\"\")","v":""},{"$f":"IFERROR(IF($I14=\"Multiple\",VLOOKUP($A14,Produits_composes!$A$1:$AA$30,26,FALSE)*$L14,IF($I14=20%,ROUNDUP(($K14*(1+$I14)-$K14)*$L14,2),\"\"*$L14)),\"\")","v":""}]
[null,{"$f":"IF(A14=\"\",\"\",\"Code EAN :\")","v":""},{"$f":"IF(ISNA(VLOOKUP($A14,Produits!$A$1:$O$357,14,FALSE)),\"\",VLOOKUP($A14,Produits!$A$1:$O$357,14,FALSE))","v":""},null,{"$f":"IF(A14=\"\",\"\",\"Commentaire :\")","v":""}]
[null,{"$f":"IF(ISNA(VLOOKUP($A16,Produits!$A$1:$O$357,2,FALSE)),\"\",VLOOKUP($A16,Produits!$A$1:$O$357,2,FALSE))","v":""},null,null,null,{"$f":"IF(ISNA(VLOOKUP($A16,Produits!$A$1:$O$357,3,FALSE)),\"\",VLOOKUP($A16,Produits!$A$1:$O$357,3,FALSE))","v":""},{"$f":"IF(ISNA(VLOOKUP($A16,Produits!$A$1:$O$357,6,FALSE)),\"\",VLOOKUP($A16,Produits!$A$1:$O$357,6,FALSE))","v":""},{"$f":"IF(ISNA(VLOOKUP($A16,Produits!$A$1:$O$357,7,FALSE)),\"\",VLOOKUP($A16,Produits!$A$1:$O$357,7,FALSE))","v":""},{"$f":"IF(ISNA(VLOOKUP($A16,Produits!$A$1:$O$357,10,FALSE)),\"\",VLOOKUP($A16,Produits!$A$1:$O$357,10,FALSE))","v":""},null,{"$f":"IFERROR(ROUNDDOWN(G16-G16*J16,2),\"\")","v":""},null,{"$f":"IFERROR($K16*$L16,\"\")","v":""},{"$f":"IF(ISNA(VLOOKUP($A16,Produits!$A$1:$O$357,5,FALSE)),\"\",VLOOKUP($A16,Produits!$A$1:$O$357,5,FALSE))","v":""},{"$f":"IF(ISNA(VLOOKUP($A16,Produits!$A$1:$O$357,15,FALSE)),\"\",VLOOKUP($A16,Produits!$A$1:$O$357,15,FALSE))","v":""},{"$f":"IFERROR($L16*$O16/1000,\"\")","v":""},null,{"$f":"IFERROR(G16*L16,\"\")","v":""},{"$f":"IFERROR(ROUNDUP(H16*L16,2),\"\")","v":""},{"$f":"IFERROR(IF($I16=\"Multiple\",$M16+$W16+$X16,ROUNDUP($M16*(1+$I16),2)),\"\")","v":""},{"$f":"IF(J16=\"\",0,IFERROR($G16*$L16-ROUNDUP($K16,2)*$L16,\"\"))","v":0},{"$f":"IF(J16=\"\",0,IFERROR(ROUND($H16*$L16-$T16,2),\"\"))","v":0},{"$f":"IFERROR(IF($I16=\"Multiple\",VLOOKUP($A16,Produits_composes!$A$1:$AA$30,25,FALSE)*$L16,IF($I16=5.5%,ROUNDUP(($K16*(1+$I16)-$K16)*$L16,2),\"\"*$L16)),\"\")","v":""},{"$f":"IFERROR(IF($I16=\"Multiple\",VLOOKUP($A16,Produits_composes!$A$1:$AA$30,26,FALSE)*$L16,IF($I16=20%,ROUNDUP(($K16*(1+$I16)-$K16)*$L16,2),\"\"*$L16)),\"\")","v":""}]
[null,{"$f":"IF(A16=\"\",\"\",\"Code EAN :\")","v":""},{"$f":"IF(ISNA(VLOOKUP($A16,Produits!$A$1:$O$357,14,FALSE)),\"\",VLOOKUP($A16,Produits!$A$1:$O$357,14,FALSE))","v":""},null,{"$f":"IF(A16=\"\",\"\",\"Commentaire :\")","v":""}]
[null,{"$f":"IF(ISNA(VLOOKUP($A18,Produits!$A$1:$O$357,2,FALSE)),\"\",VLOOKUP($A18,Produits!$A$1:$O$357,2,FALSE))","v":""},null,null,null,{"$f":"IF(ISNA(VLOOKUP($A18,Produits!$A$1:$O$357,3,FALSE)),\"\",VLOOKUP($A18,Produits!$A$1:$O$357,3,FALSE))","v":""},{"$f":"IF(ISNA(VLOOKUP($A18,Produits!$A$1:$O$357,6,FALSE)),\"\",VLOOKUP($A18,Produits!$A$1:$O$357,6,FALSE))","v":""},{"$f":"IF(ISNA(VLOOKUP($A18,Produits!$A$1:$O$357,7,FALSE)),\"\",VLOOKUP($A18,Produits!$A$1:$O$357,7,FALSE))","v":""},{"$f":"IF(ISNA(VLOOKUP($A18,Produits!$A$1:$O$357,10,FALSE)),\"\",VLOOKUP($A18,Produits!$A$1:$O$357,10,FALSE))","v":""},null,{"$f":"IFERROR(ROUNDUP(G18-G18*J18,2),\"\")","v":""},null,{"$f":"IFERROR($K18*$L18,\"\")","v":""},{"$f":"IF(ISNA(VLOOKUP($A18,Produits!$A$1:$O$357,5,FALSE)),\"\",VLOOKUP($A18,Produits!$A$1:$O$357,5,FALSE))","v":""},{"$f":"IF(ISNA(VLOOKUP($A18,Produits!$A$1:$O$357,15,FALSE)),\"\",VLOOKUP($A18,Produits!$A$1:$O$357,15,FALSE))","v":""},{"$f":"IFERROR($L18*$O18/1000,\"\")","v":""},null,{"$f":"IFERROR(G18*L18,\"\")","v":""},{"$f":"IFERROR(ROUNDUP(H18*L18,2),\"\")","v":""},{"$f":"IFERROR(IF($I18=\"Multiple\",$M18+$W18+$X18,ROUNDUP($M18*(1+$I18),2)),\"\")","v":""},{"$f":"IF(J18=\"\",0,IFERROR($G18*$L18-ROUNDUP($K18,2)*$L18,\"\"))","v":0},{"$f":"IF(J18=\"\",0,IFERROR(ROUND($H18*$L18-$T18,2),\"\"))","v":0},{"$f":"IFERROR(IF($I18=\"Multiple\",VLOOKUP($A18,Produits_composes!$A$1:$AA$30,25,FALSE)*$L18,IF($I18=5.5%,ROUNDUP(($K18*(1+$I18)-$K18)*$L18,2),\"\"*$L18)),\"\")","v":""},{"$f":"IFERROR(IF($I18=\"Multiple\",VLOOKUP($A18,Produits_composes!$A$1:$AA$30,26,FALSE)*$L18,IF($I18=20%,ROUNDUP(($K18*(1+$I18)-$K18)*$L18,2),\"\"*$L18)),\"\")","v":""}]
[null,{"$f":"IF(A18=\"\",\"\",\"Code EAN :\")","v":""},{"$f":"IF(ISNA(VLOOKUP($A18,Produits!$A$1:$O$357,14,FALSE)),\"\",VLOOKUP($A18,Produits!$A$1:$O$357,14,FALSE))","v":""},null,{"$f":"IF(A18=\"\",\"\",\"Commentaire :\")","v":""}]
[null,{"$f":"IF(ISNA(VLOOKUP($A20,Produits!$A$1:$O$357,2,FALSE)),\"\",VLOOKUP($A20,Produits!$A$1:$O$357,2,FALSE))","v":""},null,null,null,{"$f":"IF(ISNA(VLOOKUP($A20,Produits!$A$1:$O$357,3,FALSE)),\"\",VLOOKUP($A20,Produits!$A$1:$O$357,3,FALSE))","v":""},{"$f":"IF(ISNA(VLOOKUP($A20,Produits!$A$1:$O$357,6,FALSE)),\"\",VLOOKUP($A20,Produits!$A$1:$O$357,6,FALSE))","v":""},{"$f":"IF(ISNA(VLOOKUP($A20,Produits!$A$1:$O$357,7,FALSE)),\"\",VLOOKUP($A20,Produits!$A$1:$O$357,7,FALSE))","v":""},{"$f":"IF(ISNA(VLOOKUP($A20,Produits!$A$1:$O$357,10,FALSE)),\"\",VLOOKUP($A20,Produits!$A$1:$O$357,10,FALSE))","v":""},null,{"$f":"IFERROR(ROUNDUP(G20-G20*J20,2),\"\")","v":""},null,{"$f":"IFERROR($K20*$L20,\"\")","v":""},{"$f":"IF(ISNA(VLOOKUP($A20,Produits!$A$1:$O$357,5,FALSE)),\"\",VLOOKUP($A20,Produits!$A$1:$O$357,5,FALSE))","v":""},{"$f":"IF(ISNA(VLOOKUP($A20,Produits!$A$1:$O$357,15,FALSE)),\"\",VLOOKUP($A20,Produits!$A$1:$O$357,15,FALSE))","v":""},{"$f":"IFERROR($L20*$O20/1000,\"\")","v":""},null,{"$f":"IFERROR(G20*L20,\"\")","v":""},{"$f":"IFERROR(ROUNDUP(H20*L20,2),\"\")","v":""},"",{"$f":"IF(J20=\"\",0,IFERROR($G20*$L20-ROUNDUP($K20,2)*$L20,\"\"))","v":0},{"$f":"IF(J20=\"\",0,IFERROR(ROUND($H20*$L20-$T20,2),\"\"))","v":0},{"$f":"IFERROR(IF($I20=\"Multiple\",VLOOKUP($A20,Produits_composes!$A$1:$AA$30,25,FALSE)*$L20,IF($I20=5.5%,ROUNDUP(($K20*(1+$I20)-$K20)*$L20,2),\"\"*$L20)),\"\")","v":""},{"$f":"IFERROR(IF($I20=\"Multiple\",VLOOKUP($A20,Produits_composes!$A$1:$AA$30,26,FALSE)*$L20,IF($I20=20%,ROUNDUP(($K20*(1+$I20)-$K20)*$L20,2),\"\"*$L20)),\"\")","v":""}]
[null,{"$f":"IF(A20=\"\",\"\",\"Code EAN :\")","v":""},{"$f":"IF(ISNA(VLOOKUP($A20,Produits!$A$1:$O$357,14,FALSE)),\"\",VLOOKUP($A20,Produits!$A$1:$O$357,14,FALSE))","v":""},null,{"$f":"IF(A20=\"\",\"\",\"Commentaire :\")","v":""}]
[null,{"$f":"IF(ISNA(VLOOKUP($A22,Produits!$A$1:$O$357,2,FALSE)),\"\",VLOOKUP($A22,Produits!$A$1:$O$357,2,FALSE))","v":""},null,null,null,{"$f":"IF(ISNA(VLOOKUP($A22,Produits!$A$1:$O$357,3,FALSE)),\"\",VLOOKUP($A22,Produits!$A$1:$O$357,3,FALSE))","v":""},{"$f":"IF(ISNA(VLOOKUP($A22,Produits!$A$1:$O$357,6,FALSE)),\"\",VLOOKUP($A22,Produits!$A$1:$O$357,6,FALSE))","v":""},{"$f":"IF(ISNA(VLOOKUP($A22,Produits!$A$1:$O$357,7,FALSE)),\"\",VLOOKUP($A22,Produits!$A$1:$O$357,7,FALSE))","v":""},{"$f":"IF(ISNA(VLOOKUP($A22,Produits!$A$1:$O$357,10,FALSE)),\"\",VLOOKUP($A22,Produits!$A$1:$O$357,10,FALSE))","v":""},null,{"$f":"IFERROR(ROUNDUP(G22-G22*J22,2),\"\")","v":""},null,{"$f":"IFERROR($K22*$L22,\"\")","v":""},{"$f":"IF(ISNA(VLOOKUP($A22,Produits!$A$1:$O$357,5,FALSE)),\"\",VLOOKUP($A22,Produits!$A$1:$O$357,5,FALSE))","v":""},{"$f":"IF(ISNA(VLOOKUP($A22,Produits!$A$1:$O$357,15,FALSE)),\"\",VLOOKUP($A22,Produits!$A$1:$O$357,15,FALSE))","v":""},{"$f":"IFERROR($L22*$O22/1000,\"\")","v":""},null,{"$f":"IFERROR(G22*L22,\"\")","v":""},{"$f":"IFERROR(ROUNDUP(H22*L22,2),\"\")","v":""},"",{"$f":"IF(J22=\"\",0,IFERROR($G22*$L22-ROUNDUP($K22,2)*$L22,\"\"))","v":0},{"$f":"IF(J22=\"\",0,IFERROR(ROUND($H22*$L22-$T22,2),\"\"))","v":0},{"$f":"IFERROR(IF($I22=\"Multiple\",VLOOKUP($A22,Produits_composes!$A$1:$AA$30,25,FALSE)*$L22,IF($I22=5.5%,ROUNDUP(($K22*(1+$I22)-$K22)*$L22,2),\"\"*$L22)),\"\")","v":""},{"$f":"IFERROR(IF($I22=\"Multiple\",VLOOKUP($A22,Produits_composes!$A$1:$AA$30,26,FALSE)*$L22,IF($I22=20%,ROUNDUP(($K22*(1+$I22)-$K22)*$L22,2),\"\"*$L22)),\"\")","v":""}]
[null,{"$f":"IF(A22=\"\",\"\",\"Code EAN :\")","v":""},{"$f":"IF(ISNA(VLOOKUP($A22,Produits!$A$1:$O$357,14,FALSE)),\"\",VLOOKUP($A22,Produits!$A$1:$O$357,14,FALSE))","v":""},null,{"$f":"IF(A22=\"\",\"\",\"Commentaire :\")","v":""}]
[null,{"$f":"IF(ISNA(VLOOKUP($A24,Produits!$A$1:$O$357,2,FALSE)),\"\",VLOOKUP($A24,Produits!$A$1:$O$357,2,FALSE))","v":""},null,null,null,{"$f":"IF(ISNA(VLOOKUP($A24,Produits!$A$1:$O$357,3,FALSE)),\"\",VLOOKUP($A24,Produits!$A$1:$O$357,3,FALSE))","v":""},{"$f":"IF(ISNA(VLOOKUP($A24,Produits!$A$1:$O$357,6,FALSE)),\"\",VLOOKUP($A24,Produits!$A$1:$O$357,6,FALSE))","v":""},{"$f":"IF(ISNA(VLOOKUP($A24,Produits!$A$1:$O$357,7,FALSE)),\"\",VLOOKUP($A24,Produits!$A$1:$O$357,7,FALSE))","v":""},{"$f":"IF(ISNA(VLOOKUP($A24,Produits!$A$1:$O$357,10,FALSE)),\"\",VLOOKUP($A24,Produits!$A$1:$O$357,10,FALSE))","v":""},null,{"$f":"IFERROR(ROUNDUP(G24-G24*J24,2),\"\")","v":""},null,{"$f":"IFERROR($K24*$L24,\"\")","v":""},{"$f":"IF(ISNA(VLOOKUP($A24,Produits!$A$1:$O$357,5,FALSE)),\"\",VLOOKUP($A24,Produits!$A$1:$O$357,5,FALSE))","v":""},{"$f":"IF(ISNA(VLOOKUP($A24,Produits!$A$1:$O$357,15,FALSE)),\"\",VLOOKUP($A24,Produits!$A$1:$O$357,15,FALSE))","v":""},{"$f":"IFERROR($L24*$O24/1000,\"\")","v":""},null,{"$f":"IFERROR(G24*L24,\"\")","v":""},{"$f":"IFERROR(ROUNDUP(H24*L24,2),\"\")","v":""},"",{"$f":"IF(J24=\"\",0,IFERROR($G24*$L24-ROUNDUP($K24,2)*$L24,\"\"))","v":0},{"$f":"IF(J24=\"\",0,IFERROR(ROUND($H24*$L24-$T24,2),\"\"))","v":0},{"$f":"IFERROR(IF($I24=\"Multiple\",VLOOKUP($A24,Produits_composes!$A$1:$AA$30,25,FALSE)*$L24,IF($I24=5.5%,ROUNDUP(($K24*(1+$I24)-$K24)*$L24,2),\"\"*$L24)),\"\")","v":""},{"$f":"IFERROR(IF($I24=\"Multiple\",VLOOKUP($A24,Produits_composes!$A$1:$AA$30,26,FALSE)*$L24,IF($I24=20%,ROUNDUP(($K24*(1+$I24)-$K24)*$L24,2),\"\"*$L24)),\"\")","v":""}]
[null,{"$f":"IF(A24=\"\",\"\",\"Code EAN :\")","v":""},{"$f":"IF(ISNA(VLOOKUP($A24,Produits!$A$1:$O$357,14,FALSE)),\"\",VLOOKUP($A24,Produits!$A$1:$O$357,14,FALSE))","v":""},null,{"$f":"IF(A24=\"\",\"\",\"Commentaire :\")","v":""}]
[null,{"$f":"IF(ISNA(VLOOKUP($A26,Produits!$A$1:$O$357,2,FALSE)),\"\",VLOOKUP($A26,Produits!$A$1:$O$357,2,FALSE))","v":""},null,null,null,{"$f":"IF(ISNA(VLOOKUP($A26,Produits!$A$1:$O$357,3,FALSE)),\"\",VLOOKUP($A26,Produits!$A$1:$O$357,3,FALSE))","v":""},{"$f":"IF(ISNA(VLOOKUP($A26,Produits!$A$1:$O$357,6,FALSE)),\"\",VLOOKUP($A26,Produits!$A$1:$O$357,6,FALSE))","v":""},{"$f":"IF(ISNA(VLOOKUP($A26,Produits!$A$1:$O$357,7,FALSE)),\"\",VLOOKUP($A26,Produits!$A$1:$O$357,7,FALSE))","v":""},{"$f":"IF(ISNA(VLOOKUP($A26,Produits!$A$1:$O$357,10,FALSE)),\"\",VLOOKUP($A26,Produits!$A$1:$O$357,10,FALSE))","v":""},null,{"$f":"IFERROR(G26-G26*J26,\"\")","v":""},null,{"$f":"IFERROR($K26*$L26,\"\")","v":""},{"$f":"IF(ISNA(VLOOKUP($A26,Produits!$A$1:$O$357,5,FALSE)),\"\",VLOOKUP($A26,Produits!$A$1:$O$357,5,FALSE))","v":""},{"$f":"IF(ISNA(VLOOKUP($A26,Produits!$A$1:$O$357,15,FALSE)),\"\",VLOOKUP($A26,Produits!$A$1:$O$357,15,FALSE))","v":""},{"$f":"IFERROR($L26*$O26/1000,\"\")","v":""},null,{"$f":"IFERROR(G26*L26,\"\")","v":""},{"$f":"IFERROR(ROUNDUP(H26*L26,2),\"\")","v":""},{"$f":"IFERROR(IF($I26=\"Multiple\",$M26+$W26+$X26,ROUNDUP($M26*(1+$I26),2)),\"\")","v":""},{"$f":"IF(J26=\"\",0,IFERROR($G26*$L26-ROUNDUP($K26,2)*$L26,\"\"))","v":0},0,{"$f":"IFERROR(IF($I26=\"Multiple\",VLOOKUP($A26,Produits_composes!$A$1:$AA$30,25,FALSE)*$L26,IF($I26=5.5%,ROUNDUP(($K26*(1+$I26)-$K26)*$L26,2),\"\"*$L26)),\"\")","v":""},{"$f":"IFERROR(IF($I26=\"Multiple\",VLOOKUP($A26,Produits_composes!$A$1:$AA$30,26,FALSE)*$L26,IF($I26=20%,ROUNDUP(($K26*(1+$I26)-$K26)*$L26,2),\"\"*$L26)),\"\")","v":""}]
[null,{"$f":"IF(A26=\"\",\"\",\"Code EAN :\")","v":""},{"$f":"IF(ISNA(VLOOKUP($A26,Produits!$A$1:$O$357,14,FALSE)),\"\",VLOOKUP($A26,Produits!$A$1:$O$357,14,FALSE))","v":""},null,{"$f":"IF(A26=\"\",\"\",\"Commentaire :\")","v":""}]
[null,{"$f":"IF(ISNA(VLOOKUP($A28,Produits!$A$1:$O$357,2,FALSE)),\"\",VLOOKUP($A28,Produits!$A$1:$O$357,2,FALSE))","v":""},null,null,null,{"$f":"IF(ISNA(VLOOKUP($A28,Produits!$A$1:$O$357,3,FALSE)),\"\",VLOOKUP($A28,Produits!$A$1:$O$357,3,FALSE))","v":""},{"$f":"IF(ISNA(VLOOKUP($A28,Produits!$A$1:$O$357,6,FALSE)),\"\",VLOOKUP($A28,Produits!$A$1:$O$357,6,FALSE))","v":""},{"$f":"IF(ISNA(VLOOKUP($A28,Produits!$A$1:$O$357,7,FALSE)),\"\",VLOOKUP($A28,Produits!$A$1:$O$357,7,FALSE))","v":""},{"$f":"IF(ISNA(VLOOKUP($A28,Produits!$A$1:$O$357,10,FALSE)),\"\",VLOOKUP($A28,Produits!$A$1:$O$357,10,FALSE))","v":""},null,{"$f":"IFERROR(G28-G28*J28,\"\")","v":""},null,{"$f":"IFERROR($K28*$L28,\"\")","v":""},{"$f":"IF(ISNA(VLOOKUP($A28,Produits!$A$1:$O$357,5,FALSE)),\"\",VLOOKUP($A28,Produits!$A$1:$O$357,5,FALSE))","v":""},{"$f":"IF(ISNA(VLOOKUP($A28,Produits!$A$1:$O$357,15,FALSE)),\"\",VLOOKUP($A28,Produits!$A$1:$O$357,15,FALSE))","v":""},{"$f":"IFERROR($L28*$O28/1000,\"\")","v":""},null,{"$f":"IFERROR(G28*L28,\"\")","v":""},{"$f":"IFERROR(ROUNDUP(H28*L28,2),\"\")","v":""},{"$f":"IFERROR(IF($I28=\"Multiple\",$M28+$W28+$X28,ROUNDUP($M28*(1+$I28),2)),\"\")","v":""},{"$f":"IF(J28=\"\",0,IFERROR($G28*$L28-ROUNDUP($K28,2)*$L28,\"\"))","v":0},0,{"$f":"IFERROR(IF($I28=\"Multiple\",VLOOKUP($A28,Produits_composes!$A$1:$AA$30,25,FALSE)*$L28,IF($I28=5.5%,ROUNDUP(($K28*(1+$I28)-$K28)*$L28,2),\"\"*$L28)),\"\")","v":""},{"$f":"IFERROR(IF($I28=\"Multiple\",VLOOKUP($A28,Produits_composes!$A$1:$AA$30,26,FALSE)*$L28,IF($I28=20%,ROUNDUP(($K28*(1+$I28)-$K28)*$L28,2),\"\"*$L28)),\"\")","v":""}]
[null,{"$f":"IF(A28=\"\",\"\",\"Code EAN :\")","v":""},{"$f":"IF(ISNA(VLOOKUP($A28,Produits!$A$1:$O$357,14,FALSE)),\"\",VLOOKUP($A28,Produits!$A$1:$O$357,14,FALSE))","v":""},null,{"$f":"IF(A28=\"\",\"\",\"Commentaire :\")","v":""}]
[null,{"$f":"IF(ISNA(VLOOKUP($A30,Produits!$A$1:$O$357,2,FALSE)),\"\",VLOOKUP($A30,Produits!$A$1:$O$357,2,FALSE))","v":""},null,null,null,{"$f":"IF(ISNA(VLOOKUP($A30,Produits!$A$1:$O$357,3,FALSE)),\"\",VLOOKUP($A30,Produits!$A$1:$O$357,3,FALSE))","v":""},{"$f":"IF(ISNA(VLOOKUP($A30,Produits!$A$1:$O$357,6,FALSE)),\"\",VLOOKUP($A30,Produits!$A$1:$O$357,6,FALSE))","v":""},{"$f":"IF(ISNA(VLOOKUP($A30,Produits!$A$1:$O$357,7,FALSE)),\"\",VLOOKUP($A30,Produits!$A$1:$O$357,7,FALSE))","v":""},{"$f":"IF(ISNA(VLOOKUP($A30,Produits!$A$1:$O$357,10,FALSE)),\"\",VLOOKUP($A30,Produits!$A$1:$O$357,10,FALSE))","v":""},null,{"$f":"IFERROR(G30-G30*J30,\"\")","v":""},null,{"$f":"IFERROR($K30*$L30,\"\")","v":""},{"$f":"IF(ISNA(VLOOKUP($A30,Produits!$A$1:$O$357,5,FALSE)),\"\",VLOOKUP($A30,Produits!$A$1:$O$357,5,FALSE))","v":""},{"$f":"IF(ISNA(VLOOKUP($A30,Produits!$A$1:$O$357,15,FALSE)),\"\",VLOOKUP($A30,Produits!$A$1:$O$357,15,FALSE))","v":""},{"$f":"IFERROR($L30*$O30/1000,\"\")","v":""},null,{"$f":"IFERROR(G30*L30,\"\")","v":""},{"$f":"IFERROR(ROUNDUP(H30*L30,2),\"\")","v":""},{"$f":"IFERROR(IF($I30=\"Multiple\",$M30+$W30+$X30,ROUNDUP($M30*(1+$I30),2)),\"\")","v":""},{"$f":"IF(J30=\"\",0,IFERROR($G30*$L30-ROUNDUP($K30,2)*$L30,\"\"))","v":0},{"$f":"IF(J30=\"\",0,IFERROR(ROUND($H30*$L30-$T30,2),\"\"))","v":0},{"$f":"IFERROR(IF($I30=\"Multiple\",VLOOKUP($A30,Produits_composes!$A$1:$AA$30,25,FALSE)*$L30,IF($I30=5.5%,ROUNDUP(($K30*(1+$I30)-$K30)*$L30,2),\"\"*$L30)),\"\")","v":""},{"$f":"IFERROR(IF($I30=\"Multiple\",VLOOKUP($A30,Produits_composes!$A$1:$AA$30,26,FALSE)*$L30,IF($I30=20%,ROUNDUP(($K30*(1+$I30)-$K30)*$L30,2),\"\"*$L30)),\"\")","v":""}]
[null,{"$f":"IF(A30=\"\",\"\",\"Code EAN :\")","v":""},{"$f":"IF(ISNA(VLOOKUP($A30,Produits!$A$1:$O$357,14,FALSE)),\"\",VLOOKUP($A30,Produits!$A$1:$O$357,14,FALSE))","v":""},null,{"$f":"IF(A30=\"\",\"\",\"Commentaire :\")","v":""}]
[null,{"$f":"IF(ISNA(VLOOKUP($A32,Produits!$A$1:$O$357,2,FALSE)),\"\",VLOOKUP($A32,Produits!$A$1:$O$357,2,FALSE))","v":""},null,null,null,{"$f":"IF(ISNA(VLOOKUP($A32,Produits!$A$1:$O$357,3,FALSE)),\"\",VLOOKUP($A32,Produits!$A$1:$O$357,3,FALSE))","v":""},{"$f":"IF(ISNA(VLOOKUP($A32,Produits!$A$1:$O$357,6,FALSE)),\"\",VLOOKUP($A32,Produits!$A$1:$O$357,6,FALSE))","v":""},{"$f":"IF(ISNA(VLOOKUP($A32,Produits!$A$1:$O$357,7,FALSE)),\"\",VLOOKUP($A32,Produits!$A$1:$O$357,7,FALSE))","v":""},{"$f":"IF(ISNA(VLOOKUP($A32,Produits!$A$1:$O$357,10,FALSE)),\"\",VLOOKUP($A32,Produits!$A$1:$O$357,10,FALSE))","v":""},null,{"$f":"IFERROR(G32-G32*J32,\"\")","v":""},null,{"$f":"IFERROR($K32*$L32,\"\")","v":""},{"$f":"IF(ISNA(VLOOKUP($A32,Produits!$A$1:$O$357,5,FALSE)),\"\",VLOOKUP($A32,Produits!$A$1:$O$357,5,FALSE))","v":""},{"$f":"IF(ISNA(VLOOKUP($A32,Produits!$A$1:$O$357,15,FALSE)),\"\",VLOOKUP($A32,Produits!$A$1:$O$357,15,FALSE))","v":""},{"$f":"IFERROR($L32*$O32/1000,\"\")","v":""},null,{"$f":"IFERROR(G32*L32,\"\")","v":""},{"$f":"IFERROR(ROUNDUP(H32*L32,2),\"\")","v":""},{"$f":"IFERROR(IF($I32=\"Multiple\",$M32+$W32+$X32,ROUNDUP($M32*(1+$I32),2)),\"\")","v":""},{"$f":"IF(J32=\"\",0,IFERROR($G32*$L32-ROUNDUP($K32,2)*$L32,\"\"))","v":0},0,{"$f":"IFERROR(IF($I32=\"Multiple\",VLOOKUP($A32,Produits_composes!$A$1:$AA$30,25,FALSE)*$L32,IF($I32=5.5%,ROUNDUP(($K32*(1+$I32)-$K32)*$L32,2),\"\"*$L32)),\"\")","v":""},{"$f":"IFERROR(IF($I32=\"Multiple\",VLOOKUP($A32,Produits_composes!$A$1:$AA$30,26,FALSE)*$L32,IF($I32=20%,ROUNDUP(($K32*(1+$I32)-$K32)*$L32,2),\"\"*$L32)),\"\")","v":""}]
[null,{"$f":"IF(A32=\"\",\"\",\"Code EAN :\")","v":""},{"$f":"IF(ISNA(VLOOKUP($A32,Produits!$A$1:$O$357,14,FALSE)),\"\",VLOOKUP($A32,Produits!$A$1:$O$357,14,FALSE))","v":""},null,{"$f":"IF(A32=\"\",\"\",\"Commentaire :\")","v":""}]
[null,{"$f":"IF(ISNA(VLOOKUP($A34,Produits!$A$1:$O$357,2,FALSE)),\"\",VLOOKUP($A34,Produits!$A$1:$O$357,2,FALSE))","v":""},null,null,null,{"$f":"IF(ISNA(VLOOKUP($A34,Produits!$A$1:$O$357,3,FALSE)),\"\",VLOOKUP($A34,Produits!$A$1:$O$357,3,FALSE))","v":""},{"$f":"IF(ISNA(VLOOKUP($A34,Produits!$A$1:$O$357,6,FALSE)),\"\",VLOOKUP($A34,Produits!$A$1:$O$357,6,FALSE))","v":""},{"$f":"IF(ISNA(VLOOKUP($A34,Produits!$A$1:$O$357,7,FALSE)),\"\",VLOOKUP($A34,Produits!$A$1:$O$357,7,FALSE))","v":""},{"$f":"IF(ISNA(VLOOKUP($A34,Produits!$A$1:$O$357,10,FALSE)),\"\",VLOOKUP($A34,Produits!$A$1:$O$357,10,FALSE))","v":""},null,{"$f":"IFERROR(G34-G34*J34,\"\")","v":""},null,{"$f":"IFERROR($K34*$L34,\"\")","v":""},{"$f":"IF(ISNA(VLOOKUP($A34,Produits!$A$1:$O$357,5,FALSE)),\"\",VLOOKUP($A34,Produits!$A$1:$O$357,5,FALSE))","v":""},{"$f":"IF(ISNA(VLOOKUP($A34,Produits!$A$1:$O$357,15,FALSE)),\"\",VLOOKUP($A34,Produits!$A$1:$O$357,15,FALSE))","v":""},{"$f":"IFERROR($L34*$O34/1000,\"\")","v":""},null,{"$f":"IFERROR(G34*L34,\"\")","v":""},{"$f":"IFERROR(ROUNDUP(H34*L34,2),\"\")","v":""},{"$f":"IFERROR(IF($I34=\"Multiple\",$M34+$W34+$X34,ROUNDUP($M34*(1+$I34),2)),\"\")","v":""},{"$f":"IF(J34=\"\",0,IFERROR($G34*$L34-ROUNDUP($K34,2)*$L34,\"\"))","v":0},0,{"$f":"IFERROR(IF($I34=\"Multiple\",VLOOKUP($A34,Produits_composes!$A$1:$AA$30,25,FALSE)*$L34,IF($I34=5.5%,ROUNDUP(($K34*(1+$I34)-$K34)*$L34,2),\"\"*$L34)),\"\")","v":""},{"$f":"IFERROR(IF($I34=\"Multiple\",VLOOKUP($A34,Produits_composes!$A$1:$AA$30,26,FALSE)*$L34,IF($I34=20%,ROUNDUP(($K34*(1+$I34)-$K34)*$L34,2),\"\"*$L34)),\"\")","v":""}]
[null,{"$f":"IF(A34=\"\",\"\",\"Code EAN :\")","v":""},{"$f":"IF(ISNA(VLOOKUP($A34,Produits!$A$1:$O$357,14,FALSE)),\"\",VLOOKUP($A34,Produits!$A$1:$O$357,14,FALSE))","v":""},null,{"$f":"IF(A34=\"\",\"\",\"Commentaire :\")","v":""}]
[null,{"$f":"IF(ISNA(VLOOKUP($A36,Produits!$A$1:$O$357,2,FALSE)),\"\",VLOOKUP($A36,Produits!$A$1:$O$357,2,FALSE))","v":""},null,null,null,{"$f":"IF(ISNA(VLOOKUP($A36,Produits!$A$1:$O$357,3,FALSE)),\"\",VLOOKUP($A36,Produits!$A$1:$O$357,3,FALSE))","v":""},{"$f":"IF(ISNA(VLOOKUP($A36,Produits!$A$1:$O$357,6,FALSE)),\"\",VLOOKUP($A36,Produits!$A$1:$O$357,6,FALSE))","v":""},{"$f":"IF(ISNA(VLOOKUP($A36,Produits!$A$1:$O$357,7,FALSE)),\"\",VLOOKUP($A36,Produits!$A$1:$O$357,7,FALSE))","v":""},{"$f":"IF(ISNA(VLOOKUP($A36,Produits!$A$1:$O$357,10,FALSE)),\"\",VLOOKUP($A36,Produits!$A$1:$O$357,10,FALSE))","v":""},null,{"$f":"IFERROR(G36-G36*J36,\"\")","v":""},null,{"$f":"IFERROR($K36*$L36,\"\")","v":""},{"$f":"IF(ISNA(VLOOKUP($A36,Produits!$A$1:$O$357,5,FALSE)),\"\",VLOOKUP($A36,Produits!$A$1:$O$357,5,FALSE))","v":""},{"$f":"IF(ISNA(VLOOKUP($A36,Produits!$A$1:$O$357,15,FALSE)),\"\",VLOOKUP($A36,Produits!$A$1:$O$357,15,FALSE))","v":""},{"$f":"IFERROR($L36*$O36/1000,\"\")","v":""},null,{"$f":"IFERROR(G36*L36,\"\")","v":""},{"$f":"IFERROR(ROUNDUP(H36*L36,2),\"\")","v":""},{"$f":"IFERROR(IF($I36=\"Multiple\",$M36+$W36+$X36,ROUNDUP($M36*(1+$I36),2)),\"\")","v":""},{"$f":"IF(J36=\"\",0,IFERROR($G36*$L36-ROUNDUP($K36,2)*$L36,\"\"))","v":0},{"$f":"IF(J36=\"\",0,IFERROR(ROUND($H36*$L36-$T36,2),\"\"))","v":0},{"$f":"IFERROR(IF($I36=\"Multiple\",VLOOKUP($A36,Produits_composes!$A$1:$AA$30,25,FALSE)*$L36,IF($I36=5.5%,ROUNDUP(($K36*(1+$I36)-$K36)*$L36,2),\"\"*$L36)),\"\")","v":""},{"$f":"IFERROR(IF($I36=\"Multiple\",VLOOKUP($A36,Produits_composes!$A$1:$AA$30,26,FALSE)*$L36,IF($I36=20%,ROUNDUP(($K36*(1+$I36)-$K36)*$L36,2),\"\"*$L36)),\"\")","v":""}]
[null,{"$f":"IF(A36=\"\",\"\",\"Code EAN :\")","v":""},{"$f":"IF(ISNA(VLOOKUP($A36,Produits!$A$1:$O$357,14,FALSE)),\"\",VLOOKUP($A36,Produits!$A$1:$O$357,14,FALSE))","v":""},null,{"$f":"IF(A36=\"\",\"\",\"Commentaire :\")","v":""}]
[null,{"$f":"IF(ISNA(VLOOKUP($A38,Produits!$A$1:$O$357,2,FALSE)),\"\",VLOOKUP($A38,Produits!$A$1:$O$357,2,FALSE))","v":""},null,null,null,{"$f":"IF(ISNA(VLOOKUP($A38,Produits!$A$1:$O$357,3,FALSE)),\"\",VLOOKUP($A38,Produits!$A$1:$O$357,3,FALSE))","v":""},{"$f":"IF(ISNA(VLOOKUP($A38,Produits!$A$1:$O$357,6,FALSE)),\"\",VLOOKUP($A38,Produits!$A$1:$O$357,6,FALSE))","v":""},{"$f":"IF(ISNA(VLOOKUP($A38,Produits!$A$1:$O$357,7,FALSE)),\"\",VLOOKUP($A38,Produits!$A$1:$O$357,7,FALSE))","v":""},{"$f":"IF(ISNA(VLOOKUP($A38,Produits!$A$1:$O$357,10,FALSE)),\"\",VLOOKUP($A38,Produits!$A$1:$O$357,10,FALSE))","v":""},null,{"$f":"IFERROR(G38-G38*J38,\"\")","v":""},null,{"$f":"IFERROR($K38*$L38,\"\")","v":""},{"$f":"IF(ISNA(VLOOKUP($A38,Produits!$A$1:$O$357,5,FALSE)),\"\",VLOOKUP($A38,Produits!$A$1:$O$357,5,FALSE))","v":""},{"$f":"IF(ISNA(VLOOKUP($A38,Produits!$A$1:$O$357,15,FALSE)),\"\",VLOOKUP($A38,Produits!$A$1:$O$357,15,FALSE))","v":""},{"$f":"IFERROR($L38*$O38/1000,\"\")","v":""},null,{"$f":"IFERROR(G38*L38,\"\")","v":""},{"$f":"IFERROR(ROUNDUP(H38*L38,2),\"\")","v":""},{"$f":"IFERROR(IF($I38=\"Multiple\",$M38+$W38+$X38,ROUNDUP($M38*(1+$I38),2)),\"\")","v":""},{"$f":"IF(J38=\"\",0,IFERROR($G38*$L38-ROUNDUP($K38,2)*$L38,\"\"))","v":0},0,{"$f":"IFERROR(IF($I38=\"Multiple\",VLOOKUP($A38,Produits_composes!$A$1:$AA$30,25,FALSE)*$L38,IF($I38=5.5%,ROUNDUP(($K38*(1+$I38)-$K38)*$L38,2),\"\"*$L38)),\"\")","v":""},{"$f":"IFERROR(IF($I38=\"Multiple\",VLOOKUP($A38,Produits_composes!$A$1:$AA$30,26,FALSE)*$L38,IF($I38=20%,ROUNDUP(($K38*(1+$I38)-$K38)*$L38,2),\"\"*$L38)),\"\")","v":""}]
[null,{"$f":"IF(A38=\"\",\"\",\"Code EAN :\")","v":""},{"$f":"IF(ISNA(VLOOKUP($A38,Produits!$A$1:$O$357,14,FALSE)),\"\",VLOOKUP($A38,Produits!$A$1:$O$357,14,FALSE))","v":""},null,{"$f":"IF(A38=\"\",\"\",\"Commentaire :\")","v":""}]
[null,{"$f":"IF(ISNA(VLOOKUP($A40,Produits!$A$1:$O$357,2,FALSE)),\"\",VLOOKUP($A40,Produits!$A$1:$O$357,2,FALSE))","v":""},null,null,null,{"$f":"IF(ISNA(VLOOKUP($A40,Produits!$A$1:$O$357,3,FALSE)),\"\",VLOOKUP($A40,Produits!$A$1:$O$357,3,FALSE))","v":""},{"$f":"IF(ISNA(VLOOKUP($A40,Produits!$A$1:$O$357,6,FALSE)),\"\",VLOOKUP($A40,Produits!$A$1:$O$357,6,FALSE))","v":""},{"$f":"IF(ISNA(VLOOKUP($A40,Produits!$A$1:$O$357,7,FALSE)),\"\",VLOOKUP($A40,Produits!$A$1:$O$357,7,FALSE))","v":""},{"$f":"IF(ISNA(VLOOKUP($A40,Produits!$A$1:$O$357,10,FALSE)),\"\",VLOOKUP($A40,Produits!$A$1:$O$357,10,FALSE))","v":""},null,{"$f":"IFERROR(G40-G40*J40,\"\")","v":""},null,{"$f":"IFERROR($K40*$L40,\"\")","v":""},{"$f":"IF(ISNA(VLOOKUP($A40,Produits!$A$1:$O$357,5,FALSE)),\"\",VLOOKUP($A40,Produits!$A$1:$O$357,5,FALSE))","v":""},{"$f":"IF(ISNA(VLOOKUP($A40,Produits!$A$1:$O$357,15,FALSE)),\"\",VLOOKUP($A40,Produits!$A$1:$O$357,15,FALSE))","v":""},{"$f":"IFERROR($L40*$O40/1000,\"\")","v":""},null,{"$f":"IFERROR(G40*L40,\"\")","v":""},{"$f":"IFERROR(ROUNDUP(H40*L40,2),\"\")","v":""},{"$f":"IFERROR(IF($I40=\"Multiple\",$M40+$W40+$X40,ROUNDUP($M40*(1+$I40),2)),\"\")","v":""},{"$f":"IF(J40=\"\",0,IFERROR($G40*$L40-ROUNDUP($K40,2)*$L40,\"\"))","v":0},0,{"$f":"IFERROR(IF($I40=\"Multiple\",VLOOKUP($A40,Produits_composes!$A$1:$AA$30,25,FALSE)*$L40,IF($I40=5.5%,ROUNDUP(($K40*(1+$I40)-$K40)*$L40,2),\"\"*$L40)),\"\")","v":""},{"$f":"IFERROR(IF($I40=\"Multiple\",VLOOKUP($A40,Produits_composes!$A$1:$AA$30,26,FALSE)*$L40,IF($I40=20%,ROUNDUP(($K40*(1+$I40)-$K40)*$L40,2),\"\"*$L40)),\"\")","v":""}]
[null,{"$f":"IF(A40=\"\",\"\",\"Code EAN :\")","v":""},{"$f":"IF(ISNA(VLOOKUP($A40,Produits!$A$1:$O$357,14,FALSE)),\"\",VLOOKUP($A40,Produits!$A$1:$O$357,14,FALSE))","v":""},null,{"$f":"IF(A40=\"\",\"\",\"Commentaire :\")","v":""}]
[null,{"$f":"IF(ISNA(VLOOKUP($A42,Produits!$A$1:$O$357,2,FALSE)),\"\",VLOOKUP($A42,Produits!$A$1:$O$357,2,FALSE))","v":""},null,null,null,{"$f":"IF(ISNA(VLOOKUP($A42,Produits!$A$1:$O$357,3,FALSE)),\"\",VLOOKUP($A42,Produits!$A$1:$O$357,3,FALSE))","v":""},{"$f":"IF(ISNA(VLOOKUP($A42,Produits!$A$1:$O$357,6,FALSE)),\"\",VLOOKUP($A42,Produits!$A$1:$O$357,6,FALSE))","v":""},{"$f":"IF(ISNA(VLOOKUP($A42,Produits!$A$1:$O$357,7,FALSE)),\"\",VLOOKUP($A42,Produits!$A$1:$O$357,7,FALSE))","v":""},{"$f":"IF(ISNA(VLOOKUP($A42,Produits!$A$1:$O$357,10,FALSE)),\"\",VLOOKUP($A42,Produits!$A$1:$O$357,10,FALSE))","v":""},null,{"$f":"IFERROR(G42-G42*J42,\"\")","v":""},null,{"$f":"IFERROR($K42*$L42,\"\")","v":""},{"$f":"IF(ISNA(VLOOKUP($A42,Produits!$A$1:$O$357,5,FALSE)),\"\",VLOOKUP($A42,Produits!$A$1:$O$357,5,FALSE))","v":""},{"$f":"IF(ISNA(VLOOKUP($A42,Produits!$A$1:$O$357,15,FALSE)),\"\",VLOOKUP($A42,Produits!$A$1:$O$357,15,FALSE))","v":""},{"$f":"IFERROR($L42*$O42/1000,\"\")","v":""},null,{"$f":"IFERROR(G42*L42,\"\")","v":""},{"$f":"IFERROR(ROUNDUP(H42*L42,2),\"\")","v":""},{"$f":"IFERROR(IF($I42=\"Multiple\",$M42+$W42+$X42,ROUNDUP($M42*(1+$I42),2)),\"\")","v":""},{"$f":"IF(J42=\"\",0,IFERROR($G42*$L42-ROUNDUP($K42,2)*$L42,\"\"))","v":0},{"$f":"IF(J42=\"\",0,IFERROR(ROUND($H42*$L42-$T42,2),\"\"))","v":0},{"$f":"IFERROR(IF($I42=\"Multiple\",VLOOKUP($A42,Produits_composes!$A$1:$AA$30,25,FALSE)*$L42,IF($I42=5.5%,ROUNDUP(($K42*(1+$I42)-$K42)*$L42,2),\"\"*$L42)),\"\")","v":""},{"$f":"IFERROR(IF($I42=\"Multiple\",VLOOKUP($A42,Produits_composes!$A$1:$AA$30,26,FALSE)*$L42,IF($I42=20%,ROUNDUP(($K42*(1+$I42)-$K42)*$L42,2),\"\"*$L42)),\"\")","v":""}]
[null,{"$f":"IF(A42=\"\",\"\",\"Code EAN :\")","v":""},{"$f":"IF(ISNA(VLOOKUP($A42,Produits!$A$1:$O$357,14,FALSE)),\"\",VLOOKUP($A42,Produits!$A$1:$O$357,14,FALSE))","v":""},null,{"$f":"IF(A42=\"\",\"\",\"Commentaire :\")","v":""}]
[null,{"$f":"IF(ISNA(VLOOKUP($A44,Produits!$A$1:$O$357,2,FALSE)),\"\",VLOOKUP($A44,Produits!$A$1:$O$357,2,FALSE))","v":""},null,null,null,{"$f":"IF(ISNA(VLOOKUP($A44,Produits!$A$1:$O$357,3,FALSE)),\"\",VLOOKUP($A44,Produits!$A$1:$O$357,3,FALSE))","v":""},{"$f":"IF(ISNA(VLOOKUP($A44,Produits!$A$1:$O$357,6,FALSE)),\"\",VLOOKUP($A44,Produits!$A$1:$O$357,6,FALSE))","v":""},{"$f":"IF(ISNA(VLOOKUP($A44,Produits!$A$1:$O$357,7,FALSE)),\"\",VLOOKUP($A44,Produits!$A$1:$O$357,7,FALSE))","v":""},{"$f":"IF(ISNA(VLOOKUP($A44,Produits!$A$1:$O$357,10,FALSE)),\"\",VLOOKUP($A44,Produits!$A$1:$O$357,10,FALSE))","v":""},null,{"$f":"IFERROR(G44-G44*J44,\"\")","v":""},null,{"$f":"IFERROR($K44*$L44,\"\")","v":""},{"$f":"IF(ISNA(VLOOKUP($A44,Produits!$A$1:$O$357,5,FALSE)),\"\",VLOOKUP($A44,Produits!$A$1:$O$357,5,FALSE))","v":""},{"$f":"IF(ISNA(VLOOKUP($A44,Produits!$A$1:$O$357,15,FALSE)),\"\",VLOOKUP($A44,Produits!$A$1:$O$357,15,FALSE))","v":""},{"$f":"IFERROR($L44*$O44/1000,\"\")","v":""},null,{"$f":"IFERROR(G44*L44,\"\")","v":""},{"$f":"IFERROR(ROUNDUP(H44*L44,2),\"\")","v":""},{"$f":"IFERROR(IF($I44=\"Multiple\",$M44+$W44+$X44,ROUNDUP($M44*(1+$I44),2)),\"\")","v":""},{"$f":"IF(J44=\"\",0,IFERROR($G44*$L44-ROUNDUP($K44,2)*$L44,\"\"))","v":0},0,{"$f":"IFERROR(IF($I44=\"Multiple\",VLOOKUP($A44,Produits_composes!$A$1:$AA$30,25,FALSE)*$L44,IF($I44=5.5%,ROUNDUP(($K44*(1+$I44)-$K44)*$L44,2),\"\"*$L44)),\"\")","v":""},{"$f":"IFERROR(IF($I44=\"Multiple\",VLOOKUP($A44,Produits_composes!$A$1:$AA$30,26,FALSE)*$L44,IF($I44=20%,ROUNDUP(($K44*(1+$I44)-$K44)*$L44,2),\"\"*$L44)),\"\")","v":""}]
[null,{"$f":"IF(A44=\"\",\"\",\"Code EAN :\")","v":""},{"$f":"IF(ISNA(VLOOKUP($A44,Produits!$A$1:$O$357,14,FALSE)),\"\",VLOOKUP($A44,Produits!$A$1:$O$357,14,FALSE))","v":""},null,{"$f":"IF(A44=\"\",\"\",\"Commentaire :\")","v":""}]
[null,{"$f":"IF(ISNA(VLOOKUP($A46,Produits!$A$1:$O$357,2,FALSE)),\"\",VLOOKUP($A46,Produits!$A$1:$O$357,2,FALSE))","v":""},null,null,null,{"$f":"IF(ISNA(VLOOKUP($A46,Produits!$A$1:$O$357,3,FALSE)),\"\",VLOOKUP($A46,Produits!$A$1:$O$357,3,FALSE))","v":""},{"$f":"IF(ISNA(VLOOKUP($A46,Produits!$A$1:$O$357,6,FALSE)),\"\",VLOOKUP($A46,Produits!$A$1:$O$357,6,FALSE))","v":""},{"$f":"IF(ISNA(VLOOKUP($A46,Produits!$A$1:$O$357,7,FALSE)),\"\",VLOOKUP($A46,Produits!$A$1:$O$357,7,FALSE))","v":""},{"$f":"IF(ISNA(VLOOKUP($A46,Produits!$A$1:$O$357,10,FALSE)),\"\",VLOOKUP($A46,Produits!$A$1:$O$357,10,FALSE))","v":""},null,{"$f":"IFERROR(G46-G46*J46,\"\")","v":""},null,{"$f":"IFERROR($K46*$L46,\"\")","v":""},{"$f":"IF(ISNA(VLOOKUP($A46,Produits!$A$1:$O$357,5,FALSE)),\"\",VLOOKUP($A46,Produits!$A$1:$O$357,5,FALSE))","v":""},{"$f":"IF(ISNA(VLOOKUP($A46,Produits!$A$1:$O$357,15,FALSE)),\"\",VLOOKUP($A46,Produits!$A$1:$O$357,15,FALSE))","v":""},{"$f":"IFERROR($L46*$O46/1000,\"\")","v":""},null,{"$f":"IFERROR(G46*L46,\"\")","v":""},{"$f":"IFERROR(ROUNDUP(H46*L46,2),\"\")","v":""},{"$f":"IFERROR(IF($I46=\"Multiple\",$M46+$W46+$X46,ROUNDUP($M46*(1+$I46),2)),\"\")","v":""},{"$f":"IF(J46=\"\",0,IFERROR($G46*$L46-ROUNDUP($K46,2)*$L46,\"\"))","v":0},0,{"$f":"IFERROR(IF($I46=\"Multiple\",VLOOKUP($A46,Produits_composes!$A$1:$AA$30,25,FALSE)*$L46,IF($I46=5.5%,ROUNDUP(($K46*(1+$I46)-$K46)*$L46,2),\"\"*$L46)),\"\")","v":""},{"$f":"IFERROR(IF($I46=\"Multiple\",VLOOKUP($A46,Produits_composes!$A$1:$AA$30,26,FALSE)*$L46,IF($I46=20%,ROUNDUP(($K46*(1+$I46)-$K46)*$L46,2),\"\"*$L46)),\"\")","v":""}]
[null,{"$f":"IF(A46=\"\",\"\",\"Code EAN :\")","v":""},{"$f":"IF(ISNA(VLOOKUP($A46,Produits!$A$1:$O$357,14,FALSE)),\"\",VLOOKUP($A46,Produits!$A$1:$O$357,14,FALSE))","v":""},null,{"$f":"IF(A46=\"\",\"\",\"Commentaire :\")","v":""}]
[]
["Réf.","Autre(s) article(s)",null,null,null,null,null,null,null,"TVA","Prix TTC","Prix HT","Poids Brut (g)"]
["TVA55",null,null,null,null,null,null,null,null,5.5E-2,null,{"$f":"ROUNDDOWN(K50/(1+J50),2)","v":0}]
["TVA20",null,null,null,null,null,null,null,null,0.2,null,{"$f":"ROUNDDOWN(K51/(1+J51),2)","v":0}]
[]
["Commentaire",null,null,null,null,null,null,null,"Sous-total (HT)",null,null,null,{"$f":"SUM(R14:R47)","v":0}]
[null,null,null,null,null,null,null,null,"(TTC)",null,null,null,{"$f":"SUM(S14:S47)","v":0},null,"Frais de livraison offerts ?"]
[null,null,null,null,null,null,null,null,"Votre remise € (HT)",null,null,null,{"$f":"SUM(U14:U47)","v":0},null,"Non"]
[null,null,null,null,null,null,null,null," (TTC)",null,null,null,{"$f":"SUM(V14:V47)","v":0}]
[null,null,null,null,null,null,null,null,"Sous-total remisé € (HT)",null,null,null,{"$f":"SUM(M14:M47)","v":0},null,"Port personnalisé: "]
["Modes de paiements acceptés:",null,null,"POIDS TOTAL DE LA COMMANDE AVEC EMBALLAGE",null,null,null,null,"(TTC)",null,null,null,{"$f":"SUM(T14:T47)","v":0},null,null,"€ HT"]
[null,null,null,null,null,null,null,null,"Remise commerciale accordée sur montant HT",null,null,null,{"$f":"IF(O62=\"\",\"\",\"- \"& O62&\" \"&P62)","v":""}]
["Chèque, CB, Paypal, Virement, Espèces",null,null,{"$f":"MROUND(IF(SUM(P14:P51)<=10,SUM(P14:P51)*1.1,IF(SUM(P14:P51)>=10.01,SUM(P14:P51)*1.065)),0.05)","v":0},null,null,null,null,"Solde après remise commerciale (HT) ",null,null,null,{"$f":"IF(O62=\"\",\"\",IF(P62=\"%\",M57-M57*O62/100,M57-O62))","v":""},null,"Remise commerciale HT hors frais de livraison"]
[null,null,null,null,null,null,null,null,"(TTC) ",null,null,null,{"$f":"IF(O62=\"\",\"\",IF(P62=\"%\",ROUNDUP(M58-M58*O62/100,2),ROUNDUP(M58-M58*(O62/M57),2)))","v":""}]
[null,null,null,"FRAIS DE CONDITIONNEMENT ET DE LIVRAISON:",null,null,null,null,"(1) Frais de cond. et de livraisons € (HT):",null,null,null,{"$f":"IF(O55=\"Non\",IF(O58=\"\",VLOOKUP(D60,Paramètres!G3:K50,3,TRUE),O58),0)","v":0},null,null,"€"]
[null,null,null,{"$f":"IF(O55=\"Non\",IF(O58=\"\",VLOOKUP(D60,Paramètres!G3:K50,3,TRUE),O58),0)","v":0},null,{"$f":"IF(O55=\"Oui\",\"Offerts\",VLOOKUP(D60,Paramètres!G3:K50,5,TRUE))","v":0},null,null,"€ (TTC)",null,null,null,{"$f":"IF(O55=\"Non\",IF(O58=\"\",VLOOKUP(D60,Paramètres!G3:K50,4,TRUE),O58*(1+Paramètres!C4)),0)","v":0}]
[null,null,null,null,null,null,null,null,"Total € (HT)",null,null,null,{"$f":"IF(M60=\"\",ROUNDDOWN(M57+M62,2),ROUNDDOWN(M60+M62,2))","v":0},null,null,null,null,{"$f":"SUM(W14:W47)","v":0},{"$f":"IFERROR(IF(P62=\"%\",ROUNDUP(R64-R64*O62/100,2),ROUNDUP(R64-R64*O62/M57,2)),0)","v":0}]
["Frais de livraison applicables uniquement pour les envois vers départements de France métropolitaine (hors Corse, DOM-TOM et international)",null,null,null,null,null,null,null,"Total à régler € (TTC)",null,null,null,{"$f":"IF(M61=\"\",ROUNDUP(M58+M63,2),ROUNDUP(M61+M63,2))","v":0},null,null,null,null,{"$f":"SUM(X14:X47)","v":0},{"$f":"IFERROR(IF(P62=\"%\",ROUNDUP(R65-R65*O62/100,2),ROUNDUP(R65-R65*O62/M57,2)),0)","v":0},{"$f":"M63-M62","v":0}]
[]
[null,null,null,null,null,null,null,null,null,null,"dont TVA à 5,5%:",null,{"$f":"IFERROR(S64,0)","v":0}]
[null,null,null,null,null,null,null,null,null,null,"dont TVA à 20%:",null,{"$f":"IFERROR(S65+T65,0)","v":0}]
[]
[]
[]
[]
[]
[]
[]
[]
["SARL au capital de 7 622,45 € - RCS Marmande 402 145 437 - SIRET 402 145 437 00016 - TVA Intracom. FR 84 40 214 54 37\nPas d'escompte pour paiement anticipé - Indemnité forfaitaire de 40€ pour frais de recouvrement en cas de retard de paiement"]

{"sheet":"Facture","index":8,"n_rows":78,"n_cols":25,"rows_kept":78,"cut":false,"hidden":true,"merged":[[0,5,1,6],[0,7,1,8],[0,9,1,10],[0,11,1,12],[3,6,3,8],[3,10,3,12],[4,5,5,5],[4,6,5,12],[6,6,6,8],[6,10,6,12],[7,0,9,4],[7,6,7,8],[7,10,7,12],[8,6,8,8],[8,10,8,12],[9,5,9,6],[9,7,9,12],[11,0,12,0],[11,1,12,4],[11,5,12,5],[11,6,12,6],[11,7,12,7],[11,8,12,8],[11,9,12,9],[11,10,12,10],[11,11,12,11],[11,21,12,21],[11,22,12,22],[11,23,12,23],[13,0,14,0],[13,1,13,4],[13,9,14,9],[13,10,14,10],[13,11,14,11],[11,12,12,12],[11,14,12,14],[11,13,12,13],[11,15,12,15],[11,17,12,17],[11,18,12,18],[13,22,14,22],[13,23,14,23],[14,2,14,3],[14,5,14,8],[13,12,14,12],[13,14,14,14],[13,13,14,13],[13,15,14,15],[13,21,14,21],[15,0,16,0],[15,1,15,4],[15,9,16,9],[15,10,16,10],[15,11,16,11],[15,12,16,12],[13,19,14,19],[11,19,12,19],[11,20,12,20],[13,20,14,20],[15,20,16,20],[13,17,14,17],[13,18,14,18],[15,21,16,21],[15,22,16,22],[15,23,16,23],[16,2,16,3],[16,5,16,8],[15,14,16,14],[15,13,16,13],[15,15,16,15],[15,17,16,17],[15,18,16,18],[15,19,16,19],[17,23,18,23],[18,2,18,3],[18,5,18,8],[17,14,18,14],[17,13,18,13],[17,15,18,15],[17,17,18,17],[17,18,18,18],[17,19,18,19],[17,1,17,4],[17,9,18,9],[17,10,18,10],[17,11,18,11],[17,12,18,12],[19,0,20,0],[19,1,19,4],[19,9,20,9],[19,10,20,10],[19,11,20,11],[19,12,20,12],[17,20,18,20],[17,21,18,21],[17,22,18,22],[17,0,18,0],[19,20,20,20],[19,21,20,21],[19,22,20,22],[19,23,20,23],[20,2,20,3],[20,5,20,8],[19,14,20,14],[19,13,20,13],[19,15,20,15],[19,17,20,17],[19,18,20,18],[19,19,20,19],[21,23,22,23],[22,2,22,3],[22,5,22,8],[21,14,22,14],[21,13,22,13],[21,15,22,15],[21,17,22,17],[21,18,22,18],[21,19,22,19],[21,1,21,4],[21,9,22,9],[21,10,22,10],[21,11,22,11],[21,12,22,12],[23,0,24,0],[23,1,23,4],[23,9,24,9],[23,10,24,10],[23,11,24,11],[23,12,24,12],[21,20,22,20],[21,21,22,21],[21,22,22,22],[21,0,22,0],[23,20,24,20],[23,21,24,21],[23,22,24,22],[23,23,24,23],[24,2,24,3],[24,5,24,8],[23,14,24,14],[23,13,24,13],[23,15,24,15],[23,17,24,17],[23,18,24,18],[23,19,24,19],[25,23,26,23],[26,2,26,3],[26,5,26,8],[25,14,26,14],[25,13,26,13],[25,15,26,15],[25,17,26,17],[25,18,26,18],[25,19,26,19],[25,1,25,4],[25,9,26,9],[25,10,26,10],[25,11,26,11],[25,12,26,12],[27,0,28,0],[27,1,27,4],[27,9,28,9],[27,10,28,10],[27,11,28,11],[27,12,28,12],[25,20,26,20],[25,21,26,21],[25,22,26,22],[25,0,26,0],[27,20,28,20],[27,21,28,21],[27,22,28,22],[27,23,28,23],[28,2,28,3],[28,5,28,8],[27,14,28,14],[27,13,28,13],[27,15,28,15],[27,17,28,17],[27,18,28,18],[27,19,28,19],[29,23,30,23],[30,2,30,3],[30,5,30,8],[29,14,30,14],[29,13,30,13],[29,15,30,15],[29,17,30,17],[29,18,30,18],[29,19,30,19],[29,1,29,4],[29,9,30,9],[29,10,30,10],[29,11,30,11],[29,12,30,12],[31,0,32,0],[31,1,31,4],[31,9,32,9],[31,10,32,10],[31,11,32,11],[31,12,32,12],[29,20,30,20],[29,21,30,21],[29,22,30,22],[29,0,30,0],[31,20,32,20],[31,21,32,21],[31,22,32,22],[31,23,32,23],[32,2,32,3],[32,5,32,8],[31,14,32,14],[31,13,32,13],[31,15,32,15],[31,17,32,17],[31,18,32,18],[31,19,32,19],[33,23,34,23],[34,2,34,3],[34,5,34,8],[33,14,34,14],[33,13,34,13],[33,15,34,15],[33,17,34,17],[33,18,34,18],[33,19,34,19],[33,1,33,4],[33,9,34,9],[33,10,34,10],[33,11,34,11],[33,12,34,12],[35,0,36,0],[35,1,35,4],[35,9,36,9],[35,10,36,10],[35,11,36,11],[35,12,36,12],[33,20,34,20],[33,21,34,21],[33,22,34,22],[33,0,34,0],[35,20,36,20],[35,21,36,21],[35,22,36,22],[35,23,36,23],[36,2,36,3],[36,5,36,8],[35,14,36,14],[35,13,36,13],[35,15,36,15],[35,17,36,17],[35,18,36,18],[35,19,36,19],[37,23,38,23],[38,2,38,3],[38,5,38,8],[37,14,38,14],[37,13,38,13],[37,15,38,15],[37,17,38,17],[37,18,38,18],[37,19,38,19],[37,1,37,4],[37,9,38,9],[37,10,38,10],[37,11,38,11],[37,12,38,12],[39,0,40,0],[39,1,39,4],[39,9,40,9],[39,10,40,10],[39,11,40,11],[39,12,40,12],[37,20,38,20],[37,21,38,21],[37,22,38,22],[37,0,38,0],[39,20,40,20],[39,21,40,21],[39,22,40,22],[39,23,40,23],[40,2,40,3],[40,5,40,8],[39,14,40,14],[39,13,40,13],[39,15,40,15],[39,17,40,17],[39,18,40,18],[39,19,40,19],[79,1,79,4],[80,1,80,4],[81,1,81,4],[82,1,82,4],[83,1,83,4],[72,1,72,3],[77,0,78,12],[69,1,69,4],[70,0,70,12],[71,1,71,3],[71,5,71,6],[71,7,71,12],[72,5,72,6],[72,7,75,12],[69,10,69,11],[90,1,90,4],[91,1,91,4],[92,1,92,4],[93,1,93,4],[94,1,94,4],[95,1,95,4],[84,1,84,4],[85,1,85,4],[86,1,86,4],[87,1,87,4],[88,1,88,4],[89,1,89,4],[102,1,102,4],[103,1,103,4],[104,1,104,4],[105,1,105,4],[106,1,106,4],[107,1,107,4],[96,1,96,4],[97,1,97,4],[98,1,98,4],[99,1,99,4],[100,1,100,4],[101,1,101,4],[114,1,114,4],[115,1,115,4],[116,1,116,4],[117,1,117,4],[118,1,118,4],[119,1,119,4],[108,1,108,4],[109,1,109,4],[110,1,110,4],[111,1,111,4],[112,1,112,4],[113,1,113,4],[126,1,126,4],[127,1,127,4],[128,1,128,4],[129,1,129,4],[130,1,130,4],[131,1,131,4],[120,1,120,4],[121,1,121,4],[122,1,122,4],[123,1,123,4],[124,1,124,4],[125,1,125,4],[138,1,138,4],[139,1,139,4],[140,1,140,4],[141,1,141,4],[142,1,142,4],[143,1,143,4],[132,1,132,4],[133,1,133,4],[134,1,134,4],[135,1,135,4],[136,1,136,4],[137,1,137,4],[150,1,150,4],[151,1,151,4],[152,1,152,4],[153,1,153,4],[154,1,154,4],[155,1,155,4],[144,1,144,4],[145,1,145,4],[146,1,146,4],[147,1,147,4],[148,1,148,4],[149,1,149,4],[162,1,162,4],[163,1,163,4],[164,1,164,4],[165,1,165,4],[166,1,166,4],[156,1,156,4],[157,1,157,4],[158,1,158,4],[159,1,159,4],[160,1,160,4],[161,1,161,4],[54,0,56,6],[58,0,59,2],[58,3,59,6],[60,0,63,2],[60,3,61,6],[60,8,60,11],[53,8,53,11],[54,8,54,11],[55,8,55,11],[56,8,56,11],[57,8,57,11],[41,0,42,0],[41,1,41,4],[41,9,42,9],[41,10,42,10],[41,11,42,11],[45,0,46,0],[45,9,46,9],[45,10,46,10],[45,11,46,11],[45,1,45,4],[41,14,42,14],[41,15,42,15],[41,17,42,17],[41,18,42,18],[41,19,42,19],[41,20,42,20],[41,21,42,21],[58,8,58,11],[59,8,59,11],[54,14,54,15],[55,14,55,15],[57,14,57,15],[55,17,55,18],[41,22,42,22],[41,23,42,23],[42,2,42,3],[42,5,42,8],[43,0,44,0],[43,1,43,4],[43,9,44,9],[43,10,44,10],[43,11,44,11],[43,12,44,12],[43,13,44,13],[43,14,44,14],[43,15,44,15],[43,17,44,17],[43,18,44,18],[43,19,44,19],[43,20,44,20],[43,21,44,21],[43,22,44,22],[43,23,44,23],[44,2,44,3],[44,5,44,8],[41,12,42,12],[41,13,42,13],[45,22,46,22],[45,23,46,23],[46,2,46,3],[46,5,46,8],[48,1,48,8],[49,1,49,8],[51,1,51,8],[52,1,52,4],[53,0,53,6],[45,12,46,12],[45,13,46,13],[45,14,46,14],[45,15,46,15],[45,17,46,17],[45,18,46,18],[45,19,46,19],[45,20,46,20],[45,21,46,21],[50,1,50,8],[60,14,61,15],[61,8,61,11],[62,3,62,6],[62,8,62,11],[63,3,63,4],[63,5,63,6],[63,8,63,11],[67,10,67,11],[68,10,68,11],[65,0,67,6],[65,8,65,11],[64,8,64,11],[11,24,12,24],[13,24,14,24],[15,24,16,24],[17,24,18,24],[19,24,20,24],[21,24,22,24],[23,24,24,24],[25,24,26,24],[27,24,28,24],[29,24,30,24],[31,24,32,24],[33,24,34,24],[35,24,36,24],[37,24,38,24],[39,24,40,24],[41,24,42,24],[43,24,44,24],[45,24,46,24]]}
[null,null,null,null,null,"Facture N° ",null,null,null,"DATE: ",null,{"$f":"TODAY()","v":"2019-09-25"}]
[]
[]
[null,null,null,null,null,"Entreprise:",{"$f":"Coordonnées_client!$C$2","v":0},null,null,"Tél.:",{"$f":"Coordonnées_client!$I$2","v":0}]
[null,null,null,null,null,"Adresse:",{"$f":"Coordonnées_client!$F$2","v":0}]
[]
[null,null,null,null,null,"CP:",{"$f":"Coordonnées_client!$G$2","v":0},null,null,"Ville:",{"$f":"Coordonnées_client!$H$2","v":0}]
["«Braunès» 47320 Lafitte-sur-Lot\n05 53 84 04 17 • mdpruneau.vpc@orange.fr\nwww.maisondupruneau.com",null,null,null,null,"Nom:",{"$f":"Coordonnées_client!$K$2","v":0},null,null,"Prénom:",{"$f":"Coordonnées_client!$L$2","v":0}]
[null,null,null,null,null,"Ligne directe:",{"$f":"Coordonnées_client!$N$2","v":0},null,null,"Mail:",{"$f":"Coordonnées_client!$O$2","v":0}]
[null,null,null,null,null,"Conditions de règlement:",null,{"$f":"Coordonnées_client!$D$4","v":"Comptant (1ère commande) puis 30j net (commandes suivantes)"}]
[]
["Réf.","Désignation",null,null,null,"Contenance","Prix HT","Prix TTC\nconseillé","TVA","Remise","Prix remisé\nHT","Quantité","TOTAL Ligne\nremisée HT","Colisage\npar lot de: ","Poids Brut","Total Poids\nLigne",null,"Total ligne\nHT","Total ligne\nTTC","Total ligne\nremisé TTC","Remise HT","Remise TTC","TVA 5,5%","TVA 20%","TVA 10%"]
[]
["3B",{"$f":"IF(ISNA(VLOOKUP($A14,Produits!$A$1:$O$357,2,FALSE)),\"\",VLOOKUP($A14,Produits!$A$1:$O$357,2,FALSE))","v":"Jus de pruneaux BIO"},null,null,null,{"$f":"IF(ISNA(VLOOKUP($A14,Produits!$A$1:$O$357,3,FALSE)),\"\",VLOOKUP($A14,Produits!$A$1:$O$357,3,FALSE))","v":"1L"},{"$f":"IF(ISNA(VLOOKUP($A14,Produits!$A$1:$O$357,6,FALSE)),\"\",VLOOKUP($A14,Produits!$A$1:$O$357,6,FALSE))","v":5.5924100000000001},{"$f":"IF(ISNA(VLOOKUP($A14,Produits!$A$1:$O$357,7,FALSE)),\"\",VLOOKUP($A14,Produits!$A$1:$O$357,7,FALSE))","v":5.9},{"$f":"IF(ISNA(VLOOKUP($A14,Produits!$A$1:$O$357,10,FALSE)),\"\",VLOOKUP($A14,Produits!$A$1:$O$357,10,FALSE))","v":5.5E-2},0.2,{"$f":"IF(J14=0,G14,IFERROR(ROUNDDOWN(G14-G14*J14,2),\"\"))","v":4.47},1,{"$f":"IFERROR($K14*$L14,\"\")","v":4.47},{"$f":"IF(ISNA(VLOOKUP($A14,Produits!$A$1:$O$357,5,FALSE)),\"\",VLOOKUP($A14,Produits!$A$1:$O$357,5,FALSE))","v":6},{"$f":"IF(ISNA(VLOOKUP($A14,Produits!$A$1:$O$357,15,FALSE)),\"\",VLOOKUP($A14,Produits!$A$1:$O$357,15,FALSE))","v":1450},{"$f":"IFERROR($L14*$O14/1000,\"\")","v":1.45},null,{"$f":"IFERROR(G14*L14,\"\")","v":5.5924100000000001},{"$f":"IFERROR(ROUNDUP(H14*L14,2),\"\")","v":5.9},{"$f":"IFERROR(IF($I14=\"Multiple\",$M14+$W14+$X14,ROUNDUP($M14*(1+$I14),2)),\"\")","v":4.72},{"$f":"IF(J14=\"\",0,IFERROR($G14*$L14-ROUNDUP($K14,2)*$L14,\"\"))","v":1.1224100000000004},{"$f":"IF(J14=\"\",0,IFERROR(ROUND($H14*$L14-$T14,2),\"\"))","v":1.18},{"$f":"IFERROR(IF($I14=\"Multiple\",VLOOKUP($A14,Produits_composes!$A$1:$AA$30,25,FALSE)*$L14,IF($I14=5.5%,ROUNDUP(($K14*(1+$I14)-$K14)*$L14,2),\"\"*$L14)),\"\")","v":0.25},{"$f":"IFERROR(IF($I14=\"Multiple\",VLOOKUP($A14,Produits_composes!$A$1:$AA$30,26,FALSE)*$L14,IF($I14=20%,ROUNDUP(($K14*(1+$I14)-$K14)*$L14,2),\"\"*$L14)),\"\")","v":""},{"$f":"IFERROR(IF($I14=\"Multiple\",VLOOKUP($A14,Produits_composes!$A$1:$AA$30,26,FALSE)*$L14,IF($I14=10%,ROUNDUP(($K14*(1+$I14)-$K14)*$L14,2),\"\"*$L14)),\"\")","v":""}]
[null,{"$f":"IF(A14=\"\",\"\",\"Code EAN :\")","v":"Code EAN :"},{"$f":"IF(ISNA(VLOOKUP($A14,Produits!$A$1:$O$357,14,FALSE)),\"\",VLOOKUP($A14,Produits!$A$1:$O$357,14,FALSE))","v":3760219062899},null,{"$f":"IF(A14=\"\",\"\",\"Commentaire :\")","v":"Commentaire :"}]
[null,{"$f":"IF(ISNA(VLOOKUP($A16,Produits!$A$1:$O$357,2,FALSE)),\"\",VLOOKUP($A16,Produits!$A$1:$O$357,2,FALSE))","v":""},null,null,null,{"$f":"IF(ISNA(VLOOKUP($A16,Produits!$A$1:$O$357,3,FALSE)),\"\",VLOOKUP($A16,Produits!$A$1:$O$357,3,FALSE))","v":""},{"$f":"IF(ISNA(VLOOKUP($A16,Produits!$A$1:$O$357,6,FALSE)),\"\",VLOOKUP($A16,Produits!$A$1:$O$357,6,FALSE))","v":""},{"$f":"IF(ISNA(VLOOKUP($A16,Produits!$A$1:$O$357,7,FALSE)),\"\",VLOOKUP($A16,Produits!$A$1:$O$357,7,FALSE))","v":""},{"$f":"IF(ISNA(VLOOKUP($A16,Produits!$A$1:$O$357,10,FALSE)),\"\",VLOOKUP($A16,Produits!$A$1:$O$357,10,FALSE))","v":""},null,{"$f":"IF(J16=0,G16,IFERROR(ROUNDDOWN(G16-G16*J16,2),\"\"))","v":""},null,{"$f":"IFERROR($K16*$L16,\"\")","v":""},{"$f":"IF(ISNA(VLOOKUP($A16,Produits!$A$1:$O$357,5,FALSE)),\"\",VLOOKUP($A16,Produits!$A$1:$O$357,5,FALSE))","v":""},{"$f":"IF(ISNA(VLOOKUP($A16,Produits!$A$1:$O$357,15,FALSE)),\"\",VLOOKUP($A16,Produits!$A$1:$O$357,15,FALSE))","v":""},{"$f":"IFERROR($L16*$O16/1000,\"\")","v":""},null,{"$f":"IFERROR(G16*L16,\"\")","v":""},{"$f":"IFERROR(ROUNDUP(H16*L16,2),\"\")","v":""},{"$f":"IFERROR(IF($I16=\"Multiple\",$M16+$W16+$X16,ROUNDUP($M16*(1+$I16),2)),\"\")","v":""},{"$f":"IF(J16=\"\",0,IFERROR($G16*$L16-ROUNDUP($K16,2)*$L16,\"\"))","v":0},{"$f":"IF(J16=\"\",0,IFERROR(ROUND($H16*$L16-$T16,2),\"\"))","v":0},{"$f":"IFERROR(IF($I16=\"Multiple\",VLOOKUP($A16,Produits_composes!$A$1:$AA$30,25,FALSE)*$L16,IF($I16=5.5%,ROUNDUP(($K16*(1+$I16)-$K16)*$L16,2),\"\"*$L16)),\"\")","v":""},{"$f":"IFERROR(IF($I16=\"Multiple\",VLOOKUP($A16,Produits_composes!$A$1:$AA$30,26,FALSE)*$L16,IF($I16=20%,ROUNDUP(($K16*(1+$I16)-$K16)*$L16,2),\"\"*$L16)),\"\")","v":""},{"$f":"IFERROR(IF($I16=\"Multiple\",VLOOKUP($A16,Produits_composes!$A$1:$AA$30,26,FALSE)*$L16,IF($I16=10%,ROUNDUP(($K16*(1+$I16)-$K16)*$L16,2),\"\"*$L16)),\"\")","v":""}]
[null,{"$f":"IF(A16=\"\",\"\",\"Code EAN :\")","v":""},{"$f":"IF(ISNA(VLOOKUP($A16,Produits!$A$1:$O$357,14,FALSE)),\"\",VLOOKUP($A16,Produits!$A$1:$O$357,14,FALSE))","v":""},null,{"$f":"IF(A16=\"\",\"\",\"Commentaire :\")","v":""}]
[null,{"$f":"IF(ISNA(VLOOKUP($A18,Produits!$A$1:$O$357,2,FALSE)),\"\",VLOOKUP($A18,Produits!$A$1:$O$357,2,FALSE))","v":""},null,null,null,{"$f":"IF(ISNA(VLOOKUP($A18,Produits!$A$1:$O$357,3,FALSE)),\"\",VLOOKUP($A18,Produits!$A$1:$O$357,3,FALSE))","v":""},{"$f":"IF(ISNA(VLOOKUP($A18,Produits!$A$1:$O$357,6,FALSE)),\"\",VLOOKUP($A18,Produits!$A$1:$O$357,6,FALSE))","v":""},{"$f":"IF(ISNA(VLOOKUP($A18,Produits!$A$1:$O$357,7,FALSE)),\"\",VLOOKUP($A18,Produits!$A$1:$O$357,7,FALSE))","v":""},{"$f":"IF(ISNA(VLOOKUP($A18,Produits!$A$1:$O$357,10,FALSE)),\"\",VLOOKUP($A18,Produits!$A$1:$O$357,10,FALSE))","v":""},null,{"$f":"IF(J18=0,G18,IFERROR(ROUNDDOWN(G18-G18*J18,2),\"\"))","v":""},null,{"$f":"IFERROR($K18*$L18,\"\")","v":""},{"$f":"IF(ISNA(VLOOKUP($A18,Produits!$A$1:$O$357,5,FALSE)),\"\",VLOOKUP($A18,Produits!$A$1:$O$357,5,FALSE))","v":""},{"$f":"IF(ISNA(VLOOKUP($A18,Produits!$A$1:$O$357,15,FALSE)),\"\",VLOOKUP($A18,Produits!$A$1:$O$357,15,FALSE))","v":""},{"$f":"IFERROR($L18*$O18/1000,\"\")","v":""},null,{"$f":"IFERROR(G18*L18,\"\")","v":""},{"$f":"IFERROR(ROUNDUP(H18*L18,2),\"\")","v":""},{"$f":"IFERROR(IF($I18=\"Multiple\",$M18+$W18+$X18,ROUNDUP($M18*(1+$I18),2)),\"\")","v":""},{"$f":"IF(J18=\"\",0,IFERROR($G18*$L18-ROUNDUP($K18,2)*$L18,\"\"))","v":0},{"$f":"IF(J18=\"\",0,IFERROR(ROUND($H18*$L18-$T18,2),\"\"))","v":0},{"$f":"IFERROR(IF($I18=\"Multiple\",VLOOKUP($A18,Produits_composes!$A$1:$AA$30,25,FALSE)*$L18,IF($I18=5.5%,ROUNDUP(($K18*(1+$I18)-$K18)*$L18,2),\"\"*$L18)),\"\")","v":""},{"$f":"IFERROR(IF($I18=\"Multiple\",VLOOKUP($A18,Produits_composes!$A$1:$AA$30,26,FALSE)*$L18,IF($I18=20%,ROUNDUP(($K18*(1+$I18)-$K18)*$L18,2),\"\"*$L18)),\"\")","v":""},{"$f":"IFERROR(IF($I18=\"Multiple\",VLOOKUP($A18,Produits_composes!$A$1:$AA$30,26,FALSE)*$L18,IF($I18=10%,ROUNDUP(($K18*(1+$I18)-$K18)*$L18,2),\"\"*$L18)),\"\")","v":""}]
[null,{"$f":"IF(A18=\"\",\"\",\"Code EAN :\")","v":""},{"$f":"IF(ISNA(VLOOKUP($A18,Produits!$A$1:$O$357,14,FALSE)),\"\",VLOOKUP($A18,Produits!$A$1:$O$357,14,FALSE))","v":""},null,{"$f":"IF(A18=\"\",\"\",\"Commentaire :\")","v":""}]
[null,{"$f":"IF(ISNA(VLOOKUP($A20,Produits!$A$1:$O$357,2,FALSE)),\"\",VLOOKUP($A20,Produits!$A$1:$O$357,2,FALSE))","v":""},null,null,null,{"$f":"IF(ISNA(VLOOKUP($A20,Produits!$A$1:$O$357,3,FALSE)),\"\",VLOOKUP($A20,Produits!$A$1:$O$357,3,FALSE))","v":""},{"$f":"IF(ISNA(VLOOKUP($A20,Produits!$A$1:$O$357,6,FALSE)),\"\",VLOOKUP($A20,Produits!$A$1:$O$357,6,FALSE))","v":""},{"$f":"IF(ISNA(VLOOKUP($A20,Produits!$A$1:$O$357,7,FALSE)),\"\",VLOOKUP($A20,Produits!$A$1:$O$357,7,FALSE))","v":""},{"$f":"IF(ISNA(VLOOKUP($A20,Produits!$A$1:$O$357,10,FALSE)),\"\",VLOOKUP($A20,Produits!$A$1:$O$357,10,FALSE))","v":""},null,{"$f":"IF(J20=0,G20,IFERROR(ROUNDDOWN(G20-G20*J20,2),\"\"))","v":""},null,{"$f":"IFERROR($K20*$L20,\"\")","v":""},{"$f":"IF(ISNA(VLOOKUP($A20,Produits!$A$1:$O$357,5,FALSE)),\"\",VLOOKUP($A20,Produits!$A$1:$O$357,5,FALSE))","v":""},{"$f":"IF(ISNA(VLOOKUP($A20,Produits!$A$1:$O$357,15,FALSE)),\"\",VLOOKUP($A20,Produits!$A$1:$O$357,15,FALSE))","v":""},{"$f":"IFERROR($L20*$O20/1000,\"\")","v":""},null,{"$f":"IFERROR(G20*L20,\"\")","v":""},{"$f":"IFERROR(ROUNDUP(H20*L20,2),\"\")","v":""},"",{"$f":"IF(J20=\"\",0,IFERROR($G20*$L20-ROUNDUP($K20,2)*$L20,\"\"))","v":0},{"$f":"IF(J20=\"\",0,IFERROR(ROUND($H20*$L20-$T20,2),\"\"))","v":0},{"$f":"IFERROR(IF($I20=\"Multiple\",VLOOKUP($A20,Produits_composes!$A$1:$AA$30,25,FALSE)*$L20,IF($I20=5.5%,ROUNDUP(($K20*(1+$I20)-$K20)*$L20,2),\"\"*$L20)),\"\")","v":""},{"$f":"IFERROR(IF($I20=\"Multiple\",VLOOKUP($A20,Produits_composes!$A$1:$AA$30,26,FALSE)*$L20,IF($I20=20%,ROUNDUP(($K20*(1+$I20)-$K20)*$L20,2),\"\"*$L20)),\"\")","v":""},{"$f":"IFERROR(IF($I20=\"Multiple\",VLOOKUP($A20,Produits_composes!$A$1:$AA$30,26,FALSE)*$L20,IF($I20=10%,ROUNDUP(($K20*(1+$I20)-$K20)*$L20,2),\"\"*$L20)),\"\")","v":""}]
[null,{"$f":"IF(A20=\"\",\"\",\"Code EAN :\")","v":""},{"$f":"IF(ISNA(VLOOKUP($A20,Produits!$A$1:$O$357,14,FALSE)),\"\",VLOOKUP($A20,Produits!$A$1:$O$357,14,FALSE))","v":""},null,{"$f":"IF(A20=\"\",\"\",\"Commentaire :\")","v":""}]
[null,{"$f":"IF(ISNA(VLOOKUP($A22,Produits!$A$1:$O$357,2,FALSE)),\"\",VLOOKUP($A22,Produits!$A$1:$O$357,2,FALSE))","v":""},null,null,null,{"$f":"IF(ISNA(VLOOKUP($A22,Produits!$A$1:$O$357,3,FALSE)),\"\",VLOOKUP($A22,Produits!$A$1:$O$357,3,FALSE))","v":""},{"$f":"IF(ISNA(VLOOKUP($A22,Produits!$A$1:$O$357,6,FALSE)),\"\",VLOOKUP($A22,Produits!$A$1:$O$357,6,FALSE))","v":""},{"$f":"IF(ISNA(VLOOKUP($A22,Produits!$A$1:$O$357,7,FALSE)),\"\",VLOOKUP($A22,Produits!$A$1:$O$357,7,FALSE))","v":""},{"$f":"IF(ISNA(VLOOKUP($A22,Produits!$A$1:$O$357,10,FALSE)),\"\",VLOOKUP($A22,Produits!$A$1:$O$357,10,FALSE))","v":""},null,{"$f":"IF(J22=0,G22,IFERROR(ROUNDDOWN(G22-G22*J22,2),\"\"))","v":""},null,{"$f":"IFERROR($K22*$L22,\"\")","v":""},{"$f":"IF(ISNA(VLOOKUP($A22,Produits!$A$1:$O$357,5,FALSE)),\"\",VLOOKUP($A22,Produits!$A$1:$O$357,5,FALSE))","v":""},{"$f":"IF(ISNA(VLOOKUP($A22,Produits!$A$1:$O$357,15,FALSE)),\"\",VLOOKUP($A22,Produits!$A$1:$O$357,15,FALSE))","v":""},{"$f":"IFERROR($L22*$O22/1000,\"\")","v":""},null,{"$f":"IFERROR(G22*L22,\"\")","v":""},{"$f":"IFERROR(ROUNDUP(H22*L22,2),\"\")","v":""},"",{"$f":"IF(J22=\"\",0,IFERROR($G22*$L22-ROUNDUP($K22,2)*$L22,\"\"))","v":0},{"$f":"IF(J22=\"\",0,IFERROR(ROUND($H22*$L22-$T22,2),\"\"))","v":0},{"$f":"IFERROR(IF($I22=\"Multiple\",VLOOKUP($A22,Produits_composes!$A$1:$AA$30,25,FALSE)*$L22,IF($I22=5.5%,ROUNDUP(($K22*(1+$I22)-$K22)*$L22,2),\"\"*$L22)),\"\")","v":""},{"$f":"IFERROR(IF($I22=\"Multiple\",VLOOKUP($A22,Produits_composes!$A$1:$AA$30,26,FALSE)*$L22,IF($I22=20%,ROUNDUP(($K22*(1+$I22)-$K22)*$L22,2),\"\"*$L22)),\"\")","v":""},{"$f":"IFERROR(IF($I22=\"Multiple\",VLOOKUP($A22,Produits_composes!$A$1:$AA$30,26,FALSE)*$L22,IF($I22=10%,ROUNDUP(($K22*(1+$I22)-$K22)*$L22,2),\"\"*$L22)),\"\")","v":""}]
[null,{"$f":"IF(A22=\"\",\"\",\"Code EAN :\")","v":""},{"$f":"IF(ISNA(VLOOKUP($A22,Produits!$A$1:$O$357,14,FALSE)),\"\",VLOOKUP($A22,Produits!$A$1:$O$357,14,FALSE))","v":""},null,{"$f":"IF(A22=\"\",\"\",\"Commentaire :\")","v":""}]
[null,{"$f":"IF(ISNA(VLOOKUP($A24,Produits!$A$1:$O$357,2,FALSE)),\"\",VLOOKUP($A24,Produits!$A$1:$O$357,2,FALSE))","v":""},null,null,null,{"$f":"IF(ISNA(VLOOKUP($A24,Produits!$A$1:$O$357,3,FALSE)),\"\",VLOOKUP($A24,Produits!$A$1:$O$357,3,FALSE))","v":""},{"$f":"IF(ISNA(VLOOKUP($A24,Produits!$A$1:$O$357,6,FALSE)),\"\",VLOOKUP($A24,Produits!$A$1:$O$357,6,FALSE))","v":""},{"$f":"IF(ISNA(VLOOKUP($A24,Produits!$A$1:$O$357,7,FALSE)),\"\",VLOOKUP($A24,Produits!$A$1:$O$357,7,FALSE))","v":""},{"$f":"IF(ISNA(VLOOKUP($A24,Produits!$A$1:$O$357,10,FALSE)),\"\",VLOOKUP($A24,Produits!$A$1:$O$357,10,FALSE))","v":""},null,{"$f":"IF(J24=0,G24,IFERROR(ROUNDDOWN(G24-G24*J24,2),\"\"))","v":""},null,{"$f":"IFERROR($K24*$L24,\"\")","v":""},{"$f":"IF(ISNA(VLOOKUP($A24,Produits!$A$1:$O$357,5,FALSE)),\"\",VLOOKUP($A24,Produits!$A$1:$O$357,5,FALSE))","v":""},{"$f":"IF(ISNA(VLOOKUP($A24,Produits!$A$1:$O$357,15,FALSE)),\"\",VLOOKUP($A24,Produits!$A$1:$O$357,15,FALSE))","v":""},{"$f":"IFERROR($L24*$O24/1000,\"\")","v":""},null,{"$f":"IFERROR(G24*L24,\"\")","v":""},{"$f":"IFERROR(ROUNDUP(H24*L24,2),\"\")","v":""},"",{"$f":"IF(J24=\"\",0,IFERROR($G24*$L24-ROUNDUP($K24,2)*$L24,\"\"))","v":0},{"$f":"IF(J24=\"\",0,IFERROR(ROUND($H24*$L24-$T24,2),\"\"))","v":0},{"$f":"IFERROR(IF($I24=\"Multiple\",VLOOKUP($A24,Produits_composes!$A$1:$AA$30,25,FALSE)*$L24,IF($I24=5.5%,ROUNDUP(($K24*(1+$I24)-$K24)*$L24,2),\"\"*$L24)),\"\")","v":""},{"$f":"IFERROR(IF($I24=\"Multiple\",VLOOKUP($A24,Produits_composes!$A$1:$AA$30,26,FALSE)*$L24,IF($I24=20%,ROUNDUP(($K24*(1+$I24)-$K24)*$L24,2),\"\"*$L24)),\"\")","v":""},{"$f":"IFERROR(IF($I24=\"Multiple\",VLOOKUP($A24,Produits_composes!$A$1:$AA$30,26,FALSE)*$L24,IF($I24=10%,ROUNDUP(($K24*(1+$I24)-$K24)*$L24,2),\"\"*$L24)),\"\")","v":""}]
[null,{"$f":"IF(A24=\"\",\"\",\"Code EAN :\")","v":""},{"$f":"IF(ISNA(VLOOKUP($A24,Produits!$A$1:$O$357,14,FALSE)),\"\",VLOOKUP($A24,Produits!$A$1:$O$357,14,FALSE))","v":""},null,{"$f":"IF(A24=\"\",\"\",\"Commentaire :\")","v":""}]
[null,{"$f":"IF(ISNA(VLOOKUP($A26,Produits!$A$1:$O$357,2,FALSE)),\"\",VLOOKUP($A26,Produits!$A$1:$O$357,2,FALSE))","v":""},null,null,null,{"$f":"IF(ISNA(VLOOKUP($A26,Produits!$A$1:$O$357,3,FALSE)),\"\",VLOOKUP($A26,Produits!$A$1:$O$357,3,FALSE))","v":""},{"$f":"IF(ISNA(VLOOKUP($A26,Produits!$A$1:$O$357,6,FALSE)),\"\",VLOOKUP($A26,Produits!$A$1:$O$357,6,FALSE))","v":""},{"$f":"IF(ISNA(VLOOKUP($A26,Produits!$A$1:$O$357,7,FALSE)),\"\",VLOOKUP($A26,Produits!$A$1:$O$357,7,FALSE))","v":""},{"$f":"IF(ISNA(VLOOKUP($A26,Produits!$A$1:$O$357,10,FALSE)),\"\",VLOOKUP($A26,Produits!$A$1:$O$357,10,FALSE))","v":""},null,{"$f":"IF(J26=0,G26,IFERROR(ROUNDDOWN(G26-G26*J26,2),\"\"))","v":""},null,{"$f":"IFERROR($K26*$L26,\"\")","v":""},{"$f":"IF(ISNA(VLOOKUP($A26,Produits!$A$1:$O$357,5,FALSE)),\"\",VLOOKUP($A26,Produits!$A$1:$O$357,5,FALSE))","v":""},{"$f":"IF(ISNA(VLOOKUP($A26,Produits!$A$1:$O$357,15,FALSE)),\"\",VLOOKUP($A26,Produits!$A$1:$O$357,15,FALSE))","v":""},{"$f":"IFERROR($L26*$O26/1000,\"\")","v":""},null,{"$f":"IFERROR(G26*L26,\"\")","v":""},{"$f":"IFERROR(ROUNDUP(H26*L26,2),\"\")","v":""},{"$f":"IFERROR(IF($I26=\"Multiple\",$M26+$W26+$X26,ROUNDUP($M26*(1+$I26),2)),\"\")","v":""},{"$f":"IF(J26=\"\",0,IFERROR($G26*$L26-ROUNDUP($K26,2)*$L26,\"\"))","v":0},0,{"$f":"IFERROR(IF($I26=\"Multiple\",VLOOKUP($A26,Produits_composes!$A$1:$AA$30,25,FALSE)*$L26,IF($I26=5.5%,ROUNDUP(($K26*(1+$I26)-$K26)*$L26,2),\"\"*$L26)),\"\")","v":""},{"$f":"IFERROR(IF($I26=\"Multiple\",VLOOKUP($A26,Produits_composes!$A$1:$AA$30,26,FALSE)*$L26,IF($I26=20%,ROUNDUP(($K26*(1+$I26)-$K26)*$L26,2),\"\"*$L26)),\"\")","v":""},{"$f":"IFERROR(IF($I26=\"Multiple\",VLOOKUP($A26,Produits_composes!$A$1:$AA$30,26,FALSE)*$L26,IF($I26=10%,ROUNDUP(($K26*(1+$I26)-$K26)*$L26,2),\"\"*$L26)),\"\")","v":""}]
[null,{"$f":"IF(A26=\"\",\"\",\"Code EAN :\")","v":""},{"$f":"IF(ISNA(VLOOKUP($A26,Produits!$A$1:$O$357,14,FALSE)),\"\",VLOOKUP($A26,Produits!$A$1:$O$357,14,FALSE))","v":""},null,{"$f":"IF(A26=\"\",\"\",\"Commentaire :\")","v":""}]
[null,{"$f":"IF(ISNA(VLOOKUP($A28,Produits!$A$1:$O$357,2,FALSE)),\"\",VLOOKUP($A28,Produits!$A$1:$O$357,2,FALSE))","v":""},null,null,null,{"$f":"IF(ISNA(VLOOKUP($A28,Produits!$A$1:$O$357,3,FALSE)),\"\",VLOOKUP($A28,Produits!$A$1:$O$357,3,FALSE))","v":""},{"$f":"IF(ISNA(VLOOKUP($A28,Produits!$A$1:$O$357,6,FALSE)),\"\",VLOOKUP($A28,Produits!$A$1:$O$357,6,FALSE))","v":""},{"$f":"IF(ISNA(VLOOKUP($A28,Produits!$A$1:$O$357,7,FALSE)),\"\",VLOOKUP($A28,Produits!$A$1:$O$357,7,FALSE))","v":""},{"$f":"IF(ISNA(VLOOKUP($A28,Produits!$A$1:$O$357,10,FALSE)),\"\",VLOOKUP($A28,Produits!$A$1:$O$357,10,FALSE))","v":""},null,{"$f":"IF(J28=0,G28,IFERROR(ROUNDDOWN(G28-G28*J28,2),\"\"))","v":""},null,{"$f":"IFERROR($K28*$L28,\"\")","v":""},{"$f":"IF(ISNA(VLOOKUP($A28,Produits!$A$1:$O$357,5,FALSE)),\"\",VLOOKUP($A28,Produits!$A$1:$O$357,5,FALSE))","v":""},{"$f":"IF(ISNA(VLOOKUP($A28,Produits!$A$1:$O$357,15,FALSE)),\"\",VLOOKUP($A28,Produits!$A$1:$O$357,15,FALSE))","v":""},{"$f":"IFERROR($L28*$O28/1000,\"\")","v":""},null,{"$f":"IFERROR(G28*L28,\"\")","v":""},{"$f":"IFERROR(ROUNDUP(H28*L28,2),\"\")","v":""},{"$f":"IFERROR(IF($I28=\"Multiple\",$M28+$W28+$X28,ROUNDUP($M28*(1+$I28),2)),\"\")","v":""},{"$f":"IF(J28=\"\",0,IFERROR($G28*$L28-ROUNDUP($K28,2)*$L28,\"\"))","v":0},0,{"$f":"IFERROR(IF($I28=\"Multiple\",VLOOKUP($A28,Produits_composes!$A$1:$AA$30,25,FALSE)*$L28,IF($I28=5.5%,ROUNDUP(($K28*(1+$I28)-$K28)*$L28,2),\"\"*$L28)),\"\")","v":""},{"$f":"IFERROR(IF($I28=\"Multiple\",VLOOKUP($A28,Produits_composes!$A$1:$AA$30,26,FALSE)*$L28,IF($I28=20%,ROUNDUP(($K28*(1+$I28)-$K28)*$L28,2),\"\"*$L28)),\"\")","v":""},{"$f":"IFERROR(IF($I28=\"Multiple\",VLOOKUP($A28,Produits_composes!$A$1:$AA$30,26,FALSE)*$L28,IF($I28=10%,ROUNDUP(($K28*(1+$I28)-$K28)*$L28,2),\"\"*$L28)),\"\")","v":""}]
[null,{"$f":"IF(A28=\"\",\"\",\"Code EAN :\")","v":""},{"$f":"IF(ISNA(VLOOKUP($A28,Produits!$A$1:$O$357,14,FALSE)),\"\",VLOOKUP($A28,Produits!$A$1:$O$357,14,FALSE))","v":""},null,{"$f":"IF(A28=\"\",\"\",\"Commentaire :\")","v":""}]
[null,{"$f":"IF(ISNA(VLOOKUP($A30,Produits!$A$1:$O$357,2,FALSE)),\"\",VLOOKUP($A30,Produits!$A$1:$O$357,2,FALSE))","v":""},null,null,null,{"$f":"IF(ISNA(VLOOKUP($A30,Produits!$A$1:$O$357,3,FALSE)),\"\",VLOOKUP($A30,Produits!$A$1:$O$357,3,FALSE))","v":""},{"$f":"IF(ISNA(VLOOKUP($A30,Produits!$A$1:$O$357,6,FALSE)),\"\",VLOOKUP($A30,Produits!$A$1:$O$357,6,FALSE))","v":""},{"$f":"IF(ISNA(VLOOKUP($A30,Produits!$A$1:$O$357,7,FALSE)),\"\",VLOOKUP($A30,Produits!$A$1:$O$357,7,FALSE))","v":""},{"$f":"IF(ISNA(VLOOKUP($A30,Produits!$A$1:$O$357,10,FALSE)),\"\",VLOOKUP($A30,Produits!$A$1:$O$357,10,FALSE))","v":""},null,{"$f":"IF(J30=0,G30,IFERROR(ROUNDDOWN(G30-G30*J30,2),\"\"))","v":""},null,{"$f":"IFERROR($K30*$L30,\"\")","v":""},{"$f":"IF(ISNA(VLOOKUP($A30,Produits!$A$1:$O$357,5,FALSE)),\"\",VLOOKUP($A30,Produits!$A$1:$O$357,5,FALSE))","v":""},{"$f":"IF(ISNA(VLOOKUP($A30,Produits!$A$1:$O$357,15,FALSE)),\"\",VLOOKUP($A30,Produits!$A$1:$O$357,15,FALSE))","v":""},{"$f":"IFERROR($L30*$O30/1000,\"\")","v":""},null,{"$f":"IFERROR(G30*L30,\"\")","v":""},{"$f":"IFERROR(ROUNDUP(H30*L30,2),\"\")","v":""},{"$f":"IFERROR(IF($I30=\"Multiple\",$M30+$W30+$X30,ROUNDUP($M30*(1+$I30),2)),\"\")","v":""},{"$f":"IF(J30=\"\",0,IFERROR($G30*$L30-ROUNDUP($K30,2)*$L30,\"\"))","v":0},{"$f":"IF(J30=\"\",0,IFERROR(ROUND($H30*$L30-$T30,2),\"\"))","v":0},{"$f":"IFERROR(IF($I30=\"Multiple\",VLOOKUP($A30,Produits_composes!$A$1:$AA$30,25,FALSE)*$L30,IF($I30=5.5%,ROUNDUP(($K30*(1+$I30)-$K30)*$L30,2),\"\"*$L30)),\"\")","v":""},{"$f":"IFERROR(IF($I30=\"Multiple\",VLOOKUP($A30,Produits_composes!$A$1:$AA$30,26,FALSE)*$L30,IF($I30=20%,ROUNDUP(($K30*(1+$I30)-$K30)*$L30,2),\"\"*$L30)),\"\")","v":""},{"$f":"IFERROR(IF($I30=\"Multiple\",VLOOKUP($A30,Produits_composes!$A$1:$AA$30,26,FALSE)*$L30,IF($I30=10%,ROUNDUP(($K30*(1+$I30)-$K30)*$L30,2),\"\"*$L30)),\"\")","v":""}]
[null,{"$f":"IF(A30=\"\",\"\",\"Code EAN :\")","v":""},{"$f":"IF(ISNA(VLOOKUP($A30,Produits!$A$1:$O$357,14,FALSE)),\"\",VLOOKUP($A30,Produits!$A$1:$O$357,14,FALSE))","v":""},null,{"$f":"IF(A30=\"\",\"\",\"Commentaire :\")","v":""}]
[null,{"$f":"IF(ISNA(VLOOKUP($A32,Produits!$A$1:$O$357,2,FALSE)),\"\",VLOOKUP($A32,Produits!$A$1:$O$357,2,FALSE))","v":""},null,null,null,{"$f":"IF(ISNA(VLOOKUP($A32,Produits!$A$1:$O$357,3,FALSE)),\"\",VLOOKUP($A32,Produits!$A$1:$O$357,3,FALSE))","v":""},{"$f":"IF(ISNA(VLOOKUP($A32,Produits!$A$1:$O$357,6,FALSE)),\"\",VLOOKUP($A32,Produits!$A$1:$O$357,6,FALSE))","v":""},{"$f":"IF(ISNA(VLOOKUP($A32,Produits!$A$1:$O$357,7,FALSE)),\"\",VLOOKUP($A32,Produits!$A$1:$O$357,7,FALSE))","v":""},{"$f":"IF(ISNA(VLOOKUP($A32,Produits!$A$1:$O$357,10,FALSE)),\"\",VLOOKUP($A32,Produits!$A$1:$O$357,10,FALSE))","v":""},null,{"$f":"IF(J32=0,G32,IFERROR(ROUNDDOWN(G32-G32*J32,2),\"\"))","v":""},null,{"$f":"IFERROR($K32*$L32,\"\")","v":""},{"$f":"IF(ISNA(VLOOKUP($A32,Produits!$A$1:$O$357,5,FALSE)),\"\",VLOOKUP($A32,Produits!$A$1:$O$357,5,FALSE))","v":""},{"$f":"IF(ISNA(VLOOKUP($A32,Produits!$A$1:$O$357,15,FALSE)),\"\",VLOOKUP($A32,Produits!$A$1:$O$357,15,FALSE))","v":""},{"$f":"IFERROR($L32*$O32/1000,\"\")","v":""},null,{"$f":"IFERROR(G32*L32,\"\")","v":""},{"$f":"IFERROR(ROUNDUP(H32*L32,2),\"\")","v":""},{"$f":"IFERROR(IF($I32=\"Multiple\",$M32+$W32+$X32,ROUNDUP($M32*(1+$I32),2)),\"\")","v":""},{"$f":"IF(J32=\"\",0,IFERROR($G32*$L32-ROUNDUP($K32,2)*$L32,\"\"))","v":0},0,{"$f":"IFERROR(IF($I32=\"Multiple\",VLOOKUP($A32,Produits_composes!$A$1:$AA$30,25,FALSE)*$L32,IF($I32=5.5%,ROUNDUP(($K32*(1+$I32)-$K32)*$L32,2),\"\"*$L32)),\"\")","v":""},{"$f":"IFERROR(IF($I32=\"Multiple\",VLOOKUP($A32,Produits_composes!$A$1:$AA$30,26,FALSE)*$L32,IF($I32=20%,ROUNDUP(($K32*(1+$I32)-$K32)*$L32,2),\"\"*$L32)),\"\")","v":""},{"$f":"IFERROR(IF($I32=\"Multiple\",VLOOKUP($A32,Produits_composes!$A$1:$AA$30,26,FALSE)*$L32,IF($I32=10%,ROUNDUP(($K32*(1+$I32)-$K32)*$L32,2),\"\"*$L32)),\"\")","v":""}]
[null,{"$f":"IF(A32=\"\",\"\",\"Code EAN :\")","v":""},{"$f":"IF(ISNA(VLOOKUP($A32,Produits!$A$1:$O$357,14,FALSE)),\"\",VLOOKUP($A32,Produits!$A$1:$O$357,14,FALSE))","v":""},null,{"$f":"IF(A32=\"\",\"\",\"Commentaire :\")","v":""}]
[null,{"$f":"IF(ISNA(VLOOKUP($A34,Produits!$A$1:$O$357,2,FALSE)),\"\",VLOOKUP($A34,Produits!$A$1:$O$357,2,FALSE))","v":""},null,null,null,{"$f":"IF(ISNA(VLOOKUP($A34,Produits!$A$1:$O$357,3,FALSE)),\"\",VLOOKUP($A34,Produits!$A$1:$O$357,3,FALSE))","v":""},{"$f":"IF(ISNA(VLOOKUP($A34,Produits!$A$1:$O$357,6,FALSE)),\"\",VLOOKUP($A34,Produits!$A$1:$O$357,6,FALSE))","v":""},{"$f":"IF(ISNA(VLOOKUP($A34,Produits!$A$1:$O$357,7,FALSE)),\"\",VLOOKUP($A34,Produits!$A$1:$O$357,7,FALSE))","v":""},{"$f":"IF(ISNA(VLOOKUP($A34,Produits!$A$1:$O$357,10,FALSE)),\"\",VLOOKUP($A34,Produits!$A$1:$O$357,10,FALSE))","v":""},null,{"$f":"IF(J34=0,G34,IFERROR(ROUNDDOWN(G34-G34*J34,2),\"\"))","v":""},null,{"$f":"IFERROR($K34*$L34,\"\")","v":""},{"$f":"IF(ISNA(VLOOKUP($A34,Produits!$A$1:$O$357,5,FALSE)),\"\",VLOOKUP($A34,Produits!$A$1:$O$357,5,FALSE))","v":""},{"$f":"IF(ISNA(VLOOKUP($A34,Produits!$A$1:$O$357,15,FALSE)),\"\",VLOOKUP($A34,Produits!$A$1:$O$357,15,FALSE))","v":""},{"$f":"IFERROR($L34*$O34/1000,\"\")","v":""},null,{"$f":"IFERROR(G34*L34,\"\")","v":""},{"$f":"IFERROR(ROUNDUP(H34*L34,2),\"\")","v":""},{"$f":"IFERROR(IF($I34=\"Multiple\",$M34+$W34+$X34,ROUNDUP($M34*(1+$I34),2)),\"\")","v":""},{"$f":"IF(J34=\"\",0,IFERROR($G34*$L34-ROUNDUP($K34,2)*$L34,\"\"))","v":0},0,{"$f":"IFERROR(IF($I34=\"Multiple\",VLOOKUP($A34,Produits_composes!$A$1:$AA$30,25,FALSE)*$L34,IF($I34=5.5%,ROUNDUP(($K34*(1+$I34)-$K34)*$L34,2),\"\"*$L34)),\"\")","v":""},{"$f":"IFERROR(IF($I34=\"Multiple\",VLOOKUP($A34,Produits_composes!$A$1:$AA$30,26,FALSE)*$L34,IF($I34=20%,ROUNDUP(($K34*(1+$I34)-$K34)*$L34,2),\"\"*$L34)),\"\")","v":""},{"$f":"IFERROR(IF($I34=\"Multiple\",VLOOKUP($A34,Produits_composes!$A$1:$AA$30,26,FALSE)*$L34,IF($I34=10%,ROUNDUP(($K34*(1+$I34)-$K34)*$L34,2),\"\"*$L34)),\"\")","v":""}]
[null,{"$f":"IF(A34=\"\",\"\",\"Code EAN :\")","v":""},{"$f":"IF(ISNA(VLOOKUP($A34,Produits!$A$1:$O$357,14,FALSE)),\"\",VLOOKUP($A34,Produits!$A$1:$O$357,14,FALSE))","v":""},null,{"$f":"IF(A34=\"\",\"\",\"Commentaire :\")","v":""}]
[null,{"$f":"IF(ISNA(VLOOKUP($A36,Produits!$A$1:$O$357,2,FALSE)),\"\",VLOOKUP($A36,Produits!$A$1:$O$357,2,FALSE))","v":""},null,null,null,{"$f":"IF(ISNA(VLOOKUP($A36,Produits!$A$1:$O$357,3,FALSE)),\"\",VLOOKUP($A36,Produits!$A$1:$O$357,3,FALSE))","v":""},{"$f":"IF(ISNA(VLOOKUP($A36,Produits!$A$1:$O$357,6,FALSE)),\"\",VLOOKUP($A36,Produits!$A$1:$O$357,6,FALSE))","v":""},{"$f":"IF(ISNA(VLOOKUP($A36,Produits!$A$1:$O$357,7,FALSE)),\"\",VLOOKUP($A36,Produits!$A$1:$O$357,7,FALSE))","v":""},{"$f":"IF(ISNA(VLOOKUP($A36,Produits!$A$1:$O$357,10,FALSE)),\"\",VLOOKUP($A36,Produits!$A$1:$O$357,10,FALSE))","v":""},null,{"$f":"IF(J36=0,G36,IFERROR(ROUNDDOWN(G36-G36*J36,2),\"\"))","v":""},null,{"$f":"IFERROR($K36*$L36,\"\")","v":""},{"$f":"IF(ISNA(VLOOKUP($A36,Produits!$A$1:$O$357,5,FALSE)),\"\",VLOOKUP($A36,Produits!$A$1:$O$357,5,FALSE))","v":""},{"$f":"IF(ISNA(VLOOKUP($A36,Produits!$A$1:$O$357,15,FALSE)),\"\",VLOOKUP($A36,Produits!$A$1:$O$357,15,FALSE))","v":""},{"$f":"IFERROR($L36*$O36/1000,\"\")","v":""},null,{"$f":"IFERROR(G36*L36,\"\")","v":""},{"$f":"IFERROR(ROUNDUP(H36*L36,2),\"\")","v":""},{"$f":"IFERROR(IF($I36=\"Multiple\",$M36+$W36+$X36,ROUNDUP($M36*(1+$I36),2)),\"\")","v":""},{"$f":"IF(J36=\"\",0,IFERROR($G36*$L36-ROUNDUP($K36,2)*$L36,\"\"))","v":0},{"$f":"IF(J36=\"\",0,IFERROR(ROUND($H36*$L36-$T36,2),\"\"))","v":0},{"$f":"IFERROR(IF($I36=\"Multiple\",VLOOKUP($A36,Produits_composes!$A$1:$AA$30,25,FALSE)*$L36,IF($I36=5.5%,ROUNDUP(($K36*(1+$I36)-$K36)*$L36,2),\"\"*$L36)),\"\")","v":""},{"$f":"IFERROR(IF($I36=\"Multiple\",VLOOKUP($A36,Produits_composes!$A$1:$AA$30,26,FALSE)*$L36,IF($I36=20%,ROUNDUP(($K36*(1+$I36)-$K36)*$L36,2),\"\"*$L36)),\"\")","v":""},{"$f":"IFERROR(IF($I36=\"Multiple\",VLOOKUP($A36,Produits_composes!$A$1:$AA$30,26,FALSE)*$L36,IF($I36=10%,ROUNDUP(($K36*(1+$I36)-$K36)*$L36,2),\"\"*$L36)),\"\")","v":""}]
[null,{"$f":"IF(A36=\"\",\"\",\"Code EAN :\")","v":""},{"$f":"IF(ISNA(VLOOKUP($A36,Produits!$A$1:$O$357,14,FALSE)),\"\",VLOOKUP($A36,Produits!$A$1:$O$357,14,FALSE))","v":""},null,{"$f":"IF(A36=\"\",\"\",\"Commentaire :\")","v":""}]
[null,{"$f":"IF(ISNA(VLOOKUP($A38,Produits!$A$1:$O$357,2,FALSE)),\"\",VLOOKUP($A38,Produits!$A$1:$O$357,2,FALSE))","v":""},null,null,null,{"$f":"IF(ISNA(VLOOKUP($A38,Produits!$A$1:$O$357,3,FALSE)),\"\",VLOOKUP($A38,Produits!$A$1:$O$357,3,FALSE))","v":""},{"$f":"IF(ISNA(VLOOKUP($A38,Produits!$A$1:$O$357,6,FALSE)),\"\",VLOOKUP($A38,Produits!$A$1:$O$357,6,FALSE))","v":""},{"$f":"IF(ISNA(VLOOKUP($A38,Produits!$A$1:$O$357,7,FALSE)),\"\",VLOOKUP($A38,Produits!$A$1:$O$357,7,FALSE))","v":""},{"$f":"IF(ISNA(VLOOKUP($A38,Produits!$A$1:$O$357,10,FALSE)),\"\",VLOOKUP($A38,Produits!$A$1:$O$357,10,FALSE))","v":""},null,{"$f":"IF(J38=0,G38,IFERROR(ROUNDDOWN(G38-G38*J38,2),\"\"))","v":""},null,{"$f":"IFERROR($K38*$L38,\"\")","v":""},{"$f":"IF(ISNA(VLOOKUP($A38,Produits!$A$1:$O$357,5,FALSE)),\"\",VLOOKUP($A38,Produits!$A$1:$O$357,5,FALSE))","v":""},{"$f":"IF(ISNA(VLOOKUP($A38,Produits!$A$1:$O$357,15,FALSE)),\"\",VLOOKUP($A38,Produits!$A$1:$O$357,15,FALSE))","v":""},{"$f":"IFERROR($L38*$O38/1000,\"\")","v":""},null,{"$f":"IFERROR(G38*L38,\"\")","v":""},{"$f":"IFERROR(ROUNDUP(H38*L38,2),\"\")","v":""},{"$f":"IFERROR(IF($I38=\"Multiple\",$M38+$W38+$X38,ROUNDUP($M38*(1+$I38),2)),\"\")","v":""},{"$f":"IF(J38=\"\",0,IFERROR($G38*$L38-ROUNDUP($K38,2)*$L38,\"\"))","v":0},0,{"$f":"IFERROR(IF($I38=\"Multiple\",VLOOKUP($A38,Produits_composes!$A$1:$AA$30,25,FALSE)*$L38,IF($I38=5.5%,ROUNDUP(($K38*(1+$I38)-$K38)*$L38,2),\"\"*$L38)),\"\")","v":""},{"$f":"IFERROR(IF($I38=\"Multiple\",VLOOKUP($A38,Produits_composes!$A$1:$AA$30,26,FALSE)*$L38,IF($I38=20%,ROUNDUP(($K38*(1+$I38)-$K38)*$L38,2),\"\"*$L38)),\"\")","v":""},{"$f":"IFERROR(IF($I38=\"Multiple\",VLOOKUP($A38,Produits_composes!$A$1:$AA$30,26,FALSE)*$L38,IF($I38=10%,ROUNDUP(($K38*(1+$I38)-$K38)*$L38,2),\"\"*$L38)),\"\")","v":""}]
[null,{"$f":"IF(A38=\"\",\"\",\"Code EAN :\")","v":""},{"$f":"IF(ISNA(VLOOKUP($A38,Produits!$A$1:$O$357,14,FALSE)),\"\",VLOOKUP($A38,Produits!$A$1:$O$357,14,FALSE))","v":""},null,{"$f":"IF(A38=\"\",\"\",\"Commentaire :\")","v":""}]
[null,{"$f":"IF(ISNA(VLOOKUP($A40,Produits!$A$1:$O$357,2,FALSE)),\"\",VLOOKUP($A40,Produits!$A$1:$O$357,2,FALSE))","v":""},null,null,null,{"$f":"IF(ISNA(VLOOKUP($A40,Produits!$A$1:$O$357,3,FALSE)),\"\",VLOOKUP($A40,Produits!$A$1:$O$357,3,FALSE))","v":""},{"$f":"IF(ISNA(VLOOKUP($A40,Produits!$A$1:$O$357,6,FALSE)),\"\",VLOOKUP($A40,Produits!$A$1:$O$357,6,FALSE))","v":""},{"$f":"IF(ISNA(VLOOKUP($A40,Produits!$A$1:$O$357,7,FALSE)),\"\",VLOOKUP($A40,Produits!$A$1:$O$357,7,FALSE))","v":""},{"$f":"IF(ISNA(VLOOKUP($A40,Produits!$A$1:$O$357,10,FALSE)),\"\",VLOOKUP($A40,Produits!$A$1:$O$357,10,FALSE))","v":""},null,{"$f":"IF(J40=0,G40,IFERROR(ROUNDDOWN(G40-G40*J40,2),\"\"))","v":""},null,{"$f":"IFERROR($K40*$L40,\"\")","v":""},{"$f":"IF(ISNA(VLOOKUP($A40,Produits!$A$1:$O$357,5,FALSE)),\"\",VLOOKUP($A40,Produits!$A$1:$O$357,5,FALSE))","v":""},{"$f":"IF(ISNA(VLOOKUP($A40,Produits!$A$1:$O$357,15,FALSE)),\"\",VLOOKUP($A40,Produits!$A$1:$O$357,15,FALSE))","v":""},{"$f":"IFERROR($L40*$O40/1000,\"\")","v":""},null,{"$f":"IFERROR(G40*L40,\"\")","v":""},{"$f":"IFERROR(ROUNDUP(H40*L40,2),\"\")","v":""},{"$f":"IFERROR(IF($I40=\"Multiple\",$M40+$W40+$X40,ROUNDUP($M40*(1+$I40),2)),\"\")","v":""},{"$f":"IF(J40=\"\",0,IFERROR($G40*$L40-ROUNDUP($K40,2)*$L40,\"\"))","v":0},0,{"$f":"IFERROR(IF($I40=\"Multiple\",VLOOKUP($A40,Produits_composes!$A$1:$AA$30,25,FALSE)*$L40,IF($I40=5.5%,ROUNDUP(($K40*(1+$I40)-$K40)*$L40,2),\"\"*$L40)),\"\")","v":""},{"$f":"IFERROR(IF($I40=\"Multiple\",VLOOKUP($A40,Produits_composes!$A$1:$AA$30,26,FALSE)*$L40,IF($I40=20%,ROUNDUP(($K40*(1+$I40)-$K40)*$L40,2),\"\"*$L40)),\"\")","v":""},{"$f":"IFERROR(IF($I40=\"Multiple\",VLOOKUP($A40,Produits_composes!$A$1:$AA$30,26,FALSE)*$L40,IF($I40=10%,ROUNDUP(($K40*(1+$I40)-$K40)*$L40,2),\"\"*$L40)),\"\")","v":""}]
[null,{"$f":"IF(A40=\"\",\"\",\"Code EAN :\")","v":""},{"$f":"IF(ISNA(VLOOKUP($A40,Produits!$A$1:$O$357,14,FALSE)),\"\",VLOOKUP($A40,Produits!$A$1:$O$357,14,FALSE))","v":""},null,{"$f":"IF(A40=\"\",\"\",\"Commentaire :\")","v":""}]
[null,{"$f":"IF(ISNA(VLOOKUP($A42,Produits!$A$1:$O$357,2,FALSE)),\"\",VLOOKUP($A42,Produits!$A$1:$O$357,2,FALSE))","v":""},null,null,null,{"$f":"IF(ISNA(VLOOKUP($A42,Produits!$A$1:$O$357,3,FALSE)),\"\",VLOOKUP($A42,Produits!$A$1:$O$357,3,FALSE))","v":""},{"$f":"IF(ISNA(VLOOKUP($A42,Produits!$A$1:$O$357,6,FALSE)),\"\",VLOOKUP($A42,Produits!$A$1:$O$357,6,FALSE))","v":""},{"$f":"IF(ISNA(VLOOKUP($A42,Produits!$A$1:$O$357,7,FALSE)),\"\",VLOOKUP($A42,Produits!$A$1:$O$357,7,FALSE))","v":""},{"$f":"IF(ISNA(VLOOKUP($A42,Produits!$A$1:$O$357,10,FALSE)),\"\",VLOOKUP($A42,Produits!$A$1:$O$357,10,FALSE))","v":""},null,{"$f":"IF(J42=0,G42,IFERROR(ROUNDDOWN(G42-G42*J42,2),\"\"))","v":""},null,{"$f":"IFERROR($K42*$L42,\"\")","v":""},{"$f":"IF(ISNA(VLOOKUP($A42,Produits!$A$1:$O$357,5,FALSE)),\"\",VLOOKUP($A42,Produits!$A$1:$O$357,5,FALSE))","v":""},{"$f":"IF(ISNA(VLOOKUP($A42,Produits!$A$1:$O$357,15,FALSE)),\"\",VLOOKUP($A42,Produits!$A$1:$O$357,15,FALSE))","v":""},{"$f":"IFERROR($L42*$O42/1000,\"\")","v":""},null,{"$f":"IFERROR(G42*L42,\"\")","v":""},{"$f":"IFERROR(ROUNDUP(H42*L42,2),\"\")","v":""},{"$f":"IFERROR(IF($I42=\"Multiple\",$M42+$W42+$X42,ROUNDUP($M42*(1+$I42),2)),\"\")","v":""},{"$f":"IF(J42=\"\",0,IFERROR($G42*$L42-ROUNDUP($K42,2)*$L42,\"\"))","v":0},{"$f":"IF(J42=\"\",0,IFERROR(ROUND($H42*$L42-$T42,2),\"\"))","v":0},{"$f":"IFERROR(IF($I42=\"Multiple\",VLOOKUP($A42,Produits_composes!$A$1:$AA$30,25,FALSE)*$L42,IF($I42=5.5%,ROUNDUP(($K42*(1+$I42)-$K42)*$L42,2),\"\"*$L42)),\"\")","v":""},{"$f":"IFERROR(IF($I42=\"Multiple\",VLOOKUP($A42,Produits_composes!$A$1:$AA$30,26,FALSE)*$L42,IF($I42=20%,ROUNDUP(($K42*(1+$I42)-$K42)*$L42,2),\"\"*$L42)),\"\")","v":""},{"$f":"IFERROR(IF($I42=\"Multiple\",VLOOKUP($A42,Produits_composes!$A$1:$AA$30,26,FALSE)*$L42,IF($I42=10%,ROUNDUP(($K42*(1+$I42)-$K42)*$L42,2),\"\"*$L42)),\"\")","v":""}]
[null,{"$f":"IF(A42=\"\",\"\",\"Code EAN :\")","v":""},{"$f":"IF(ISNA(VLOOKUP($A42,Produits!$A$1:$O$357,14,FALSE)),\"\",VLOOKUP($A42,Produits!$A$1:$O$357,14,FALSE))","v":""},null,{"$f":"IF(A42=\"\",\"\",\"Commentaire :\")","v":""}]
[null,{"$f":"IF(ISNA(VLOOKUP($A44,Produits!$A$1:$O$357,2,FALSE)),\"\",VLOOKUP($A44,Produits!$A$1:$O$357,2,FALSE))","v":""},null,null,null,{"$f":"IF(ISNA(VLOOKUP($A44,Produits!$A$1:$O$357,3,FALSE)),\"\",VLOOKUP($A44,Produits!$A$1:$O$357,3,FALSE))","v":""},{"$f":"IF(ISNA(VLOOKUP($A44,Produits!$A$1:$O$357,6,FALSE)),\"\",VLOOKUP($A44,Produits!$A$1:$O$357,6,FALSE))","v":""},{"$f":"IF(ISNA(VLOOKUP($A44,Produits!$A$1:$O$357,7,FALSE)),\"\",VLOOKUP($A44,Produits!$A$1:$O$357,7,FALSE))","v":""},{"$f":"IF(ISNA(VLOOKUP($A44,Produits!$A$1:$O$357,10,FALSE)),\"\",VLOOKUP($A44,Produits!$A$1:$O$357,10,FALSE))","v":""},null,{"$f":"IF(J44=0,G44,IFERROR(ROUNDDOWN(G44-G44*J44,2),\"\"))","v":""},null,{"$f":"IFERROR($K44*$L44,\"\")","v":""},{"$f":"IF(ISNA(VLOOKUP($A44,Produits!$A$1:$O$357,5,FALSE)),\"\",VLOOKUP($A44,Produits!$A$1:$O$357,5,FALSE))","v":""},{"$f":"IF(ISNA(VLOOKUP($A44,Produits!$A$1:$O$357,15,FALSE)),\"\",VLOOKUP($A44,Produits!$A$1:$O$357,15,FALSE))","v":""},{"$f":"IFERROR($L44*$O44/1000,\"\")","v":""},null,{"$f":"IFERROR(G44*L44,\"\")","v":""},{"$f":"IFERROR(ROUNDUP(H44*L44,2),\"\")","v":""},{"$f":"IFERROR(IF($I44=\"Multiple\",$M44+$W44+$X44,ROUNDUP($M44*(1+$I44),2)),\"\")","v":""},{"$f":"IF(J44=\"\",0,IFERROR($G44*$L44-ROUNDUP($K44,2)*$L44,\"\"))","v":0},0,{"$f":"IFERROR(IF($I44=\"Multiple\",VLOOKUP($A44,Produits_composes!$A$1:$AA$30,25,FALSE)*$L44,IF($I44=5.5%,ROUNDUP(($K44*(1+$I44)-$K44)*$L44,2),\"\"*$L44)),\"\")","v":""},{"$f":"IFERROR(IF($I44=\"Multiple\",VLOOKUP($A44,Produits_composes!$A$1:$AA$30,26,FALSE)*$L44,IF($I44=20%,ROUNDUP(($K44*(1+$I44)-$K44)*$L44,2),\"\"*$L44)),\"\")","v":""},{"$f":"IFERROR(IF($I44=\"Multiple\",VLOOKUP($A44,Produits_composes!$A$1:$AA$30,26,FALSE)*$L44,IF($I44=10%,ROUNDUP(($K44*(1+$I44)-$K44)*$L44,2),\"\"*$L44)),\"\")","v":""}]
[null,{"$f":"IF(A44=\"\",\"\",\"Code EAN :\")","v":""},{"$f":"IF(ISNA(VLOOKUP($A44,Produits!$A$1:$O$357,14,FALSE)),\"\",VLOOKUP($A44,Produits!$A$1:$O$357,14,FALSE))","v":""},null,{"$f":"IF(A44=\"\",\"\",\"Commentaire :\")","v":""}]
[null,{"$f":"IF(ISNA(VLOOKUP($A46,Produits!$A$1:$O$357,2,FALSE)),\"\",VLOOKUP($A46,Produits!$A$1:$O$357,2,FALSE))","v":""},null,null,null,{"$f":"IF(ISNA(VLOOKUP($A46,Produits!$A$1:$O$357,3,FALSE)),\"\",VLOOKUP($A46,Produits!$A$1:$O$357,3,FALSE))","v":""},{"$f":"IF(ISNA(VLOOKUP($A46,Produits!$A$1:$O$357,6,FALSE)),\"\",VLOOKUP($A46,Produits!$A$1:$O$357,6,FALSE))","v":""},{"$f":"IF(ISNA(VLOOKUP($A46,Produits!$A$1:$O$357,7,FALSE)),\"\",VLOOKUP($A46,Produits!$A$1:$O$357,7,FALSE))","v":""},{"$f":"IF(ISNA(VLOOKUP($A46,Produits!$A$1:$O$357,10,FALSE)),\"\",VLOOKUP($A46,Produits!$A$1:$O$357,10,FALSE))","v":""},null,{"$f":"IF(J46=0,G46,IFERROR(ROUNDDOWN(G46-G46*J46,2),\"\"))","v":""},null,{"$f":"IFERROR($K46*$L46,\"\")","v":""},{"$f":"IF(ISNA(VLOOKUP($A46,Produits!$A$1:$O$357,5,FALSE)),\"\",VLOOKUP($A46,Produits!$A$1:$O$357,5,FALSE))","v":""},{"$f":"IF(ISNA(VLOOKUP($A46,Produits!$A$1:$O$357,15,FALSE)),\"\",VLOOKUP($A46,Produits!$A$1:$O$357,15,FALSE))","v":""},{"$f":"IFERROR($L46*$O46/1000,\"\")","v":""},null,{"$f":"IFERROR(G46*L46,\"\")","v":""},{"$f":"IFERROR(ROUNDUP(H46*L46,2),\"\")","v":""},{"$f":"IFERROR(IF($I46=\"Multiple\",$M46+$W46+$X46,ROUNDUP($M46*(1+$I46),2)),\"\")","v":""},{"$f":"IF(J46=\"\",0,IFERROR($G46*$L46-ROUNDUP($K46,2)*$L46,\"\"))","v":0},0,{"$f":"IFERROR(IF($I46=\"Multiple\",VLOOKUP($A46,Produits_composes!$A$1:$AA$30,25,FALSE)*$L46,IF($I46=5.5%,ROUNDUP(($K46*(1+$I46)-$K46)*$L46,2),\"\"*$L46)),\"\")","v":""},{"$f":"IFERROR(IF($I46=\"Multiple\",VLOOKUP($A46,Produits_composes!$A$1:$AA$30,26,FALSE)*$L46,IF($I46=20%,ROUNDUP(($K46*(1+$I46)-$K46)*$L46,2),\"\"*$L46)),\"\")","v":""},{"$f":"IFERROR(IF($I46=\"Multiple\",VLOOKUP($A46,Produits_composes!$A$1:$AA$30,26,FALSE)*$L46,IF($I46=10%,ROUNDUP(($K46*(1+$I46)-$K46)*$L46,2),\"\"*$L46)),\"\")","v":""}]
[null,{"$f":"IF(A46=\"\",\"\",\"Code EAN :\")","v":""},{"$f":"IF(ISNA(VLOOKUP($A46,Produits!$A$1:$O$357,14,FALSE)),\"\",VLOOKUP($A46,Produits!$A$1:$O$357,14,FALSE))","v":""},null,{"$f":"IF(A46=\"\",\"\",\"Commentaire :\")","v":""}]
[]
["Réf.","Autre(s) article(s)",null,null,null,null,null,null,null,"TVA","Prix TTC","Prix HT","Poids Brut (g)"]
["TVA55",null,null,null,null,null,null,null,null,5.5E-2,null,{"$f":"ROUNDDOWN(K50/(1+J50),2)","v":0},null,null,null,null,null,{"$f":"L50","v":0},{"$f":"K50","v":0},null,null,null,{"$f":"K50-L50","v":0}]
["TVA20",null,null,null,null,null,null,null,null,0.2,null,{"$f":"ROUNDDOWN(K51/(1+J51),2)","v":0},null,null,null,null,null,{"$f":"L51","v":0},{"$f":"K51","v":0},null,null,null,null,{"$f":"K51-L51","v":0}]
["TVA20",null,null,null,null,null,null,null,null,0.1,null,{"$f":"ROUNDDOWN(K52/(1+J52),2)","v":0},null,null,null,null,null,{"$f":"L52","v":0},{"$f":"K52","v":0},null,null,null,null,null,{"$f":"K52-L52","v":0}]
[]
["Commentaire",null,null,null,null,null,null,null,"Sous-total (HT)",null,null,null,{"$f":"SUM(R14:R52)","v":5.5924100000000001}]
[null,null,null,null,null,null,null,null,"(TTC)",null,null,null,{"$f":"SUM(S14:S52)","v":5.9},null,"Frais de livraison offerts ?",null,null,"Transporteur"]
[null,null,null,null,null,null,null,null,"Votre remise € (HT)",null,null,null,{"$f":"SUM(U14:U47)","v":1.1224100000000004},null,"Oui"]
[null,null,null,null,null,null,null,null," (TTC)",null,null,null,{"$f":"SUM(V14:V47)","v":1.18}]
[null,null,null,null,null,null,null,null,"Sous-total remisé € (HT)",null,null,null,{"$f":"SUM(M14:M47,L50:L52)","v":4.47},null,"Port personnalisé: ",null,"Assujéti TVA?"]
["Modes de paiements acceptés:",null,null,"POIDS TOTAL DE LA COMMANDE AVEC EMBALLAGE",null,null,null,null,"(TTC)",null,null,null,{"$f":"SUM(T14:T47,K50:K52)","v":4.72},null,null,"€ HT","Non"]
[null,null,null,null,null,null,null,null,"Remise commerciale accordée sur montant HT",null,null,null,{"$f":"IF(O63=\"\",\"\",\"- \"& O63&\" \"&P63)","v":""}]
["Chèque, CB, Paypal, Virement, Espèces",null,null,{"$f":"MROUND(IF(SUM(P14:P52)<=10,SUM(P14:P52)*1.1,IF(SUM(P14:P52)>=10.01,SUM(P14:P52)*1.065)),0.05)","v":1.6},null,null,null,null,"Solde après remise commerciale (HT) ",null,null,null,{"$f":"IF(O63=\"\",\"\",IF(P63=\"%\",M58-M58*O63/100,M58-O63))","v":""},null,"Remise commerciale HT hors frais de livraison"]
[null,null,null,null,null,null,null,null,"(TTC) ",null,null,null,{"$f":"IF(O63=\"\",\"\",IF(P63=\"%\",ROUNDUP(M59-M59*O63/100,2),ROUNDUP(M59-M59*(O63/M58),2)))","v":""}]
[null,null,null,"FRAIS DE CONDITIONNEMENT ET DE LIVRAISON:",null,null,null,null,"(1) Frais de cond. et de livraisons € (HT):",null,null,null,{"$f":"IF(O56=\"Non\",IF(O59=\"\",VLOOKUP(D61,Paramètres!G3:K50,3,TRUE),O59),0)","v":0},null,null,"€"]
[null,null,null,{"$f":"IF(O56=\"Non\",IF(O59=\"\",VLOOKUP(D61,Paramètres!G3:K50,3,TRUE),O59),0)","v":0},null,{"$f":"IF(O56=\"Oui\",R56,IF(O59=\"\",VLOOKUP(D61,Paramètres!G3:K50,5,TRUE),IF(R56=\"\",\"Autre moy. de livraison\",R56)))","v":0},null,null,"€ (TTC)",null,null,null,{"$f":"IF(O56=\"Non\",IF(O59=\"\",VLOOKUP(D61,Paramètres!G3:K50,4,TRUE),O59*(1+Paramètres!C4)),0)","v":0}]
[null,null,null,null,null,null,null,null,"Total € (HT)",null,null,null,{"$f":"IF(M61=\"\",ROUNDDOWN(M58+M63,2),ROUNDDOWN(M61+M63,2))","v":4.47},null,null,null,null,{"$f":"SUM(W14:W52)","v":0.25},{"$f":"IFERROR(IF(P63=\"%\",ROUNDUP(R65-R65*O63/100,2),ROUNDUP(R65-R65*O63/M58,2)),0)","v":0.25}]
["Frais de livraison applicables uniquement pour les envois vers départements de France métropolitaine (hors Corse, DOM-TOM et international)",null,null,null,null,null,null,null,"Total à régler € (TTC)",null,null,null,{"$f":"IF(M62=\"\",ROUNDUP(M59+M64,2),ROUNDUP(M62+M64,2))","v":4.72},null,null,null,null,{"$f":"SUM(X14:X52)","v":0},{"$f":"IFERROR(IF(P63=\"%\",ROUNDUP(R66-R66*O63/100,2),ROUNDUP(R66-R66*O63/M58,2)),0)","v":0},{"$f":"M64-M63","v":0}]
[null,null,null,null,null,null,null,null,null,null,null,null,null,null,null,null,null,{"$f":"SUM(Y15:Y53)","v":0},{"$f":"IFERROR(IF(P63=\"%\",ROUNDUP(R67-R67*O63/100,2),ROUNDUP(R67-R67*O63/M59,2)),0)","v":0}]
[null,null,null,null,null,null,null,null,null,null,"dont TVA à 5,5%:",null,{"$f":"IFERROR(S65,0)","v":0.25}]
[null,null,null,null,null,null,null,null,null,null,"dont TVA à 20%:",null,{"$f":"IFERROR(S66+T66,0)","v":0}]
[null,null,null,null,null,null,null,null,null,null,"dont TVA à 10%:",null,{"$f":"IFERROR(S67,0)","v":0}]
[]
[]
[]
[]
[]
[]
[]
["SARL au capital de 7 622,45 € - RCS Marmande 402 145 437 - SIRET 402 145 437 00016 - TVA Intracom. FR 84 40 214 54 37\nPas d'escompte pour paiement anticipé - Indemnité forfaitaire de 40€ pour frais de recouvrement en cas de retard de paiement"]

{"sheet":"Bon de Livraison","index":9,"n_rows":67,"n_cols":24,"rows_kept":67,"cut":false,"hidden":true,"merged":[[6,10,6,12],[7,6,7,8],[7,10,7,12],[8,0,10,4],[8,6,8,8],[8,10,8,12],[10,5,10,6],[10,7,10,12],[0,0,7,4],[0,5,1,6],[0,7,1,8],[0,9,1,10],[0,11,1,12],[3,6,3,8],[3,10,3,12],[4,5,5,5],[4,6,5,12],[6,6,6,8],[9,5,9,6],[9,7,9,12],[12,20,13,20],[12,21,13,21],[12,22,13,22],[12,23,13,23],[14,0,15,0],[14,1,14,5],[14,7,14,9],[14,11,15,11],[14,12,15,12],[14,14,15,14],[12,12,13,12],[12,14,13,14],[12,15,13,15],[12,17,13,17],[12,18,13,18],[12,19,13,19],[12,0,13,0],[12,1,13,5],[12,6,13,6],[12,7,13,9],[12,10,13,10],[12,11,13,11],[17,2,17,7],[17,9,17,10],[18,0,19,0],[18,1,18,5],[18,7,18,9],[18,11,19,11],[14,15,15,15],[15,2,15,7],[15,9,15,10],[16,0,17,0],[16,1,16,5],[16,7,16,9],[16,11,17,11],[16,12,17,12],[16,14,17,14],[16,15,17,15],[18,12,19,12],[18,14,19,14],[18,15,19,15],[19,2,19,7],[19,9,19,10],[20,0,21,0],[20,1,20,5],[20,7,20,9],[20,11,21,11],[20,12,21,12],[20,14,21,14],[20,15,21,15],[21,2,21,7],[21,9,21,10],[22,15,23,15],[23,2,23,7],[23,9,23,10],[24,0,25,0],[24,1,24,5],[24,7,24,9],[24,11,25,11],[24,12,25,12],[24,14,25,14],[24,15,25,15],[22,0,23,0],[22,1,22,5],[22,7,22,9],[22,11,23,11],[22,12,23,12],[22,14,23,14],[25,2,25,7],[25,9,25,10],[26,15,27,15],[27,2,27,7],[27,9,27,10],[28,0,29,0],[28,1,28,5],[28,7,28,9],[28,11,29,11],[28,12,29,12],[28,14,29,14],[28,15,29,15],[29,2,29,7],[29,9,29,10],[26,0,27,0],[26,1,26,5],[26,7,26,9],[26,11,27,11],[26,12,27,12],[26,14,27,14],[30,15,31,15],[31,2,31,7],[31,9,31,10],[32,0,33,0],[32,1,32,5],[32,7,32,9],[32,11,33,11],[32,12,33,12],[32,14,33,14],[32,15,33,15],[30,0,31,0],[30,1,30,5],[30,7,30,9],[30,11,31,11],[30,12,31,12],[30,14,31,14],[33,2,33,7],[33,9,33,10],[34,15,35,15],[35,2,35,7],[35,9,35,10],[36,0,37,0],[36,1,36,5],[36,7,36,9],[36,11,37,11],[36,12,37,12],[36,14,37,14],[36,15,37,15],[37,2,37,7],[37,9,37,10],[34,0,35,0],[34,1,34,5],[34,7,34,9],[34,11,35,11],[34,12,35,12],[34,14,35,14],[38,15,39,15],[39,2,39,7],[39,9,39,10],[40,0,41,0],[40,1,40,5],[40,7,40,9],[40,11,41,11],[40,12,41,12],[40,14,41,14],[40,15,41,15],[38,0,39,0],[38,1,38,5],[38,7,38,9],[38,11,39,11],[38,12,39,12],[38,14,39,14],[41,2,41,7],[41,9,41,10],[42,15,43,15],[43,2,43,7],[43,9,43,10],[44,0,45,0],[44,1,44,5],[44,7,44,9],[44,11,45,11],[44,12,45,12],[44,14,45,14],[44,15,45,15],[45,2,45,7],[45,9,45,10],[42,0,43,0],[42,1,42,5],[42,7,42,9],[42,11,43,11],[42,12,43,12],[42,14,43,14],[46,15,47,15],[47,2,47,7],[47,9,47,10],[48,0,49,0],[48,1,48,5],[48,7,48,9],[48,11,49,11],[48,12,49,12],[48,14,49,14],[48,15,49,15],[46,0,47,0],[46,1,46,5],[46,7,46,9],[46,11,47,11],[46,12,47,12],[46,14,47,14],[49,2,49,7],[49,9,49,10],[50,1,50,4],[51,0,52,0],[51,1,52,9],[51,10,52,10],[51,11,52,11],[51,12,52,12],[54,2,54,9],[55,0,56,0],[55,1,55,9],[55,10,56,10],[55,11,56,11],[55,12,56,12],[51,21,52,21],[51,22,52,22],[51,23,52,23],[53,0,54,0],[53,1,53,9],[53,10,54,10],[53,11,54,11],[53,12,54,12],[53,14,54,14],[53,15,54,15],[51,14,52,14],[51,15,52,15],[51,17,52,17],[51,18,52,18],[51,19,52,19],[51,20,52,20],[55,14,56,14],[55,15,56,15],[56,2,56,9],[57,1,57,4],[58,1,58,4],[59,0,59,6],[59,8,59,9],[59,11,59,12],[59,14,63,16],[60,0,63,6],[64,0,64,2],[66,0,67,12],[68,1,68,4],[69,1,69,4],[70,1,70,4],[71,1,71,4],[60,8,61,9],[60,11,60,12],[61,11,62,11],[61,12,62,12],[62,8,62,9],[63,8,63,9],[78,1,78,4],[79,1,79,4],[80,1,80,4],[81,1,81,4],[82,1,82,4],[83,1,83,4],[72,1,72,4],[73,1,73,4],[74,1,74,4],[75,1,75,4],[76,1,76,4],[77,1,77,4],[90,1,90,4],[91,1,91,4],[92,1,92,4],[93,1,93,4],[94,1,94,4],[95,1,95,4],[84,1,84,4],[85,1,85,4],[86,1,86,4],[87,1,87,4],[88,1,88,4],[89,1,89,4],[102,1,102,4],[103,1,103,4],[104,1,104,4],[105,1,105,4],[106,1,106,4],[107,1,107,4],[96,1,96,4],[97,1,97,4],[98,1,98,4],[99,1,99,4],[100,1,100,4],[101,1,101,4],[114,1,114,4],[115,1,115,4],[116,1,116,4],[117,1,117,4],[118,1,118,4],[119,1,119,4],[108,1,108,4],[109,1,109,4],[110,1,110,4],[111,1,111,4],[112,1,112,4],[113,1,113,4],[126,1,126,4],[127,1,127,4],[128,1,128,4],[129,1,129,4],[130,1,130,4],[131,1,131,4],[120,1,120,4],[121,1,121,4],[122,1,122,4],[123,1,123,4],[124,1,124,4],[125,1,125,4],[138,1,138,4],[139,1,139,4],[140,1,140,4],[141,1,141,4],[142,1,142,4],[143,1,143,4],[132,1,132,4],[133,1,133,4],[134,1,134,4],[135,1,135,4],[136,1,136,4],[137,1,137,4],[150,1,150,4],[151,1,151,4],[152,1,152,4],[153,1,153,4],[154,1,154,4],[155,1,155,4],[144,1,144,4],[145,1,145,4],[146,1,146,4],[147,1,147,4],[148,1,148,4],[149,1,149,4],[168,1,168,4],[169,1,169,4],[162,1,162,4],[163,1,163,4],[164,1,164,4],[165,1,165,4],[166,1,166,4],[167,1,167,4],[156,1,156,4],[157,1,157,4],[158,1,158,4],[159,1,159,4],[160,1,160,4],[161,1,161,4]]}
[null,null,null,null,null,"BON DE LIVRAISON N° ",null,{"$f":"\"BL\"&Facture!H1","v":"BL"},null,"DATE: ",null,{"$f":"IF(Facture!L1=\"\",\"Cellule ''DATE'' sur ''Facture'' non remplie !\",Facture!L1)","v":"2019-09-25"}]
[]
[]
[null,null,null,null,null,"Entreprise:",{"$f":"Coordonnées_client!$C$2","v":0},null,null,"Tél.:",{"$f":"Coordonnées_client!$I$2","v":0}]
[null,null,null,null,null,"Adresse:",{"$f":"Coordonnées_client!$F$2","v":0}]
[]
[null,null,null,null,null,"CP:",{"$f":"Coordonnées_client!$G$2","v":0},null,null,"Ville:",{"$f":"Coordonnées_client!$H$2","v":0}]
[null,null,null,null,null,"Nom:",{"$f":"Coordonnées_client!$K$2","v":0},null,null,"Prénom:",{"$f":"Coordonnées_client!$L$2","v":0}]
["lieu-dit «Braunès» 47320 Lafitte-sur-Lot\n05 53 84 04 17 • mdpruneau.vpc@orange.fr\nwww.maisondupruneau.com",null,null,null,null,"Ligne directe:",{"$f":"Coordonnées_client!$N$2","v":0},null,null,"Mail:",{"$f":"Coordonnées_client!$O$2","v":0}]
[]
[]
[]
["Réf.","Désignation",null,null,null,null,"Contenance","EAN",null,null,"Poids brut","Quantité à livrer","Quantité art.  livrés",null,"Colisage\npar lot de: ","Total Poids\nLigne"]
[]
[{"$f":"Facture!A14","v":"3B"},{"$f":"IF(ISNA(VLOOKUP($A15,Produits!$A$1:$O$307,2,FALSE)),\"\",VLOOKUP($A15,Produits!$A$1:$O$307,2,FALSE))","v":"Jus de pruneaux BIO"},null,null,null,null,{"$f":"IF(ISNA(VLOOKUP($A15,Produits!$A$1:$O$307,3,FALSE)),\"\",VLOOKUP($A15,Produits!$A$1:$O$307,3,FALSE))","v":"1L"},{"$f":"IF(ISNA(VLOOKUP($A15,Produits!$A$1:$O$307,14,FALSE)),\"\",VLOOKUP($A15,Produits!$A$1:$O$307,14,FALSE))","v":3760219062899},null,null,{"$f":"IF(ISNA(VLOOKUP($A15,Produits!$A$1:$O$307,15,FALSE)),\"\",VLOOKUP($A15,Produits!$A$1:$O$307,15,FALSE))","v":1450},{"$f":"Facture!L14","v":1},null,null,{"$f":"IF(ISNA(VLOOKUP($A15,Produits!$A$1:$O$307,5,FALSE)),\"\",VLOOKUP($A15,Produits!$A$1:$O$307,5,FALSE))","v":6},{"$f":"IFERROR($L15*$K15/1000,\"\")","v":1.45}]
[null,{"$f":"IF(A15=\"\",\"\",\"Commentaire :\")","v":"Commentaire :"},null,null,null,null,null,null,{"$f":"IF(A15=\"\",\"\",\"N° LOT :\")","v":"N° LOT :"}]
[{"$f":"Facture!A16","v":0},{"$f":"IF(ISNA(VLOOKUP($A17,Produits!$A$1:$O$307,2,FALSE)),\"\",VLOOKUP($A17,Produits!$A$1:$O$307,2,FALSE))","v":""},null,null,null,null,{"$f":"IF(ISNA(VLOOKUP($A17,Produits!$A$1:$O$307,3,FALSE)),\"\",VLOOKUP($A17,Produits!$A$1:$O$307,3,FALSE))","v":""},{"$f":"IF(ISNA(VLOOKUP($A17,Produits!$A$1:$O$307,14,FALSE)),\"\",VLOOKUP($A17,Produits!$A$1:$O$307,14,FALSE))","v":""},null,null,{"$f":"IF(ISNA(VLOOKUP($A17,Produits!$A$1:$O$307,15,FALSE)),\"\",VLOOKUP($A17,Produits!$A$1:$O$307,15,FALSE))","v":""},{"$f":"Facture!L16","v":0},null,null,{"$f":"IF(ISNA(VLOOKUP($A17,Produits!$A$1:$O$307,5,FALSE)),\"\",VLOOKUP($A17,Produits!$A$1:$O$307,5,FALSE))","v":""},{"$f":"IFERROR($L17*$K17/1000,\"\")","v":""}]
[null,{"$f":"IF(A17=\"\",\"\",\"Commentaire :\")","v":"Commentaire :"},null,null,null,null,null,null,{"$f":"IF(A17=\"\",\"\",\"N° LOT :\")","v":"N° LOT :"}]
[{"$f":"Facture!A18","v":0},{"$f":"IF(ISNA(VLOOKUP($A19,Produits!$A$1:$O$307,2,FALSE)),\"\",VLOOKUP($A19,Produits!$A$1:$O$307,2,FALSE))","v":""},null,null,null,null,{"$f":"IF(ISNA(VLOOKUP($A19,Produits!$A$1:$O$307,3,FALSE)),\"\",VLOOKUP($A19,Produits!$A$1:$O$307,3,FALSE))","v":""},{"$f":"IF(ISNA(VLOOKUP($A19,Produits!$A$1:$O$307,14,FALSE)),\"\",VLOOKUP($A19,Produits!$A$1:$O$307,14,FALSE))","v":""},null,null,{"$f":"IF(ISNA(VLOOKUP($A19,Produits!$A$1:$O$307,15,FALSE)),\"\",VLOOKUP($A19,Produits!$A$1:$O$307,15,FALSE))","v":""},{"$f":"Facture!L18","v":0},null,null,{"$f":"IF(ISNA(VLOOKUP($A19,Produits!$A$1:$O$307,5,FALSE)),\"\",VLOOKUP($A19,Produits!$A$1:$O$307,5,FALSE))","v":""},{"$f":"IFERROR($L19*$K19/1000,\"\")","v":""}]
[null,{"$f":"IF(A19=\"\",\"\",\"Commentaire :\")","v":"Commentaire :"},null,null,null,null,null,null,{"$f":"IF(A19=\"\",\"\",\"N° LOT :\")","v":"N° LOT :"}]
[{"$f":"Facture!A20","v":0},{"$f":"IF(ISNA(VLOOKUP($A21,Produits!$A$1:$O$307,2,FALSE)),\"\",VLOOKUP($A21,Produits!$A$1:$O$307,2,FALSE))","v":""},null,null,null,null,{"$f":"IF(ISNA(VLOOKUP($A21,Produits!$A$1:$O$307,3,FALSE)),\"\",VLOOKUP($A21,Produits!$A$1:$O$307,3,FALSE))","v":""},{"$f":"IF(ISNA(VLOOKUP($A21,Produits!$A$1:$O$307,14,FALSE)),\"\",VLOOKUP($A21,Produits!$A$1:$O$307,14,FALSE))","v":""},null,null,{"$f":"IF(ISNA(VLOOKUP($A21,Produits!$A$1:$O$307,15,FALSE)),\"\",VLOOKUP($A21,Produits!$A$1:$O$307,15,FALSE))","v":""},{"$f":"Facture!L20","v":0},null,null,{"$f":"IF(ISNA(VLOOKUP($A21,Produits!$A$1:$O$307,5,FALSE)),\"\",VLOOKUP($A21,Produits!$A$1:$O$307,5,FALSE))","v":""},{"$f":"IFERROR($L21*$K21/1000,\"\")","v":""}]
[null,{"$f":"IF(A21=\"\",\"\",\"Commentaire :\")","v":"Commentaire :"},null,null,null,null,null,null,{"$f":"IF(A21=\"\",\"\",\"N° LOT :\")","v":"N° LOT :"}]
[{"$f":"Facture!A22","v":0},{"$f":"IF(ISNA(VLOOKUP($A23,Produits!$A$1:$O$307,2,FALSE)),\"\",VLOOKUP($A23,Produits!$A$1:$O$307,2,FALSE))","v":""},null,null,null,null,{"$f":"IF(ISNA(VLOOKUP($A23,Produits!$A$1:$O$307,3,FALSE)),\"\",VLOOKUP($A23,Produits!$A$1:$O$307,3,FALSE))","v":""},{"$f":"IF(ISNA(VLOOKUP($A23,Produits!$A$1:$O$307,14,FALSE)),\"\",VLOOKUP($A23,Produits!$A$1:$O$307,14,FALSE))","v":""},null,null,{"$f":"IF(ISNA(VLOOKUP($A23,Produits!$A$1:$O$307,15,FALSE)),\"\",VLOOKUP($A23,Produits!$A$1:$O$307,15,FALSE))","v":""},{"$f":"Facture!L22","v":0},null,null,{"$f":"IF(ISNA(VLOOKUP($A23,Produits!$A$1:$O$307,5,FALSE)),\"\",VLOOKUP($A23,Produits!$A$1:$O$307,5,FALSE))","v":""},{"$f":"IFERROR($L23*$K23/1000,\"\")","v":""}]
[null,{"$f":"IF(A23=\"\",\"\",\"Commentaire :\")","v":"Commentaire :"},null,null,null,null,null,null,{"$f":"IF(A23=\"\",\"\",\"N° LOT :\")","v":"N° LOT :"}]
[{"$f":"Facture!A24","v":0},{"$f":"IF(ISNA(VLOOKUP($A25,Produits!$A$1:$O$307,2,FALSE)),\"\",VLOOKUP($A25,Produits!$A$1:$O$307,2,FALSE))","v":""},null,null,null,null,{"$f":"IF(ISNA(VLOOKUP($A25,Produits!$A$1:$O$307,3,FALSE)),\"\",VLOOKUP($A25,Produits!$A$1:$O$307,3,FALSE))","v":""},{"$f":"IF(ISNA(VLOOKUP($A25,Produits!$A$1:$O$307,14,FALSE)),\"\",VLOOKUP($A25,Produits!$A$1:$O$307,14,FALSE))","v":""},null,null,{"$f":"IF(ISNA(VLOOKUP($A25,Produits!$A$1:$O$307,15,FALSE)),\"\",VLOOKUP($A25,Produits!$A$1:$O$307,15,FALSE))","v":""},{"$f":"Facture!L24","v":0},null,null,{"$f":"IF(ISNA(VLOOKUP($A25,Produits!$A$1:$O$307,5,FALSE)),\"\",VLOOKUP($A25,Produits!$A$1:$O$307,5,FALSE))","v":""},{"$f":"IFERROR($L25*$K25/1000,\"\")","v":""}]
[null,{"$f":"IF(A25=\"\",\"\",\"Commentaire :\")","v":"Commentaire :"},null,null,null,null,null,null,{"$f":"IF(A25=\"\",\"\",\"N° LOT :\")","v":"N° LOT :"}]
[{"$f":"Facture!A26","v":0},{"$f":"IF(ISNA(VLOOKUP($A27,Produits!$A$1:$O$307,2,FALSE)),\"\",VLOOKUP($A27,Produits!$A$1:$O$307,2,FALSE))","v":""},null,null,null,null,{"$f":"IF(ISNA(VLOOKUP($A27,Produits!$A$1:$O$307,3,FALSE)),\"\",VLOOKUP($A27,Produits!$A$1:$O$307,3,FALSE))","v":""},{"$f":"IF(ISNA(VLOOKUP($A27,Produits!$A$1:$O$307,14,FALSE)),\"\",VLOOKUP($A27,Produits!$A$1:$O$307,14,FALSE))","v":""},null,null,{"$f":"IF(ISNA(VLOOKUP($A27,Produits!$A$1:$O$307,15,FALSE)),\"\",VLOOKUP($A27,Produits!$A$1:$O$307,15,FALSE))","v":""},{"$f":"Facture!L26","v":0},null,null,{"$f":"IF(ISNA(VLOOKUP($A27,Produits!$A$1:$O$307,5,FALSE)),\"\",VLOOKUP($A27,Produits!$A$1:$O$307,5,FALSE))","v":""},{"$f":"IFERROR($L27*$K27/1000,\"\")","v":""}]
[null,{"$f":"IF(A27=\"\",\"\",\"Commentaire :\")","v":"Commentaire :"},null,null,null,null,null,null,{"$f":"IF(A27=\"\",\"\",\"N° LOT :\")","v":"N° LOT :"}]
[{"$f":"Facture!A28","v":0},{"$f":"IF(ISNA(VLOOKUP($A29,Produits!$A$1:$O$307,2,FALSE)),\"\",VLOOKUP($A29,Produits!$A$1:$O$307,2,FALSE))","v":""},null,null,null,null,{"$f":"IF(ISNA(VLOOKUP($A29,Produits!$A$1:$O$307,3,FALSE)),\"\",VLOOKUP($A29,Produits!$A$1:$O$307,3,FALSE))","v":""},{"$f":"IF(ISNA(VLOOKUP($A29,Produits!$A$1:$O$307,14,FALSE)),\"\",VLOOKUP($A29,Produits!$A$1:$O$307,14,FALSE))","v":""},null,null,{"$f":"IF(ISNA(VLOOKUP($A29,Produits!$A$1:$O$307,15,FALSE)),\"\",VLOOKUP($A29,Produits!$A$1:$O$307,15,FALSE))","v":""},{"$f":"Facture!L28","v":0},null,null,{"$f":"IF(ISNA(VLOOKUP($A29,Produits!$A$1:$O$307,5,FALSE)),\"\",VLOOKUP($A29,Produits!$A$1:$O$307,5,FALSE))","v":""},{"$f":"IFERROR($L29*$K29/1000,\"\")","v":""}]
[null,{"$f":"IF(A29=\"\",\"\",\"Commentaire :\")","v":"Commentaire :"},null,null,null,null,null,null,{"$f":"IF(A29=\"\",\"\",\"N° LOT :\")","v":"N° LOT :"}]
[{"$f":"Facture!A30","v":0},{"$f":"IF(ISNA(VLOOKUP($A31,Produits!$A$1:$O$307,2,FALSE)),\"\",VLOOKUP($A31,Produits!$A$1:$O$307,2,FALSE))","v":""},null,null,null,null,{"$f":"IF(ISNA(VLOOKUP($A31,Produits!$A$1:$O$307,3,FALSE)),\"\",VLOOKUP($A31,Produits!$A$1:$O$307,3,FALSE))","v":""},{"$f":"IF(ISNA(VLOOKUP($A31,Produits!$A$1:$O$307,14,FALSE)),\"\",VLOOKUP($A31,Produits!$A$1:$O$307,14,FALSE))","v":""},null,null,{"$f":"IF(ISNA(VLOOKUP($A31,Produits!$A$1:$O$307,15,FALSE)),\"\",VLOOKUP($A31,Produits!$A$1:$O$307,15,FALSE))","v":""},{"$f":"Facture!L30","v":0},null,null,{"$f":"IF(ISNA(VLOOKUP($A31,Produits!$A$1:$O$307,5,FALSE)),\"\",VLOOKUP($A31,Produits!$A$1:$O$307,5,FALSE))","v":""},{"$f":"IFERROR($L31*$K31/1000,\"\")","v":""}]
[null,{"$f":"IF(A31=\"\",\"\",\"Commentaire :\")","v":"Commentaire :"},null,null,null,null,null,null,{"$f":"IF(A31=\"\",\"\",\"N° LOT :\")","v":"N° LOT :"}]
[{"$f":"Facture!A32","v":0},{"$f":"IF(ISNA(VLOOKUP($A33,Produits!$A$1:$O$307,2,FALSE)),\"\",VLOOKUP($A33,Produits!$A$1:$O$307,2,FALSE))","v":""},null,null,null,null,{"$f":"IF(ISNA(VLOOKUP($A33,Produits!$A$1:$O$307,3,FALSE)),\"\",VLOOKUP($A33,Produits!$A$1:$O$307,3,FALSE))","v":""},{"$f":"IF(ISNA(VLOOKUP($A33,Produits!$A$1:$O$307,14,FALSE)),\"\",VLOOKUP($A33,Produits!$A$1:$O$307,14,FALSE))","v":""},null,null,{"$f":"IF(ISNA(VLOOKUP($A33,Produits!$A$1:$O$307,15,FALSE)),\"\",VLOOKUP($A33,Produits!$A$1:$O$307,15,FALSE))","v":""},{"$f":"Facture!L32","v":0},null,null,{"$f":"IF(ISNA(VLOOKUP($A33,Produits!$A$1:$O$307,5,FALSE)),\"\",VLOOKUP($A33,Produits!$A$1:$O$307,5,FALSE))","v":""},{"$f":"IFERROR($L33*$K33/1000,\"\")","v":""}]
[null,{"$f":"IF(A33=\"\",\"\",\"Commentaire :\")","v":"Commentaire :"},null,null,null,null,null,null,{"$f":"IF(A33=\"\",\"\",\"N° LOT :\")","v":"N° LOT :"}]
[{"$f":"Facture!A34","v":0},{"$f":"IF(ISNA(VLOOKUP($A35,Produits!$A$1:$O$307,2,FALSE)),\"\",VLOOKUP($A35,Produits!$A$1:$O$307,2,FALSE))","v":""},null,null,null,null,{"$f":"IF(ISNA(VLOOKUP($A35,Produits!$A$1:$O$307,3,FALSE)),\"\",VLOOKUP($A35,Produits!$A$1:$O$307,3,FALSE))","v":""},{"$f":"IF(ISNA(VLOOKUP($A35,Produits!$A$1:$O$307,14,FALSE)),\"\",VLOOKUP($A35,Produits!$A$1:$O$307,14,FALSE))","v":""},null,null,{"$f":"IF(ISNA(VLOOKUP($A35,Produits!$A$1:$O$307,15,FALSE)),\"\",VLOOKUP($A35,Produits!$A$1:$O$307,15,FALSE))","v":""},{"$f":"Facture!L34","v":0},null,null,{"$f":"IF(ISNA(VLOOKUP($A35,Produits!$A$1:$O$307,5,FALSE)),\"\",VLOOKUP($A35,Produits!$A$1:$O$307,5,FALSE))","v":""},{"$f":"IFERROR($L35*$K35/1000,\"\")","v":""}]
[null,{"$f":"IF(A35=\"\",\"\",\"Commentaire :\")","v":"Commentaire :"},null,null,null,null,null,null,{"$f":"IF(A35=\"\",\"\",\"N° LOT :\")","v":"N° LOT :"}]
[{"$f":"Facture!A36","v":0},{"$f":"IF(ISNA(VLOOKUP($A37,Produits!$A$1:$O$307,2,FALSE)),\"\",VLOOKUP($A37,Produits!$A$1:$O$307,2,FALSE))","v":""},null,null,null,null,{"$f":"IF(ISNA(VLOOKUP($A37,Produits!$A$1:$O$307,3,FALSE)),\"\",VLOOKUP($A37,Produits!$A$1:$O$307,3,FALSE))","v":""},{"$f":"IF(ISNA(VLOOKUP($A37,Produits!$A$1:$O$307,14,FALSE)),\"\",VLOOKUP($A37,Produits!$A$1:$O$307,14,FALSE))","v":""},null,null,{"$f":"IF(ISNA(VLOOKUP($A37,Produits!$A$1:$O$307,15,FALSE)),\"\",VLOOKUP($A37,Produits!$A$1:$O$307,15,FALSE))","v":""},{"$f":"Facture!L36","v":0},null,null,{"$f":"IF(ISNA(VLOOKUP($A37,Produits!$A$1:$O$307,5,FALSE)),\"\",VLOOKUP($A37,Produits!$A$1:$O$307,5,FALSE))","v":""},{"$f":"IFERROR($L37*$K37/1000,\"\")","v":""}]
[null,{"$f":"IF(A37=\"\",\"\",\"Commentaire :\")","v":"Commentaire :"},null,null,null,null,null,null,{"$f":"IF(A37=\"\",\"\",\"N° LOT :\")","v":"N° LOT :"}]
[{"$f":"Facture!A38","v":0},{"$f":"IF(ISNA(VLOOKUP($A39,Produits!$A$1:$O$307,2,FALSE)),\"\",VLOOKUP($A39,Produits!$A$1:$O$307,2,FALSE))","v":""},null,null,null,null,{"$f":"IF(ISNA(VLOOKUP($A39,Produits!$A$1:$O$307,3,FALSE)),\"\",VLOOKUP($A39,Produits!$A$1:$O$307,3,FALSE))","v":""},{"$f":"IF(ISNA(VLOOKUP($A39,Produits!$A$1:$O$307,14,FALSE)),\"\",VLOOKUP($A39,Produits!$A$1:$O$307,14,FALSE))","v":""},null,null,{"$f":"IF(ISNA(VLOOKUP($A39,Produits!$A$1:$O$307,15,FALSE)),\"\",VLOOKUP($A39,Produits!$A$1:$O$307,15,FALSE))","v":""},{"$f":"Facture!L38","v":0},null,null,{"$f":"IF(ISNA(VLOOKUP($A39,Produits!$A$1:$O$307,5,FALSE)),\"\",VLOOKUP($A39,Produits!$A$1:$O$307,5,FALSE))","v":""},{"$f":"IFERROR($L39*$K39/1000,\"\")","v":""}]
[null,{"$f":"IF(A39=\"\",\"\",\"Commentaire :\")","v":"Commentaire :"},null,null,null,null,null,null,{"$f":"IF(A39=\"\",\"\",\"N° LOT :\")","v":"N° LOT :"}]
[{"$f":"Facture!A40","v":0},{"$f":"IF(ISNA(VLOOKUP($A41,Produits!$A$1:$O$307,2,FALSE)),\"\",VLOOKUP($A41,Produits!$A$1:$O$307,2,FALSE))","v":""},null,null,null,null,{"$f":"IF(ISNA(VLOOKUP($A41,Produits!$A$1:$O$307,3,FALSE)),\"\",VLOOKUP($A41,Produits!$A$1:$O$307,3,FALSE))","v":""},{"$f":"IF(ISNA(VLOOKUP($A41,Produits!$A$1:$O$307,14,FALSE)),\"\",VLOOKUP($A41,Produits!$A$1:$O$307,14,FALSE))","v":""},null,null,{"$f":"IF(ISNA(VLOOKUP($A41,Produits!$A$1:$O$307,15,FALSE)),\"\",VLOOKUP($A41,Produits!$A$1:$O$307,15,FALSE))","v":""},{"$f":"Facture!L40","v":0},null,null,{"$f":"IF(ISNA(VLOOKUP($A41,Produits!$A$1:$O$307,5,FALSE)),\"\",VLOOKUP($A41,Produits!$A$1:$O$307,5,FALSE))","v":""},{"$f":"IFERROR($L41*$K41/1000,\"\")","v":""}]
[null,{"$f":"IF(A41=\"\",\"\",\"Commentaire :\")","v":"Commentaire :"},null,null,null,null,null,null,{"$f":"IF(A41=\"\",\"\",\"N° LOT :\")","v":"N° LOT :"}]
[{"$f":"Facture!A42","v":0},{"$f":"IF(ISNA(VLOOKUP($A43,Produits!$A$1:$O$307,2,FALSE)),\"\",VLOOKUP($A43,Produits!$A$1:$O$307,2,FALSE))","v":""},null,null,null,null,{"$f":"IF(ISNA(VLOOKUP($A43,Produits!$A$1:$O$307,3,FALSE)),\"\",VLOOKUP($A43,Produits!$A$1:$O$307,3,FALSE))","v":""},{"$f":"IF(ISNA(VLOOKUP($A43,Produits!$A$1:$O$307,14,FALSE)),\"\",VLOOKUP($A43,Produits!$A$1:$O$307,14,FALSE))","v":""},null,null,{"$f":"IF(ISNA(VLOOKUP($A43,Produits!$A$1:$O$307,15,FALSE)),\"\",VLOOKUP($A43,Produits!$A$1:$O$307,15,FALSE))","v":""},{"$f":"Facture!L42","v":0},null,null,{"$f":"IF(ISNA(VLOOKUP($A43,Produits!$A$1:$O$307,5,FALSE)),\"\",VLOOKUP($A43,Produits!$A$1:$O$307,5,FALSE))","v":""},{"$f":"IFERROR($L43*$K43/1000,\"\")","v":""}]
[null,{"$f":"IF(A43=\"\",\"\",\"Commentaire :\")","v":"Commentaire :"},null,null,null,null,null,null,{"$f":"IF(A43=\"\",\"\",\"N° LOT :\")","v":"N° LOT :"}]
[{"$f":"Facture!A44","v":0},{"$f":"IF(ISNA(VLOOKUP($A45,Produits!$A$1:$O$307,2,FALSE)),\"\",VLOOKUP($A45,Produits!$A$1:$O$307,2,FALSE))","v":""},null,null,null,null,{"$f":"IF(ISNA(VLOOKUP($A45,Produits!$A$1:$O$307,3,FALSE)),\"\",VLOOKUP($A45,Produits!$A$1:$O$307,3,FALSE))","v":""},{"$f":"IF(ISNA(VLOOKUP($A45,Produits!$A$1:$O$307,14,FALSE)),\"\",VLOOKUP($A45,Produits!$A$1:$O$307,14,FALSE))","v":""},null,null,{"$f":"IF(ISNA(VLOOKUP($A45,Produits!$A$1:$O$307,15,FALSE)),\"\",VLOOKUP($A45,Produits!$A$1:$O$307,15,FALSE))","v":""},{"$f":"Facture!L44","v":0},null,null,{"$f":"IF(ISNA(VLOOKUP($A45,Produits!$A$1:$O$307,5,FALSE)),\"\",VLOOKUP($A45,Produits!$A$1:$O$307,5,FALSE))","v":""},{"$f":"IFERROR($L45*$K45/1000,\"\")","v":""}]
[null,{"$f":"IF(A45=\"\",\"\",\"Commentaire :\")","v":"Commentaire :"},null,null,null,null,null,null,{"$f":"IF(A45=\"\",\"\",\"N° LOT :\")","v":"N° LOT :"}]
[{"$f":"Facture!A46","v":0},{"$f":"IF(ISNA(VLOOKUP($A47,Produits!$A$1:$O$307,2,FALSE)),\"\",VLOOKUP($A47,Produits!$A$1:$O$307,2,FALSE))","v":""},null,null,null,null,{"$f":"IF(ISNA(VLOOKUP($A47,Produits!$A$1:$O$307,3,FALSE)),\"\",VLOOKUP($A47,Produits!$A$1:$O$307,3,FALSE))","v":""},{"$f":"IF(ISNA(VLOOKUP($A47,Produits!$A$1:$O$307,14,FALSE)),\"\",VLOOKUP($A47,Produits!$A$1:$O$307,14,FALSE))","v":""},null,null,{"$f":"IF(ISNA(VLOOKUP($A47,Produits!$A$1:$O$307,15,FALSE)),\"\",VLOOKUP($A47,Produits!$A$1:$O$307,15,FALSE))","v":""},{"$f":"Facture!L46","v":0},null,null,{"$f":"IF(ISNA(VLOOKUP($A47,Produits!$A$1:$O$307,5,FALSE)),\"\",VLOOKUP($A47,Produits!$A$1:$O$307,5,FALSE))","v":""},{"$f":"IFERROR($L47*$K47/1000,\"\")","v":""}]
[null,{"$f":"IF(A47=\"\",\"\",\"Commentaire :\")","v":"Commentaire :"},null,null,null,null,null,null,{"$f":"IF(A47=\"\",\"\",\"N° LOT :\")","v":"N° LOT :"}]
[{"$f":"Facture!A48","v":0},{"$f":"IF(ISNA(VLOOKUP($A49,Produits!$A$1:$O$307,2,FALSE)),\"\",VLOOKUP($A49,Produits!$A$1:$O$307,2,FALSE))","v":""},null,null,null,null,{"$f":"IF(ISNA(VLOOKUP($A49,Produits!$A$1:$O$307,3,FALSE)),\"\",VLOOKUP($A49,Produits!$A$1:$O$307,3,FALSE))","v":""},{"$f":"IF(ISNA(VLOOKUP($A49,Produits!$A$1:$O$307,14,FALSE)),\"\",VLOOKUP($A49,Produits!$A$1:$O$307,14,FALSE))","v":""},null,null,{"$f":"IF(ISNA(VLOOKUP($A49,Produits!$A$1:$O$307,15,FALSE)),\"\",VLOOKUP($A49,Produits!$A$1:$O$307,15,FALSE))","v":""},{"$f":"Facture!L48","v":0},null,null,{"$f":"IF(ISNA(VLOOKUP($A49,Produits!$A$1:$O$307,5,FALSE)),\"\",VLOOKUP($A49,Produits!$A$1:$O$307,5,FALSE))","v":""},{"$f":"IFERROR($L49*$K49/1000,\"\")","v":""}]
[null,"Commentaire :",null,null,null,null,null,null,{"$f":"IF(A49=\"\",\"\",\"N° LOT :\")","v":"N° LOT :"}]
[]
["Réf.","Désignation",null,null,null,null,null,null,null,null,"Poids (g)","Quantité à livrer","Quantité art. livrés",null,"Colisage\npar lot de: ","Total Poids\nLigne",null,"Total ligne\nHT","Total ligne\nTTC","Total ligne\nremisé TTC","Remise HT","Remise TTC","TVA 5,5%","TVA 20%"]
[]
["TVA55",{"$f":"Facture!B50","v":0},null,null,null,null,null,null,null,null,{"$f":"Facture!M50","v":0},{"$f":"IF(Facture!B50=\"\",\"\",1)","v":""},null,null,{"$f":"IF(ISNA(VLOOKUP($A54,Produits!$A$1:$O$307,5,FALSE)),\"\",VLOOKUP($A54,Produits!$A$1:$O$307,5,FALSE))","v":0},{"$f":"IFERROR($L54*$K54/1000,\"\")","v":""}]
[null,{"$f":"IF(A54=\"\",\"\",\"Commentaire :\")","v":"Commentaire :"}]
["TVA20",{"$f":"Facture!B52","v":0},null,null,null,null,null,null,null,null,{"$f":"Facture!M52","v":0},{"$f":"IF(Facture!B52=\"\",\"\",1)","v":""},null,null,{"$f":"IF(ISNA(VLOOKUP($A56,Produits!$A$1:$O$307,5,FALSE)),\"\",VLOOKUP($A56,Produits!$A$1:$O$307,5,FALSE))","v":0},{"$f":"IFERROR($L56*$K56/1000,\"\")","v":""}]
[null,"Commentaire :"]
[]
[]
["Remarques",null,null,null,null,null,null,null,"POIDS TOTAL DE LA COMMANDE À LIVRER",null,null,"Total quantité à livrer"]
[null,null,null,null,null,null,null,null,{"$f":"SUM(P15:P57)","v":1.45},null,null,{"$f":"SUM(L15:L57)","v":1}]
[null,null,null,null,null,null,null,null,null,null,null,"Total Qté\nart. livrés","Qté  art. manquants"]
[null,null,null,null,null,null,null,null,"Méthode de Livraison:"]
[null,null,null,null,null,null,null,null,{"$f":"Facture!F64","v":0},null,null,{"$f":"SUM(M15:M57)","v":0},{"$f":"L61-L64","v":1}]
[]
[]
["SARL au capital de 7 622,45 € - RCS Marmande 402 145 437 - SIRET 402 145 437 00016 - TVA Intracom. FR 84 40 214 54 37\nPas d'escompte pour paiement anticipé - Indemnité forfaitaire de 40€ pour frais de recouvrement en cas de retard de paiement"]

{"sheet":"Etiquettes Colis","index":10,"n_rows":19,"n_cols":6,"rows_kept":19,"cut":false,"hidden":true,"merged":[[3,0,4,0],[3,1,4,3],[3,5,3,7],[4,5,4,7],[13,1,13,3],[13,5,13,7],[7,0,7,7],[11,1,11,7],[12,1,12,7],[0,1,0,7],[1,1,1,7],[2,1,2,3],[2,5,2,7],[5,1,5,3],[5,5,5,7],[18,0,18,7],[14,0,15,0],[14,1,15,3],[14,5,14,7],[15,5,15,7],[16,1,16,3],[16,5,16,7]]}
["Destinataire Entreprise:",{"$f":"Coordonnées_client!$C$2","v":0}]
["Adresse:",{"$f":"Coordonnées_client!$F$2","v":0}]
["CP:",{"$f":"Coordonnées_client!$G$2","v":0},null,null,"Nom",{"$f":"Coordonnées_client!$K$2","v":0}]
["Ville",{"$f":"Coordonnées_client!$H$2","v":0},null,null,"Prénom:",{"$f":"Coordonnées_client!$L$2","v":0}]
[null,null,null,null,"Mail:",{"$f":"Coordonnées_client!$O$2","v":0}]
["Tél.",{"$f":"Coordonnées_client!$I$2","v":0},null,null,"Ligne directe:",{"$f":"Coordonnées_client!$N$2","v":0}]
[]
["Expéditeur: Maison du Pruneau, Lieu-dit \"Braunès\" 47320 LAFITTE-SUR-LOT, Tél.: 05 53 84 04 17, Mail: mdpruneau.vpc@orange.fr"]
[]
[]
[]
["Destinataire Entreprise:",{"$f":"Coordonnées_client!$C$2","v":0}]
["Adresse:",{"$f":"Coordonnées_client!$F$2","v":0}]
["CP:",{"$f":"Coordonnées_client!$G$2","v":0},null,null,"Nom",{"$f":"Coordonnées_client!$K$2","v":0}]
["Ville",{"$f":"Coordonnées_client!$H$2","v":0},null,null,"Prénom:",{"$f":"Coordonnées_client!$L$2","v":0}]
[null,null,null,null,"Mail:",{"$f":"Coordonnées_client!$O$2","v":0}]
["Tél.",{"$f":"Coordonnées_client!$I$2","v":0},null,null,"Ligne directe:",{"$f":"Coordonnées_client!$N$2","v":0}]
[]
["Expéditeur: Maison du Pruneau, Lieu-dit \"Braunès\" 47320 LAFITTE-SUR-LOT, Tél.: 05 53 84 04 17, Mail: mdpruneau.vpc@orange.fr"]

{"sheet":"Produits_composes","index":11,"n_rows":15,"n_cols":27,"rows_kept":15,"cut":false,"hidden":true,"merged":[[3,1,3,5],[4,1,4,5],[5,1,5,5],[6,1,6,5],[2,6,2,8],[3,6,3,8],[4,6,4,8],[5,6,5,8],[6,6,6,8],[0,6,0,8],[0,9,0,11],[1,6,1,8],[1,9,1,11],[2,1,2,5],[0,1,0,5],[1,1,1,5],[2,9,2,11],[9,9,9,11],[7,12,7,13],[8,12,8,13],[9,12,9,13],[3,9,3,11],[4,9,4,11],[5,9,5,11],[6,9,6,11],[5,12,5,13],[6,12,6,13],[7,9,7,11],[8,9,8,11],[0,12,0,13],[1,12,1,13],[2,12,2,13],[3,12,3,13],[4,12,4,13],[10,1,10,5],[10,6,10,8],[10,9,10,11],[10,12,10,13],[11,6,11,8],[11,9,11,11],[11,12,11,13],[11,1,11,5],[7,1,7,5],[8,1,8,5],[9,1,9,5],[7,6,7,8],[8,6,8,8],[9,6,9,8],[12,1,12,5],[13,1,13,5],[14,1,14,5],[14,12,14,13],[12,9,12,11],[13,9,13,11],[14,9,14,11],[12,6,12,8],[13,6,13,8],[14,6,14,8],[12,12,12,13],[13,12,13,13]]}
["Ref","Désignation Assortiments",null,null,null,null,"Composants TVA 5,5%",null,null,"Composants TVA 20%",null,null,"Prix compo. TTC",null,"Poids total","Poids tva 5,5","Poids tva 20","part tva 5,5","part tva 20","TTC TVA 5,5","TTC TVA 20","HT TVA 5,5","HT TVA 20","Total HT","TVA 5,5","TVA 20","Total TVA"]
["41A",{"$f":"VLOOKUP(A2,Produits!$A$1:$O$357,2,FALSE)","v":"Assort. Supr. Prune'Choco® - Mini cagette gourmande"},null,null,null,null,null,null,null,null,null,null,{"$f":"VLOOKUP(A2,Produits!$A$1:$O$357,7,FALSE)","v":18.5},null,400,80,320,{"$f":"ROUND(P2/O2,6)","v":0.2},{"$f":"ROUND(Q2/O2,6)","v":0.8},{"$f":"ROUNDUP(M2*R2,2)","v":3.7},{"$f":"ROUNDUP(M2*S2,2)","v":14.8},{"$f":"ROUNDDOWN(T2*100/(100+Paramètres!$C$3*100),2)","v":3.5},{"$f":"ROUNDDOWN(U2*100/(100+Paramètres!$C$4*100),2)","v":12.33},{"$f":"V2+W2","v":15.83},{"$f":"T2-V2","v":0.20000000000000018},{"$f":"U2-W2","v":2.4700000000000006},{"$f":"Y2+Z2","v":2.6700000000000008}]
["42A",{"$f":"VLOOKUP(A3,Produits!$A$1:$O$357,2,FALSE)","v":"Assort. Supr. Prune'Choco® - Coffret élégance"},null,null,null,null,null,null,null,null,null,null,{"$f":"VLOOKUP(A3,Produits!$A$1:$O$357,7,FALSE)","v":22},null,450,100,350,{"$f":"ROUND(P3/O3,6)","v":0.222222},{"$f":"ROUND(Q3/O3,6)","v":0.77777799999999997},{"$f":"ROUNDUP(M3*R3,2)","v":4.8899999999999997},{"$f":"ROUNDUP(M3*S3,2)","v":17.12},{"$f":"ROUNDDOWN(T3*100/(100+Paramètres!$C$3*100),2)","v":4.63},{"$f":"ROUNDDOWN(U3*100/(100+Paramètres!$C$4*100),2)","v":14.26},{"$f":"V3+W3","v":18.89},{"$f":"T3-V3","v":0.25999999999999979},{"$f":"U3-W3","v":2.8600000000000012},{"$f":"Y3+Z3","v":3.120000000000001}]
["43A",{"$f":"VLOOKUP(A4,Produits!$A$1:$O$357,2,FALSE)","v":"Assort. Supr. Prune'Choco® - Plateau gourmand"},null,null,null,null,null,null,null,null,null,null,{"$f":"VLOOKUP(A4,Produits!$A$1:$O$357,7,FALSE)","v":27.9},null,650,220,430,0.33846199999999999,0.66153799999999996,9.4499999999999993,{"$f":"ROUNDUP(M4*S4,2)","v":18.46},{"$f":"ROUNDDOWN(T4*100/(100+Paramètres!$C$3*100),2)","v":8.9499999999999993},{"$f":"ROUNDDOWN(U4*100/(100+Paramètres!$C$4*100),2)","v":15.38},24.33,0.5,3.08,3.58]
["44A",{"$f":"VLOOKUP(A5,Produits!$A$1:$O$357,2,FALSE)","v":"Assort. Supr. Prune'Choco® - Assiette raffinée"},null,null,null,null,null,null,null,null,null,null,{"$f":"VLOOKUP(A5,Produits!$A$1:$O$357,7,FALSE)","v":28.9},null,650,250,400,0.38461499999999998,0.61538499999999996,11.12,17.790000000000003,{"$f":"ROUNDDOWN(T5*100/(100+Paramètres!$C$3*100),2)","v":10.54},{"$f":"ROUNDDOWN(U5*100/(100+Paramètres!$C$4*100),2)","v":14.82},25.36,0.58000000000000007,2.9700000000000024,3.5500000000000025]
["45A",{"$f":"VLOOKUP(A6,Produits!$A$1:$O$357,2,FALSE)","v":"Assort. Supr. Prune'Choco® - Claie Agenaise 1"},null,null,null,null,null,null,null,null,null,null,{"$f":"VLOOKUP(A6,Produits!$A$1:$O$357,7,FALSE)","v":38.799999999999997},null,800,250,550,0.3125,0.6875,{"$f":"ROUND(M6*R6,2)","v":12.13},26.680000000000003,{"$f":"ROUNDDOWN(T6*100/(100+Paramètres!$C$3*100),2)","v":11.49},{"$f":"ROUNDDOWN(U6*100/(100+Paramètres!$C$4*100),2)","v":22.23},33.72,0.64000000000000057,4.4500000000000028,5.0900000000000034]
["46A",{"$f":"VLOOKUP(A7,Produits!$A$1:$O$357,2,FALSE)","v":"Assort. Supr. Prune'Choco® - Claie Agenaise 2"},null,null,null,null,null,null,null,null,null,null,{"$f":"VLOOKUP(A7,Produits!$A$1:$O$357,7,FALSE)","v":49.8},null,1100,270,830,0.24545500000000001,0.75454500000000002,{"$f":"ROUNDUP(M7*R7,2)","v":12.23},37.58,{"$f":"ROUNDDOWN(T7*100/(100+Paramètres!$C$3*100),2)","v":11.59},{"$f":"ROUNDDOWN(U7*100/(100+Paramètres!$C$4*100),2)","v":31.31},{"$f":"V7+W7","v":42.9},0.64000000000000057,6.27,6.91]
[]
[]
[]
["Ref","Désignation Coffret",null,null,null,null,"Composants TVA 5,5%",null,null,"Composants TVA 20%",null,null,"Prix compo. TTC",null,null,null,null,null,null,null,null,"HT TVA 5,5","HT TVA 20","Total HT","TVA 5,5","TVA 20","Total TVA"]
["47A",{"$f":"VLOOKUP(A12,Produits!$A$1:$O$357,2,FALSE)","v":"Coffret \"Découverte\" - 4 produits"},null,null,null,null,"voir tableau coffret",null,null,"voir tableau coffret",null,null,{"$f":"VLOOKUP(A12,Produits!$A$1:$O$357,7,FALSE)","v":16.5},null,null,null,null,null,null,null,null,9.57,5.33,{"$f":"V12+W12","v":14.9},{"$f":"ROUNDUP(V12*(1+Paramètres!$C$3)-V12,2)","v":0.53},{"$f":"ROUNDUP(W12*(1+Paramètres!$C$4)-W12,2)","v":1.07},{"$f":"Y12+Z12","v":1.6}]
["48A",{"$f":"VLOOKUP(A13,Produits!$A$1:$O$357,2,FALSE)","v":"Coffret \"Le Mignon\" - 5 produits"},null,null,null,null,"voir tableau coffret",null,null,"voir tableau coffret",null,null,{"$f":"VLOOKUP(A13,Produits!$A$1:$O$357,7,FALSE)","v":26.5},null,null,null,null,null,null,null,null,5.78,16.989999999999998,{"$f":"V13+W13","v":22.77},{"$f":"ROUNDUP(V13*(1+Paramètres!$C$3)-V13,3)","v":0.318},{"$f":"ROUNDUP(W13*(1+Paramètres!$C$4)-W13,2)","v":3.4},{"$f":"Y13+Z13","v":3.718}]
["49A",{"$f":"VLOOKUP(A14,Produits!$A$1:$O$357,2,FALSE)","v":"Coffret \"L'Intrépide\" - 7 produits"},null,null,null,null,"voir tableau coffret",null,null,"voir tableau coffret",null,null,{"$f":"VLOOKUP(A14,Produits!$A$1:$O$357,7,FALSE)","v":49.5},null,null,null,null,null,null,null,null,22.85,21.17,44.02,{"$f":"ROUNDUP(V14*(1+Paramètres!$C$3)-V14,3)","v":1.2569999999999999},{"$f":"ROUNDUP(W14*(1+Paramètres!$C$4)-W14,2)","v":4.24},5.4969999999999999]
["50A",{"$f":"VLOOKUP(A15,Produits!$A$1:$O$357,2,FALSE)","v":"Coffret \"L'Intense\" - 10 produits"},null,null,null,null,"voir tableau coffret",null,null,"voir tableau coffret",null,null,{"$f":"VLOOKUP(A15,Produits!$A$1:$O$357,7,FALSE)","v":61},null,null,null,null,null,null,null,null,27.58,26.49,{"$f":"V15+W15","v":54.069999999999993},{"$f":"ROUNDUP(V15*(1+Paramètres!$C$3)-V15,3)","v":1.5169999999999999},{"$f":"ROUNDUP(W15*(1+Paramètres!$C$4)-W15,2)","v":5.3},6.8170000000000002]

{"sheet":"Paramètres","index":12,"n_rows":101,"n_cols":14,"rows_kept":101,"cut":false,"hidden":true,"merged":[[0,0,0,3],[0,6,0,10],[22,4,23,4]]}
["Liste déroulante",null,null,null,"Conditions de règlement",null,"Livraison",null,null,null,null,"Marque","Type de contact","Type de remise commerciale"]
["Qté","Paquetage","TVA","Oui/Non","Comptant",null,"de","jusqu'à","Prix HT","Prix TTC",null,"Maison du Pruneau","Prospect","%"]
[1,"Sachet",5.5E-2,"Oui","Comptant (1ère commande) puis 30j net (commandes suivantes)",null,0,8.9999999999999993E-3,0,0,null,"Mon Petit Verger","Lead","€"]
[2,"Pochette",0.2,"Non","Comptant (1ère commande) puis 30j fin de mois (commandes suivantes)",null,0.01,399.99,29.9,{"$f":"I4*(1+$C$4)","v":35.879999999999995},"Messagerie","Au bon goût de France","Lead qualifié"]
[3,"Ballotin","Multiple",null,"Acompte de 50% à la commande puis règlement intégral à la livraison",null,400,649.99,19.899999999999999,23.88,"Messagerie",null,"Client"]
[4,"Écrin élég.",null,null,"Acompte de 50% à la commande puis règlement intégral à 30j net",null,650,100000,"Offerts","Offerts","Messagerie",null,"Client récurrent"]
[5,"Boite métal",null,null,"Acompte de 50% à la commande puis règlement intégral à 30j fin de mois"]
[6,"Boite bois",null,null,"30j net"]
[7,"Bouteille",null,null,"30j fin de mois"]
[8,"Mignonette"]
[9,"Petit verre"]
[10,"Bocal"]
[11,"Conserve"]
[12,"Claie Agen."]
[13,"Plateau bois"]
[14,"Panier bois"]
[15,"Assiette"]
[16,"Coffret cart."]
[17,"VRAC"]
[18]
[19]
[20]
[21]
[22]
[23]
[24]
[25]
[26]
[27]
[28]
[29]
[30]
[31]
[32]
[33]
[34]
[35]
[36]
[37]
[38]
[39]
[40]
[41]
[42]
[43]
[44]
[45]
[46]
[47]
[48]
[49]
[50]
[51]
[52]
[53]
[54]
[55]
[56]
[57]
[58]
[59]
[60]
[61]
[62]
[63]
[64]
[65]
[66]
[67]
[68]
[69]
[70]
[71]
[72]
[73]
[74]
[75]
[76]
[77]
[78]
[79]
[80]
[81]
[82]
[83]
[84]
[85]
[86]
[87]
[88]
[89]
[90]
[91]
[92]
[93]
[94]
[95]
[96]
[97]
[98]
[99]