{"text_format":"1","workbook":"xlsx","n_sheets":3,"sheets":["Formulaire","Produits","Paramètres"],"not_rendered":{"charts":0,"images":1,"macros":1,"external_links":0,"defined_names":1,"comments":0,"pivot_tables":0},"unopened":[],"bounds":{"document_bytes":16777216,"sheet_cells":100000,"rows_first":2000,"rows_last":500,"rows_between":2000,"halvings":0,"cell_chars":16384,"cell_head_chars":4096},"cells_cut":0,"cells_raw":0,"read":"whole","date_system":"1900"}

{"sheet":"Formulaire","index":0,"n_rows":72,"n_cols":16,"rows_kept":72,"cut":false,"hidden":false,"merged":[[42,2,42,5],[43,2,43,5],[44,2,44,5],[45,2,45,5],[51,2,51,7],[48,2,48,5],[50,2,50,5],[49,2,49,5],[47,2,47,5],[46,2,46,5],[29,2,29,5],[30,2,30,5],[31,2,31,5],[35,2,35,5],[41,2,41,5],[32,2,32,5],[33,2,33,5],[34,2,34,5],[40,2,40,5],[39,2,39,5],[38,2,38,5],[37,2,37,5],[36,2,36,5],[23,2,23,5],[24,2,24,5],[25,2,25,5],[27,2,27,5],[28,2,28,5],[26,2,26,5],[9,1,9,12],[1,3,1,12],[6,8,6,12],[7,8,7,12],[4,4,4,12],[5,8,5,12],[10,2,10,5],[11,2,11,5],[12,2,12,5],[13,2,13,5],[14,2,14,5],[21,2,21,5],[22,2,22,5],[53,8,53,11],[6,0,7,2],[1,0,1,2],[3,8,3,12],[15,2,15,5],[16,2,16,5],[17,2,17,5],[18,2,18,5],[19,2,19,5],[20,2,20,5],[3,4,3,6],[5,4,5,6],[6,4,6,6],[7,4,7,6],[54,1,56,4],[61,8,61,11],[62,1,65,4],[58,1,58,4],[57,8,57,11],[58,8,58,11],[54,8,54,11],[68,0,69,13],[71,3,72,10],[3,15,7,21],[76,0,76,13],[65,10,65,11],[60,8,60,11],[62,8,62,11],[54,6,54,7],[62,6,62,7],[53,1,53,4],[52,8,52,11],[59,1,59,4],[59,8,59,11],[55,8,55,11],[56,8,56,11],[61,1,61,4]]}
[]
[null,null,null,"Bon de commande • Cadeaux d’Entreprise"]
[]
[null,null,null,"CE / Entreprise:",null,null,null,"Téléphone:",null,null,null,null,null,null,null,"Aide pour utiliser le formulaire:\n1. Si un bandeau jaune apparaît, cliquer sur le bouton \"activer le contenu\" \n2. Renseigner chaque champ de coordonnées en orange\n3. Sélectionner les quantités de chaque article souhaitées en orange\n4. Cliquer sur le bouton en bas de page \"Envoyer le bon de commande\"\nUn message vous indique alors que la commande vient de nous être envoyée, vous pouvez donc fermer le document"]
[null,null,null,"Adresse:"]
[null,null,null,"Code postal:",null,null,null,"Ville:"]
["lieu-dit «Braunès» 47320 Lafitte-sur-Lot\n05 53 84 04 17 • mdpruneau.vpc@orange.fr\nwww.maisondupruneau.com",null,null,"Nom:",null,null,null,"Prénom:"]
[null,null,null,"ligne directe:",null,null,null,"Mail:"]
[]
[null,{"$f":"\"Votre remise commerciale est de \"&M55*100&\"% sur les prix publics\"","v":"Votre remise commerciale est de 10% sur les prix publics"}]
[null,"#","Désignation ",null,null,null,"Prix public HT","Prix public TTC","TVA (tx)","Votre Prix CE & Pros HT","Votre Prix CE & Pros TTC","Qté","Montant total HT remisé"]
[null,{"$f":"VLOOKUP(C12,Produits!A$1:F$114,2,FALSE)","v":1},"Boite or 100 ans fourrés 350G",null,null,null,{"$f":"VLOOKUP(C12,Produits!A$1:F$114,4,FALSE)","v":12.41},{"$f":"VLOOKUP(C12,Produits!A$1:F$114,6,FALSE)","v":14.9},{"$f":"VLOOKUP(C12,Produits!A$1:F$114,5,FALSE)","v":0.2},{"$f":"IFERROR(ROUNDDOWN(K12/(1+I12),2),\"\")","v":11.17},{"$f":"IF(ROUNDUP(H12-H12*$M$55,2)=0,\"\",ROUNDUP(H12-H12*$M$55,2))","v":13.41},0,{"$f":"J12*L12","v":0},{"$f":"IFERROR(G12*L12,\"\")","v":0},{"$f":"IFERROR((K12-J12)*L12,\"\")","v":0}]
[null,{"$f":"VLOOKUP(C13,Produits!A$1:F$114,2,FALSE)","v":2},"Boite or 100 ans fourrés 600G",null,null,null,{"$f":"VLOOKUP(C13,Produits!A$1:F$114,4,FALSE)","v":18.329999999999998},{"$f":"VLOOKUP(C13,Produits!A$1:F$114,6,FALSE)","v":22},{"$f":"VLOOKUP(C13,Produits!A$1:F$114,5,FALSE)","v":0.2},16.5,{"$f":"IF(H13-H13*$M$55=0,\"\",H13-H13*$M$55)","v":19.8},0,{"$f":"G13*L13","v":0},0,{"$f":"IFERROR((K13-J13)*L13,\"\")","v":0}]
[null,{"$f":"VLOOKUP(C14,Produits!A$1:F$114,2,FALSE)","v":3},"Boite or 100 ans mixte 290G",null,null,null,{"$f":"VLOOKUP(C14,Produits!A$1:F$114,4,FALSE)","v":12.25},{"$f":"VLOOKUP(C14,Produits!A$1:F$114,6,FALSE)","v":14.7},{"$f":"VLOOKUP(C14,Produits!A$1:F$114,5,FALSE)","v":0.2},11.02,13.229999999999999,0,0,0,0]
[null,{"$f":"VLOOKUP(C15,Produits!A$1:F$114,2,FALSE)","v":4},"Boite or 100 ans mixte 500G",null,null,null,{"$f":"VLOOKUP(C15,Produits!A$1:F$114,4,FALSE)","v":17.75},{"$f":"VLOOKUP(C15,Produits!A$1:F$114,6,FALSE)","v":21.3},{"$f":"VLOOKUP(C15,Produits!A$1:F$114,5,FALSE)","v":0.2},15.97,19.170000000000002,0,0,0,0]
[null,{"$f":"VLOOKUP(C16,Produits!A$1:F$114,2,FALSE)","v":5},"Boite or 100 ans fourrés 850G",null,null,null,{"$f":"VLOOKUP(C16,Produits!A$1:F$114,4,FALSE)","v":23.66},{"$f":"VLOOKUP(C16,Produits!A$1:F$114,6,FALSE)","v":28.4},{"$f":"VLOOKUP(C16,Produits!A$1:F$114,5,FALSE)","v":0.2},21.3,25.56,0,0,0,0]
[null,{"$f":"VLOOKUP(C17,Produits!A$1:F$114,2,FALSE)","v":6},"Boite pruneaux d'Agen 1kg 33/44",null,null,null,{"$f":"VLOOKUP(C17,Produits!A$1:F$114,4,FALSE)","v":9.9499999999999993},{"$f":"VLOOKUP(C17,Produits!A$1:F$114,6,FALSE)","v":10.5},{"$f":"VLOOKUP(C17,Produits!A$1:F$114,5,FALSE)","v":5.5E-2},8.9499999999999993,9.4499999999999993,0,0,0,0]
[null,{"$f":"VLOOKUP(C18,Produits!A$1:F$114,2,FALSE)","v":7},"Claie agenaise 350g de pruneaux d'Agen fourrés à la crème de pruneaux",null,null,null,{"$f":"VLOOKUP(C18,Produits!A$1:F$114,4,FALSE)","v":12.83},{"$f":"VLOOKUP(C18,Produits!A$1:F$114,6,FALSE)","v":15.4},{"$f":"VLOOKUP(C18,Produits!A$1:F$114,5,FALSE)","v":0.2},11.55,13.86,0,0,0,0]
[null,{"$f":"VLOOKUP(C19,Produits!A$1:F$114,2,FALSE)","v":8},"Claie agenaise 600g de pruneaux d'Agen fourrés à la crème de pruneaux",null,null,null,{"$f":"VLOOKUP(C19,Produits!A$1:F$114,4,FALSE)","v":19.579999999999998},{"$f":"VLOOKUP(C19,Produits!A$1:F$114,6,FALSE)","v":23.5},{"$f":"VLOOKUP(C19,Produits!A$1:F$114,5,FALSE)","v":0.2},17.62,21.15,0,0,0,0]
[null,{"$f":"VLOOKUP(C20,Produits!A$1:F$114,2,FALSE)","v":9},"Claie agenaise 850g de pruneaux d'Agen fourrés à la crème de pruneaux",null,null,null,{"$f":"VLOOKUP(C20,Produits!A$1:F$114,4,FALSE)","v":26.16},{"$f":"VLOOKUP(C20,Produits!A$1:F$114,6,FALSE)","v":31.4},{"$f":"VLOOKUP(C20,Produits!A$1:F$114,5,FALSE)","v":0.2},23.55,28.259999999999998,0,0,0,0]
[null,{"$f":"VLOOKUP(C21,Produits!A$1:F$114,2,FALSE)","v":10},"Pochette 250g spécialité Pruneaux d'Agen fourrés à la crème de pruneau",null,null,null,{"$f":"VLOOKUP(C21,Produits!A$1:F$114,4,FALSE)","v":7.41},{"$f":"VLOOKUP(C21,Produits!A$1:F$114,6,FALSE)","v":8.9},{"$f":"VLOOKUP(C21,Produits!A$1:F$114,5,FALSE)","v":0.2},6.67,8.01,0,0,0,0]
[null,{"$f":"VLOOKUP(C22,Produits!A$1:F$114,2,FALSE)","v":11},"Pochette 200g spécialité Prun'Choco",null,null,null,{"$f":"VLOOKUP(C22,Produits!A$1:F$114,4,FALSE)","v":8.43},{"$f":"VLOOKUP(C22,Produits!A$1:F$114,6,FALSE)","v":8.9},{"$f":"VLOOKUP(C22,Produits!A$1:F$114,5,FALSE)","v":5.5E-2},7.59,8.01,0,0,0,0]
[null,{"$f":"VLOOKUP(C23,Produits!A$1:F$114,2,FALSE)","v":12},"Pochette 250g spécialité Mixte (Pruneaux fourrés et Prun'Choco)",null,null,null,{"$f":"VLOOKUP(C23,Produits!A$1:F$114,4,FALSE)","v":8.43},{"$f":"VLOOKUP(C23,Produits!A$1:F$114,6,FALSE)","v":8.9},{"$f":"VLOOKUP(C23,Produits!A$1:F$114,5,FALSE)","v":5.5E-2},7.59,8.01,0,0,0,0]
[null,{"$f":"VLOOKUP(C24,Produits!A$1:F$114,2,FALSE)","v":13},"Coffret élégance 200g Prun'Choco",null,null,null,{"$f":"VLOOKUP(C24,Produits!A$1:F$114,4,FALSE)","v":12.79},{"$f":"VLOOKUP(C24,Produits!A$1:F$114,6,FALSE)","v":13.5},{"$f":"VLOOKUP(C24,Produits!A$1:F$114,5,FALSE)","v":5.5E-2},11.51,12.15,0,0,0,0]
[null,{"$f":"VLOOKUP(C25,Produits!A$1:F$114,2,FALSE)","v":14},"Coffret élégance 270g Pruneaux truffés",null,null,null,{"$f":"VLOOKUP(C25,Produits!A$1:F$114,4,FALSE)","v":14.12},{"$f":"VLOOKUP(C25,Produits!A$1:F$114,6,FALSE)","v":14.9},{"$f":"VLOOKUP(C25,Produits!A$1:F$114,5,FALSE)","v":5.5E-2},12.71,13.41,0,0,0,0]
[null,{"$f":"VLOOKUP(C26,Produits!A$1:F$114,2,FALSE)","v":15},"Coffret élégance 400g Pruneaux d'Agen fourrés à la crème de pruneaux",null,null,null,{"$f":"VLOOKUP(C26,Produits!A$1:F$114,4,FALSE)","v":14.58},{"$f":"VLOOKUP(C26,Produits!A$1:F$114,6,FALSE)","v":17.5},{"$f":"VLOOKUP(C26,Produits!A$1:F$114,5,FALSE)","v":0.2},13.12,15.75,0,0,0,0]
[null,{"$f":"VLOOKUP(C27,Produits!A$1:F$114,2,FALSE)","v":16},"Ballotin 95g spécialité Prun'Choco",null,null,null,{"$f":"VLOOKUP(C27,Produits!A$1:F$114,4,FALSE)","v":4.6399999999999997},{"$f":"VLOOKUP(C27,Produits!A$1:F$114,6,FALSE)","v":4.9000000000000004},{"$f":"VLOOKUP(C27,Produits!A$1:F$114,5,FALSE)","v":5.5E-2},{"$f":"IFERROR(ROUNDDOWN(K27/(1+I27),2),\"\")","v":4.18},4.41,0,{"$f":"G27*L27","v":0},{"$f":"IFERROR(G27*L27,\"\")","v":0},{"$f":"IFERROR((K27-J27)*L27,\"\")","v":0}]
[null,{"$f":"VLOOKUP(C28,Produits!A$1:F$114,2,FALSE)","v":17},"Ballotin 200g spécialité Prun'Choco",null,null,null,{"$f":"VLOOKUP(C28,Produits!A$1:F$114,4,FALSE)","v":9.3800000000000008},{"$f":"VLOOKUP(C28,Produits!A$1:F$114,6,FALSE)","v":9.9},{"$f":"VLOOKUP(C28,Produits!A$1:F$114,5,FALSE)","v":5.5E-2},8.44,8.91,0,0,0,0]
[null,{"$f":"VLOOKUP(C29,Produits!A$1:F$114,2,FALSE)","v":18},"Ballotin 300g spécialité Prun'Choco",null,null,null,{"$f":"VLOOKUP(C29,Produits!A$1:F$114,4,FALSE)","v":13.45},{"$f":"VLOOKUP(C29,Produits!A$1:F$114,6,FALSE)","v":14.2},{"$f":"VLOOKUP(C29,Produits!A$1:F$114,5,FALSE)","v":5.5E-2},12.11,12.78,0,0,0,0]
[null,{"$f":"VLOOKUP(C30,Produits!A$1:F$114,2,FALSE)","v":19},"Coffret petits verres 6 x 5cl Pruneaux à l'eaux de vie de prunes 20% d'alc",null,null,null,{"$f":"VLOOKUP(C30,Produits!A$1:F$114,4,FALSE)","v":14.91},{"$f":"VLOOKUP(C30,Produits!A$1:F$114,6,FALSE)","v":17.899999999999999},{"$f":"VLOOKUP(C30,Produits!A$1:F$114,5,FALSE)","v":0.2},13.42,16.11,0,0,0,0]
[null,{"$f":"VLOOKUP(C31,Produits!A$1:F$114,2,FALSE)","v":20},"Coffret petits verres 6 x 5cl Mixte (au choix: Eaux de vie de prunes - 20% d'alc, \nCointreau - 18% d'alc, Whisky  - 18% d'alc ou Rhum - 20% d'alc)",null,null,null,{"$f":"VLOOKUP(C31,Produits!A$1:F$114,4,FALSE)","v":15.91},{"$f":"VLOOKUP(C31,Produits!A$1:F$114,6,FALSE)","v":19.100000000000001},{"$f":"VLOOKUP(C31,Produits!A$1:F$114,5,FALSE)","v":0.2},14.32,17.190000000000001,0,0,0,0]
[null,{"$f":"VLOOKUP(C32,Produits!A$1:F$114,2,FALSE)","v":21},"Coffret petits verres 12 x 5cl Pruneaux à l'eaux de vie de prunes 20% d'alc",null,null,null,{"$f":"VLOOKUP(C32,Produits!A$1:F$114,4,FALSE)","v":28},{"$f":"VLOOKUP(C32,Produits!A$1:F$114,6,FALSE)","v":33.6},{"$f":"VLOOKUP(C32,Produits!A$1:F$114,5,FALSE)","v":0.2},25.2,30.240000000000002,0,0,0,0]
[null,{"$f":"VLOOKUP(C33,Produits!A$1:F$114,2,FALSE)","v":22},"Coffret petits verres 12 x 5cl Mixte (au choix: Eaux de vie de prunes - 20% d'alc, \nCointreau - 18% d'alc, Whisky  - 18% d'alc ou Rhum - 20% d'alc)",null,null,null,{"$f":"VLOOKUP(C33,Produits!A$1:F$114,4,FALSE)","v":30.08},{"$f":"VLOOKUP(C33,Produits!A$1:F$114,6,FALSE)","v":36.1},{"$f":"VLOOKUP(C33,Produits!A$1:F$114,5,FALSE)","v":0.2},27.07,32.49,0,0,0,0]
[null,{"$f":"VLOOKUP(C34,Produits!A$1:F$114,2,FALSE)","v":23},"Bouteille Apéritif de Pruneaux 37,5cl - 16% d'alc",null,null,null,{"$f":"VLOOKUP(C34,Produits!A$1:F$114,4,FALSE)","v":9.58},{"$f":"VLOOKUP(C34,Produits!A$1:F$114,6,FALSE)","v":11.5},{"$f":"VLOOKUP(C34,Produits!A$1:F$114,5,FALSE)","v":0.2},8.6199999999999992,10.35,0,0,0,0]
[null,{"$f":"VLOOKUP(C35,Produits!A$1:F$114,2,FALSE)","v":24},"Bouteille Apéritif de Pruneaux 70cl - 16% d'alc",null,null,null,{"$f":"VLOOKUP(C35,Produits!A$1:F$114,4,FALSE)","v":15.16},{"$f":"VLOOKUP(C35,Produits!A$1:F$114,6,FALSE)","v":18.2},{"$f":"VLOOKUP(C35,Produits!A$1:F$114,5,FALSE)","v":0.2},13.65,16.38,0,0,0,0]
[null,{"$f":"VLOOKUP(C36,Produits!A$1:F$114,2,FALSE)","v":25},"Bouteille Ed. limitée Vieille eau de vie de prunes 50cl - 44,1% d'alc",null,null,null,{"$f":"VLOOKUP(C36,Produits!A$1:F$114,4,FALSE)","v":30.83},{"$f":"VLOOKUP(C36,Produits!A$1:F$114,6,FALSE)","v":37},{"$f":"VLOOKUP(C36,Produits!A$1:F$114,5,FALSE)","v":0.2},27.75,33.299999999999997,0,0,0,0]
[null,{"$f":"VLOOKUP(C37,Produits!A$1:F$114,2,FALSE)","v":26},"Suprêmes Prun'Choco - Mini cagette gourmande",null,null,null,{"$f":"VLOOKUP(C37,Produits!A$1:F$114,4,FALSE)","v":17.53},{"$f":"VLOOKUP(C37,Produits!A$1:F$114,6,FALSE)","v":18.5},{"$f":"VLOOKUP(C37,Produits!A$1:F$114,5,FALSE)","v":5.5E-2},{"$f":"IFERROR(ROUNDDOWN(K37/(1+I37),2),\"\")","v":15.78},16.649999999999999,0,{"$f":"G37*L37","v":0},{"$f":"IFERROR(G37*L37,\"\")","v":0},{"$f":"IFERROR((K37-J37)*L37,\"\")","v":0}]
[null,{"$f":"VLOOKUP(C38,Produits!A$1:F$114,2,FALSE)","v":27},"Suprêmes Prun'Choco - Coffret élégance",null,null,null,{"$f":"VLOOKUP(C38,Produits!A$1:F$114,4,FALSE)","v":20.85},{"$f":"VLOOKUP(C38,Produits!A$1:F$114,6,FALSE)","v":22},{"$f":"VLOOKUP(C38,Produits!A$1:F$114,5,FALSE)","v":5.5E-2},18.760000000000002,19.8,0,0,0,0]
[null,{"$f":"VLOOKUP(C39,Produits!A$1:F$114,2,FALSE)","v":28},"Suprêmes Prun'Choco - Plateau gourmand",null,null,null,{"$f":"VLOOKUP(C39,Produits!A$1:F$114,4,FALSE)","v":26.44},{"$f":"VLOOKUP(C39,Produits!A$1:F$114,6,FALSE)","v":27.9},{"$f":"VLOOKUP(C39,Produits!A$1:F$114,5,FALSE)","v":5.5E-2},{"$f":"IFERROR(ROUNDDOWN(K39/(1+I39),2),\"\")","v":23.8},25.11,0,{"$f":"G39*L39","v":0},{"$f":"IFERROR(G39*L39,\"\")","v":0},{"$f":"IFERROR((K39-J39)*L39,\"\")","v":0}]
[null,{"$f":"VLOOKUP(C40,Produits!A$1:F$114,2,FALSE)","v":29},"Suprêmes Prun'Choco - Assiette raffinée",null,null,null,{"$f":"VLOOKUP(C40,Produits!A$1:F$114,4,FALSE)","v":27.39},{"$f":"VLOOKUP(C40,Produits!A$1:F$114,6,FALSE)","v":28.9},{"$f":"VLOOKUP(C40,Produits!A$1:F$114,5,FALSE)","v":5.5E-2},24.65,26.009999999999998,0,0,0,0]
[null,{"$f":"VLOOKUP(C41,Produits!A$1:F$114,2,FALSE)","v":30},"Suprêmes Prun'Choco - Claie Agenaise 1",null,null,null,{"$f":"VLOOKUP(C41,Produits!A$1:F$114,4,FALSE)","v":36.770000000000003},{"$f":"VLOOKUP(C41,Produits!A$1:F$114,6,FALSE)","v":38.799999999999997},{"$f":"VLOOKUP(C41,Produits!A$1:F$114,5,FALSE)","v":5.5E-2},{"$f":"IFERROR(ROUNDDOWN(K41/(1+I41),2),\"\")","v":33.090000000000003},34.919999999999995,0,{"$f":"G41*L41","v":0},{"$f":"IFERROR(G41*L41,\"\")","v":0},{"$f":"IFERROR((K41-J41)*L41,\"\")","v":0}]
[null,{"$f":"VLOOKUP(C42,Produits!A$1:F$114,2,FALSE)","v":31},"Suprêmes Prun'Choco - Claie Agenaise 2",null,null,null,{"$f":"VLOOKUP(C42,Produits!A$1:F$114,4,FALSE)","v":47.2},{"$f":"VLOOKUP(C42,Produits!A$1:F$114,6,FALSE)","v":49.8},{"$f":"VLOOKUP(C42,Produits!A$1:F$114,5,FALSE)","v":5.5E-2},42.48,44.819999999999993,0,0,0,0]
[null,null,"Foie Gras de canard entier 180g + sachet prun'choco 100g (Lot) ",null,null,null,{"$f":"VLOOKUP(C43,Produits!A$1:F$114,4,FALSE)","v":20.37},{"$f":"VLOOKUP(C43,Produits!A$1:F$114,6,FALSE)","v":21.5},{"$f":"VLOOKUP(C43,Produits!A$1:F$114,5,FALSE)","v":5.5E-2},{"$f":"IFERROR(ROUNDDOWN(K43/(1+I43),2),\"\")","v":18.34},{"$f":"IF(H43-H43*$M$55=0,\"\",H43-H43*$M$55)","v":19.350000000000001},0,{"$f":"G43*L43","v":0},{"$f":"IFERROR(G43*L43,\"\")","v":0},{"$f":"IFERROR((K43-J43)*L43,\"\")","v":0}]
[null,null,"Mendiant chocolat noir et lait 150g (Pruneau, noisette, amande, raisin) ",null,null,null,{"$f":"VLOOKUP(C44,Produits!A$1:F$114,4,FALSE)","v":5},{"$f":"VLOOKUP(C44,Produits!A$1:F$114,6,FALSE)","v":6},{"$f":"VLOOKUP(C44,Produits!A$1:F$114,5,FALSE)","v":0.2},4.5,5.4,0,0,0,0]
[null,null,"Crème de pruneaux 320g",null,null,null,{"$f":"VLOOKUP(C45,Produits!A$1:F$114,4,FALSE)","v":3.98},{"$f":"VLOOKUP(C45,Produits!A$1:F$114,6,FALSE)","v":4.2},{"$f":"VLOOKUP(C45,Produits!A$1:F$114,5,FALSE)","v":5.5E-2},3.58,3.7800000000000002,0,0,0,0]
[null,null,"Pulpe de pruneaux 310g",null,null,null,{"$f":"VLOOKUP(C46,Produits!A$1:F$114,4,FALSE)","v":3.98},{"$f":"VLOOKUP(C46,Produits!A$1:F$114,6,FALSE)","v":4.2},{"$f":"VLOOKUP(C46,Produits!A$1:F$114,5,FALSE)","v":5.5E-2},3.58,3.7800000000000002,0,0,0,0]
[null,null,"Pâte de fruit au pruneau 150g",null,null,null,{"$f":"VLOOKUP(C47,Produits!A$1:F$114,4,FALSE)","v":5},{"$f":"VLOOKUP(C47,Produits!A$1:F$114,6,FALSE)","v":6},{"$f":"VLOOKUP(C47,Produits!A$1:F$114,5,FALSE)","v":0.2},4.5,5.4,0,0,0,0]
[null,null,"Pruneaux d'Agen au naturel 500g",null,null,null,{"$f":"VLOOKUP(C48,Produits!A$1:F$114,4,FALSE)","v":3.6},{"$f":"VLOOKUP(C48,Produits!A$1:F$114,6,FALSE)","v":3.8},{"$f":"VLOOKUP(C48,Produits!A$1:F$114,5,FALSE)","v":5.5E-2},3.24,3.42,0,0,0,0]
[null,{"$f":"VLOOKUP(C49,Produits!A$1:F$114,2,FALSE)","v":0},"Pruneaux d'Agen au naturel dénoyautés 500g",null,null,null,{"$f":"VLOOKUP(C49,Produits!A$1:F$114,4,FALSE)","v":4.54},{"$f":"VLOOKUP(C49,Produits!A$1:F$114,6,FALSE)","v":4.8},{"$f":"VLOOKUP(C49,Produits!A$1:F$114,5,FALSE)","v":5.5E-2},4.09,4.32,0,0,0,0]
[null,{"$f":"VLOOKUP(C50,Produits!A$1:F$114,2,FALSE)","v":0},"Pruneaux d'Agen au naturel dénoyautés 500g",null,null,null,{"$f":"VLOOKUP(C50,Produits!A$1:F$114,4,FALSE)","v":4.54},{"$f":"VLOOKUP(C50,Produits!A$1:F$114,6,FALSE)","v":4.8},{"$f":"VLOOKUP(C50,Produits!A$1:F$114,5,FALSE)","v":5.5E-2},4.09,4.32,0,{"$f":"G50*L50","v":0},{"$f":"IFERROR(G50*L50,\"\")","v":0},{"$f":"IFERROR((K50-J50)*L50,\"\")","v":0}]
[null,{"$f":"VLOOKUP(C51,Produits!A$1:F$114,2,FALSE)","v":0},"Jus de pruneaux 25cl",null,null,null,{"$f":"VLOOKUP(C51,Produits!A$1:F$114,4,FALSE)","v":2.08},{"$f":"VLOOKUP(C51,Produits!A$1:F$114,6,FALSE)","v":2.2000000000000002},{"$f":"VLOOKUP(C51,Produits!A$1:F$114,5,FALSE)","v":5.5E-2},1.87,1.9800000000000002,0,0,0,0]
[null,null,"Des étiquettes rondes diam. 35mm, personnalisées au logo de votre CE collées sur nos produits pour 1€ de plus",null,null,null,null,null,0.2,{"$f":"IF(L52=\"Oui\",ROUNDDOWN(K52/1.2,2),0)","v":0},{"$f":"IF(L52=\"Oui\",1,0)","v":0},"Non",{"$f":"J52","v":0},{"$f":"K52","v":0},{"$f":"K52-J52","v":0}]
[null,null,null,null,null,null,null,null,"Sous-total non remisé HT:",null,null,null,{"$f":"SUMPRODUCT(G12:G51,L12:L51)","v":0}]
[null,"Frais de conditionnement et de livraison:",null,null,null,null,null,null,"Sous-total non remisé TTC:",null,null,null,{"$f":"SUMPRODUCT(H12:H51,L12:L51)","v":0}]
[null,"29,90 € HT (montant commande remisé < 400€ HT)\n19,90 € HT (montant commande remisé de 400€ à 649,99€ HT)\nFranco de port au-delà de 650 € HT",null,null,null,null,null,null,"Votre remise (%)",null,null,null,{"$f":"Paramètres!C2","v":0.1}]
[null,null,null,null,null,null,null,null,"€ (HT)",null,null,null,{"$f":"M53*M55","v":0}]
[null,null,null,null,null,null,null,null,"€ (TTC)",null,null,null,{"$f":"M54*M55","v":0}]
[null,null,null,null,null,null,null,null,"Sous-total remisé € (HT)",null,null,null,{"$f":"M53-M56+J52","v":0}]
[null,"Modes de règlement acceptés:",null,null,null,null,null,null,"Sous-total remisé € (TTC)",null,null,null,{"$f":"M54-M57+K52","v":0}]
[null,"Chèque, CB, Paypal, Virement, Espèces",null,null,null,null,null,null,"(1) Frais de cond. et de livraisons € (HT):",null,null,null,{"$f":"Paramètres!H4","v":0}]
[null,null,null,null,null,null,null,null,"€ (TTC)",null,null,null,{"$f":"M60*(1+Paramètres!A3)","v":0}]
[null,"NOTES: Remarques à prendre en compte pour la commande",null,null,null,null,null,null,"Total à régler (€ HT)",null,null,null,{"$f":"M58+M60","v":0}]
[null,"Ecrivez ici les remarques à prendre en compte pour votre commande:\nDélai impératif ? Envoi décalé ? Plusieurs dsetinataires ? Digicode ?...",null,null,null,null,null,null,"Total à régler (€ TTC)",null,null,null,{"$f":"M59+M61","v":0}]
[]
[null,null,null,null,null,null,null,null,null,null,"dont TVA à 5,5%:",null,{"$f":"(SUMIFS(O12:O51,I12:I51,5.5%))","v":0}]
[null,null,null,null,null,null,null,null,null,null,"dont TVA à 20%:",null,{"$f":"(SUMIFS(O12:O52,I12:I52,20%)+(M61-M60))","v":0}]
[]
[]
["SARL au capital de 7 622,45 € - RCS Marmande 402 145 437 - SIRET 402 145 437 00016 - TVA Intracom. FR 84 40 214 54 37\nPas d'escompte pour paiement anticipé - Indemnité forfaitaire de 40€pour frais de recouvrement en cas de retard de paiement"]
[]
[]
[null,null,null,"Vérifier que tous les champs de coordonnées en haut de page \nsoient correctement remplis avant de cliquer sur \"Envoyer le bon de commande\"."]

{"sheet":"Produits","index":1,"n_rows":41,"n_cols":6,"rows_kept":41,"cut":false,"hidden":true,"merged":[]}
["Désignation ","#","Poids","Prix HT","TVA","Prix TTC"]
["Boite or 100 ans fourrés 350G",1,"350g",{"$f":"ROUNDDOWN(F2/(1+E2),2)","v":12.41},0.2,14.9]
["Boite or 100 ans fourrés 600G",2,"600g",{"$f":"ROUNDDOWN(F3/(1+E3),2)","v":18.329999999999998},0.2,22]
["Boite or 100 ans mixte 290G",3,"290g",12.25,0.2,14.7]
["Boite or 100 ans mixte 500G",4,"500g",17.75,0.2,21.3]
["Boite or 100 ans fourrés 850G",5,"850g",23.66,0.2,28.4]
["Boite pruneaux d'Agen 1kg 33/44",6,"1100g",9.9499999999999993,5.5E-2,10.5]
["Claie agenaise 350g de pruneaux d'Agen fourrés à la crème de pruneaux",7,"350g",12.83,0.2,15.4]
["Claie agenaise 600g de pruneaux d'Agen fourrés à la crème de pruneaux",8,"600g",19.579999999999998,0.2,23.5]
["Claie agenaise 850g de pruneaux d'Agen fourrés à la crème de pruneaux",9,"850g",26.16,0.2,31.4]
["Pochette 250g spécialité Pruneaux d'Agen fourrés à la crème de pruneau",10,"250g",7.41,0.2,8.9]
["Pochette 200g spécialité Prun'Choco",11,"200g",8.43,5.5E-2,8.9]
["Pochette 250g spécialité Mixte (Pruneaux fourrés et Prun'Choco)",12,"250g",8.43,5.5E-2,8.9]
["Coffret élégance 200g Prun'Choco",13,"200g",12.79,5.5E-2,13.5]
["Coffret élégance 270g Pruneaux truffés",14,"270g",14.12,5.5E-2,14.9]
["Coffret élégance 400g Pruneaux d'Agen fourrés à la crème de pruneaux",15,"400g",14.58,0.2,17.5]
["Ballotin 95g spécialité Prun'Choco",16,"95g",4.6399999999999997,5.5E-2,4.9000000000000004]
["Ballotin 200g spécialité Prun'Choco",17,"200g",9.3800000000000008,5.5E-2,9.9]
["Ballotin 300g spécialité Prun'Choco",18,"300g",13.45,5.5E-2,14.2]
["Coffret petits verres 6 x 5cl Pruneaux à l'eaux de vie de prunes 20% d'alc",19,null,14.91,0.2,17.899999999999999]
["Coffret petits verres 6 x 5cl Mixte (au choix: Eaux de vie de prunes - 20% d'alc, \nCointreau - 18% d'alc, Whisky  - 18% d'alc ou Rhum - 20% d'alc)",20,null,15.91,0.2,19.100000000000001]
["Coffret petits verres 12 x 5cl Pruneaux à l'eaux de vie de prunes 20% d'alc",21,null,28,0.2,33.6]
["Coffret petits verres 12 x 5cl Mixte (au choix: Eaux de vie de prunes - 20% d'alc, \nCointreau - 18% d'alc, Whisky  - 18% d'alc ou Rhum - 20% d'alc)",22,null,30.08,0.2,36.1]
["Bouteille Apéritif de Pruneaux 37,5cl - 16% d'alc",23,null,9.58,0.2,11.5]
["Bouteille Apéritif de Pruneaux 70cl - 16% d'alc",24,null,15.16,0.2,18.2]
["Bouteille Ed. limitée Vieille eau de vie de prunes 50cl - 44,1% d'alc",25,null,30.83,0.2,37]
["Suprêmes Prun'Choco - Mini cagette gourmande",26,null,17.53,5.5E-2,18.5]
["Suprêmes Prun'Choco - Coffret élégance",27,null,20.85,5.5E-2,22]
["Suprêmes Prun'Choco - Plateau gourmand",28,null,26.44,5.5E-2,27.9]
["Suprêmes Prun'Choco - Assiette raffinée",29,null,27.39,5.5E-2,28.9]
["Suprêmes Prun'Choco - Claie Agenaise 1",30,null,{"$f":"ROUNDDOWN(F31/(1+E31),2)","v":36.770000000000003},5.5E-2,38.799999999999997]
["Suprêmes Prun'Choco - Claie Agenaise 2",31,null,47.2,5.5E-2,49.8]
["Foie Gras de canard entier 180g + sachet prun'choco 100g (Lot) ",null,null,20.37,5.5E-2,21.5]
["Mendiant chocolat noir et lait 150g (Pruneau, noisette, amande, raisin) ",null,null,5,0.2,6]
["Crème de pruneaux 320g",null,null,3.98,5.5E-2,4.2]
["Pulpe de pruneaux 310g",null,null,3.98,5.5E-2,4.2]
["Pâte de fruit au pruneau 150g",null,null,5,0.2,6]
["Pruneaux d'Agen au naturel 500g",null,null,3.6,5.5E-2,3.8]
["Pruneaux d'Agen au naturel dénoyautés 500g",null,null,4.54,5.5E-2,4.8]
["Jus de pruneaux 25cl",null,null,2.08,5.5E-2,2.2000000000000002]
["     >>> Ajouter une nouvelle ligne de produit <<<","-","-",0,0,0]

{"sheet":"Paramètres","index":2,"n_rows":102,"n_cols":9,"rows_kept":102,"cut":false,"hidden":true,"merged":[[0,3,0,6]]}
["TVA","Qté","Remise","Livraison",null,null,null,"Total commande remisé récupéré HT","Oui/Non"]
[5.5E-2,0,0.1,"cmde à valeur nulle",0,0,0,{"$f":"Formulaire!M58","v":0},"Oui"]
[0.2,1,null,"cmde inf. à 400€ HT",0.01,399.99,29.9,"Montant des frais de port calculés","Non"]
[null,2,null,"cmde comprise entre 400€ HT et 649,99€ HT",400,649.99,19.899999999999999,{"$f":"VLOOKUP(H2,E2:G5,3,TRUE)","v":0}]
[null,3,null,"cmde au-delà de 650€ HT",650,{"$f":"10^10","v":10000000000},0]
[null,4]
[null,5]
[null,6]
[null,7]
[null,8]
[null,9]
[null,10]
[null,11]
[null,12]
[null,13]
[null,14]
[null,15]
[null,16]
[null,17]
[null,18]
[null,19]
[null,20]
[null,21]
[null,22]
[null,23]
[null,24]
[null,25]
[null,26]
[null,27]
[null,28]
[null,29]
[null,30]
[null,31]
[null,32]
[null,33]
[null,34]
[null,35]
[null,36]
[null,37]
[null,38]
[null,39]
[null,40]
[null,41]
[null,42]
[null,43]
[null,44]
[null,45]
[null,46]
[null,47]
[null,48]
[null,49]
[null,50]
[null,51]
[null,52]
[null,53]
[null,54]
[null,55]
[null,56]
[null,57]
[null,58]
[null,59]
[null,60]
[null,61]
[null,62]
[null,63]
[null,64]
[null,65]
[null,66]
[null,67]
[null,68]
[null,69]
[null,70]
[null,71]
[null,72]
[null,73]
[null,74]
[null,75]
[null,76]
[null,77]
[null,78]
[null,79]
[null,80]
[null,81]
[null,82]
[null,83]
[null,84]
[null,85]
[null,86]
[null,87]
[null,88]
[null,89]
[null,90]
[null,91]
[null,92]
[null,93]
[null,94]
[null,95]
[null,96]
[null,97]
[null,98]
[null,99]
[null,100]